{"text_format":"1","workbook":"xlsx","n_sheets":18,"sheets":["Listes","Formulaire","Janvier","Février","Mars","Avril","Mai","Juin","Juillet","Août","Septembre","Octobre","Novembre","Décembre","synthèse","Viande","Poisson","TD"],"not_rendered":{"charts":0,"images":4,"macros":1,"external_links":1,"defined_names":7,"comments":0,"pivot_tables":0},"unopened":[],"bounds":{"document_bytes":16777216,"sheet_cells":100000,"rows_first":2000,"rows_last":500,"rows_between":2000,"halvings":0,"cell_chars":16384,"cell_head_chars":4096},"cells_cut":0,"cells_raw":0,"read":"whole","date_system":"1900"}

{"sheet":"Listes","index":0,"n_rows":23,"n_cols":11,"rows_kept":23,"cut":false,"hidden":false,"merged":[[22,10,45,18],[21,13,21,14],[21,15,21,16],[21,17,21,18],[21,3,21,4],[21,5,21,6],[21,7,21,8],[21,9,21,10],[21,11,21,12]]}
[]
[]
[null,"Catégories EGAlim",null,null,"Local / Non Local",null,null,"Typologie Convives"]
[null,"SANS LABEL NI DISTINCTION",null,null,"NON LOCAL",null,null,"CRECHE"]
[null,"BIO",null,null,"LOCAL",null,null,"MATERNELLE"]
[null,"SIQO (LR,AOC,AOP,IGP,STG)",null,null,null,null,null,"ELEMENTAIRE"]
[null,"PRODUITS HVE 2 et 3",null,null,null,null,null,"ADULTE"]
[null,"ECOLABEL PECHE DURABLE",null,null,null,null,null,"SENIOR"]
[null,"LOGO RUP"]
[null,"FERMIER"]
[null,"COMMERCE EQUITABLE"]
[null,"CRITERES ACHATS"]
[null,null,null,null,null,null,null,"Commecre équitable"]
[null,null,null,null,null,null,null,"OUI"]
[null,null,null,null,null,null,null,"NON"]
[null,null,null,null,"VPA"]
[null,null,null,null,"Viande"]
[null,null,null,null,"Poisson",null,null,"Origine France"]
[null,null,null,null,"Autre",null,null,"OUI"]
[null,null,null,null,null,null,null,"NON"]
[]
[]
[null,null,null,null,null,null,null,null,null,null,{"$error":"#VALUE!"}]

{"sheet":"Formulaire","index":1,"n_rows":26,"n_cols":10,"rows_kept":26,"cut":false,"hidden":false,"merged":[[2,3,3,7],[3,8,3,9],[4,0,12,2]]}
[]
[]
[null,null,null,"FORMULAIRE SAISIE PRODUITS EGALIM"]
[null,null,null,null,null,null,null,null,"NE PAS SUPPRIMER : \nCOLONNES LIEES AUX CASES à cocher"]
[{"$error":"#VALUE!"}]
[]
[]
[null,null,null,null,"Date livraison/facture -JJ/MM/AAAA",null,"Famille de produit",null,null,{"$f":"IF(I8,\"Viande\",\"\")","v":""}]
[null,null,null,null,null,null,null,null,null,{"$f":"IF(I9,\"Poisson\",\"\")","v":""}]
[null,null,null,null,null,null,null,null,null,{"$f":"IF(I10,\"Autre\",\"\")","v":""}]
[null,null,null,null,"Fournisseur",null,"Catégorie EGAlim"]
[null,null,null,null,null,null,null,null,null,{"$f":"IF(I12,\"SANS LABEL NI DISTINCTION\",\"\")","v":""}]
[null,null,null,null,null,null,null,null,null,{"$f":"IF(I13,\"SIQO (LR,AOC,AOP,IGP,STG)\",\"\")","v":""}]
[null,null,null,null,"N° facture",null,null,null,null,{"$f":"IF(I14,\"BIO\",\"\")","v":""}]
[null,null,null,null,null,null,null,null,null,{"$f":"IF(I15,\"PRODUITS HVE 2 et 3\",\"\")","v":""}]
[null,null,null,null,null,null,null,null,null,{"$f":"IF(I16,\"ECOLABEL PECHE DURABLE\",\"\")","v":""}]
[null,null,null,null,"Montant HT",null,null,null,null,{"$f":"IF(I17,\"LOGO RUP\",\"\")","v":""}]
[null,null,null,null,null,null,null,null,null,{"$f":"IF(I18,\"FERMIER\",\"\")","v":""}]
[null,null,null,null,null,null,null,null,null,{"$f":"IF(I19,\"COMMERCE EQUITABLE\",\"\")","v":""}]
[null,null,null,null,"Produit",null,null,null,null,{"$f":"IF(I20,\"CRITERES D'ACHAT\",\"\")","v":""}]
[]
[]
[null,null,null,null,null,null,"Autres infos (cocher si oui)"]
[null,null,null,null,null,null,null,null,null,{"$f":"IF(I24,\"LOCAL\",\"NON LOCAL\")","v":"NON LOCAL"}]
[null,null,null,null,null,null,null,null,null,{"$f":"IF(I25,\"OUI\",\"NON\")","v":"NON"}]
[null,null,null,null,null,null,null,null,null,{"$f":"IF(I26,\"OUI\",\"NON\")","v":"NON"}]

{"sheet":"Janvier","index":2,"n_rows":29,"n_cols":23,"rows_kept":29,"cut":false,"hidden":false,"merged":[[28,9,28,10],[22,11,22,12],[21,19,21,20],[22,19,22,20],[21,21,21,22],[22,21,22,22],[21,13,21,14],[22,13,22,14],[21,15,21,16],[22,15,22,16],[21,17,21,18],[22,17,22,18],[2,0,4,0],[10,7,11,8],[10,5,11,6],[2,3,4,3],[2,2,4,2],[2,4,4,4],[8,0,13,4],[3,9,3,10],[8,9,9,9],[8,10,9,10],[3,7,3,8],[3,5,3,6],[8,8,9,8],[8,5,9,5],[8,6,9,6],[8,7,9,7],[3,17,3,18],[8,17,9,17],[8,18,9,18],[3,11,3,12],[8,11,9,11],[8,12,9,12],[10,11,11,12],[3,13,3,14],[8,13,9,13],[8,14,9,14],[10,13,11,14],[3,21,3,22],[2,5,2,22],[15,20,16,20],[17,19,18,20],[0,0,0,20],[3,19,3,20],[8,19,9,19],[8,20,9,20],[10,19,11,20],[15,11,16,11],[15,12,16,12],[17,11,18,12],[15,13,16,13],[15,14,16,14],[17,13,18,14],[15,15,16,15],[3,15,3,16],[8,15,9,15],[8,16,9,16],[10,15,11,16],[15,18,16,18],[15,17,16,17],[10,17,11,18],[15,16,16,16],[21,11,21,12],[8,21,9,21],[8,22,9,22],[10,21,11,22],[12,5,13,22],[15,21,16,21],[15,22,16,22],[15,19,16,19],[10,9,11,10],[15,9,16,9],[15,10,16,10],[15,8,16,8],[15,5,16,5],[15,6,16,6],[15,7,16,7],[21,1,24,1],[21,5,21,6],[22,5,22,6],[21,3,22,3],[17,21,18,22],[19,21,19,22],[19,19,19,20],[19,11,19,12],[19,13,19,14],[19,15,19,16],[17,15,18,16],[17,17,18,18],[19,17,19,18],[15,0,18,4],[19,5,19,6],[19,7,19,8],[19,9,19,10],[17,9,18,10],[17,5,18,6],[17,7,18,8],[21,7,21,8],[22,7,22,8],[21,9,21,10],[22,9,22,10]]}
["POURCENTAGES EGALIM SUR ACHATS Janvier"]
[]
["FOURNISSEUR",null,"DATE LIV","PRODUIT","V\nP","MONTANTS HT"]
[null,"NUMERO FACTURE",null,null,null,"SANS LABEL NI DISTINCTION",null,"BIO",null,"SIQO (LR,AOC,AOP,IGP,STG)",null,"PRODUITS HVE 2 et 3",null,"ECOLABEL PECHE DURABLE",null,"LOGO RUP",null,"FERMIER",null,"COMMERCE EQUITABLE",null,"CRITERES D'ACHAT"]
[null,null,null,null,null,"NON LOCAL","LOCAL","NON LOCAL","LOCAL","NON LOCAL","LOCAL","NON LOCAL","LOCAL","NON LOCAL","LOCAL","NON LOCAL","LOCAL","NON LOCAL","LOCAL","NON LOCAL","LOCAL","NON LOCAL","LOCAL"]
[]
[]
[]
["TOTAUX",null,null,null,null,{"$f":"SUM(F6:F8)","v":0},0,0,0,0,0,0,0,0,0,0,0,0,0,0,0,0,0]
[]
[null,null,null,null,null,{"$f":"F9+G9","v":0},null,{"$f":"H9+I9","v":0},null,{"$f":"J9+K9","v":0},null,{"$f":"L9+M9","v":0},null,{"$f":"N9+O9","v":0},null,{"$f":"P9+Q9","v":0},null,{"$f":"R9+S9","v":0},null,{"$f":"T9+U9","v":0},null,{"$f":"V9+W9","v":0}]
[]
[null,null,null,null,null,{"$f":"F11+H11+J11+L11+N11+P11+R11+T11+V11","v":0}]
[]
[]
["POURCENTAGES",null,null,null,null,{"$f":"IFERROR(F9/F13,0)","v":0},{"$f":"IFERROR(G9/F13,0)","v":0},{"$f":"IFERROR(H9/F13,0)","v":0},{"$f":"IFERROR(I9/F13,0)","v":0},{"$f":"IFERROR(J9/F13,0)","v":0},{"$f":"IFERROR(K9/F13,0)","v":0},{"$f":"IFERROR(L9/F13,0)","v":0},{"$f":"IFERROR(M9/F13,0)","v":0},{"$f":"IFERROR(N9/F13,0)","v":0},{"$f":"IFERROR(O9/F13,0)","v":0},{"$f":"IFERROR(P9/F13,0)","v":0},{"$f":"IFERROR(Q9/F13,0)","v":0},{"$f":"IFERROR(R9/F13,0)","v":0},{"$f":"IFERROR(S9/F13,0)","v":0},{"$f":"IFERROR(T9/F13,0)","v":0},{"$f":"IFERROR(U9/F13,0)","v":0},{"$f":"IFERROR(V9/F13,0)","v":0},{"$f":"IFERROR(W9/F13,0)","v":0}]
[]
[null,null,null,null,null,{"$f":"F16+G16","v":0},null,{"$f":"H16+I16","v":0},null,{"$f":"J16+K16","v":0},null,{"$f":"L16+M16","v":0},null,{"$f":"N16+O16","v":0},null,{"$f":"P16+Q16","v":0},null,{"$f":"R16+S16","v":0},null,{"$f":"T16+U16","v":0},null,{"$f":"V16+W16","v":0}]
[]
[null,null,null,null,null,"SANS LABEL\nNI DISTINCTION",null,"BIO",null,"SIQO (LR,AOC,AOP,IGP,STG)",null,"PRODUITS\nHVE 2 et 3",null,"ECOLABEL\nPECHE DURABLE",null,"LOGO\nRUP",null,"FERMIER",null,"COMMERCE\nEQUITABLE",null,"CRITERES\nD'ACHAT"]
[]
[null,{"$error":"#VALUE!"},null,"COMMERCE EQUITABLE",null,"DONT CE",null,"DONT CE",null,"DONT CE",null,"DONT CE",null,"DONT CE",null,"DONT CE",null,"DONT CE",null,"DONT CE",null,"DONT CE"]
[null,null,null,null,null,{"$f":"SUM(F7:G8*$X$7:$X$8)","v":0},null,{"$f":"SUM(H7:I8*$X$7:$X$8)","v":0},null,{"$f":"SUM(J7:K8*$X$7:$X$8)","v":0},null,{"$f":"SUM(L7:M8*$X$7:$X$8)","v":0},null,{"$f":"SUM(N7:O8*$X$7:$X$8)","v":0},null,{"$f":"SUM(P7:Q8*$X$7:$X$8)","v":0},null,{"$f":"SUM(R7:S8*$X$7:$X$8)","v":0},null,{"$f":"SUM(T7:U8*$X$7:$X$8)","v":0},null,{"$f":"SUM(V7:W8*$X$7:$X$8)","v":0}]
[]
[]
[]
[]
[]
[null,null,null,null,null,null,null,null,null,{"$f":"SUM(L23:T23)","v":0}]

{"sheet":"Février","index":3,"n_rows":32,"n_cols":23,"rows_kept":32,"cut":false,"hidden":false,"merged":[[31,9,31,10],[0,0,0,20],[2,0,4,0],[2,2,4,2],[2,3,4,3],[3,5,3,6],[3,7,3,8],[3,9,3,10],[3,11,3,12],[3,13,3,14],[3,15,3,16],[3,19,3,20],[3,17,3,18],[2,5,2,22],[3,21,3,22],[8,9,9,9],[8,10,9,10],[8,11,9,11],[8,12,9,12],[8,13,9,13],[8,19,9,19],[12,5,13,22],[8,21,9,21],[8,22,9,22],[10,19,11,20],[10,21,11,22],[8,20,9,20],[8,14,9,14],[8,15,9,15],[8,16,9,16],[8,7,9,7],[8,8,9,8],[8,17,9,17],[8,18,9,18],[10,15,11,16],[19,19,19,20],[19,21,19,22],[19,5,19,6],[19,7,19,8],[19,9,19,10],[19,11,19,12],[19,13,19,14],[15,0,18,4],[8,0,13,4],[17,19,18,20],[17,21,18,22],[15,14,16,14],[15,15,16,15],[15,16,16,16],[17,13,18,14],[15,17,16,17],[15,18,16,18],[15,19,16,19],[15,20,16,20],[15,21,16,21],[15,22,16,22],[15,5,16,5],[15,6,16,6],[15,7,16,7],[2,4,4,4],[19,15,19,16],[19,17,19,18],[17,15,18,16],[17,17,18,18],[17,5,18,6],[17,7,18,8],[17,9,18,10],[17,11,18,12],[8,5,9,5],[8,6,9,6],[15,9,16,9],[15,10,16,10],[15,11,16,11],[15,8,16,8],[15,12,16,12],[15,13,16,13],[10,7,11,8],[10,9,11,10],[10,11,11,12],[10,13,11,14],[10,5,11,6],[10,17,11,18],[21,1,24,1],[21,13,21,14],[21,15,21,16],[21,17,21,18],[21,19,21,20],[21,21,21,22],[22,13,22,14],[22,15,22,16],[22,17,22,18],[22,19,22,20],[22,21,22,22],[21,3,22,3],[21,5,21,6],[21,7,21,8],[21,9,21,10],[21,11,21,12],[22,5,22,6],[22,7,22,8],[22,9,22,10],[22,11,22,12]]}
["POURCENTAGES EGALIM SUR ACHATS Février"]
[]
["FOURNISSEUR",null,"DATE LIV","PRODUIT","V\nP","MONTANTS HT"]
[null,"NUMERO FACTURE",null,null,null,"SANS LABEL NI DISTINCTION",null,"BIO",null,"SIQO (LR,AOC,AOP,IGP,STG)",null,"PRODUITS HVE 2 et 3",null,"ECOLABEL PECHE DURABLE",null,"LOGO RUP",null,"FERMIER",null,"COMMERCE EQUITABLE",null,"CRITERES D'ACHAT"]
[null,null,null,null,null,"NON LOCAL","LOCAL","NON LOCAL","LOCAL","NON LOCAL","LOCAL","NON LOCAL","LOCAL","NON LOCAL","LOCAL","NON LOCAL","LOCAL","NON LOCAL","LOCAL","NON LOCAL","LOCAL","NON LOCAL","LOCAL"]
[]
[]
[]
["TOTAUX",null,null,null,null,{"$f":"SUM(F6:F8)","v":0},0,0,0,0,0,0,0,0,0,0,0,0,0,0,0,0,0]
[]
[null,null,null,null,null,{"$f":"F9+G9","v":0},null,{"$f":"H9+I9","v":0},null,{"$f":"J9+K9","v":0},null,{"$f":"L9+M9","v":0},null,{"$f":"N9+O9","v":0},null,{"$f":"P9+Q9","v":0},null,{"$f":"R9+S9","v":0},null,{"$f":"T9+U9","v":0},null,{"$f":"V9+W9","v":0}]
[]
[null,null,null,null,null,{"$f":"F11+H11+J11+L11+N11+P11+R11+T11+V11","v":0}]
[]
[]
["POURCENTAGES",null,null,null,null,{"$f":"IFERROR(F9/F13,0)","v":0},{"$f":"IFERROR(G9/F13,0)","v":0},{"$f":"IFERROR(H9/F13,0)","v":0},{"$f":"IFERROR(I9/F13,0)","v":0},{"$f":"IFERROR(J9/F13,0)","v":0},{"$f":"IFERROR(K9/F13,0)","v":0},{"$f":"IFERROR(L9/F13,0)","v":0},{"$f":"IFERROR(M9/F13,0)","v":0},{"$f":"IFERROR(N9/F13,0)","v":0},{"$f":"IFERROR(O9/F13,0)","v":0},{"$f":"IFERROR(P9/F13,0)","v":0},{"$f":"IFERROR(Q9/F13,0)","v":0},{"$f":"IFERROR(R9/F13,0)","v":0},{"$f":"IFERROR(S9/F13,0)","v":0},{"$f":"IFERROR(T9/F13,0)","v":0},{"$f":"IFERROR(U9/F13,0)","v":0},{"$f":"IFERROR(V9/F13,0)","v":0},{"$f":"IFERROR(W9/F13,0)","v":0}]
[]
[null,null,null,null,null,{"$f":"F16+G16","v":0},null,{"$f":"H16+I16","v":0},null,{"$f":"J16+K16","v":0},null,{"$f":"L16+M16","v":0},null,{"$f":"N16+O16","v":0},null,{"$f":"P16+Q16","v":0},null,{"$f":"R16+S16","v":0},null,{"$f":"T16+U16","v":0},null,{"$f":"V16+W16","v":0}]
[]
[null,null,null,null,null,"SANS LABEL\nNI DISTINCTION",null,"BIO",null,"SIQO (LR,AOC,AOP,IGP,STG)",null,"PRODUITS\nHVE 2 et 3",null,"ECOLABEL\nPECHE DURABLE",null,"LOGO\nRUP",null,"FERMIER",null,"COMMERCE\nEQUITABLE",null,"CRITERES\nD'ACHAT"]
[]
[null,{"$error":"#VALUE!"},null,"COMMERCE EQUITABLE",null,"DONT CE",null,"DONT CE",null,"DONT CE",null,"DONT CE",null,"DONT CE",null,"DONT CE",null,"DONT CE",null,"DONT CE",null,"DONT CE"]
[null,null,null,null,null,{"$f":"SUM(F7:G8*$X$7:$X$8)","v":0},null,{"$f":"SUM(H7:I8*$X$7:$X$8)","v":0},null,{"$f":"SUM(J7:K8*$X$7:$X$8)","v":0},null,{"$f":"SUM(L7:M8*$X$7:$X$8)","v":0},null,{"$f":"SUM(N7:O8*$X$7:$X$8)","v":0},null,{"$f":"SUM(P7:Q8*$X$7:$X$8)","v":0},null,{"$f":"SUM(R7:S8*$X$7:$X$8)","v":0},null,{"$f":"SUM(T7:U8*$X$7:$X$8)","v":0},null,{"$f":"SUM(V7:W8*$X$7:$X$8)","v":0}]
[]
[]
[]
[]
[]
[]
[]
[]
[null,null,null,null,null,null,null,null,null,{"$f":"SUM(L23:T23)","v":0}]

{"sheet":"Mars","index":4,"n_rows":32,"n_cols":23,"rows_kept":32,"cut":false,"hidden":false,"merged":[[31,9,31,10],[2,0,4,0],[2,2,4,2],[2,3,4,3],[0,0,0,20],[3,11,3,12],[3,13,3,14],[3,15,3,16],[3,17,3,18],[3,5,3,6],[3,7,3,8],[3,9,3,10],[2,5,2,22],[3,21,3,22],[3,19,3,20],[8,7,9,7],[8,8,9,8],[12,5,13,22],[8,17,9,17],[8,18,9,18],[8,9,9,9],[8,10,9,10],[8,11,9,11],[8,12,9,12],[8,13,9,13],[8,19,9,19],[8,20,9,20],[8,21,9,21],[15,0,18,4],[8,22,9,22],[10,5,11,6],[10,7,11,8],[10,9,11,10],[10,11,11,12],[10,13,11,14],[10,15,11,16],[10,17,11,18],[10,19,11,20],[10,21,11,22],[8,14,9,14],[8,15,9,15],[8,16,9,16],[8,5,9,5],[8,6,9,6],[15,21,16,21],[15,22,16,22],[17,5,18,6],[17,7,18,8],[17,13,18,14],[17,15,18,16],[17,17,18,18],[17,19,18,20],[17,21,18,22],[15,14,16,14],[15,15,16,15],[15,16,16,16],[15,17,16,17],[15,18,16,18],[19,21,19,22],[19,5,19,6],[19,7,19,8],[19,9,19,10],[19,11,19,12],[19,13,19,14],[8,0,13,4],[2,4,4,4],[19,15,19,16],[19,17,19,18],[19,19,19,20],[15,19,16,19],[15,20,16,20],[15,9,16,9],[15,10,16,10],[15,11,16,11],[15,12,16,12],[15,13,16,13],[15,5,16,5],[15,6,16,6],[15,7,16,7],[15,8,16,8],[17,9,18,10],[17,11,18,12],[21,1,24,1],[21,13,21,14],[21,15,21,16],[21,17,21,18],[21,19,21,20],[21,21,21,22],[22,13,22,14],[22,15,22,16],[22,17,22,18],[22,19,22,20],[22,21,22,22],[21,3,22,3],[21,5,21,6],[21,7,21,8],[21,9,21,10],[21,11,21,12],[22,5,22,6],[22,7,22,8],[22,9,22,10],[22,11,22,12]]}
["POURCENTAGES EGALIM SUR ACHATS Mars"]
[]
["FOURNISSEUR",null,"DATE LIV","PRODUIT","V\nP","MONTANTS HT"]
[null,"NUMERO FACTURE",null,null,null,"SANS LABEL NI DISTINCTION",null,"BIO",null,"SIQO (LR,AOC,AOP,IGP,STG)",null,"PRODUITS HVE 2 et 3",null,"ECOLABEL PECHE DURABLE",null,"LOGO RUP",null,"FERMIER",null,"COMMERCE EQUITABLE",null,"CRITERES D'ACHAT"]
[null,null,null,null,null,"NON LOCAL","LOCAL","NON LOCAL","LOCAL","NON LOCAL","LOCAL","NON LOCAL","LOCAL","NON LOCAL","LOCAL","NON LOCAL","LOCAL","NON LOCAL","LOCAL","NON LOCAL","LOCAL","NON LOCAL","LOCAL"]
[]
[]
[]
["TOTAUX",null,null,null,null,{"$f":"SUM(F6:F8)","v":0},0,0,0,0,0,0,0,0,0,0,0,0,0,0,0,0,0]
[]
[null,null,null,null,null,{"$f":"F9+G9","v":0},null,{"$f":"H9+I9","v":0},null,{"$f":"J9+K9","v":0},null,{"$f":"L9+M9","v":0},null,{"$f":"N9+O9","v":0},null,{"$f":"P9+Q9","v":0},null,{"$f":"R9+S9","v":0},null,{"$f":"T9+U9","v":0},null,{"$f":"V9+W9","v":0}]
[]
[null,null,null,null,null,{"$f":"F11+H11+J11+L11+N11+P11+R11+T11+V11","v":0}]
[]
[]
["POURCENTAGES",null,null,null,null,{"$f":"IFERROR(F9/F13,0)","v":0},{"$f":"IFERROR(G9/F13,0)","v":0},{"$f":"IFERROR(H9/F13,0)","v":0},{"$f":"IFERROR(I9/F13,0)","v":0},{"$f":"IFERROR(J9/F13,0)","v":0},{"$f":"IFERROR(K9/F13,0)","v":0},{"$f":"IFERROR(L9/F13,0)","v":0},{"$f":"IFERROR(M9/F13,0)","v":0},{"$f":"IFERROR(N9/F13,0)","v":0},{"$f":"IFERROR(O9/F13,0)","v":0},{"$f":"IFERROR(P9/F13,0)","v":0},{"$f":"IFERROR(Q9/F13,0)","v":0},{"$f":"IFERROR(R9/F13,0)","v":0},{"$f":"IFERROR(S9/F13,0)","v":0},{"$f":"IFERROR(T9/F13,0)","v":0},{"$f":"IFERROR(U9/F13,0)","v":0},{"$f":"IFERROR(V9/F13,0)","v":0},{"$f":"IFERROR(W9/F13,0)","v":0}]
[]
[null,null,null,null,null,{"$f":"F16+G16","v":0},null,{"$f":"H16+I16","v":0},null,{"$f":"J16+K16","v":0},null,{"$f":"L16+M16","v":0},null,{"$f":"N16+O16","v":0},null,{"$f":"P16+Q16","v":0},null,{"$f":"R16+S16","v":0},null,{"$f":"T16+U16","v":0},null,{"$f":"V16+W16","v":0}]
[]
[null,null,null,null,null,"SANS LABEL\nNI DISTINCTION",null,"BIO",null,"SIQO (LR,AOC,AOP,IGP,STG)",null,"PRODUITS\nHVE 2 et 3",null,"ECOLABEL\nPECHE DURABLE",null,"LOGO\nRUP",null,"FERMIER",null,"COMMERCE\nEQUITABLE",null,"CRITERES\nD'ACHAT"]
[]
[null,{"$error":"#VALUE!"},null,"COMMERCE EQUITABLE",null,"DONT CE",null,"DONT CE",null,"DONT CE",null,"DONT CE",null,"DONT CE",null,"DONT CE",null,"DONT CE",null,"DONT CE",null,"DONT CE"]
[null,null,null,null,null,{"$f":"SUM(F7:G8*$X$7:$X$8)","v":0},null,{"$f":"SUM(H7:I8*$X$7:$X$8)","v":0},null,{"$f":"SUM(J7:K8*$X$7:$X$8)","v":0},null,{"$f":"SUM(L7:M8*$X$7:$X$8)","v":0},null,{"$f":"SUM(N7:O8*$X$7:$X$8)","v":0},null,{"$f":"SUM(P7:Q8*$X$7:$X$8)","v":0},null,{"$f":"SUM(R7:S8*$X$7:$X$8)","v":0},null,{"$f":"SUM(T7:U8*$X$7:$X$8)","v":0},null,{"$f":"SUM(V7:W8*$X$7:$X$8)","v":0}]
[]
[]
[]
[]
[]
[]
[]
[]
[null,null,null,null,null,null,null,null,null,{"$f":"SUM(L23:T23)","v":0}]

{"sheet":"Avril","index":5,"n_rows":32,"n_cols":23,"rows_kept":32,"cut":false,"hidden":false,"merged":[[31,9,31,10],[2,0,4,0],[2,2,4,2],[2,3,4,3],[0,0,0,20],[3,11,3,12],[3,13,3,14],[3,15,3,16],[3,17,3,18],[3,5,3,6],[3,7,3,8],[3,9,3,10],[2,5,2,22],[3,21,3,22],[3,19,3,20],[8,7,9,7],[8,8,9,8],[12,5,13,22],[8,17,9,17],[8,18,9,18],[8,9,9,9],[8,10,9,10],[8,11,9,11],[8,12,9,12],[8,13,9,13],[8,19,9,19],[8,20,9,20],[8,21,9,21],[15,0,18,4],[8,22,9,22],[10,5,11,6],[10,7,11,8],[10,9,11,10],[10,11,11,12],[10,13,11,14],[10,15,11,16],[10,17,11,18],[10,19,11,20],[10,21,11,22],[8,14,9,14],[8,15,9,15],[8,16,9,16],[8,5,9,5],[8,6,9,6],[15,21,16,21],[15,22,16,22],[17,5,18,6],[17,7,18,8],[17,13,18,14],[17,15,18,16],[17,17,18,18],[17,19,18,20],[17,21,18,22],[15,14,16,14],[15,15,16,15],[15,16,16,16],[15,17,16,17],[15,18,16,18],[19,21,19,22],[19,5,19,6],[19,7,19,8],[19,9,19,10],[19,11,19,12],[19,13,19,14],[8,0,13,4],[2,4,4,4],[19,15,19,16],[19,17,19,18],[19,19,19,20],[15,19,16,19],[15,20,16,20],[15,9,16,9],[15,10,16,10],[15,11,16,11],[15,12,16,12],[15,13,16,13],[15,5,16,5],[15,6,16,6],[15,7,16,7],[15,8,16,8],[17,9,18,10],[17,11,18,12],[21,1,24,1],[21,13,21,14],[21,15,21,16],[21,17,21,18],[21,19,21,20],[21,21,21,22],[22,13,22,14],[22,15,22,16],[22,17,22,18],[22,19,22,20],[22,21,22,22],[21,3,22,3],[21,5,21,6],[21,7,21,8],[21,9,21,10],[21,11,21,12],[22,5,22,6],[22,7,22,8],[22,9,22,10],[22,11,22,12]]}
["POURCENTAGES EGALIM SUR ACHATS Avril"]
[]
["FOURNISSEUR",null,"DATE LIV","PRODUIT","V\nP","MONTANTS HT"]
[null,"NUMERO FACTURE",null,null,null,"SANS LABEL NI DISTINCTION",null,"BIO",null,"SIQO (LR,AOC,AOP,IGP,STG)",null,"PRODUITS HVE 2 et 3",null,"ECOLABEL PECHE DURABLE",null,"LOGO RUP",null,"FERMIER",null,"COMMERCE EQUITABLE",null,"CRITERES D'ACHAT"]
[null,null,null,null,null,"NON LOCAL","LOCAL","NON LOCAL","LOCAL","NON LOCAL","LOCAL","NON LOCAL","LOCAL","NON LOCAL","LOCAL","NON LOCAL","LOCAL","NON LOCAL","LOCAL","NON LOCAL","LOCAL","NON LOCAL","LOCAL"]
[]
[]
[]
["TOTAUX",null,null,null,null,{"$f":"SUM(F6:F8)","v":0},0,0,0,0,0,0,0,0,0,0,0,0,0,0,0,0,0]
[]
[null,null,null,null,null,{"$f":"F9+G9","v":0},null,{"$f":"H9+I9","v":0},null,{"$f":"J9+K9","v":0},null,{"$f":"L9+M9","v":0},null,{"$f":"N9+O9","v":0},null,{"$f":"P9+Q9","v":0},null,{"$f":"R9+S9","v":0},null,{"$f":"T9+U9","v":0},null,{"$f":"V9+W9","v":0}]
[]
[null,null,null,null,null,{"$f":"F11+H11+J11+L11+N11+P11+R11+T11+V11","v":0}]
[]
[]
["POURCENTAGES",null,null,null,null,{"$f":"IFERROR(F9/F13,0)","v":0},{"$f":"IFERROR(G9/F13,0)","v":0},{"$f":"IFERROR(H9/F13,0)","v":0},{"$f":"IFERROR(I9/F13,0)","v":0},{"$f":"IFERROR(J9/F13,0)","v":0},{"$f":"IFERROR(K9/F13,0)","v":0},{"$f":"IFERROR(L9/F13,0)","v":0},{"$f":"IFERROR(M9/F13,0)","v":0},{"$f":"IFERROR(N9/F13,0)","v":0},{"$f":"IFERROR(O9/F13,0)","v":0},{"$f":"IFERROR(P9/F13,0)","v":0},{"$f":"IFERROR(Q9/F13,0)","v":0},{"$f":"IFERROR(R9/F13,0)","v":0},{"$f":"IFERROR(S9/F13,0)","v":0},{"$f":"IFERROR(T9/F13,0)","v":0},{"$f":"IFERROR(U9/F13,0)","v":0},{"$f":"IFERROR(V9/F13,0)","v":0},{"$f":"IFERROR(W9/F13,0)","v":0}]
[]
[null,null,null,null,null,{"$f":"F16+G16","v":0},null,{"$f":"H16+I16","v":0},null,{"$f":"J16+K16","v":0},null,{"$f":"L16+M16","v":0},null,{"$f":"N16+O16","v":0},null,{"$f":"P16+Q16","v":0},null,{"$f":"R16+S16","v":0},null,{"$f":"T16+U16","v":0},null,{"$f":"V16+W16","v":0}]
[]
[null,null,null,null,null,"SANS LABEL\nNI DISTINCTION",null,"BIO",null,"SIQO (LR,AOC,AOP,IGP,STG)",null,"PRODUITS\nHVE 2 et 3",null,"ECOLABEL\nPECHE DURABLE",null,"LOGO\nRUP",null,"FERMIER",null,"COMMERCE\nEQUITABLE",null,"CRITERES\nD'ACHAT"]
[]
[null,{"$error":"#VALUE!"},null,"COMMERCE EQUITABLE",null,"DONT CE",null,"DONT CE",null,"DONT CE",null,"DONT CE",null,"DONT CE",null,"DONT CE",null,"DONT CE",null,"DONT CE",null,"DONT CE"]
[null,null,null,null,null,{"$f":"SUM(F7:G8*$X$7:$X$8)","v":0},null,{"$f":"SUM(H7:I8*$X$7:$X$8)","v":0},null,{"$f":"SUM(J7:K8*$X$7:$X$8)","v":0},null,{"$f":"SUM(L7:M8*$X$7:$X$8)","v":0},null,{"$f":"SUM(N7:O8*$X$7:$X$8)","v":0},null,{"$f":"SUM(P7:Q8*$X$7:$X$8)","v":0},null,{"$f":"SUM(R7:S8*$X$7:$X$8)","v":0},null,{"$f":"SUM(T7:U8*$X$7:$X$8)","v":0},null,{"$f":"SUM(V7:W8*$X$7:$X$8)","v":0}]
[]
[]
[]
[]
[]
[]
[]
[]
[null,null,null,null,null,null,null,null,null,{"$f":"SUM(L23:T23)","v":0}]

{"sheet":"Mai","index":6,"n_rows":32,"n_cols":23,"rows_kept":32,"cut":false,"hidden":false,"merged":[[31,9,31,10],[2,0,4,0],[2,2,4,2],[2,3,4,3],[0,0,0,20],[3,11,3,12],[3,13,3,14],[3,15,3,16],[3,17,3,18],[3,5,3,6],[3,7,3,8],[3,9,3,10],[2,5,2,22],[3,21,3,22],[3,19,3,20],[2,4,4,4],[12,5,13,22],[8,17,9,17],[8,18,9,18],[8,9,9,9],[8,10,9,10],[8,11,9,11],[8,12,9,12],[8,13,9,13],[10,5,11,6],[10,7,11,8],[10,9,11,10],[10,21,11,22],[8,14,9,14],[8,15,9,15],[8,16,9,16],[8,5,9,5],[8,6,9,6],[8,7,9,7],[8,8,9,8],[10,11,11,12],[10,13,11,14],[10,15,11,16],[10,17,11,18],[10,19,11,20],[15,14,16,14],[15,15,16,15],[15,16,16,16],[15,17,16,17],[15,18,16,18],[8,19,9,19],[8,20,9,20],[8,21,9,21],[8,22,9,22],[17,5,18,6],[17,7,18,8],[17,9,18,10],[17,11,18,12],[17,13,18,14],[17,15,18,16],[17,17,18,18],[17,19,18,20],[17,21,18,22],[19,21,19,22],[19,5,19,6],[19,7,19,8],[19,9,19,10],[19,11,19,12],[19,13,19,14],[15,0,18,4],[8,0,13,4],[19,15,19,16],[19,17,19,18],[19,19,19,20],[15,19,16,19],[15,20,16,20],[15,9,16,9],[15,10,16,10],[15,11,16,11],[15,12,16,12],[15,13,16,13],[15,5,16,5],[15,6,16,6],[15,7,16,7],[15,8,16,8],[15,21,16,21],[15,22,16,22],[21,1,24,1],[21,13,21,14],[21,15,21,16],[21,17,21,18],[21,19,21,20],[21,21,21,22],[22,13,22,14],[22,15,22,16],[22,17,22,18],[22,19,22,20],[22,21,22,22],[21,3,22,3],[21,5,21,6],[21,7,21,8],[21,9,21,10],[21,11,21,12],[22,5,22,6],[22,7,22,8],[22,9,22,10],[22,11,22,12]]}
["POURCENTAGES EGALIM SUR ACHATS Mai"]
[]
["FOURNISSEUR",null,"DATE LIV","PRODUIT","V\nP","MONTANTS HT"]
[null,"NUMERO FACTURE",null,null,null,"SANS LABEL NI DISTINCTION",null,"BIO",null,"SIQO (LR,AOC,AOP,IGP,STG)",null,"PRODUITS HVE 2 et 3",null,"ECOLABEL PECHE DURABLE",null,"LOGO RUP",null,"FERMIER",null,"COMMERCE EQUITABLE",null,"CRITERES D'ACHAT"]
[null,null,null,null,null,"NON LOCAL","LOCAL","NON LOCAL","LOCAL","NON LOCAL","LOCAL","NON LOCAL","LOCAL","NON LOCAL","LOCAL","NON LOCAL","LOCAL","NON LOCAL","LOCAL","NON LOCAL","LOCAL","NON LOCAL","LOCAL"]
[]
[]
[]
["TOTAUX",null,null,null,null,{"$f":"SUM(F6:F8)","v":0},0,0,0,0,0,0,0,0,0,0,0,0,0,0,0,0,0]
[]
[null,null,null,null,null,{"$f":"F9+G9","v":0},null,{"$f":"H9+I9","v":0},null,{"$f":"J9+K9","v":0},null,{"$f":"L9+M9","v":0},null,{"$f":"N9+O9","v":0},null,{"$f":"P9+Q9","v":0},null,{"$f":"R9+S9","v":0},null,{"$f":"T9+U9","v":0},null,{"$f":"V9+W9","v":0}]
[]
[null,null,null,null,null,{"$f":"F11+H11+J11+L11+N11+P11+R11+T11+V11","v":0}]
[]
[]
["POURCENTAGES",null,null,null,null,{"$f":"IFERROR(F9/F13,0)","v":0},{"$f":"IFERROR(G9/F13,0)","v":0},{"$f":"IFERROR(H9/F13,0)","v":0},{"$f":"IFERROR(I9/F13,0)","v":0},{"$f":"IFERROR(J9/F13,0)","v":0},{"$f":"IFERROR(K9/F13,0)","v":0},{"$f":"IFERROR(L9/F13,0)","v":0},{"$f":"IFERROR(M9/F13,0)","v":0},{"$f":"IFERROR(N9/F13,0)","v":0},{"$f":"IFERROR(O9/F13,0)","v":0},{"$f":"IFERROR(P9/F13,0)","v":0},{"$f":"IFERROR(Q9/F13,0)","v":0},{"$f":"IFERROR(R9/F13,0)","v":0},{"$f":"IFERROR(S9/F13,0)","v":0},{"$f":"IFERROR(T9/F13,0)","v":0},{"$f":"IFERROR(U9/F13,0)","v":0},{"$f":"IFERROR(V9/F13,0)","v":0},{"$f":"IFERROR(W9/F13,0)","v":0}]
[]
[null,null,null,null,null,{"$f":"F16+G16","v":0},null,{"$f":"H16+I16","v":0},null,{"$f":"J16+K16","v":0},null,{"$f":"L16+M16","v":0},null,{"$f":"N16+O16","v":0},null,{"$f":"P16+Q16","v":0},null,{"$f":"R16+S16","v":0},null,{"$f":"T16+U16","v":0},null,{"$f":"V16+W16","v":0}]
[]
[null,null,null,null,null,"SANS LABEL\nNI DISTINCTION",null,"BIO",null,"SIQO (LR,AOC,AOP,IGP,STG)",null,"PRODUITS\nHVE 2 et 3",null,"ECOLABEL\nPECHE DURABLE",null,"LOGO\nRUP",null,"FERMIER",null,"COMMERCE\nEQUITABLE",null,"CRITERES\nD'ACHAT"]
[]
[null,{"$error":"#VALUE!"},null,"COMMERCE EQUITABLE",null,"DONT CE",null,"DONT CE",null,"DONT CE",null,"DONT CE",null,"DONT CE",null,"DONT CE",null,"DONT CE",null,"DONT CE",null,"DONT CE"]
[null,null,null,null,null,{"$f":"SUM(F7:G8*$X$7:$X$8)","v":0},null,{"$f":"SUM(H7:I8*$X$7:$X$8)","v":0},null,{"$f":"SUM(J7:K8*$X$7:$X$8)","v":0},null,{"$f":"SUM(L7:M8*$X$7:$X$8)","v":0},null,{"$f":"SUM(N7:O8*$X$7:$X$8)","v":0},null,{"$f":"SUM(P7:Q8*$X$7:$X$8)","v":0},null,{"$f":"SUM(R7:S8*$X$7:$X$8)","v":0},null,{"$f":"SUM(T7:U8*$X$7:$X$8)","v":0},null,{"$f":"SUM(V7:W8*$X$7:$X$8)","v":0}]
[]
[]
[]
[]
[]
[]
[]
[]
[null,null,null,null,null,null,null,null,null,{"$f":"SUM(L23:T23)","v":0}]

{"sheet":"Juin","index":7,"n_rows":32,"n_cols":23,"rows_kept":32,"cut":false,"hidden":false,"merged":[[31,9,31,10],[2,0,4,0],[2,2,4,2],[2,3,4,3],[0,0,0,20],[3,11,3,12],[3,13,3,14],[3,15,3,16],[3,17,3,18],[3,5,3,6],[3,7,3,8],[3,9,3,10],[2,5,2,22],[3,21,3,22],[3,19,3,20],[12,5,13,22],[8,17,9,17],[8,18,9,18],[8,9,9,9],[8,10,9,10],[8,11,9,11],[8,12,9,12],[8,13,9,13],[8,19,9,19],[8,20,9,20],[8,21,9,21],[8,22,9,22],[10,5,11,6],[10,7,11,8],[10,9,11,10],[10,21,11,22],[8,14,9,14],[8,15,9,15],[8,16,9,16],[8,5,9,5],[8,6,9,6],[8,7,9,7],[8,8,9,8],[10,11,11,12],[10,13,11,14],[10,15,11,16],[10,17,11,18],[10,19,11,20],[19,19,19,20],[19,21,19,22],[19,5,19,6],[19,7,19,8],[19,9,19,10],[19,11,19,12],[19,13,19,14],[8,0,13,4],[15,0,18,4],[15,19,16,19],[15,20,16,20],[15,21,16,21],[15,22,16,22],[17,5,18,6],[17,7,18,8],[17,9,18,10],[17,11,18,12],[17,13,18,14],[17,15,18,16],[17,17,18,18],[17,19,18,20],[17,21,18,22],[15,14,16,14],[15,15,16,15],[2,4,4,4],[19,15,19,16],[19,17,19,18],[15,17,16,17],[15,18,16,18],[15,9,16,9],[15,10,16,10],[15,11,16,11],[15,12,16,12],[15,13,16,13],[15,5,16,5],[15,6,16,6],[15,7,16,7],[15,8,16,8],[15,16,16,16],[21,1,24,1],[21,13,21,14],[21,15,21,16],[21,17,21,18],[21,19,21,20],[21,21,21,22],[22,13,22,14],[22,15,22,16],[22,17,22,18],[22,19,22,20],[22,21,22,22],[21,3,22,3],[21,5,21,6],[21,7,21,8],[21,9,21,10],[21,11,21,12],[22,5,22,6],[22,7,22,8],[22,9,22,10],[22,11,22,12]]}
["POURCENTAGES EGALIM SUR ACHATS Juin"]
[]
["FOURNISSEUR",null,"DATE LIV","PRODUIT","V\nP","MONTANTS HT"]
[null,"NUMERO FACTURE",null,null,null,"SANS LABEL NI DISTINCTION",null,"BIO",null,"SIQO (LR,AOC,AOP,IGP,STG)",null,"PRODUITS HVE 2 et 3",null,"ECOLABEL PECHE DURABLE",null,"LOGO RUP",null,"FERMIER",null,"COMMERCE EQUITABLE",null,"CRITERES D'ACHAT"]
[null,null,null,null,null,"NON LOCAL","LOCAL","NON LOCAL","LOCAL","NON LOCAL","LOCAL","NON LOCAL","LOCAL","NON LOCAL","LOCAL","NON LOCAL","LOCAL","NON LOCAL","LOCAL","NON LOCAL","LOCAL","NON LOCAL","LOCAL"]
[]
[]
[]
["TOTAUX",null,null,null,null,{"$f":"SUM(F6:F8)","v":0},0,0,0,0,0,0,0,0,0,0,0,0,0,0,0,0,0]
[]
[null,null,null,null,null,{"$f":"F9+G9","v":0},null,{"$f":"H9+I9","v":0},null,{"$f":"J9+K9","v":0},null,{"$f":"L9+M9","v":0},null,{"$f":"N9+O9","v":0},null,{"$f":"P9+Q9","v":0},null,{"$f":"R9+S9","v":0},null,{"$f":"T9+U9","v":0},null,{"$f":"V9+W9","v":0}]
[]
[null,null,null,null,null,{"$f":"F11+H11+J11+L11+N11+P11+R11+T11+V11","v":0}]
[]
[]
["POURCENTAGES",null,null,null,null,{"$f":"IFERROR(F9/F13,0)","v":0},{"$f":"IFERROR(G9/F13,0)","v":0},{"$f":"IFERROR(H9/F13,0)","v":0},{"$f":"IFERROR(I9/F13,0)","v":0},{"$f":"IFERROR(J9/F13,0)","v":0},{"$f":"IFERROR(K9/F13,0)","v":0},{"$f":"IFERROR(L9/F13,0)","v":0},{"$f":"IFERROR(M9/F13,0)","v":0},{"$f":"IFERROR(N9/F13,0)","v":0},{"$f":"IFERROR(O9/F13,0)","v":0},{"$f":"IFERROR(P9/F13,0)","v":0},{"$f":"IFERROR(Q9/F13,0)","v":0},{"$f":"IFERROR(R9/F13,0)","v":0},{"$f":"IFERROR(S9/F13,0)","v":0},{"$f":"IFERROR(T9/F13,0)","v":0},{"$f":"IFERROR(U9/F13,0)","v":0},{"$f":"IFERROR(V9/F13,0)","v":0},{"$f":"IFERROR(W9/F13,0)","v":0}]
[]
[null,null,null,null,null,{"$f":"F16+G16","v":0},null,{"$f":"H16+I16","v":0},null,{"$f":"J16+K16","v":0},null,{"$f":"L16+M16","v":0},null,{"$f":"N16+O16","v":0},null,{"$f":"P16+Q16","v":0},null,{"$f":"R16+S16","v":0},null,{"$f":"T16+U16","v":0},null,{"$f":"V16+W16","v":0}]
[]
[null,null,null,null,null,"SANS LABEL\nNI DISTINCTION",null,"BIO",null,"SIQO (LR,AOC,AOP,IGP,STG)",null,"PRODUITS\nHVE 2 et 3",null,"ECOLABEL\nPECHE DURABLE",null,"LOGO\nRUP",null,"FERMIER",null,"COMMERCE\nEQUITABLE",null,"CRITERES\nD'ACHAT"]
[]
[null,{"$error":"#VALUE!"},null,"COMMERCE EQUITABLE",null,"DONT CE",null,"DONT CE",null,"DONT CE",null,"DONT CE",null,"DONT CE",null,"DONT CE",null,"DONT CE",null,"DONT CE",null,"DONT CE"]
[null,null,null,null,null,{"$f":"SUM(F7:G8*$X$7:$X$8)","v":0},null,{"$f":"SUM(H7:I8*$X$7:$X$8)","v":0},null,{"$f":"SUM(J7:K8*$X$7:$X$8)","v":0},null,{"$f":"SUM(L7:M8*$X$7:$X$8)","v":0},null,{"$f":"SUM(N7:O8*$X$7:$X$8)","v":0},null,{"$f":"SUM(P7:Q8*$X$7:$X$8)","v":0},null,{"$f":"SUM(R7:S8*$X$7:$X$8)","v":0},null,{"$f":"SUM(T7:U8*$X$7:$X$8)","v":0},null,{"$f":"SUM(V7:W8*$X$7:$X$8)","v":0}]
[]
[]
[]
[]
[]
[]
[]
[]
[null,null,null,null,null,null,null,null,null,{"$f":"SUM(L23:T23)","v":0}]

{"sheet":"Juillet","index":8,"n_rows":32,"n_cols":23,"rows_kept":32,"cut":false,"hidden":false,"merged":[[0,0,0,20],[3,11,3,12],[3,13,3,14],[3,15,3,16],[3,17,3,18],[3,5,3,6],[3,7,3,8],[3,9,3,10],[2,5,2,22],[3,21,3,22],[3,19,3,20],[31,9,31,10],[2,0,4,0],[2,2,4,2],[2,3,4,3],[8,12,9,12],[8,13,9,13],[8,19,9,19],[8,20,9,20],[8,21,9,21],[10,5,11,6],[10,7,11,8],[10,9,11,10],[8,5,9,5],[8,6,9,6],[8,7,9,7],[15,17,16,17],[15,18,16,18],[15,9,16,9],[10,11,11,12],[10,13,11,14],[10,15,11,16],[10,17,11,18],[15,20,16,20],[10,19,11,20],[10,21,11,22],[8,14,9,14],[8,15,9,15],[8,16,9,16],[8,22,9,22],[15,21,16,21],[15,22,16,22],[17,5,18,6],[17,7,18,8],[17,9,18,10],[17,11,18,12],[17,13,18,14],[17,15,18,16],[17,17,18,18],[17,19,18,20],[17,21,18,22],[15,14,16,14],[15,15,16,15],[15,16,16,16],[15,10,16,10],[15,11,16,11],[15,12,16,12],[15,13,16,13],[8,0,13,4],[2,4,4,4],[19,15,19,16],[15,5,16,5],[15,6,16,6],[15,7,16,7],[15,8,16,8],[8,8,9,8],[12,5,13,22],[8,17,9,17],[8,18,9,18],[8,9,9,9],[8,10,9,10],[8,11,9,11],[19,17,19,18],[19,19,19,20],[19,21,19,22],[19,7,19,8],[19,9,19,10],[19,11,19,12],[19,13,19,14],[19,5,19,6],[15,0,18,4],[15,19,16,19],[21,1,24,1],[21,13,21,14],[21,15,21,16],[21,17,21,18],[21,19,21,20],[21,21,21,22],[22,13,22,14],[22,15,22,16],[22,17,22,18],[22,19,22,20],[22,21,22,22],[21,3,22,3],[21,5,21,6],[21,7,21,8],[21,9,21,10],[21,11,21,12],[22,5,22,6],[22,7,22,8],[22,9,22,10],[22,11,22,12]]}
["POURCENTAGES EGALIM SUR ACHATS Juillet"]
[]
["FOURNISSEUR",null,"DATE LIV","PRODUIT","V\nP","MONTANTS HT"]
[null,"NUMERO FACTURE",null,null,null,"SANS LABEL NI DISTINCTION",null,"BIO",null,"SIQO (LR,AOC,AOP,IGP,STG)",null,"PRODUITS HVE 2 et 3",null,"ECOLABEL PECHE DURABLE",null,"LOGO RUP",null,"FERMIER",null,"COMMERCE EQUITABLE",null,"CRITERES D'ACHAT"]
[null,null,null,null,null,"NON LOCAL","LOCAL","NON LOCAL","LOCAL","NON LOCAL","LOCAL","NON LOCAL","LOCAL","NON LOCAL","LOCAL","NON LOCAL","LOCAL","NON LOCAL","LOCAL","NON LOCAL","LOCAL","NON LOCAL","LOCAL"]
[]
[]
[]
["TOTAUX",null,null,null,null,{"$f":"SUM(F6:F8)","v":0},0,0,0,0,0,0,0,0,0,0,0,0,0,0,0,0,0]
[]
[null,null,null,null,null,{"$f":"F9+G9","v":0},null,{"$f":"H9+I9","v":0},null,{"$f":"J9+K9","v":0},null,{"$f":"L9+M9","v":0},null,{"$f":"N9+O9","v":0},null,{"$f":"P9+Q9","v":0},null,{"$f":"R9+S9","v":0},null,{"$f":"T9+U9","v":0},null,{"$f":"V9+W9","v":0}]
[]
[null,null,null,null,null,{"$f":"F11+H11+J11+L11+N11+P11+R11+T11+V11","v":0}]
[]
[]
["POURCENTAGES",null,null,null,null,{"$f":"IFERROR(F9/F13,0)","v":0},{"$f":"IFERROR(G9/F13,0)","v":0},{"$f":"IFERROR(H9/F13,0)","v":0},{"$f":"IFERROR(I9/F13,0)","v":0},{"$f":"IFERROR(J9/F13,0)","v":0},{"$f":"IFERROR(K9/F13,0)","v":0},{"$f":"IFERROR(L9/F13,0)","v":0},{"$f":"IFERROR(M9/F13,0)","v":0},{"$f":"IFERROR(N9/F13,0)","v":0},{"$f":"IFERROR(O9/F13,0)","v":0},{"$f":"IFERROR(P9/F13,0)","v":0},{"$f":"IFERROR(Q9/F13,0)","v":0},{"$f":"IFERROR(R9/F13,0)","v":0},{"$f":"IFERROR(S9/F13,0)","v":0},{"$f":"IFERROR(T9/F13,0)","v":0},{"$f":"IFERROR(U9/F13,0)","v":0},{"$f":"IFERROR(V9/F13,0)","v":0},{"$f":"IFERROR(W9/F13,0)","v":0}]
[]
[null,null,null,null,null,{"$f":"F16+G16","v":0},null,{"$f":"H16+I16","v":0},null,{"$f":"J16+K16","v":0},null,{"$f":"L16+M16","v":0},null,{"$f":"N16+O16","v":0},null,{"$f":"P16+Q16","v":0},null,{"$f":"R16+S16","v":0},null,{"$f":"T16+U16","v":0},null,{"$f":"V16+W16","v":0}]
[]
[null,null,null,null,null,"SANS LABEL\nNI DISTINCTION",null,"BIO",null,"SIQO (LR,AOC,AOP,IGP,STG)",null,"PRODUITS\nHVE 2 et 3",null,"ECOLABEL\nPECHE DURABLE",null,"LOGO\nRUP",null,"FERMIER",null,"COMMERCE\nEQUITABLE",null,"CRITERES\nD'ACHAT"]
[]
[null,{"$error":"#VALUE!"},null,"COMMERCE EQUITABLE",null,"DONT CE",null,"DONT CE",null,"DONT CE",null,"DONT CE",null,"DONT CE",null,"DONT CE",null,"DONT CE",null,"DONT CE",null,"DONT CE"]
[null,null,null,null,null,{"$f":"SUM(F7:G8*$X$7:$X$8)","v":0},null,{"$f":"SUM(H7:I8*$X$7:$X$8)","v":0},null,{"$f":"SUM(J7:K8*$X$7:$X$8)","v":0},null,{"$f":"SUM(L7:M8*$X$7:$X$8)","v":0},null,{"$f":"SUM(N7:O8*$X$7:$X$8)","v":0},null,{"$f":"SUM(P7:Q8*$X$7:$X$8)","v":0},null,{"$f":"SUM(R7:S8*$X$7:$X$8)","v":0},null,{"$f":"SUM(T7:U8*$X$7:$X$8)","v":0},null,{"$f":"SUM(V7:W8*$X$7:$X$8)","v":0}]
[]
[]
[]
[]
[]
[]
[]
[]
[null,null,null,null,null,null,null,null,null,{"$f":"SUM(L23:T23)","v":0}]

{"sheet":"Août","index":9,"n_rows":32,"n_cols":23,"rows_kept":32,"cut":false,"hidden":false,"merged":[[31,9,31,10],[2,0,4,0],[2,2,4,2],[2,3,4,3],[0,0,0,20],[3,11,3,12],[3,13,3,14],[3,15,3,16],[3,17,3,18],[3,5,3,6],[3,7,3,8],[3,9,3,10],[2,5,2,22],[3,21,3,22],[3,19,3,20],[8,7,9,7],[8,8,9,8],[12,5,13,22],[8,17,9,17],[8,18,9,18],[8,9,9,9],[8,10,9,10],[8,11,9,11],[8,12,9,12],[8,13,9,13],[8,19,9,19],[8,20,9,20],[8,21,9,21],[15,0,18,4],[8,22,9,22],[10,5,11,6],[10,7,11,8],[10,9,11,10],[10,11,11,12],[10,13,11,14],[10,15,11,16],[10,17,11,18],[10,19,11,20],[10,21,11,22],[8,14,9,14],[8,15,9,15],[8,16,9,16],[8,5,9,5],[8,6,9,6],[15,21,16,21],[15,22,16,22],[17,5,18,6],[17,7,18,8],[17,13,18,14],[17,15,18,16],[17,17,18,18],[17,19,18,20],[17,21,18,22],[15,14,16,14],[15,15,16,15],[15,16,16,16],[15,17,16,17],[15,18,16,18],[19,21,19,22],[19,5,19,6],[19,7,19,8],[19,9,19,10],[19,11,19,12],[19,13,19,14],[8,0,13,4],[2,4,4,4],[19,15,19,16],[19,17,19,18],[19,19,19,20],[15,19,16,19],[15,20,16,20],[15,9,16,9],[15,10,16,10],[15,11,16,11],[15,12,16,12],[15,13,16,13],[15,5,16,5],[15,6,16,6],[15,7,16,7],[15,8,16,8],[17,9,18,10],[17,11,18,12],[21,1,24,1],[21,13,21,14],[21,15,21,16],[21,17,21,18],[21,19,21,20],[21,21,21,22],[22,13,22,14],[22,15,22,16],[22,17,22,18],[22,19,22,20],[22,21,22,22],[21,3,22,3],[21,5,21,6],[21,7,21,8],[21,9,21,10],[21,11,21,12],[22,5,22,6],[22,7,22,8],[22,9,22,10],[22,11,22,12]]}
["POURCENTAGES EGALIM SUR ACHATS Août"]
[]
["FOURNISSEUR",null,"DATE LIV","PRODUIT","V\nP","MONTANTS HT"]
[null,"NUMERO FACTURE",null,null,null,"SANS LABEL NI DISTINCTION",null,"BIO",null,"SIQO (LR,AOC,AOP,IGP,STG)",null,"PRODUITS HVE 2 et 3",null,"ECOLABEL PECHE DURABLE",null,"LOGO RUP",null,"FERMIER",null,"COMMERCE EQUITABLE",null,"CRITERES D'ACHAT"]
[null,null,null,null,null,"NON LOCAL","LOCAL","NON LOCAL","LOCAL","NON LOCAL","LOCAL","NON LOCAL","LOCAL","NON LOCAL","LOCAL","NON LOCAL","LOCAL","NON LOCAL","LOCAL","NON LOCAL","LOCAL","NON LOCAL","LOCAL"]
[]
[]
[]
["TOTAUX",null,null,null,null,{"$f":"SUM(F6:F8)","v":0},0,0,0,0,0,0,0,0,0,0,0,0,0,0,0,0,0]
[]
[null,null,null,null,null,{"$f":"F9+G9","v":0},null,{"$f":"H9+I9","v":0},null,{"$f":"J9+K9","v":0},null,{"$f":"L9+M9","v":0},null,{"$f":"N9+O9","v":0},null,{"$f":"P9+Q9","v":0},null,{"$f":"R9+S9","v":0},null,{"$f":"T9+U9","v":0},null,{"$f":"V9+W9","v":0}]
[]
[null,null,null,null,null,{"$f":"F11+H11+J11+L11+N11+P11+R11+T11+V11","v":0}]
[]
[]
["POURCENTAGES",null,null,null,null,{"$f":"IFERROR(F9/F13,0)","v":0},{"$f":"IFERROR(G9/F13,0)","v":0},{"$f":"IFERROR(H9/F13,0)","v":0},{"$f":"IFERROR(I9/F13,0)","v":0},{"$f":"IFERROR(J9/F13,0)","v":0},{"$f":"IFERROR(K9/F13,0)","v":0},{"$f":"IFERROR(L9/F13,0)","v":0},{"$f":"IFERROR(M9/F13,0)","v":0},{"$f":"IFERROR(N9/F13,0)","v":0},{"$f":"IFERROR(O9/F13,0)","v":0},{"$f":"IFERROR(P9/F13,0)","v":0},{"$f":"IFERROR(Q9/F13,0)","v":0},{"$f":"IFERROR(R9/F13,0)","v":0},{"$f":"IFERROR(S9/F13,0)","v":0},{"$f":"IFERROR(T9/F13,0)","v":0},{"$f":"IFERROR(U9/F13,0)","v":0},{"$f":"IFERROR(V9/F13,0)","v":0},{"$f":"IFERROR(W9/F13,0)","v":0}]
[]
[null,null,null,null,null,{"$f":"F16+G16","v":0},null,{"$f":"H16+I16","v":0},null,{"$f":"J16+K16","v":0},null,{"$f":"L16+M16","v":0},null,{"$f":"N16+O16","v":0},null,{"$f":"P16+Q16","v":0},null,{"$f":"R16+S16","v":0},null,{"$f":"T16+U16","v":0},null,{"$f":"V16+W16","v":0}]
[]
[null,null,null,null,null,"SANS LABEL\nNI DISTINCTION",null,"BIO",null,"SIQO (LR,AOC,AOP,IGP,STG)",null,"PRODUITS\nHVE 2 et 3",null,"ECOLABEL\nPECHE DURABLE",null,"LOGO\nRUP",null,"FERMIER",null,"COMMERCE\nEQUITABLE",null,"CRITERES\nD'ACHAT"]
[]
[null,{"$error":"#VALUE!"},null,"COMMERCE EQUITABLE",null,"DONT CE",null,"DONT CE",null,"DONT CE",null,"DONT CE",null,"DONT CE",null,"DONT CE",null,"DONT CE",null,"DONT CE",null,"DONT CE"]
[null,null,null,null,null,{"$f":"SUM(F7:G8*$X$7:$X$8)","v":0},null,{"$f":"SUM(H7:I8*$X$7:$X$8)","v":0},null,{"$f":"SUM(J7:K8*$X$7:$X$8)","v":0},null,{"$f":"SUM(L7:M8*$X$7:$X$8)","v":0},null,{"$f":"SUM(N7:O8*$X$7:$X$8)","v":0},null,{"$f":"SUM(P7:Q8*$X$7:$X$8)","v":0},null,{"$f":"SUM(R7:S8*$X$7:$X$8)","v":0},null,{"$f":"SUM(T7:U8*$X$7:$X$8)","v":0},null,{"$f":"SUM(V7:W8*$X$7:$X$8)","v":0}]
[]
[]
[]
[]
[]
[]
[]
[]
[null,null,null,null,null,null,null,null,null,{"$f":"SUM(L23:T23)","v":0}]

{"sheet":"Septembre","index":10,"n_rows":32,"n_cols":23,"rows_kept":32,"cut":false,"hidden":false,"merged":[[31,9,31,10],[2,0,4,0],[2,2,4,2],[2,3,4,3],[0,0,0,20],[3,11,3,12],[3,13,3,14],[3,15,3,16],[3,17,3,18],[3,5,3,6],[3,7,3,8],[3,9,3,10],[2,5,2,22],[3,21,3,22],[3,19,3,20],[2,4,4,4],[12,5,13,22],[8,17,9,17],[8,18,9,18],[8,9,9,9],[8,10,9,10],[8,11,9,11],[8,12,9,12],[8,13,9,13],[10,5,11,6],[10,7,11,8],[10,9,11,10],[10,21,11,22],[8,14,9,14],[8,15,9,15],[8,16,9,16],[8,5,9,5],[8,6,9,6],[8,7,9,7],[8,8,9,8],[10,11,11,12],[10,13,11,14],[10,15,11,16],[10,17,11,18],[10,19,11,20],[15,14,16,14],[15,15,16,15],[15,16,16,16],[15,17,16,17],[15,18,16,18],[8,19,9,19],[8,20,9,20],[8,21,9,21],[8,22,9,22],[17,5,18,6],[17,7,18,8],[17,9,18,10],[17,11,18,12],[17,13,18,14],[17,15,18,16],[17,17,18,18],[17,19,18,20],[17,21,18,22],[19,21,19,22],[19,5,19,6],[19,7,19,8],[19,9,19,10],[19,11,19,12],[19,13,19,14],[8,0,13,4],[15,0,18,4],[19,15,19,16],[19,17,19,18],[19,19,19,20],[15,19,16,19],[15,20,16,20],[15,9,16,9],[15,10,16,10],[15,11,16,11],[15,12,16,12],[15,13,16,13],[15,5,16,5],[15,6,16,6],[15,7,16,7],[15,8,16,8],[15,21,16,21],[15,22,16,22],[21,1,24,1],[21,13,21,14],[21,15,21,16],[21,17,21,18],[21,19,21,20],[21,21,21,22],[22,13,22,14],[22,15,22,16],[22,17,22,18],[22,19,22,20],[22,21,22,22],[21,3,22,3],[21,5,21,6],[21,7,21,8],[21,9,21,10],[21,11,21,12],[22,5,22,6],[22,7,22,8],[22,9,22,10],[22,11,22,12]]}
["POURCENTAGES EGALIM SUR ACHATS Septembre"]
[]
["FOURNISSEUR",null,"DATE LIV","PRODUIT","V\nP","MONTANTS HT"]
[null,"NUMERO FACTURE",null,null,null,"SANS LABEL NI DISTINCTION",null,"BIO",null,"SIQO (LR,AOC,AOP,IGP,STG)",null,"PRODUITS HVE 2 et 3",null,"ECOLABEL PECHE DURABLE",null,"LOGO RUP",null,"FERMIER",null,"COMMERCE EQUITABLE",null,"CRITERES D'ACHAT"]
[null,null,null,null,null,"NON LOCAL","LOCAL","NON LOCAL","LOCAL","NON LOCAL","LOCAL","NON LOCAL","LOCAL","NON LOCAL","LOCAL","NON LOCAL","LOCAL","NON LOCAL","LOCAL","NON LOCAL","LOCAL","NON LOCAL","LOCAL"]
[]
[]
[]
["TOTAUX",null,null,null,null,{"$f":"SUM(F6:F8)","v":0},0,0,0,0,0,0,0,0,0,0,0,0,0,0,0,0,0]
[]
[null,null,null,null,null,{"$f":"F9+G9","v":0},null,{"$f":"H9+I9","v":0},null,{"$f":"J9+K9","v":0},null,{"$f":"L9+M9","v":0},null,{"$f":"N9+O9","v":0},null,{"$f":"P9+Q9","v":0},null,{"$f":"R9+S9","v":0},null,{"$f":"T9+U9","v":0},null,{"$f":"V9+W9","v":0}]
[]
[null,null,null,null,null,{"$f":"F11+H11+J11+L11+N11+P11+R11+T11+V11","v":0}]
[]
[]
["POURCENTAGES",null,null,null,null,{"$f":"IFERROR(F9/F13,0)","v":0},{"$f":"IFERROR(G9/F13,0)","v":0},{"$f":"IFERROR(H9/F13,0)","v":0},{"$f":"IFERROR(I9/F13,0)","v":0},{"$f":"IFERROR(J9/F13,0)","v":0},{"$f":"IFERROR(K9/F13,0)","v":0},{"$f":"IFERROR(L9/F13,0)","v":0},{"$f":"IFERROR(M9/F13,0)","v":0},{"$f":"IFERROR(N9/F13,0)","v":0},{"$f":"IFERROR(O9/F13,0)","v":0},{"$f":"IFERROR(P9/F13,0)","v":0},{"$f":"IFERROR(Q9/F13,0)","v":0},{"$f":"IFERROR(R9/F13,0)","v":0},{"$f":"IFERROR(S9/F13,0)","v":0},{"$f":"IFERROR(T9/F13,0)","v":0},{"$f":"IFERROR(U9/F13,0)","v":0},{"$f":"IFERROR(V9/F13,0)","v":0},{"$f":"IFERROR(W9/F13,0)","v":0}]
[]
[null,null,null,null,null,{"$f":"F16+G16","v":0},null,{"$f":"H16+I16","v":0},null,{"$f":"J16+K16","v":0},null,{"$f":"L16+M16","v":0},null,{"$f":"N16+O16","v":0},null,{"$f":"P16+Q16","v":0},null,{"$f":"R16+S16","v":0},null,{"$f":"T16+U16","v":0},null,{"$f":"V16+W16","v":0}]
[]
[null,null,null,null,null,"SANS LABEL\nNI DISTINCTION",null,"BIO",null,"SIQO (LR,AOC,AOP,IGP,STG)",null,"PRODUITS\nHVE 2 et 3",null,"ECOLABEL\nPECHE DURABLE",null,"LOGO\nRUP",null,"FERMIER",null,"COMMERCE\nEQUITABLE",null,"CRITERES\nD'ACHAT"]
[]
[null,{"$error":"#VALUE!"},null,"COMMERCE EQUITABLE",null,"DONT CE",null,"DONT CE",null,"DONT CE",null,"DONT CE",null,"DONT CE",null,"DONT CE",null,"DONT CE",null,"DONT CE",null,"DONT CE"]
[null,null,null,null,null,{"$f":"SUM(F7:G8*$X$7:$X$8)","v":0},null,{"$f":"SUM(H7:I8*$X$7:$X$8)","v":0},null,{"$f":"SUM(J7:K8*$X$7:$X$8)","v":0},null,{"$f":"SUM(L7:M8*$X$7:$X$8)","v":0},null,{"$f":"SUM(N7:O8*$X$7:$X$8)","v":0},null,{"$f":"SUM(P7:Q8*$X$7:$X$8)","v":0},null,{"$f":"SUM(R7:S8*$X$7:$X$8)","v":0},null,{"$f":"SUM(T7:U8*$X$7:$X$8)","v":0},null,{"$f":"SUM(V7:W8*$X$7:$X$8)","v":0}]
[]
[]
[]
[]
[]
[]
[]
[]
[null,null,null,null,null,null,null,null,null,{"$f":"SUM(L23:T23)","v":0}]

{"sheet":"Octobre","index":11,"n_rows":32,"n_cols":23,"rows_kept":32,"cut":false,"hidden":false,"merged":[[31,9,31,10],[8,0,13,4],[2,4,4,4],[2,5,2,22],[3,21,3,22],[8,21,9,21],[8,22,9,22],[10,17,11,18],[10,19,11,20],[10,21,11,22],[8,18,9,18],[8,19,9,19],[10,15,11,16],[10,5,11,6],[10,7,11,8],[10,9,11,10],[10,11,11,12],[10,13,11,14],[15,5,16,5],[15,6,16,6],[15,7,16,7],[15,8,16,8],[15,0,18,4],[12,5,13,22],[0,0,0,20],[2,0,4,0],[2,2,4,2],[2,3,4,3],[3,11,3,12],[3,13,3,14],[3,15,3,16],[3,17,3,18],[3,5,3,6],[3,7,3,8],[3,19,3,20],[3,9,3,10],[8,10,9,10],[8,11,9,11],[8,12,9,12],[8,13,9,13],[8,20,9,20],[8,5,9,5],[8,6,9,6],[8,7,9,7],[8,8,9,8],[8,17,9,17],[8,9,9,9],[8,14,9,14],[8,15,9,15],[8,16,9,16],[15,21,16,21],[15,22,16,22],[17,5,18,6],[17,7,18,8],[17,9,18,10],[17,11,18,12],[17,13,18,14],[17,15,18,16],[17,17,18,18],[17,19,18,20],[17,21,18,22],[15,14,16,14],[15,15,16,15],[15,16,16,16],[15,17,16,17],[15,18,16,18],[15,9,16,9],[15,10,16,10],[15,11,16,11],[15,12,16,12],[15,13,16,13],[15,19,16,19],[15,20,16,20],[19,15,19,16],[19,17,19,18],[19,19,19,20],[19,21,19,22],[19,5,19,6],[19,7,19,8],[19,9,19,10],[19,11,19,12],[19,13,19,14],[21,1,24,1],[21,13,21,14],[21,15,21,16],[21,17,21,18],[21,19,21,20],[21,21,21,22],[22,13,22,14],[22,15,22,16],[22,17,22,18],[22,19,22,20],[22,21,22,22],[21,3,22,3],[21,5,21,6],[21,7,21,8],[21,9,21,10],[21,11,21,12],[22,5,22,6],[22,7,22,8],[22,9,22,10],[22,11,22,12]]}
["POURCENTAGES EGALIM SUR ACHATS Octobre"]
[]
["FOURNISSEUR",null,"DATE LIV","PRODUIT","V\nP","MONTANTS HT"]
[null,"NUMERO FACTURE",null,null,null,"SANS LABEL NI DISTINCTION",null,"BIO",null,"SIQO (LR,AOC,AOP,IGP,STG)",null,"PRODUITS HVE 2 et 3",null,"ECOLABEL PECHE DURABLE",null,"LOGO RUP",null,"FERMIER",null,"COMMERCE EQUITABLE",null,"CRITERES D'ACHAT"]
[null,null,null,null,null,"NON LOCAL","LOCAL","NON LOCAL","LOCAL","NON LOCAL","LOCAL","NON LOCAL","LOCAL","NON LOCAL","LOCAL","NON LOCAL","LOCAL","NON LOCAL","LOCAL","NON LOCAL","LOCAL","NON LOCAL","LOCAL"]
[]
[]
[]
["TOTAUX",null,null,null,null,{"$f":"SUM(F6:F8)","v":0},0,0,0,0,0,0,0,0,0,0,0,0,0,0,0,0,0]
[]
[null,null,null,null,null,{"$f":"F9+G9","v":0},null,{"$f":"H9+I9","v":0},null,{"$f":"J9+K9","v":0},null,{"$f":"L9+M9","v":0},null,{"$f":"N9+O9","v":0},null,{"$f":"P9+Q9","v":0},null,{"$f":"R9+S9","v":0},null,{"$f":"T9+U9","v":0},null,{"$f":"V9+W9","v":0}]
[]
[null,null,null,null,null,{"$f":"F11+H11+J11+L11+N11+P11+R11+T11+V11","v":0}]
[]
[]
["POURCENTAGES",null,null,null,null,{"$f":"IFERROR(F9/F13,0)","v":0},{"$f":"IFERROR(G9/F13,0)","v":0},{"$f":"IFERROR(H9/F13,0)","v":0},{"$f":"IFERROR(I9/F13,0)","v":0},{"$f":"IFERROR(J9/F13,0)","v":0},{"$f":"IFERROR(K9/F13,0)","v":0},{"$f":"IFERROR(L9/F13,0)","v":0},{"$f":"IFERROR(M9/F13,0)","v":0},{"$f":"IFERROR(N9/F13,0)","v":0},{"$f":"IFERROR(O9/F13,0)","v":0},{"$f":"IFERROR(P9/F13,0)","v":0},{"$f":"IFERROR(Q9/F13,0)","v":0},{"$f":"IFERROR(R9/F13,0)","v":0},{"$f":"IFERROR(S9/F13,0)","v":0},{"$f":"IFERROR(T9/F13,0)","v":0},{"$f":"IFERROR(U9/F13,0)","v":0},{"$f":"IFERROR(V9/F13,0)","v":0},{"$f":"IFERROR(W9/F13,0)","v":0}]
[]
[null,null,null,null,null,{"$f":"F16+G16","v":0},null,{"$f":"H16+I16","v":0},null,{"$f":"J16+K16","v":0},null,{"$f":"L16+M16","v":0},null,{"$f":"N16+O16","v":0},null,{"$f":"P16+Q16","v":0},null,{"$f":"R16+S16","v":0},null,{"$f":"T16+U16","v":0},null,{"$f":"V16+W16","v":0}]
[]
[null,null,null,null,null,"SANS LABEL\nNI DISTINCTION",null,"BIO",null,"SIQO (LR,AOC,AOP,IGP,STG)",null,"PRODUITS\nHVE 2 et 3",null,"ECOLABEL\nPECHE DURABLE",null,"LOGO\nRUP",null,"FERMIER",null,"COMMERCE\nEQUITABLE",null,"CRITERES\nD'ACHAT"]
[]
[null,{"$error":"#VALUE!"},null,"COMMERCE EQUITABLE",null,"DONT CE",null,"DONT CE",null,"DONT CE",null,"DONT CE",null,"DONT CE",null,"DONT CE",null,"DONT CE",null,"DONT CE",null,"DONT CE"]
[null,null,null,null,null,{"$f":"SUM(F7:G8*$X$7:$X$8)","v":0},null,{"$f":"SUM(H7:I8*$X$7:$X$8)","v":0},null,{"$f":"SUM(J7:K8*$X$7:$X$8)","v":0},null,{"$f":"SUM(L7:M8*$X$7:$X$8)","v":0},null,{"$f":"SUM(N7:O8*$X$7:$X$8)","v":0},null,{"$f":"SUM(P7:Q8*$X$7:$X$8)","v":0},null,{"$f":"SUM(R7:S8*$X$7:$X$8)","v":0},null,{"$f":"SUM(T7:U8*$X$7:$X$8)","v":0},null,{"$f":"SUM(V7:W8*$X$7:$X$8)","v":0}]
[]
[]
[]
[]
[]
[]
[]
[]
[null,null,null,null,null,null,null,null,null,{"$f":"SUM(L23:T23)","v":0}]

{"sheet":"Novembre","index":12,"n_rows":32,"n_cols":23,"rows_kept":32,"cut":false,"hidden":false,"merged":[[31,9,31,10],[8,0,13,4],[2,4,4,4],[2,5,2,22],[3,21,3,22],[8,21,9,21],[8,22,9,22],[10,17,11,18],[10,19,11,20],[10,21,11,22],[8,18,9,18],[8,19,9,19],[10,15,11,16],[10,5,11,6],[10,7,11,8],[10,9,11,10],[10,11,11,12],[10,13,11,14],[15,5,16,5],[15,6,16,6],[15,7,16,7],[15,8,16,8],[15,0,18,4],[12,5,13,22],[0,0,0,20],[2,0,4,0],[2,2,4,2],[2,3,4,3],[3,11,3,12],[3,13,3,14],[3,15,3,16],[3,17,3,18],[3,5,3,6],[3,7,3,8],[3,19,3,20],[3,9,3,10],[8,10,9,10],[8,11,9,11],[8,12,9,12],[8,13,9,13],[8,20,9,20],[8,5,9,5],[8,6,9,6],[8,7,9,7],[8,8,9,8],[8,17,9,17],[8,9,9,9],[8,14,9,14],[8,15,9,15],[8,16,9,16],[15,21,16,21],[15,22,16,22],[17,5,18,6],[17,7,18,8],[17,9,18,10],[17,11,18,12],[17,13,18,14],[17,15,18,16],[17,17,18,18],[17,19,18,20],[17,21,18,22],[15,14,16,14],[15,15,16,15],[15,16,16,16],[15,17,16,17],[15,18,16,18],[15,9,16,9],[15,10,16,10],[15,11,16,11],[15,12,16,12],[15,13,16,13],[15,19,16,19],[15,20,16,20],[19,15,19,16],[19,17,19,18],[19,19,19,20],[19,21,19,22],[19,5,19,6],[19,7,19,8],[19,9,19,10],[19,11,19,12],[19,13,19,14],[21,1,24,1],[21,13,21,14],[21,15,21,16],[21,17,21,18],[21,19,21,20],[21,21,21,22],[22,13,22,14],[22,15,22,16],[22,17,22,18],[22,19,22,20],[22,21,22,22],[21,3,22,3],[21,5,21,6],[21,7,21,8],[21,9,21,10],[21,11,21,12],[22,5,22,6],[22,7,22,8],[22,9,22,10],[22,11,22,12]]}
["POURCENTAGES EGALIM SUR ACHATS Novembre"]
[]
["FOURNISSEUR",null,"DATE LIV","PRODUIT","V\nP","MONTANTS HT"]
[null,"NUMERO FACTURE",null,null,null,"SANS LABEL NI DISTINCTION",null,"BIO",null,"SIQO (LR,AOC,AOP,IGP,STG)",null,"PRODUITS HVE 2 et 3",null,"ECOLABEL PECHE DURABLE",null,"LOGO RUP",null,"FERMIER",null,"COMMERCE EQUITABLE",null,"CRITERES D'ACHAT"]
[null,null,null,null,null,"NON LOCAL","LOCAL","NON LOCAL","LOCAL","NON LOCAL","LOCAL","NON LOCAL","LOCAL","NON LOCAL","LOCAL","NON LOCAL","LOCAL","NON LOCAL","LOCAL","NON LOCAL","LOCAL","NON LOCAL","LOCAL"]
[]
[]
[]
["TOTAUX",null,null,null,null,{"$f":"SUM(F6:F8)","v":0},0,0,0,0,0,0,0,0,0,0,0,0,0,0,0,0,0]
[]
[null,null,null,null,null,{"$f":"F9+G9","v":0},null,{"$f":"H9+I9","v":0},null,{"$f":"J9+K9","v":0},null,{"$f":"L9+M9","v":0},null,{"$f":"N9+O9","v":0},null,{"$f":"P9+Q9","v":0},null,{"$f":"R9+S9","v":0},null,{"$f":"T9+U9","v":0},null,{"$f":"V9+W9","v":0}]
[]
[null,null,null,null,null,{"$f":"F11+H11+J11+L11+N11+P11+R11+T11+V11","v":0}]
[]
[]
["POURCENTAGES",null,null,null,null,{"$f":"IFERROR(F9/F13,0)","v":0},{"$f":"IFERROR(G9/F13,0)","v":0},{"$f":"IFERROR(H9/F13,0)","v":0},{"$f":"IFERROR(I9/F13,0)","v":0},{"$f":"IFERROR(J9/F13,0)","v":0},{"$f":"IFERROR(K9/F13,0)","v":0},{"$f":"IFERROR(L9/F13,0)","v":0},{"$f":"IFERROR(M9/F13,0)","v":0},{"$f":"IFERROR(N9/F13,0)","v":0},{"$f":"IFERROR(O9/F13,0)","v":0},{"$f":"IFERROR(P9/F13,0)","v":0},{"$f":"IFERROR(Q9/F13,0)","v":0},{"$f":"IFERROR(R9/F13,0)","v":0},{"$f":"IFERROR(S9/F13,0)","v":0},{"$f":"IFERROR(T9/F13,0)","v":0},{"$f":"IFERROR(U9/F13,0)","v":0},{"$f":"IFERROR(V9/F13,0)","v":0},{"$f":"IFERROR(W9/F13,0)","v":0}]
[]
[null,null,null,null,null,{"$f":"F16+G16","v":0},null,{"$f":"H16+I16","v":0},null,{"$f":"J16+K16","v":0},null,{"$f":"L16+M16","v":0},null,{"$f":"N16+O16","v":0},null,{"$f":"P16+Q16","v":0},null,{"$f":"R16+S16","v":0},null,{"$f":"T16+U16","v":0},null,{"$f":"V16+W16","v":0}]
[]
[null,null,null,null,null,"SANS LABEL\nNI DISTINCTION",null,"BIO",null,"SIQO (LR,AOC,AOP,IGP,STG)",null,"PRODUITS\nHVE 2 et 3",null,"ECOLABEL\nPECHE DURABLE",null,"LOGO\nRUP",null,"FERMIER",null,"COMMERCE\nEQUITABLE",null,"CRITERES\nD'ACHAT"]
[]
[null,{"$error":"#VALUE!"},null,"COMMERCE EQUITABLE",null,"DONT CE",null,"DONT CE",null,"DONT CE",null,"DONT CE",null,"DONT CE",null,"DONT CE",null,"DONT CE",null,"DONT CE",null,"DONT CE"]
[null,null,null,null,null,{"$f":"SUM(F7:G8*$X$7:$X$8)","v":0},null,{"$f":"SUM(H7:I8*$X$7:$X$8)","v":0},null,{"$f":"SUM(J7:K8*$X$7:$X$8)","v":0},null,{"$f":"SUM(L7:M8*$X$7:$X$8)","v":0},null,{"$f":"SUM(N7:O8*$X$7:$X$8)","v":0},null,{"$f":"SUM(P7:Q8*$X$7:$X$8)","v":0},null,{"$f":"SUM(R7:S8*$X$7:$X$8)","v":0},null,{"$f":"SUM(T7:U8*$X$7:$X$8)","v":0},null,{"$f":"SUM(V7:W8*$X$7:$X$8)","v":0}]
[]
[]
[]
[]
[]
[]
[]
[]
[null,null,null,null,null,null,null,null,null,{"$f":"SUM(L23:T23)","v":0}]

{"sheet":"Décembre","index":13,"n_rows":32,"n_cols":23,"rows_kept":32,"cut":false,"hidden":false,"merged":[[31,9,31,10],[8,0,13,4],[15,0,18,4],[2,4,4,4],[2,5,2,22],[3,21,3,22],[8,21,9,21],[8,22,9,22],[10,17,11,18],[10,19,11,20],[10,21,11,22],[8,18,9,18],[8,19,9,19],[10,15,11,16],[10,5,11,6],[10,7,11,8],[10,9,11,10],[8,20,9,20],[10,11,11,12],[10,13,11,14],[15,5,16,5],[15,6,16,6],[15,7,16,7],[15,8,16,8],[0,0,0,20],[2,0,4,0],[2,2,4,2],[2,3,4,3],[3,11,3,12],[3,13,3,14],[3,15,3,16],[3,17,3,18],[3,5,3,6],[3,7,3,8],[3,19,3,20],[3,9,3,10],[12,5,13,22],[15,17,16,17],[15,18,16,18],[15,9,16,9],[15,10,16,10],[15,11,16,11],[15,12,16,12],[15,13,16,13],[15,19,16,19],[15,21,16,21],[15,22,16,22],[15,14,16,14],[15,15,16,15],[15,16,16,16],[15,20,16,20],[8,5,9,5],[8,6,9,6],[8,7,9,7],[8,8,9,8],[8,17,9,17],[8,9,9,9],[8,14,9,14],[8,15,9,15],[8,16,9,16],[8,10,9,10],[8,11,9,11],[8,12,9,12],[8,13,9,13],[17,5,18,6],[17,7,18,8],[17,9,18,10],[17,11,18,12],[17,13,18,14],[17,15,18,16],[17,17,18,18],[17,19,18,20],[17,21,18,22],[19,15,19,16],[19,17,19,18],[19,19,19,20],[19,21,19,22],[19,5,19,6],[19,7,19,8],[19,9,19,10],[19,11,19,12],[19,13,19,14],[21,1,24,1],[21,13,21,14],[21,15,21,16],[21,17,21,18],[21,19,21,20],[21,21,21,22],[22,13,22,14],[22,15,22,16],[22,17,22,18],[22,19,22,20],[22,21,22,22],[21,3,22,3],[21,5,21,6],[21,7,21,8],[21,9,21,10],[21,11,21,12],[22,5,22,6],[22,7,22,8],[22,9,22,10],[22,11,22,12]]}
["POURCENTAGES EGALIM SUR ACHATS Décembre"]
[]
["FOURNISSEUR",null,"DATE LIV","PRODUIT","V\nP","MONTANTS HT"]
[null,"NUMERO FACTURE",null,null,null,"SANS LABEL NI DISTINCTION",null,"BIO",null,"SIQO (LR,AOC,AOP,IGP,STG)",null,"PRODUITS HVE 2 et 3",null,"ECOLABEL PECHE DURABLE",null,"LOGO RUP",null,"FERMIER",null,"COMMERCE EQUITABLE",null,"CRITERES D'ACHAT"]
[null,null,null,null,null,"NON LOCAL","LOCAL","NON LOCAL","LOCAL","NON LOCAL","LOCAL","NON LOCAL","LOCAL","NON LOCAL","LOCAL","NON LOCAL","LOCAL","NON LOCAL","LOCAL","NON LOCAL","LOCAL","NON LOCAL","LOCAL"]
[]
[]
[]
["TOTAUX",null,null,null,null,{"$f":"SUM(F6:F8)","v":0},0,0,0,0,0,0,0,0,0,0,0,0,0,0,0,0,0]
[]
[null,null,null,null,null,{"$f":"F9+G9","v":0},null,{"$f":"H9+I9","v":0},null,{"$f":"J9+K9","v":0},null,{"$f":"L9+M9","v":0},null,{"$f":"N9+O9","v":0},null,{"$f":"P9+Q9","v":0},null,{"$f":"R9+S9","v":0},null,{"$f":"T9+U9","v":0},null,{"$f":"V9+W9","v":0}]
[]
[null,null,null,null,null,{"$f":"F11+H11+J11+L11+N11+P11+R11+T11+V11","v":0}]
[]
[]
["POURCENTAGES",null,null,null,null,{"$f":"IFERROR(F9/F13,0)","v":0},{"$f":"IFERROR(G9/F13,0)","v":0},{"$f":"IFERROR(H9/F13,0)","v":0},{"$f":"IFERROR(I9/F13,0)","v":0},{"$f":"IFERROR(J9/F13,0)","v":0},{"$f":"IFERROR(K9/F13,0)","v":0},{"$f":"IFERROR(L9/F13,0)","v":0},{"$f":"IFERROR(M9/F13,0)","v":0},{"$f":"IFERROR(N9/F13,0)","v":0},{"$f":"IFERROR(O9/F13,0)","v":0},{"$f":"IFERROR(P9/F13,0)","v":0},{"$f":"IFERROR(Q9/F13,0)","v":0},{"$f":"IFERROR(R9/F13,0)","v":0},{"$f":"IFERROR(S9/F13,0)","v":0},{"$f":"IFERROR(T9/F13,0)","v":0},{"$f":"IFERROR(U9/F13,0)","v":0},{"$f":"IFERROR(V9/F13,0)","v":0},{"$f":"IFERROR(W9/F13,0)","v":0}]
[]
[null,null,null,null,null,{"$f":"F16+G16","v":0},null,{"$f":"H16+I16","v":0},null,{"$f":"J16+K16","v":0},null,{"$f":"L16+M16","v":0},null,{"$f":"N16+O16","v":0},null,{"$f":"P16+Q16","v":0},null,{"$f":"R16+S16","v":0},null,{"$f":"T16+U16","v":0},null,{"$f":"V16+W16","v":0}]
[]
[null,null,null,null,null,"SANS LABEL\nNI DISTINCTION",null,"BIO",null,"SIQO (LR,AOC,AOP,IGP,STG)",null,"PRODUITS\nHVE 2 et 3",null,"ECOLABEL\nPECHE DURABLE",null,"LOGO\nRUP",null,"FERMIER",null,"COMMERCE\nEQUITABLE",null,"CRITERES\nD'ACHAT"]
[]
[null,{"$error":"#VALUE!"},null,"COMMERCE EQUITABLE",null,"DONT CE",null,"DONT CE",null,"DONT CE",null,"DONT CE",null,"DONT CE",null,"DONT CE",null,"DONT CE",null,"DONT CE",null,"DONT CE"]
[null,null,null,null,null,{"$f":"SUM(F7:G8*$X$7:$X$8)","v":0},null,{"$f":"SUM(H7:I8*$X$7:$X$8)","v":0},null,{"$f":"SUM(J7:K8*$X$7:$X$8)","v":0},null,{"$f":"SUM(L7:M8*$X$7:$X$8)","v":0},null,{"$f":"SUM(N7:O8*$X$7:$X$8)","v":0},null,{"$f":"SUM(P7:Q8*$X$7:$X$8)","v":0},null,{"$f":"SUM(R7:S8*$X$7:$X$8)","v":0},null,{"$f":"SUM(T7:U8*$X$7:$X$8)","v":0},null,{"$f":"SUM(V7:W8*$X$7:$X$8)","v":0}]
[]
[]
[]
[]
[]
[]
[]
[]
[null,null,null,null,null,null,null,null,null,{"$f":"SUM(L23:T23)","v":0}]

{"sheet":"synthèse","index":14,"n_rows":58,"n_cols":32,"rows_kept":58,"cut":false,"hidden":false,"merged":[[5,0,28,0],[17,1,18,1],[19,1,20,1],[21,1,22,1],[23,1,24,1],[25,1,26,1],[27,1,28,1],[9,1,10,1],[7,1,8,1],[5,1,6,1],[27,31,28,31],[25,31,26,31],[23,31,24,31],[21,31,22,31],[19,31,20,31],[31,4,31,5],[7,31,8,31],[5,31,6,31],[0,31,3,31],[11,1,12,1],[17,31,18,31],[15,31,16,31],[13,31,14,31],[11,31,12,31],[9,31,10,31],[0,4,3,5],[13,1,14,1],[15,1,16,1],[0,28,3,29],[0,19,3,20],[0,25,3,26],[37,4,38,5],[37,7,38,8],[37,10,38,11],[37,13,38,14],[37,16,38,17],[37,28,38,29],[0,7,3,8],[0,10,3,11],[0,16,3,17],[0,13,3,14],[36,16,36,17],[36,13,36,14],[31,13,31,14],[31,16,31,17],[31,10,31,11],[36,10,36,11],[0,22,3,23],[43,10,44,11],[41,10,42,11],[31,28,31,29],[33,4,33,29],[37,19,38,20],[37,25,38,26],[36,28,36,29],[31,25,31,26],[37,22,38,23],[36,25,36,26],[31,19,31,20],[31,22,31,23],[36,22,36,23],[31,7,31,8],[36,4,36,5],[36,7,36,8],[35,2,38,2],[51,0,54,2],[51,7,52,8],[53,7,54,8],[51,13,52,26],[53,13,54,26],[45,13,45,26],[36,19,36,20],[30,0,38,1],[49,3,50,9],[49,10,50,11],[30,2,33,2],[46,4,47,5],[43,7,44,8],[43,13,44,26],[41,13,42,26],[51,29,55,31],[57,23,59,27],[41,7,42,8],[57,0,59,2],[57,12,59,16],[57,17,59,19],[57,20,59,22],[45,28,45,29],[46,7,47,29],[45,10,45,11],[41,4,45,5],[48,4,48,5],[48,7,48,29],[45,7,45,8],[43,28,44,29],[41,28,42,29]]}
[null,null,null,null,"SANS LABEL\nNI DISTINCTION",null,null,"BIO",null,null," SIQO\n(LR,AOP,AOC,IGP,STG)",null,null,"PRODUITS\nHVE 2 et 3",null,null,"ECOLABEL\nPECHE DURABLE",null,null,"LOGO RUP",null,null,"FERMIER",null,null,"COMMERCE\nEQUITABLE",null,null,"CRITERES\nD'ACHAT",null,null,"VALEUR TOTALE DU MOIS €"]
[]
[]
[]
[null,null,null,null,"NON LOCAL","LOCAL",null,"NON LOCAL","LOCAL",null,"NON LOCAL","LOCAL",null,"NON LOCAL","LOCAL",null,"NON LOCAL","LOCAL",null,"NON LOCAL","LOCAL",null,"NON LOCAL","LOCAL",null,"NON LOCAL","LOCAL",null,"NON LOCAL","LOCAL"]
["ANNEE CIVILE 2026","JANVIER","VALEUR €",null,{"$f":"Janvier!F9","v":0},{"$f":"Janvier!G9","v":0},null,{"$f":"Janvier!H9","v":0},{"$f":"Janvier!I9","v":0},null,{"$f":"Janvier!J9","v":0},{"$f":"Janvier!K9","v":0},null,{"$f":"Janvier!L9","v":0},{"$f":"Janvier!M9","v":0},null,{"$f":"Janvier!N9","v":0},{"$f":"Janvier!O9","v":0},null,{"$f":"Janvier!P9","v":0},{"$f":"Janvier!Q9","v":0},null,{"$f":"Janvier!R9","v":0},{"$f":"Janvier!S9","v":0},null,{"$f":"Janvier!T9","v":0},{"$f":"Janvier!U9","v":0},null,{"$f":"Janvier!V9","v":0},{"$f":"Janvier!W9","v":0},null,{"$f":"E6+F6+H6+I6+K6+L6+N6+O6+Q6+R6+T6+U6+W6+X6+Z6+AA6+AC6+AD6","v":0}]
[null,null,"POURCENTAGE",null,{"$f":"Janvier!F16","v":0},{"$f":"Janvier!G16","v":0},null,{"$f":"Janvier!H16","v":0},{"$f":"Janvier!I16","v":0},null,{"$f":"Janvier!J16","v":0},{"$f":"Janvier!K16","v":0},null,{"$f":"Janvier!L16","v":0},{"$f":"Janvier!M16","v":0},null,{"$f":"Janvier!N16","v":0},{"$f":"Janvier!O16","v":0},null,{"$f":"Janvier!P16","v":0},{"$f":"Janvier!Q16","v":0},null,{"$f":"Janvier!R16","v":0},{"$f":"Janvier!S16","v":0},null,{"$f":"Janvier!T16","v":0},{"$f":"Janvier!U16","v":0},null,{"$f":"Janvier!V16","v":0},{"$f":"Janvier!W16","v":0}]
[null,"FEVRIER","VALEUR €",null,{"$f":"Février!F9","v":0},{"$f":"Février!G9","v":0},null,{"$f":"Février!H9","v":0},{"$f":"Février!I9","v":0},null,{"$f":"Février!J9","v":0},{"$f":"Février!K9","v":0},null,{"$f":"Février!L9","v":0},{"$f":"Février!M9","v":0},null,{"$f":"Février!N9","v":0},{"$f":"Février!O9","v":0},null,{"$f":"Février!P9","v":0},{"$f":"Février!Q9","v":0},null,{"$f":"Février!R9","v":0},{"$f":"Février!S9","v":0},null,{"$f":"Février!T9","v":0},{"$f":"Février!U9","v":0},null,{"$f":"Février!V9","v":0},{"$f":"Février!W9","v":0},null,{"$f":"E8+F8+H8+I8+K8+L8+N8+O8+Q8+R8+T8+U8+W8+X8+Z8+AA8+AC8+AD8","v":0}]
[null,null,"POURCENTAGE",null,{"$f":"Février!F16","v":0},{"$f":"Février!G16","v":0},null,{"$f":"Février!H16","v":0},{"$f":"Février!I16","v":0},null,{"$f":"Février!J16","v":0},{"$f":"Février!K16","v":0},null,{"$f":"Février!L16","v":0},{"$f":"Février!M16","v":0},null,{"$f":"Février!N16","v":0},{"$f":"Février!O16","v":0},null,{"$f":"Février!P16","v":0},{"$f":"Février!Q16","v":0},null,{"$f":"Février!R16","v":0},{"$f":"Février!S16","v":0},null,{"$f":"Février!T16","v":0},{"$f":"Février!U16","v":0},null,{"$f":"Février!V16","v":0},{"$f":"Février!W16","v":0}]
[null,"MARS","VALEUR €",null,{"$f":"Mars!F9","v":0},{"$f":"Mars!G9","v":0},null,{"$f":"Mars!H9","v":0},{"$f":"Mars!I9","v":0},null,{"$f":"Mars!J9","v":0},{"$f":"Mars!K9","v":0},null,{"$f":"Mars!L9","v":0},{"$f":"Mars!M9","v":0},null,{"$f":"Mars!N9","v":0},{"$f":"Mars!O9","v":0},null,{"$f":"Mars!P9","v":0},{"$f":"Mars!Q9","v":0},null,{"$f":"Mars!R9","v":0},{"$f":"Mars!S9","v":0},null,{"$f":"Mars!T9","v":0},{"$f":"Mars!U9","v":0},null,{"$f":"Mars!V9","v":0},{"$f":"Mars!W9","v":0},null,{"$f":"E10+F10+H10+I10+K10+L10+N10+O10+Q10+R10+T10+U10+W10+X10+Z10+AA10+AC10+AD10","v":0}]
[null,null,"POURCENTAGE",null,{"$f":"Mars!F16","v":0},{"$f":"Mars!G16","v":0},null,{"$f":"Mars!H16","v":0},{"$f":"Mars!I16","v":0},null,{"$f":"Mars!J16","v":0},{"$f":"Mars!K16","v":0},null,{"$f":"Mars!L16","v":0},{"$f":"Mars!M16","v":0},null,{"$f":"Mars!N16","v":0},{"$f":"Mars!O16","v":0},null,{"$f":"Mars!P16","v":0},{"$f":"Mars!Q16","v":0},null,{"$f":"Mars!R16","v":0},{"$f":"Mars!S16","v":0},null,{"$f":"Mars!T16","v":0},{"$f":"Mars!U16","v":0},null,{"$f":"Mars!V16","v":0},{"$f":"Mars!W16","v":0}]
[null,"AVRIL","VALEUR €",null,{"$f":"Avril!F9","v":0},{"$f":"Avril!G9","v":0},null,{"$f":"Avril!H9","v":0},{"$f":"Avril!I9","v":0},null,{"$f":"Avril!J9","v":0},{"$f":"Avril!K9","v":0},null,{"$f":"Avril!L9","v":0},{"$f":"Avril!M9","v":0},null,{"$f":"Avril!N9","v":0},{"$f":"Avril!O9","v":0},null,{"$f":"Avril!P9","v":0},{"$f":"Avril!Q9","v":0},null,{"$f":"Avril!R9","v":0},{"$f":"Avril!S9","v":0},null,{"$f":"Avril!T9","v":0},{"$f":"Avril!U9","v":0},null,{"$f":"Avril!V9","v":0},{"$f":"Avril!W9","v":0},null,{"$f":"E12+F12+H12+I12+K12+L12+N12+O12+Q12+R12+T12+U12+W12+X12+Z12+AA12+AC12+AD12","v":0}]
[null,null,"POURCENTAGE",null,{"$f":"Avril!F16","v":0},{"$f":"Avril!G16","v":0},null,{"$f":"Avril!H16","v":0},{"$f":"Avril!I16","v":0},null,{"$f":"Avril!J16","v":0},{"$f":"Avril!K16","v":0},null,{"$f":"Avril!L16","v":0},{"$f":"Avril!M16","v":0},null,{"$f":"Avril!N16","v":0},{"$f":"Avril!O16","v":0},null,{"$f":"Avril!P16","v":0},{"$f":"Avril!Q16","v":0},null,{"$f":"Avril!R16","v":0},{"$f":"Avril!S16","v":0},null,{"$f":"Avril!T16","v":0},{"$f":"Avril!U16","v":0},null,{"$f":"Avril!V16","v":0},{"$f":"Avril!W16","v":0}]
[null,"MAI","VALEUR €",null,{"$f":"Mai!F9","v":0},{"$f":"Mai!G9","v":0},null,{"$f":"Mai!H9","v":0},{"$f":"Mai!I9","v":0},null,{"$f":"Mai!J9","v":0},{"$f":"Mai!K9","v":0},null,{"$f":"Mai!L9","v":0},{"$f":"Mai!M9","v":0},null,{"$f":"Mai!N9","v":0},{"$f":"Mai!O9","v":0},null,{"$f":"Mai!P9","v":0},{"$f":"Mai!T9","v":0},null,{"$f":"Mai!R9","v":0},{"$f":"Mai!S9","v":0},null,{"$f":"Mai!T9","v":0},{"$f":"Mai!U9","v":0},null,{"$f":"Mai!V9","v":0},{"$f":"Mai!W9","v":0},null,{"$f":"E14+F14+H14+I14+K14+L14+N14+O14+Q14+R14+T14+U14+W14+X14+Z14+AA14+AC14+AD14","v":0}]
[null,null,"POURCENTAGE",null,{"$f":"Mai!F16","v":0},{"$f":"Mai!G16","v":0},null,{"$f":"Mai!H16","v":0},{"$f":"Mai!I16","v":0},null,{"$f":"Mai!J16","v":0},{"$f":"Mai!K16","v":0},null,{"$f":"Mai!L16","v":0},{"$f":"Mai!M16","v":0},null,{"$f":"Mai!N9","v":0},{"$f":"Mai!O16","v":0},null,{"$f":"Mai!P16","v":0},{"$f":"Mai!Q16","v":0},null,{"$f":"Mai!R16","v":0},{"$f":"Mai!S16","v":0},null,{"$f":"Mai!T16","v":0},{"$f":"Mai!U16","v":0},null,{"$f":"Mai!V16","v":0},{"$f":"Mai!W16","v":0}]
[null,"JUIN","VALEUR €",null,{"$f":"Juin!F9","v":0},{"$f":"Juin!G9","v":0},null,{"$f":"Juin!H9","v":0},{"$f":"Juin!I9","v":0},null,{"$f":"Juin!J9","v":0},{"$f":"Juin!K9","v":0},null,{"$f":"Juin!L9","v":0},{"$f":"Juin!M9","v":0},null,{"$f":"Juin!N9","v":0},{"$f":"Juin!O9","v":0},null,{"$f":"Juin!P9","v":0},{"$f":"Juin!Q9","v":0},null,{"$f":"Juin!R9","v":0},{"$f":"Juin!S9","v":0},null,{"$f":"Juin!T9","v":0},{"$f":"Juin!U9","v":0},null,{"$f":"Juin!V9","v":0},{"$f":"Juin!W9","v":0},null,{"$f":"E16+F16+H16+I16+K16+L16+N16+O16+Q16+R16+T16+U16+W16+X16+Z16+AA16+AC16+AD16","v":0}]
[null,null,"POURCENTAGE",null,{"$f":"Juin!F16","v":0},{"$f":"Juin!G16","v":0},null,{"$f":"Juin!H16","v":0},{"$f":"Juin!I16","v":0},null,{"$f":"Juin!J16","v":0},{"$f":"Juin!K16","v":0},null,{"$f":"Juin!L16","v":0},{"$f":"Juin!M16","v":0},null,{"$f":"Juin!N16","v":0},{"$f":"Juin!O16","v":0},null,{"$f":"Juin!P16","v":0},{"$f":"Juin!Q16","v":0},null,{"$f":"Juin!R16","v":0},{"$f":"Juin!S16","v":0},null,{"$f":"Juin!T16","v":0},{"$f":"Juin!U16","v":0},null,{"$f":"Juin!V16","v":0},{"$f":"Juin!W16","v":0}]
[null,"JUILLET","VALEUR €",null,{"$f":"Juillet!F9","v":0},{"$f":"Juillet!G9","v":0},null,{"$f":"Juillet!H9","v":0},{"$f":"Juillet!I9","v":0},null,{"$f":"Juillet!J9","v":0},{"$f":"Juillet!K9","v":0},null,{"$f":"Juillet!L9","v":0},{"$f":"Juillet!M9","v":0},null,{"$f":"Juillet!N9","v":0},{"$f":"Juillet!O9","v":0},null,{"$f":"Juillet!P9","v":0},{"$f":"Juillet!Q9","v":0},null,{"$f":"Juillet!R9","v":0},{"$f":"Juillet!S9","v":0},null,{"$f":"Juillet!T9","v":0},{"$f":"Juillet!U9","v":0},null,{"$f":"Juillet!V9","v":0},{"$f":"Juillet!W9","v":0},null,{"$f":"E18+F18+H18+I18+K18+L18+N18+O18+Q18+R18+T18+U18+W18+X18+Z18+AA18+AC18+AD18","v":0}]
[null,null,"POURCENTAGE",null,{"$f":"Juillet!F16","v":0},{"$f":"Juillet!G16","v":0},null,{"$f":"Juillet!H16","v":0},{"$f":"Juillet!I16","v":0},null,{"$f":"Juillet!J16","v":0},{"$f":"Juillet!K16","v":0},null,{"$f":"Juillet!L16","v":0},{"$f":"Juillet!M16","v":0},null,{"$f":"Juillet!N16","v":0},{"$f":"Juillet!O16","v":0},null,{"$f":"Juillet!P16","v":0},{"$f":"Juillet!Q16","v":0},null,{"$f":"Juillet!R16","v":0},{"$f":"Juillet!S16","v":0},null,{"$f":"Juillet!T16","v":0},{"$f":"Juillet!U16","v":0},null,{"$f":"Juillet!V16","v":0},{"$f":"Juillet!W16","v":0}]
[null,"AOUT","VALEUR €",null,{"$f":"Août!F9","v":0},{"$f":"Août!G9","v":0},null,{"$f":"Août!H9","v":0},{"$f":"Août!I9","v":0},null,{"$f":"Août!J9","v":0},{"$f":"Août!K9","v":0},null,{"$f":"Août!L9","v":0},{"$f":"Août!M9","v":0},null,{"$f":"Août!N9","v":0},{"$f":"Août!O9","v":0},null,{"$f":"Août!P9","v":0},{"$f":"Août!Q9","v":0},null,{"$f":"Août!R9","v":0},{"$f":"Août!S9","v":0},null,{"$f":"Août!T9","v":0},{"$f":"Août!U9","v":0},null,{"$f":"Août!V9","v":0},{"$f":"Août!W9","v":0},null,{"$f":"E20+F20+H20+I20+K20+L20+N20+O20+Q20+R20+T20+U20+W20+X20+Z20+AA20+AC20+AD20","v":0}]
[null,null,"POURCENTAGE",null,{"$f":"Août!F16","v":0},{"$f":"Août!G16","v":0},null,{"$f":"Août!H16","v":0},{"$f":"Août!I16","v":0},null,{"$f":"Août!J16","v":0},{"$f":"Août!K16","v":0},null,{"$f":"Août!L16","v":0},{"$f":"Août!M16","v":0},null,{"$f":"Août!N16","v":0},{"$f":"Août!O16","v":0},null,{"$f":"Août!P16","v":0},{"$f":"Août!Q16","v":0},null,{"$f":"Août!R16","v":0},{"$f":"Août!S16","v":0},null,{"$f":"Août!T16","v":0},{"$f":"Août!U16","v":0},null,{"$f":"Août!V16","v":0},{"$f":"Août!W16","v":0}]
[null,"SEPTEMBRE","VALEUR €",null,{"$f":"Septembre!F9","v":0},{"$f":"Septembre!G9","v":0},null,{"$f":"Septembre!H9","v":0},{"$f":"Septembre!I9","v":0},null,{"$f":"Septembre!J9","v":0},{"$f":"Septembre!K9","v":0},null,{"$f":"Septembre!L9","v":0},{"$f":"Septembre!M9","v":0},null,{"$f":"Septembre!N9","v":0},{"$f":"Septembre!O9","v":0},null,{"$f":"Septembre!P9","v":0},{"$f":"Septembre!Q9","v":0},null,{"$f":"Septembre!R9","v":0},{"$f":"Septembre!S9","v":0},null,{"$f":"Septembre!T9","v":0},{"$f":"Septembre!U9","v":0},null,{"$f":"Septembre!V9","v":0},{"$f":"Septembre!W9","v":0},null,{"$f":"E22+F22+H22+I22+K22+L22+N22+O22+Q22+R22+T22+U22+W22+X22+Z22+AA22+AC22+AD22","v":0}]
[null,null,"POURCENTAGE",null,{"$f":"Septembre!F16","v":0},{"$f":"Septembre!G16","v":0},null,{"$f":"Septembre!H16","v":0},{"$f":"Septembre!I16","v":0},null,{"$f":"Septembre!J16","v":0},{"$f":"Septembre!K16","v":0},null,{"$f":"Septembre!L16","v":0},{"$f":"Septembre!M16","v":0},null,{"$f":"Septembre!N16","v":0},{"$f":"Septembre!O16","v":0},null,{"$f":"Septembre!P16","v":0},{"$f":"Septembre!Q16","v":0},null,{"$f":"Septembre!R16","v":0},{"$f":"Septembre!S16","v":0},null,{"$f":"Septembre!T16","v":0},{"$f":"Septembre!U16","v":0},null,{"$f":"Septembre!V16","v":0},{"$f":"Septembre!W16","v":0}]
[null,"OCTOBRE","VALEUR €",null,{"$f":"Octobre!F9","v":0},{"$f":"Octobre!G9","v":0},null,{"$f":"Octobre!H9","v":0},{"$f":"Octobre!I9","v":0},null,{"$f":"Octobre!J9","v":0},{"$f":"Octobre!K9","v":0},null,{"$f":"Octobre!L9","v":0},{"$f":"Octobre!M9","v":0},null,{"$f":"Octobre!N9","v":0},{"$f":"Octobre!O9","v":0},null,{"$f":"Octobre!P9","v":0},{"$f":"Octobre!Q9","v":0},null,{"$f":"Octobre!R9","v":0},{"$f":"Octobre!S9","v":0},null,{"$f":"Octobre!T9","v":0},{"$f":"Octobre!U9","v":0},null,{"$f":"Octobre!V9","v":0},{"$f":"Octobre!W9","v":0},null,{"$f":"E24+F24+H24+I24+K24+L24+N24+O24+Q24+R24+T24+U24+W24+X24+Z24+AA24+AC24+AD24","v":0}]
[null,null,"POURCENTAGE",null,{"$f":"Octobre!F16","v":0},{"$f":"Octobre!G16","v":0},null,{"$f":"Octobre!H16","v":0},{"$f":"Octobre!I16","v":0},null,{"$f":"Octobre!J16","v":0},{"$f":"Octobre!K16","v":0},null,{"$f":"Octobre!L16","v":0},{"$f":"Octobre!M16","v":0},null,{"$f":"Octobre!N16","v":0},{"$f":"Octobre!O16","v":0},null,{"$f":"Octobre!P16","v":0},{"$f":"Octobre!Q16","v":0},null,{"$f":"Octobre!R16","v":0},{"$f":"Octobre!S16","v":0},null,{"$f":"Octobre!T16","v":0},{"$f":"Octobre!U16","v":0},null,{"$f":"Octobre!V16","v":0},{"$f":"Octobre!W16","v":0}]
[null,"NOVEMBRE","VALEUR €",null,{"$f":"Novembre!F9","v":0},{"$f":"Novembre!G9","v":0},null,{"$f":"Novembre!H9","v":0},{"$f":"Novembre!I9","v":0},null,{"$f":"Novembre!J9","v":0},{"$f":"Novembre!K9","v":0},null,{"$f":"Novembre!L9","v":0},{"$f":"Novembre!M9","v":0},null,{"$f":"Novembre!N9","v":0},{"$f":"Novembre!O9","v":0},null,{"$f":"Novembre!P9","v":0},{"$f":"Novembre!Q9","v":0},null,{"$f":"Novembre!R9","v":0},{"$f":"Novembre!S9","v":0},null,{"$f":"Novembre!T9","v":0},{"$f":"Novembre!U9","v":0},null,{"$f":"Novembre!V9","v":0},{"$f":"Novembre!W9","v":0},null,{"$f":"E26+F26+H26+I26+K26+L26+N26+O26+Q26+R26+T26+U26+W26+X26+Z26+AA26+AC26+AD26","v":0}]
[null,null,"POURCENTAGE",null,{"$f":"Novembre!F16","v":0},{"$f":"Novembre!G16","v":0},null,{"$f":"Novembre!H16","v":0},{"$f":"Novembre!I16","v":0},null,{"$f":"Novembre!J16","v":0},{"$f":"Novembre!K16","v":0},null,{"$f":"Novembre!L16","v":0},{"$f":"Novembre!M16","v":0},null,{"$f":"Novembre!N16","v":0},{"$f":"Novembre!O16","v":0},null,{"$f":"Novembre!P16","v":0},{"$f":"Novembre!Q16","v":0},null,{"$f":"Novembre!R16","v":0},{"$f":"Novembre!S16","v":0},null,{"$f":"Novembre!T16","v":0},{"$f":"Novembre!U16","v":0},null,{"$f":"Novembre!V16","v":0},{"$f":"Novembre!W16","v":0}]
[null,"DECEMBRE","VALEUR €",null,{"$f":"Décembre!F9","v":0},{"$f":"Décembre!G9","v":0},null,{"$f":"Décembre!H9","v":0},{"$f":"Décembre!I9","v":0},null,{"$f":"Décembre!J9","v":0},{"$f":"Décembre!K9","v":0},null,{"$f":"Décembre!L9","v":0},{"$f":"Décembre!M9","v":0},null,{"$f":"Décembre!N9","v":0},{"$f":"Décembre!O9","v":0},null,{"$f":"Décembre!P9","v":0},{"$f":"Décembre!Q9","v":0},null,{"$f":"Décembre!R9","v":0},{"$f":"Décembre!S9","v":0},null,{"$f":"Décembre!T9","v":0},{"$f":"Décembre!U9","v":0},null,{"$f":"Décembre!V9","v":0},{"$f":"Décembre!W9","v":0},null,{"$f":"E28+F28+H28+I28+K28+L28+N28+O28+Q28+R28+T28+U28+W28+X28+Z28+AA28+AC28+AD28","v":0}]
[null,null,"POURCENTAGE",null,{"$f":"Décembre!F16","v":0},{"$f":"Décembre!G16","v":0},null,{"$f":"Décembre!H16","v":0},{"$f":"Décembre!I16","v":0},null,{"$f":"Décembre!J16","v":0},{"$f":"Décembre!K16","v":0},null,{"$f":"Décembre!L16","v":0},{"$f":"Décembre!M16","v":0},null,{"$f":"Décembre!N16","v":0},{"$f":"Décembre!O16","v":0},null,{"$f":"Décembre!P16","v":0},{"$f":"Décembre!Q16","v":0},null,{"$f":"Décembre!R16","v":0},{"$f":"Décembre!S16","v":0},null,{"$f":"Décembre!T16","v":0},{"$f":"Décembre!U16","v":0},null,{"$f":"Décembre!V16","v":0},{"$f":"Décembre!W16","v":0}]
[]
["TOTAL",null,"VALEUR €",null,{"$f":"E6+E8+E10+E12+E14+E16+E18+E20+E22+E24+E26+E28","v":0},{"$f":"F6+F8+F10+F12+F14+F16+F18+F20+F22+F24+F26+F28","v":0},null,{"$f":"H6+H8+H10+H12+H14+H16+H18+H20+H22+H24+H26+H28","v":0},{"$f":"I6+I8+I10+I12+I14+I16+I18+I20+I22+I24+I26+I28","v":0},null,{"$f":"K6+K8+K10+K12+K14+K16+K18+K20+K22+K24+K26+K28","v":0},{"$f":"L6+L8+L10+L12+L14+L16+L18+L20+L22+L24+L26+L28","v":0},null,{"$f":"N6+N8+N10+N12+N14+N16+N18+N20+N22+N24+N26+N28","v":0},{"$f":"O6+O8+O10+O12+O14+O16+O18+O20+O22+O24+O26+O28","v":0},null,{"$f":"Q28+Q26+Q24+Q22+Q20+Q18+Q16+Q14+Q12+Q10+Q8+Q6","v":0},{"$f":"R6+R8+R10+R12+R14+R16+R18+R20+R22+R24+R26+R28","v":0},null,{"$f":"T6+T8+T10+T12+T14+T16+T18+T20+T22+T24+T26+T28","v":0},{"$f":"U6+U8+U10+U12+U14+U16+U18+U20+U22+U24+U26+U28","v":0},null,{"$f":"W6+W8+W10+W12+W14+W16+W18+W20+W22+W24+W26+W28","v":0},{"$f":"X6+X8+X10+X12+X14+X16+X18+X20+X22+X24+X26+X28","v":0},null,{"$f":"Z6+Z8+Z10+Z12+Z14+Z16+Z18+Z20+Z22+Z24+Z26+Z28","v":0},{"$f":"AA6+AA8+AA10+AA12+AA14+AA16+AA18+AA20+AA22+AA24+AA26+AA28","v":0},null,{"$f":"AC6+AC8+AC10+AC12+AC14+AC16+AC18+AC20+AC22+AC24+AC26+AC28","v":0},{"$f":"AD6+AD8+AD10+AD12+AD14+AD16+AD18+AD20+AD22+AD24+AD26+AD28","v":0}]
[null,null,null,null,{"$f":"E31+F31","v":0},null,null,{"$f":"H31+I31","v":0},null,null,{"$f":"K31+L31","v":0},null,null,{"$f":"N31+O31","v":0},null,null,{"$f":"Q31+R31","v":0},null,null,{"$f":"T31+U31","v":0},null,null,{"$f":"W31+X31","v":0},null,null,{"$f":"Z31+AA31","v":0},null,null,{"$f":"AC31+AD31","v":0}]
[]
[null,null,null,null,{"$f":"E32+H32+K32+N32+Q32+T32+W32+Z32+AC32","v":0}]
[]
[null,null,"%",null,{"$f":"E31/E34","v":{"$error":"#DIV/0!"}},{"$f":"F31/E34","v":{"$error":"#DIV/0!"}},null,{"$f":"H31/E34","v":{"$error":"#DIV/0!"}},{"$f":"I31/E34","v":{"$error":"#DIV/0!"}},null,{"$f":"K31/E34","v":{"$error":"#DIV/0!"}},{"$f":"L31/E34","v":{"$error":"#DIV/0!"}},null,{"$f":"N31/E34","v":{"$error":"#DIV/0!"}},{"$f":"O31/E34","v":{"$error":"#DIV/0!"}},null,{"$f":"Q31/E34","v":{"$error":"#DIV/0!"}},{"$f":"R31/E34","v":{"$error":"#DIV/0!"}},null,{"$f":"T31/E34","v":{"$error":"#DIV/0!"}},{"$f":"U31/E34","v":{"$error":"#DIV/0!"}},null,{"$f":"W31/E34","v":{"$error":"#DIV/0!"}},{"$f":"X31/E34","v":{"$error":"#DIV/0!"}},null,{"$f":"Z31/E34","v":{"$error":"#DIV/0!"}},{"$f":"AA31/E34","v":{"$error":"#DIV/0!"}},null,{"$f":"AC31/E34","v":{"$error":"#DIV/0!"}},{"$f":"AD31/E34","v":{"$error":"#DIV/0!"}}]
[null,null,null,null,{"$f":"E36+F36","v":{"$error":"#DIV/0!"}},null,null,{"$f":"H36+I36","v":{"$error":"#DIV/0!"}},null,null,{"$f":"K36+L36","v":{"$error":"#DIV/0!"}},null,null,{"$f":"N36+O36","v":{"$error":"#DIV/0!"}},null,null,{"$f":"Q36+R36","v":{"$error":"#DIV/0!"}},null,null,{"$f":"T36+U36","v":{"$error":"#DIV/0!"}},null,null,{"$f":"W36+X36","v":{"$error":"#DIV/0!"}},null,null,{"$f":"Z36+AA36","v":{"$error":"#DIV/0!"}},null,null,{"$f":"AC36+AD36","v":{"$error":"#DIV/0!"}}]
[null,null,null,null,"SANS LABEL     NI DISTINCTION",null,null,"BIO",null,null,"SIQO",null,null,"PRODUITS HVE2 et 3",null,null,"ECOLABEL\nPECHE DURABLE",null,null,"LOGO RUP",null,null,"FERMIER",null,null,"COMMERCE\nEQUITABLE",null,null,"CRITERES\nD'ACHAT"]
[]
[]
[]
[null,null,null,null,{"$f":"E32","v":0},null,null,{"$f":"H32","v":0},null,null,{"$f":"K32","v":0},null,null,{"$f":"N32+Q32+T32+W32+Z32","v":0},null,null,null,null,null,null,null,null,null,null,null,null,null,null,{"$f":"AC32","v":0}]
[]
[null,null,null,null,null,null,null,{"$f":"H37","v":{"$error":"#DIV/0!"}},null,null,{"$f":"K37","v":{"$error":"#DIV/0!"}},null,null,{"$f":"N37+Q37+T37+W37+Z37","v":{"$error":"#DIV/0!"}},null,null,null,null,null,null,null,null,null,null,null,null,null,null,{"$f":"AC37","v":{"$error":"#DIV/0!"}}]
[]
[null,null,null,null,null,null,null,"PRODUITS BIO",null,null,"SIQO",null,null,"AUTRES PRODUITS EGALIM",null,null,null,null,null,null,null,null,null,null,null,null,null,null,"CRITERES\nD'ACHAT"]
[null,null,null,null,{"$f":"E37","v":{"$error":"#DIV/0!"}},null,null,{"$f":"H44+K44+N44+AC44","v":{"$error":"#DIV/0!"}}]
[]
[null,null,null,null,"PRODUITS\nNON EGALIM",null,null,"PRODUITS EGALIM"]
[]
[]
["DONT\nCOMMERCE EQUITABLE",null,null,null,null,null,null,"BIO EQUITABLE",null,null,null,null,null,"AUTRES PRODUITS EGALIM EQUITABLES",null,null,null,null,null,null,null,null,null,null,null,null,null,null,null,{"$error":"#VALUE!"}]
[]
[null,null,null,null,null,null,null,{"$f":"(Janvier!H23+Février!H23+Mars!H23+Avril!H23+Mai!H23+Juin!H23+Juillet!H23+Août!H23+Septembre!H23+Octobre!H23+Octobre!H23+Novembre!H23+Décembre!H23)","v":0},null,null,null,null,null,{"$f":"Janvier!J29+Février!J32+Mars!J32+Avril!J32+Mai!J32+Juin!J32+Juillet!J32+Août!J32+Septembre!J32+Octobre!J32+Novembre!J32+Décembre!J32","v":0}]
[]
[]
[]
["DONT\nPRODUITS LOCAUX",null,null,null,null,null,null,null,null,null,null,null,{"$f":"F31+I31+L31+O31+R31+U31+X31+AA31+AD31","v":0},null,null,null,null,"SOIT",null,null,{"$f":"M58/E34","v":{"$error":"#DIV/0!"}},null,null,"DE PRODUITS LOCAUX"]

{"sheet":"Viande","index":15,"n_rows":26,"n_cols":23,"rows_kept":26,"cut":false,"hidden":false,"merged":[[10,13,11,14],[3,19,3,20],[3,21,3,22],[8,10,9,10],[8,11,9,11],[8,12,9,12],[8,18,9,18],[8,19,9,19],[8,20,9,20],[8,21,9,21],[8,15,9,15],[8,22,9,22],[25,3,27,7],[25,11,27,16],[0,0,0,20],[2,0,4,0],[2,2,4,2],[2,4,4,4],[2,5,2,22],[3,5,3,6],[3,7,3,8],[3,9,3,10],[3,11,3,12],[3,13,3,14],[3,15,3,16],[3,17,3,18],[10,5,11,6],[10,7,11,8],[10,9,11,10],[10,11,11,12],[12,5,13,22],[15,0,18,4],[15,5,16,5],[15,6,16,6],[15,7,16,7],[15,8,16,8],[15,9,16,9],[15,10,16,10],[15,11,16,11],[15,12,16,12],[8,0,13,4],[8,5,9,5],[8,6,9,6],[8,7,9,7],[8,8,9,8],[8,9,9,9],[10,15,11,16],[10,17,11,18],[10,19,11,20],[8,13,9,13],[8,14,9,14],[10,21,11,22],[8,16,9,16],[8,17,9,17],[19,13,19,14],[19,15,19,16],[19,17,19,18],[15,19,16,19],[15,20,16,20],[15,21,16,21],[15,22,16,22],[17,5,18,6],[17,7,18,8],[17,9,18,10],[17,11,18,12],[17,13,18,14],[17,15,18,16],[15,13,16,13],[15,14,16,14],[15,15,16,15],[15,16,16,16],[15,17,16,17],[15,18,16,18],[2,1,4,1],[22,23,22,24],[22,3,23,3],[23,5,23,6],[23,7,23,8],[22,5,22,6],[22,7,22,8],[22,9,22,10],[22,11,22,12],[22,13,22,14],[22,15,22,16],[22,17,22,18],[22,19,22,20],[22,21,22,22],[19,19,19,20],[19,21,19,22],[2,3,4,3],[17,17,18,18],[17,19,18,20],[17,21,18,22],[19,5,19,6],[19,7,19,8],[19,9,19,10],[19,11,19,12],[25,21,29,22],[23,19,23,20],[23,21,23,22],[23,23,23,24],[23,9,23,10],[23,11,23,12],[23,13,23,14],[23,15,23,16],[23,17,23,18]]}
["POURCENTAGES EGALIM SUR ACHATS VIANDES"]
[]
["FOURNISSEUR","NUMERO FACTURE","DATE LIV","PRODUIT","V","MONTANTS HT"]
[null,null,null,null,null,"SANS LABEL NI DISTINCTION",null,"BIO",null,"SIQO (LR,AOC,AOP,IGP,STG)",null,"PRODUITS HVE 2 et 3",null,"ECOLABEL PECHE DURABLE",null,"LOGO RUP",null,"FERMIER",null,"COMMERCE EQUITABLE",null,"CRITERES\nD'ACHAT"]
[null,null,null,null,null,"NON LOCAL","LOCAL","NON LOCAL","LOCAL","NON LOCAL","LOCAL","NON LOCAL","LOCAL","NON LOCAL","LOCAL","NON LOCAL","LOCAL","NON LOCAL","LOCAL","NON LOCAL","LOCAL","NON LOCAL","LOCAL"]
[]
[]
[]
["TOTAUX",null,null,null,null,{"$f":"SUM(F6:F8)","v":0},0,0,0,0,0,0,0,0,0,0,0,0,0,0,0,0,0]
[]
[null,null,null,null,null,{"$f":"F9+G9","v":0},null,{"$f":"H9+I9","v":0},null,{"$f":"J9+K9","v":0},null,{"$f":"L9+M9","v":0},null,{"$f":"N9+O9","v":0},null,{"$f":"P9+Q9","v":0},null,{"$f":"R9+S9","v":0},null,{"$f":"T9+U9","v":0},null,{"$f":"V9+W9","v":0}]
[]
[null,null,null,null,null,{"$f":"F11+H11+J11+L11+N11+P11+R11+T11+V11","v":0}]
[]
[]
["POURCENTAGES",null,null,null,null,{"$f":"IFERROR(F9/F13,0)","v":0},{"$f":"IFERROR(G9/F13,0)","v":0},{"$f":"IFERROR(H9/F13,0)","v":0},{"$f":"IFERROR(I9/F13,0)","v":0},{"$f":"IFERROR(J9/F13,0)","v":0},{"$f":"IFERROR(K9/F13,0)","v":0},{"$f":"IFERROR(L9/F13,0)","v":0},{"$f":"IFERROR(M9/F13,0)","v":0},{"$f":"IFERROR(N9/F13,0)","v":0},{"$f":"IFERROR(O9/F13,0)","v":0},{"$f":"IFERROR(P9/F13,0)","v":0},{"$f":"IFERROR(Q9/F13,0)","v":0},{"$f":"IFERROR(R9/F13,0)","v":0},{"$f":"IFERROR(S9/F13,0)","v":0},{"$f":"IFERROR(T9/F13,0)","v":0},{"$f":"IFERROR(U9/F13,0)","v":0},{"$f":"IFERROR(V9/F13,0)","v":0},{"$f":"IFERROR(W9/F13,0)","v":0}]
[]
[null,null,null,null,null,{"$f":"F16+G16","v":0},null,{"$f":"H16+I16","v":0},null,{"$f":"J16+K16","v":0},null,{"$f":"L16+M16","v":0},null,{"$f":"N16+O16","v":0},null,{"$f":"P16+Q16","v":0},null,{"$f":"R16+S16","v":0},null,{"$f":"T16+U16","v":0},null,{"$f":"V16+W16","v":0}]
[]
[null,null,null,null,null,"SANS LABEL\nNI DISTINCTION",null,"BIO",null,"SIQO (LR,AOC,AOP,IGP,STG)",null,"PRODUITS\nHVE 2 et 3",null,"ECOLABEL\nPECHE DURABLE",null,"LOGO\nRUP",null,"FERMIER",null,"COMMERCE\nEQUITABLE",null,"CRITERES\nD'ACHAT"]
[]
[]
[null,null,null,"ORIGINE FRANCE",null,"DONT OF",null,"DONT OF",null,"DONT OF",null,"DONT OF",null,"DONT OF",null,"DONT OF",null,"DONT OF",null,"DONT OF",null,"DONT OF"]
[null,null,null,null,null,{"$f":"SUM(F7:G8*$Y$7:$Y$8)","v":0},null,{"$f":"SUM(H7:I8*$Y$7:$Y$8)","v":0},null,{"$f":"SUM(J7:K8*$Y$7:$Y$8)","v":0},null,{"$f":"SUM(L7:M8*$Y$7:$Y$8)","v":0},null,{"$f":"SUM(N7:O8*$Y$7:$Y$8)","v":0},null,{"$f":"SUM(P7:Q8*$Y$7:$Y$8)","v":0},null,{"$f":"SUM(R7:S8*$Y$7:$Y$8)","v":0},null,{"$f":"SUM(T7:U8*$Y$7:$Y$8)","v":0},null,{"$f":"SUM(V7:W8*$Y$7:$Y$8)","v":0}]
[]
[null,null,null,"TOTAL ORIGINE FRANCE",null,null,null,null,null,null,null,{"$f":"F24+H24+J24+L24+N24+P24+R24+T24+V24","v":0},null,null,null,null,null,null,null,null,null,{"$error":"#VALUE!"}]

{"sheet":"Poisson","index":16,"n_rows":26,"n_cols":23,"rows_kept":26,"cut":false,"hidden":false,"merged":[[3,19,3,20],[3,21,3,22],[8,10,9,10],[8,11,9,11],[8,12,9,12],[8,13,9,13],[8,14,9,14],[0,0,0,20],[2,0,4,0],[2,3,4,3],[2,4,4,4],[2,5,2,22],[3,5,3,6],[3,7,3,8],[3,9,3,10],[3,11,3,12],[3,13,3,14],[3,15,3,16],[3,17,3,18],[8,17,9,17],[8,18,9,18],[8,19,9,19],[8,20,9,20],[8,21,9,21],[8,22,9,22],[10,5,11,6],[10,7,11,8],[10,9,11,10],[10,11,11,12],[10,13,11,14],[15,16,16,16],[15,17,16,17],[15,18,16,18],[12,5,13,22],[10,21,11,22],[2,2,4,2],[17,17,18,18],[17,19,18,20],[17,21,18,22],[19,5,19,6],[19,7,19,8],[19,9,19,10],[19,11,19,12],[19,13,19,14],[19,15,19,16],[19,17,19,18],[15,19,16,19],[15,20,16,20],[15,21,16,21],[15,22,16,22],[17,5,18,6],[17,7,18,8],[17,9,18,10],[17,11,18,12],[17,13,18,14],[17,15,18,16],[15,13,16,13],[15,14,16,14],[15,8,16,8],[15,7,16,7],[22,23,22,24],[23,23,23,24],[22,21,22,22],[23,5,23,6],[23,7,23,8],[23,9,23,10],[23,11,23,12],[23,13,23,14],[23,15,23,16],[23,17,23,18],[23,19,23,20],[23,21,23,22],[22,11,22,12],[22,13,22,14],[22,15,22,16],[22,17,22,18],[22,19,22,20],[19,21,19,22],[15,9,16,9],[15,10,16,10],[15,11,16,11],[15,12,16,12],[25,21,29,22],[25,11,27,16],[25,3,27,7],[2,1,4,1],[22,3,23,3],[22,5,22,6],[22,7,22,8],[22,9,22,10],[19,19,19,20],[15,15,16,15],[8,0,13,4],[8,5,9,5],[8,6,9,6],[8,7,9,7],[8,8,9,8],[8,9,9,9],[10,15,11,16],[10,17,11,18],[10,19,11,20],[8,16,9,16],[8,15,9,15],[15,0,18,4],[15,5,16,5],[15,6,16,6]]}
["POURCENTAGES EGALIM SUR ACHATS POISSONS"]
[]
["FOURNISSEUR","NUMERO FACTURE","DATE LIV","PRODUIT","P","MONTANTS HT"]
[null,null,null,null,null,"SANS LABEL NI DISTINCTION",null,"BIO",null,"SIQO (LR,AOC,AOP,IGP,STG)",null,"PRODUITS HVE 2 et 3",null,"ECOLABEL PECHE DURABLE",null,"LOGO RUP",null,"FERMIER",null,"COMMERCE EQUITABLE",null,"CRITERES\nD'ACHAT"]
[null,null,null,null,null,"NON LOCAL","LOCAL","NON LOCAL","LOCAL","NON LOCAL","LOCAL","NON LOCAL","LOCAL","NON LOCAL","LOCAL","NON LOCAL","LOCAL","NON LOCAL","LOCAL","NON LOCAL","LOCAL","NON LOCAL","LOCAL"]
[]
[]
[]
["TOTAUX",null,null,null,null,{"$f":"SUM(F6:F8)","v":0},0,0,0,0,0,0,0,0,0,0,0,0,0,0,0,0,0]
[]
[null,null,null,null,null,{"$f":"F9+G9","v":0},null,{"$f":"H9+I9","v":0},null,{"$f":"J9+K9","v":0},null,{"$f":"L9+M9","v":0},null,{"$f":"N9+O9","v":0},null,{"$f":"P9+Q9","v":0},null,{"$f":"R9+S9","v":0},null,{"$f":"T9+U9","v":0},null,{"$f":"V9+W9","v":0}]
[]
[null,null,null,null,null,{"$f":"F11+H11+J11+L11+N11+P11+R11+T11+V11","v":0}]
[]
[]
["POURCENTAGES",null,null,null,null,{"$f":"IFERROR(F9/F13,0)","v":0},{"$f":"IFERROR(G9/F13,0)","v":0},{"$f":"IFERROR(H9/F13,0)","v":0},{"$f":"IFERROR(I9/F13,0)","v":0},{"$f":"IFERROR(J9/F13,0)","v":0},{"$f":"IFERROR(K9/F13,0)","v":0},{"$f":"IFERROR(L9/F13,0)","v":0},{"$f":"IFERROR(M9/F13,0)","v":0},{"$f":"IFERROR(N9/F13,0)","v":0},{"$f":"IFERROR(O9/F13,0)","v":0},{"$f":"IFERROR(P9/F13,0)","v":0},{"$f":"IFERROR(Q9/F13,0)","v":0},{"$f":"IFERROR(R9/F13,0)","v":0},{"$f":"IFERROR(S9/F13,0)","v":0},{"$f":"IFERROR(T9/F13,0)","v":0},{"$f":"IFERROR(U9/F13,0)","v":0},{"$f":"IFERROR(V9/F13,0)","v":0},{"$f":"IFERROR(W9/F13,0)","v":0}]
[]
[null,null,null,null,null,{"$f":"F16+G16","v":0},null,{"$f":"H16+I16","v":0},null,{"$f":"J16+K16","v":0},null,{"$f":"L16+M16","v":0},null,{"$f":"N16+O16","v":0},null,{"$f":"P16+Q16","v":0},null,{"$f":"R16+S16","v":0},null,{"$f":"T16+U16","v":0},null,{"$f":"V16+W16","v":0}]
[]
[null,null,null,null,null,"SANS LABEL\nNI DISTINCTION",null,"BIO",null,"SIQO (LR,AOC,AOP,IGP,STG)",null,"PRODUITS\nHVE 2 et 3",null,"ECOLABEL\nPECHE DURABLE",null,"LOGO\nRUP",null,"FERMIER",null,"COMMERCE\nEQUITABLE",null,"CRITERES\nD'ACHAT"]
[]
[]
[null,null,null,"ORIGINE FRANCE",null,"DONT OF",null,"DONT OF",null,"DONT OF",null,"DONT OF",null,"DONT OF",null,"DONT OF",null,"DONT OF",null,"DONT OF",null,"DONT OF"]
[null,null,null,null,null,{"$f":"SUM(F7:G8*$Y$7:$Y$8)","v":0},null,{"$f":"SUM(H7:I8*$Y$7:$Y$8)","v":0},null,{"$f":"SUM(J7:K8*$Y$7:$Y$8)","v":0},null,{"$f":"SUM(L7:M8*$Y$7:$Y$8)","v":0},null,{"$f":"SUM(N7:O8*$Y$7:$Y$8)","v":0},null,{"$f":"SUM(P7:Q8*$Y$7:$Y$8)","v":0},null,{"$f":"SUM(R7:S8*$Y$7:$Y$8)","v":0},null,{"$f":"SUM(T7:U8*$Y$7:$Y$8)","v":0},null,{"$f":"SUM(V7:W8*$Y$7:$Y$8)","v":0}]
[]
[null,null,null,"TOTAL ORIGINE FRANCE",null,null,null,null,null,null,null,{"$f":"F24+H24+J24+L24+N24+P24+R24+T24+V24","v":0},null,null,null,null,null,null,null,null,null,{"$error":"#VALUE!"}]

{"sheet":"TD","index":17,"n_rows":27,"n_cols":23,"rows_kept":27,"cut":false,"hidden":false,"merged":[[24,0,26,0],[7,3,8,3],[26,5,26,18],[24,5,24,18],[20,5,20,18],[8,8,8,9],[8,11,8,15],[8,17,8,18],[12,11,12,15],[12,8,12,9],[12,17,12,18],[2,21,5,22],[0,0,1,22],[12,3,14,3],[18,3,20,3],[24,3,26,3],[18,22,20,22],[24,22,26,22],[18,20,20,20],[24,20,26,20],[7,20,8,20],[18,5,18,18],[7,5,7,6],[8,5,8,6],[12,5,12,6],[12,0,14,0],[18,0,20,0]]}
["TELEDECLARATION   SIMPLIFIEE   -    MATRICE 2026"]
[]
[null,null,null,null,null,null,null,null,null,null,null,null,null,null,null,null,null,null,null,null,null,{"$error":"#VALUE!"}]
[]
[]
[]
[]
[null,null,null,"TOTAL TOUTES CATEGORIES",null,"BIO OU CONVERSION",null,null,"LABEL\nROUGE","AOC, AOP,\nIGP, STG.",null,"HVE\n2 ou 3","ECOLABEL PECHE DURABLE","RUP","FERMIER","COMMERCE EQUITABLE\n(NON BIO)",null,"EXTERNALITES ENVIRONNEMENTALES","PERFORMANCE ENVIRONNEMENTALE",null,"NON EGALIM"]
[null,null,null,null,null,"BIO",null,null,"SIQO",null,null,"AUTRES ACHATS EGALIM",null,null,null,null,null,"CRITERES D'ACHAT"]
[]
[]
[]
["TOUTES\nFAMILLES\nDE PRODUITS",null,null,{"$f":"synthèse!E34","v":0},null,{"$f":"synthèse!H32","v":0},null,null,{"$f":"synthèse!K32","v":0},null,null,{"$f":"synthèse!N42","v":0},null,null,null,null,null,{"$f":"synthèse!AC32","v":0},null,null,{"$f":"synthèse!E32","v":0}]
[]
[null,null,null,null,null,"dont CE",{"$f":"synthèse!H54","v":0},null,null,null,null,null,null,null,"dont CE",{"$f":"synthèse!N54","v":0}]
[]
[]
[]
[" VIANDES\nET VOLAILLES",null,null,{"$f":"Viande!F13","v":0},null,"EGALIM EN VIANDES ET VOLAILLES",null,null,null,null,null,null,null,null,null,null,null,null,null,null,"DONT\nORIGINE\nFRANCE",null,{"$f":"Viande!L26","v":0}]
[]
[null,null,null,null,null,{"$f":"Viande!H11+Viande!J11+Viande!L11+Viande!N11+Viande!P11+Viande!R11+Viande!T11+Viande!V11","v":0}]
[]
[]
[]
["POISSONS,\nPRODUITS DE LA MER\nET DE L'AQUACULTURE",null,null,{"$f":"Poisson!F13","v":0},null,"EGALIM EN POISSONS, PRODUITS DE LA MER ET DE L'AQUACULTURE",null,null,null,null,null,null,null,null,null,null,null,null,null,null,"DONT\nORIGINE\nFRANCE",null,{"$f":"Poisson!L26","v":0}]
[]
[null,null,null,null,null,{"$f":"Poisson!H11+Poisson!J11+Poisson!L11+Poisson!N11+Poisson!P11+Poisson!R11+Poisson!T11+Poisson!V11","v":0}]