{"text_format":"1","workbook":"xlsx","n_sheets":14,"sheets":["Identification","P.J.","Intervenants et coûts-j","Attestation-coûts-journaliers","Frais-mission","Coûts-indirects","Dép.volet 1-Elab.","Dép.volet 2-Anim.","Dép. volet 3-Diag.","Dép. volet 4-Form.","Synthèse montants présentés","Demande de paiement","Instruction demande de paiement","Référentiel"],"not_rendered":{"charts":0,"images":1,"macros":1,"external_links":0,"defined_names":30,"comments":0,"pivot_tables":0},"unopened":[],"bounds":{"document_bytes":16777216,"sheet_cells":100000,"rows_first":2000,"rows_last":500,"rows_between":2000,"halvings":0,"cell_chars":16384,"cell_head_chars":4096},"cells_cut":0,"cells_raw":0,"read":"whole","date_system":"1900"}

{"sheet":"Identification","index":0,"n_rows":44,"n_cols":9,"rows_kept":44,"cut":false,"hidden":false,"merged":[[11,0,11,9],[13,0,13,9],[15,0,15,9],[16,0,16,9],[30,2,30,3],[30,4,30,5],[20,2,20,3],[20,4,20,5],[22,2,22,3],[22,4,22,6],[24,2,24,3],[24,4,24,6],[19,2,19,3],[19,4,19,5],[23,2,23,3],[23,4,23,6],[32,2,32,3],[32,4,32,5],[36,4,40,7],[27,2,27,3],[27,4,27,7],[31,4,31,5],[31,2,31,3]]}
[]
[]
[null,null,null,null,"Direction régionale de l’alimentation,"]
[null,null,null,null,"de l’agriculture et de la forêt d’Occitanie"]
[]
[]
[]
[]
[]
[]
[]
["MAEC Occitanie - Programmation 2023-2027"]
[]
["Actions relatives à l'animation des PAEC"]
[]
["DEMANDE DE PAIEMENT"]
[]
[]
[]
[null,null,"Objet de la demande de paiement",null,"Solde"]
[null,null," N° Décision juridique"]
[]
[null,null,"Demandeur :"]
[null,null,"Nom Prénom du représentant légal"]
[null,null,"SIRET :"]
[]
[]
[null,null,"Intitulé du projet :"]
[]
[]
[null,null,"Service instructeur",null,"DRAAF/SRAA"]
[null,null,"Date instruction :"]
[null,null,"Instructeur :"]
[]
[]
[]
[null,null,"Commentaires instructeur :"]
[]
[]
[]
[]
[]
[]
[null,null,null,null,null,null,null,null,"Version 20250604"]

{"sheet":"P.J.","index":1,"n_rows":62,"n_cols":5,"rows_kept":62,"cut":false,"hidden":false,"merged":[[0,0,0,4],[57,2,57,4],[58,2,58,4],[60,2,60,4],[61,2,61,4],[16,0,16,4],[2,0,2,4],[12,0,12,4]]}
["Pièces justificatives de la demande d'aide"]
["Pièces","Précisions","Pièce jointe à la présente demande\n(Oui/Non/Sans objet)","Pièce déjà fournie dans la demande d'aide ou dans une demande de paiement précédente\n(Oui/Non/Sans objet)","Commentaires"]
["Pour une demande d'acompte"]
["Le présent formulaire au format excel","Obligatoire"]
["Le présent formulaire au format pdf signé","Obligatoire"]
["Factures acquittées (si concerné)","Une facture sera considérée comme acquittée dans les deux cas suivants :\n- soit la facture comporte les informations suivantes : la mention « acquittée » ; la date à laquelle le paiement a eu lieu ; le mode de règlement ; le cas échéant, les références du paiement ; la signature ou le cachet du fournisseur.\n- soit la facture est accompagnée d'une copie du relevé de compte bancaire prouvant le ou les débits correspondants dans les délais impartis et surlignés.\nPar ailleurs, le libellé des dépenses facturées devra préciser la date de début et de fin de réalisation de chaque action. Seules les actions réalisées entre les dates de début et de fin d’éligibilité seront éligibles."]
["Liste agriculteurs pour lesquels un diagnostic à été réalisé (signée)","Si dépenses présentées sur le volet 3 - Diagnostics"]
["Liste d'émargement pour les formations","Si dépenses présentées sur le volet 4 - Formations non finançables par Vivéa"]
["Justificatifs des frais de mission présentés  (Barème(s) d'indemnisation applicable(s) pour la ou les structures concernées + tableau récapitulatif)","Voir onglet \"Frais-missions\""]
["Convention de partenariat","Si projet partenarial"]
["Justificatif attestant de la qualité du signataire à déposer la demande.","En cas de signature de la demande par une personne autre que le représentant légal de la structure"]
["Rapport d'execution intermédiaire et livrables","Selon modèle"]
["A joindre en complément pour la demande de solde"]
["Rapport d'execution complet","Selon modèle"]
["Copie du dernier bulletin de salaire de la période de référence "]
["Bilan et compte de résultat du dernier exercice clôturé (N-1, N-2 le cas échéant ; certifiés conformes par le président, le trésorier et le cas échéant le commissaire aux comptes)","Si demande de prise en compte des frais de structure.\nVoir onglet \"Coûts-indirects\""]
["A joindre en complément, uniquement en cas de changement"]
["Justificatifs des coûts journaliers des intervenants (attestation de l'expert comptable)","Uniquement en cas de revalorisation (si le coût journalier présenté pour un intervenant dans la demande de paiement est supérieur à celui justifié dans la demande d'aide), ou pour tout nouvel intervennant non prévu dans la demande d'aide. "]
["Relevé d'identité bancaire (ou copie lisible)"]
["Copie des statuts en vigueur datés et signés ","Copie des statuts en vigueur datés et signés "]
["Liste des membres du conseil d’administration et du bureau en vigueur"]
["CNI (recto/verso) du/de la Président/te"]
[]
[]
["Demande de subvention complète "]
["Si incomplète, pièces complémentaires demandées le : "]
["Date de l'accusé réception de dossier complet : "]
[]
[]
[]
[]
[]
[]
[]
[]
[]
[]
[]
[]
[]
[]
[]
[]
[]
[]
[]
[]
[]
[]
[]
[]
[]
[]
[]
[]
[]
[]
["Demandeur :",null,{"$f":"Identification!E23","v":0}]
["SIRET :",null,{"$f":"Identification!E25","v":0}]
[]
["Date instruction :",null,{"$f":"Identification!E32","v":0}]
["Instructeur :",null,{"$f":"Identification!E33","v":0}]

{"sheet":"Intervenants et coûts-j","index":2,"n_rows":62,"n_cols":32,"rows_kept":62,"cut":false,"hidden":false,"merged":[[15,26,15,31],[0,1,0,15],[15,4,15,9],[15,10,15,15],[15,20,15,25]]}
[null,"Coûts/J des intervenants"]
[]
[null,"Liste des structures intervenant pour l'animation du PAEC"]
[null,"Nom de la structure","N°","Statut (Opérateur, Partenaire, Prestataire ou Fournisseur)",null,null,null,null,null,null,null,null,null,null,null,null,null,"Structure","Presta"]
[{"$f":"IF(OR(D5=\"Opérateur\",D5=\"Partenaire\"),\"Structure\"&R5,IF(OR(D5=\"Prestataire\",D5=\"Fournisseur\"),\"Presta\"&S5,0))","v":"Structure1"},null,1,"Opérateur",null,null,null,null,null,null,null,null,null,null,null,null,null,{"$f":"IF(OR(D5=\"Opérateur\",D5=\"Partenaire\"),1,0)","v":1},{"$f":"IF(OR(D5=\"Prestataire\",D5=\"Fournisseur\"),1,0)","v":0}]
[0,null,2,null,null,null,null,null,null,null,null,null,null,null,null,null,null,{"$f":"IF(OR(D6=\"Opérateur\",D6=\"Partenaire\"),1+MAX($R$4:R5),0)","v":0},{"$f":"IF(OR(D6=\"Prestataire\",D6=\"Fournisseur\"),1+MAX($S$4:S5),0)","v":0}]
[0,null,3,null,null,null,null,null,null,null,null,null,null,null,null,null,null,{"$f":"IF(OR(D7=\"Opérateur\",D7=\"Partenaire\"),1+MAX($R$4:R6),0)","v":0},{"$f":"IF(OR(D7=\"Prestataire\",D7=\"Fournisseur\"),1+MAX($S$4:S6),0)","v":0}]
[0,null,4,null,null,null,null,null,null,null,null,null,null,null,null,null,null,{"$f":"IF(OR(D8=\"Opérateur\",D8=\"Partenaire\"),1+MAX($R$4:R7),0)","v":0},{"$f":"IF(OR(D8=\"Prestataire\",D8=\"Fournisseur\"),1+MAX($S$4:S7),0)","v":0}]
[0,null,5,null,null,null,null,null,null,null,null,null,null,null,null,null,null,{"$f":"IF(OR(D9=\"Opérateur\",D9=\"Partenaire\"),1+MAX($R$4:R8),0)","v":0},{"$f":"IF(OR(D9=\"Prestataire\",D9=\"Fournisseur\"),1+MAX($S$4:S8),0)","v":0}]
[0,null,6,null,null,null,null,null,null,null,null,null,null,null,null,null,null,{"$f":"IF(OR(D10=\"Opérateur\",D10=\"Partenaire\"),1+MAX($R$4:R9),0)","v":0},{"$f":"IF(OR(D10=\"Prestataire\",D10=\"Fournisseur\"),1+MAX($S$4:S9),0)","v":0}]
[0,null,7,null,null,null,null,null,null,null,null,null,null,null,null,null,null,{"$f":"IF(OR(D11=\"Opérateur\",D11=\"Partenaire\"),1+MAX($R$4:R10),0)","v":0},{"$f":"IF(OR(D11=\"Prestataire\",D11=\"Fournisseur\"),1+MAX($S$4:S10),0)","v":0}]
[0,null,8,null,null,null,null,null,null,null,null,null,null,null,null,null,null,{"$f":"IF(OR(D12=\"Opérateur\",D12=\"Partenaire\"),1+MAX($R$4:R11),0)","v":0},{"$f":"IF(OR(D12=\"Prestataire\",D12=\"Fournisseur\"),1+MAX($S$4:S11),0)","v":0}]
[0,null,9,null,null,null,null,null,null,null,null,null,null,null,null,null,null,{"$f":"IF(OR(D13=\"Opérateur\",D13=\"Partenaire\"),1+MAX($R$4:R12),0)","v":0},{"$f":"IF(OR(D13=\"Prestataire\",D13=\"Fournisseur\"),1+MAX($S$4:S12),0)","v":0}]
[0,null,10,null,null,null,null,null,null,null,null,null,null,null,null,null,null,{"$f":"IF(OR(D14=\"Opérateur\",D14=\"Partenaire\"),1+MAX($R$4:R13),0)","v":0},{"$f":"IF(OR(D14=\"Prestataire\",D14=\"Fournisseur\"),1+MAX($S$4:S11),0)","v":0}]
[]
[null,"Liste des intervenants (pour l'opérateur et les partenaires uniquement)",null,null,"Coût salarial journalier (€)*",null,null,null,null,null,"Coût salarial journalier plafonné le cas échéant (€)*",null,null,null,null,null,null,null,null,null,"Coût salarial journalier instruit (€)*",null,null,null,null,null,"Coût salarial journalier plafonnés le cas échéant (€)*"]
[null,"Structure","Prénom – Nom de l’intervenant","Catégorie",2022,2023,2024,2025,2026,2027,2022,2023,2024,2025,2026,2027,null,null,null,"Catégorie",2022,2023,2024,2025,2026,2027,2022,2023,2024,2025,2026,2027]
[{"$f":"B18&1","v":"1"},null,null,null,null,null,null,null,null,null,{"$f":"IF(OR(D18=\"\",E18=\"\"),0,MIN(VLOOKUP(D18,Référentiel!$B$2:$C$5,2,FALSE),E18))","v":0},{"$f":"IF(OR(D18=\"\",F18=\"\"),0,MIN(VLOOKUP(D18,Référentiel!$B$2:$C$5,2,FALSE),F18))","v":0},{"$f":"IF(OR(D18=\"\",G18=\"\"),0,MIN(VLOOKUP(D18,Référentiel!$B$2:$C$5,2,FALSE),G18))","v":0},{"$f":"IF(OR(D18=\"\",H18=\"\"),0,MIN(VLOOKUP(D18,Référentiel!$B$2:$C$5,2,FALSE),H18))","v":0},{"$f":"IF(OR(D18=\"\",I18=\"\"),0,MIN(VLOOKUP(D18,Référentiel!$B$2:$C$5,2,FALSE),I18))","v":0},{"$f":"IF(OR(D18=\"\",J18=\"\"),0,MIN(VLOOKUP(D18,Référentiel!$B$2:$C$5,2,FALSE),J18))","v":0},null,null,null,{"$f":"IF(D18=\"\",\"\",D18)","v":""},{"$f":"IF(E18=\"\",\"\",E18)","v":""},{"$f":"IF(F18=\"\",\"\",F18)","v":""},{"$f":"IF(G18=\"\",\"\",G18)","v":""},{"$f":"IF(H18=\"\",\"\",H18)","v":""},{"$f":"IF(I18=\"\",\"\",I18)","v":""},{"$f":"IF(J18=\"\",\"\",J18)","v":""},{"$f":"IF(OR(T18=\"\",U18=\"\"),0,MIN(VLOOKUP(T18,Référentiel!$B$2:$C$5,2,FALSE),U18))","v":0},{"$f":"IF(OR(T18=\"\",V18=\"\"),0,MIN(VLOOKUP(T18,Référentiel!$B$2:$C$5,2,FALSE),V18))","v":0},{"$f":"IF(OR(T18=\"\",W18=\"\"),0,MIN(VLOOKUP(T18,Référentiel!$B$2:$C$5,2,FALSE),W18))","v":0},{"$f":"IF(OR(T18=\"\",X18=\"\"),0,MIN(VLOOKUP(T18,Référentiel!$B$2:$C$5,2,FALSE),X18))","v":0},{"$f":"IF(OR(T18=\"\",Y18=\"\"),0,MIN(VLOOKUP(T18,Référentiel!$B$2:$C$5,2,FALSE),Y18))","v":0},{"$f":"IF(OR(T18=\"\",Z18=\"\"),0,MIN(VLOOKUP(T18,Référentiel!$B$2:$C$5,2,FALSE),Z18))","v":0}]
[{"$f":"B19&COUNTIF($B$18:B18,B19)+1","v":"1"},null,null,null,null,null,null,null,null,null,{"$f":"IF(OR(D19=\"\",E19=\"\"),0,MIN(VLOOKUP(D19,Référentiel!$B$2:$C$5,2,FALSE),E19))","v":0},{"$f":"IF(OR(D19=\"\",F19=\"\"),0,MIN(VLOOKUP(D19,Référentiel!$B$2:$C$5,2,FALSE),F19))","v":0},{"$f":"IF(OR(D19=\"\",G19=\"\"),0,MIN(VLOOKUP(D19,Référentiel!$B$2:$C$5,2,FALSE),G19))","v":0},{"$f":"IF(OR(D19=\"\",H19=\"\"),0,MIN(VLOOKUP(D19,Référentiel!$B$2:$C$5,2,FALSE),H19))","v":0},{"$f":"IF(OR(D19=\"\",I19=\"\"),0,MIN(VLOOKUP(D19,Référentiel!$B$2:$C$5,2,FALSE),I19))","v":0},{"$f":"IF(OR(D19=\"\",J19=\"\"),0,MIN(VLOOKUP(D19,Référentiel!$B$2:$C$5,2,FALSE),J19))","v":0},null,null,null,"",{"$f":"IF(E19=\"\",\"\",E19)","v":""},{"$f":"IF(F19=\"\",\"\",F19)","v":""},{"$f":"IF(G19=\"\",\"\",G19)","v":""},{"$f":"IF(H19=\"\",\"\",H19)","v":""},{"$f":"IF(I19=\"\",\"\",I19)","v":""},{"$f":"IF(J19=\"\",\"\",J19)","v":""},{"$f":"IF(OR(T19=\"\",U19=\"\"),0,MIN(VLOOKUP(T19,Référentiel!$B$2:$C$5,2,FALSE),U19))","v":0},{"$f":"IF(OR(T19=\"\",V19=\"\"),0,MIN(VLOOKUP(T19,Référentiel!$B$2:$C$5,2,FALSE),V19))","v":0},{"$f":"IF(OR(T19=\"\",W19=\"\"),0,MIN(VLOOKUP(T19,Référentiel!$B$2:$C$5,2,FALSE),W19))","v":0},{"$f":"IF(OR(T19=\"\",X19=\"\"),0,MIN(VLOOKUP(T19,Référentiel!$B$2:$C$5,2,FALSE),X19))","v":0},{"$f":"IF(OR(T19=\"\",Y19=\"\"),0,MIN(VLOOKUP(T19,Référentiel!$B$2:$C$5,2,FALSE),Y19))","v":0},{"$f":"IF(OR(T19=\"\",Z19=\"\"),0,MIN(VLOOKUP(T19,Référentiel!$B$2:$C$5,2,FALSE),Z19))","v":0}]
[{"$f":"B20&COUNTIF($B$18:B19,B20)+1","v":"1"},null,null,null,null,null,null,null,null,null,{"$f":"IF(OR(D20=\"\",E20=\"\"),0,MIN(VLOOKUP(D20,Référentiel!$B$2:$C$5,2,FALSE),E20))","v":0},{"$f":"IF(OR(D20=\"\",F20=\"\"),0,MIN(VLOOKUP(D20,Référentiel!$B$2:$C$5,2,FALSE),F20))","v":0},{"$f":"IF(OR(D20=\"\",G20=\"\"),0,MIN(VLOOKUP(D20,Référentiel!$B$2:$C$5,2,FALSE),G20))","v":0},{"$f":"IF(OR(D20=\"\",H20=\"\"),0,MIN(VLOOKUP(D20,Référentiel!$B$2:$C$5,2,FALSE),H20))","v":0},{"$f":"IF(OR(D20=\"\",I20=\"\"),0,MIN(VLOOKUP(D20,Référentiel!$B$2:$C$5,2,FALSE),I20))","v":0},{"$f":"IF(OR(D20=\"\",J20=\"\"),0,MIN(VLOOKUP(D20,Référentiel!$B$2:$C$5,2,FALSE),J20))","v":0},null,null,null,"","","","","","","",{"$f":"IF(OR(T20=\"\",U20=\"\"),0,MIN(VLOOKUP(T20,Référentiel!$B$2:$C$5,2,FALSE),U20))","v":0},{"$f":"IF(OR(T20=\"\",V20=\"\"),0,MIN(VLOOKUP(T20,Référentiel!$B$2:$C$5,2,FALSE),V20))","v":0},{"$f":"IF(OR(T20=\"\",W20=\"\"),0,MIN(VLOOKUP(T20,Référentiel!$B$2:$C$5,2,FALSE),W20))","v":0},{"$f":"IF(OR(T20=\"\",X20=\"\"),0,MIN(VLOOKUP(T20,Référentiel!$B$2:$C$5,2,FALSE),X20))","v":0},{"$f":"IF(OR(T20=\"\",Y20=\"\"),0,MIN(VLOOKUP(T20,Référentiel!$B$2:$C$5,2,FALSE),Y20))","v":0},{"$f":"IF(OR(T20=\"\",Z20=\"\"),0,MIN(VLOOKUP(T20,Référentiel!$B$2:$C$5,2,FALSE),Z20))","v":0}]
[{"$f":"B21&COUNTIF($B$18:B20,B21)+1","v":"1"},null,null,null,null,null,null,null,null,null,{"$f":"IF(OR(D21=\"\",E21=\"\"),0,MIN(VLOOKUP(D21,Référentiel!$B$2:$C$5,2,FALSE),E21))","v":0},{"$f":"IF(OR(D21=\"\",F21=\"\"),0,MIN(VLOOKUP(D21,Référentiel!$B$2:$C$5,2,FALSE),F21))","v":0},{"$f":"IF(OR(D21=\"\",G21=\"\"),0,MIN(VLOOKUP(D21,Référentiel!$B$2:$C$5,2,FALSE),G21))","v":0},{"$f":"IF(OR(D21=\"\",H21=\"\"),0,MIN(VLOOKUP(D21,Référentiel!$B$2:$C$5,2,FALSE),H21))","v":0},{"$f":"IF(OR(D21=\"\",I21=\"\"),0,MIN(VLOOKUP(D21,Référentiel!$B$2:$C$5,2,FALSE),I21))","v":0},{"$f":"IF(OR(D21=\"\",J21=\"\"),0,MIN(VLOOKUP(D21,Référentiel!$B$2:$C$5,2,FALSE),J21))","v":0},null,null,null,"","","","","","","",{"$f":"IF(OR(T21=\"\",U21=\"\"),0,MIN(VLOOKUP(T21,Référentiel!$B$2:$C$5,2,FALSE),U21))","v":0},{"$f":"IF(OR(T21=\"\",V21=\"\"),0,MIN(VLOOKUP(T21,Référentiel!$B$2:$C$5,2,FALSE),V21))","v":0},{"$f":"IF(OR(T21=\"\",W21=\"\"),0,MIN(VLOOKUP(T21,Référentiel!$B$2:$C$5,2,FALSE),W21))","v":0},{"$f":"IF(OR(T21=\"\",X21=\"\"),0,MIN(VLOOKUP(T21,Référentiel!$B$2:$C$5,2,FALSE),X21))","v":0},{"$f":"IF(OR(T21=\"\",Y21=\"\"),0,MIN(VLOOKUP(T21,Référentiel!$B$2:$C$5,2,FALSE),Y21))","v":0},{"$f":"IF(OR(T21=\"\",Z21=\"\"),0,MIN(VLOOKUP(T21,Référentiel!$B$2:$C$5,2,FALSE),Z21))","v":0}]
[{"$f":"B22&COUNTIF($B$18:B21,B22)+1","v":"1"},null,null,null,null,null,null,null,null,null,{"$f":"IF(OR(D22=\"\",E22=\"\"),0,MIN(VLOOKUP(D22,Référentiel!$B$2:$C$5,2,FALSE),E22))","v":0},{"$f":"IF(OR(D22=\"\",F22=\"\"),0,MIN(VLOOKUP(D22,Référentiel!$B$2:$C$5,2,FALSE),F22))","v":0},{"$f":"IF(OR(D22=\"\",G22=\"\"),0,MIN(VLOOKUP(D22,Référentiel!$B$2:$C$5,2,FALSE),G22))","v":0},{"$f":"IF(OR(D22=\"\",H22=\"\"),0,MIN(VLOOKUP(D22,Référentiel!$B$2:$C$5,2,FALSE),H22))","v":0},{"$f":"IF(OR(D22=\"\",I22=\"\"),0,MIN(VLOOKUP(D22,Référentiel!$B$2:$C$5,2,FALSE),I22))","v":0},{"$f":"IF(OR(D22=\"\",J22=\"\"),0,MIN(VLOOKUP(D22,Référentiel!$B$2:$C$5,2,FALSE),J22))","v":0},null,null,null,"","","","","","","",{"$f":"IF(OR(T22=\"\",U22=\"\"),0,MIN(VLOOKUP(T22,Référentiel!$B$2:$C$5,2,FALSE),U22))","v":0},{"$f":"IF(OR(T22=\"\",V22=\"\"),0,MIN(VLOOKUP(T22,Référentiel!$B$2:$C$5,2,FALSE),V22))","v":0},{"$f":"IF(OR(T22=\"\",W22=\"\"),0,MIN(VLOOKUP(T22,Référentiel!$B$2:$C$5,2,FALSE),W22))","v":0},{"$f":"IF(OR(T22=\"\",X22=\"\"),0,MIN(VLOOKUP(T22,Référentiel!$B$2:$C$5,2,FALSE),X22))","v":0},{"$f":"IF(OR(T22=\"\",Y22=\"\"),0,MIN(VLOOKUP(T22,Référentiel!$B$2:$C$5,2,FALSE),Y22))","v":0},{"$f":"IF(OR(T22=\"\",Z22=\"\"),0,MIN(VLOOKUP(T22,Référentiel!$B$2:$C$5,2,FALSE),Z22))","v":0}]
[{"$f":"B23&COUNTIF($B$18:B22,B23)+1","v":"1"},null,null,null,null,null,null,null,null,null,{"$f":"IF(OR(D23=\"\",E23=\"\"),0,MIN(VLOOKUP(D23,Référentiel!$B$2:$C$5,2,FALSE),E23))","v":0},{"$f":"IF(OR(D23=\"\",F23=\"\"),0,MIN(VLOOKUP(D23,Référentiel!$B$2:$C$5,2,FALSE),F23))","v":0},{"$f":"IF(OR(D23=\"\",G23=\"\"),0,MIN(VLOOKUP(D23,Référentiel!$B$2:$C$5,2,FALSE),G23))","v":0},{"$f":"IF(OR(D23=\"\",H23=\"\"),0,MIN(VLOOKUP(D23,Référentiel!$B$2:$C$5,2,FALSE),H23))","v":0},{"$f":"IF(OR(D23=\"\",I23=\"\"),0,MIN(VLOOKUP(D23,Référentiel!$B$2:$C$5,2,FALSE),I23))","v":0},{"$f":"IF(OR(D23=\"\",J23=\"\"),0,MIN(VLOOKUP(D23,Référentiel!$B$2:$C$5,2,FALSE),J23))","v":0},null,null,null,"","","","","","","",{"$f":"IF(OR(T23=\"\",U23=\"\"),0,MIN(VLOOKUP(T23,Référentiel!$B$2:$C$5,2,FALSE),U23))","v":0},{"$f":"IF(OR(T23=\"\",V23=\"\"),0,MIN(VLOOKUP(T23,Référentiel!$B$2:$C$5,2,FALSE),V23))","v":0},{"$f":"IF(OR(T23=\"\",W23=\"\"),0,MIN(VLOOKUP(T23,Référentiel!$B$2:$C$5,2,FALSE),W23))","v":0},{"$f":"IF(OR(T23=\"\",X23=\"\"),0,MIN(VLOOKUP(T23,Référentiel!$B$2:$C$5,2,FALSE),X23))","v":0},{"$f":"IF(OR(T23=\"\",Y23=\"\"),0,MIN(VLOOKUP(T23,Référentiel!$B$2:$C$5,2,FALSE),Y23))","v":0},{"$f":"IF(OR(T23=\"\",Z23=\"\"),0,MIN(VLOOKUP(T23,Référentiel!$B$2:$C$5,2,FALSE),Z23))","v":0}]
[{"$f":"B24&COUNTIF($B$18:B23,B24)+1","v":"1"},null,null,null,null,null,null,null,null,null,{"$f":"IF(OR(D24=\"\",E24=\"\"),0,MIN(VLOOKUP(D24,Référentiel!$B$2:$C$5,2,FALSE),E24))","v":0},{"$f":"IF(OR(D24=\"\",F24=\"\"),0,MIN(VLOOKUP(D24,Référentiel!$B$2:$C$5,2,FALSE),F24))","v":0},{"$f":"IF(OR(D24=\"\",G24=\"\"),0,MIN(VLOOKUP(D24,Référentiel!$B$2:$C$5,2,FALSE),G24))","v":0},{"$f":"IF(OR(D24=\"\",H24=\"\"),0,MIN(VLOOKUP(D24,Référentiel!$B$2:$C$5,2,FALSE),H24))","v":0},{"$f":"IF(OR(D24=\"\",I24=\"\"),0,MIN(VLOOKUP(D24,Référentiel!$B$2:$C$5,2,FALSE),I24))","v":0},{"$f":"IF(OR(D24=\"\",J24=\"\"),0,MIN(VLOOKUP(D24,Référentiel!$B$2:$C$5,2,FALSE),J24))","v":0},null,null,null,"","","","","","","",{"$f":"IF(OR(T24=\"\",U24=\"\"),0,MIN(VLOOKUP(T24,Référentiel!$B$2:$C$5,2,FALSE),U24))","v":0},{"$f":"IF(OR(T24=\"\",V24=\"\"),0,MIN(VLOOKUP(T24,Référentiel!$B$2:$C$5,2,FALSE),V24))","v":0},{"$f":"IF(OR(T24=\"\",W24=\"\"),0,MIN(VLOOKUP(T24,Référentiel!$B$2:$C$5,2,FALSE),W24))","v":0},{"$f":"IF(OR(T24=\"\",X24=\"\"),0,MIN(VLOOKUP(T24,Référentiel!$B$2:$C$5,2,FALSE),X24))","v":0},{"$f":"IF(OR(T24=\"\",Y24=\"\"),0,MIN(VLOOKUP(T24,Référentiel!$B$2:$C$5,2,FALSE),Y24))","v":0},{"$f":"IF(OR(T24=\"\",Z24=\"\"),0,MIN(VLOOKUP(T24,Référentiel!$B$2:$C$5,2,FALSE),Z24))","v":0}]
[{"$f":"B25&COUNTIF($B$18:B24,B25)+1","v":"1"},null,null,null,null,null,null,null,null,null,{"$f":"IF(OR(D25=\"\",E25=\"\"),0,MIN(VLOOKUP(D25,Référentiel!$B$2:$C$5,2,FALSE),E25))","v":0},{"$f":"IF(OR(D25=\"\",F25=\"\"),0,MIN(VLOOKUP(D25,Référentiel!$B$2:$C$5,2,FALSE),F25))","v":0},{"$f":"IF(OR(D25=\"\",G25=\"\"),0,MIN(VLOOKUP(D25,Référentiel!$B$2:$C$5,2,FALSE),G25))","v":0},{"$f":"IF(OR(D25=\"\",H25=\"\"),0,MIN(VLOOKUP(D25,Référentiel!$B$2:$C$5,2,FALSE),H25))","v":0},{"$f":"IF(OR(D25=\"\",I25=\"\"),0,MIN(VLOOKUP(D25,Référentiel!$B$2:$C$5,2,FALSE),I25))","v":0},{"$f":"IF(OR(D25=\"\",J25=\"\"),0,MIN(VLOOKUP(D25,Référentiel!$B$2:$C$5,2,FALSE),J25))","v":0},null,null,null,"","","","","","","",{"$f":"IF(OR(T25=\"\",U25=\"\"),0,MIN(VLOOKUP(T25,Référentiel!$B$2:$C$5,2,FALSE),U25))","v":0},{"$f":"IF(OR(T25=\"\",V25=\"\"),0,MIN(VLOOKUP(T25,Référentiel!$B$2:$C$5,2,FALSE),V25))","v":0},{"$f":"IF(OR(T25=\"\",W25=\"\"),0,MIN(VLOOKUP(T25,Référentiel!$B$2:$C$5,2,FALSE),W25))","v":0},{"$f":"IF(OR(T25=\"\",X25=\"\"),0,MIN(VLOOKUP(T25,Référentiel!$B$2:$C$5,2,FALSE),X25))","v":0},{"$f":"IF(OR(T25=\"\",Y25=\"\"),0,MIN(VLOOKUP(T25,Référentiel!$B$2:$C$5,2,FALSE),Y25))","v":0},{"$f":"IF(OR(T25=\"\",Z25=\"\"),0,MIN(VLOOKUP(T25,Référentiel!$B$2:$C$5,2,FALSE),Z25))","v":0}]
[{"$f":"B26&COUNTIF($B$18:B25,B26)+1","v":"1"},null,null,null,null,null,null,null,null,null,{"$f":"IF(OR(D26=\"\",E26=\"\"),0,MIN(VLOOKUP(D26,Référentiel!$B$2:$C$5,2,FALSE),E26))","v":0},{"$f":"IF(OR(D26=\"\",F26=\"\"),0,MIN(VLOOKUP(D26,Référentiel!$B$2:$C$5,2,FALSE),F26))","v":0},{"$f":"IF(OR(D26=\"\",G26=\"\"),0,MIN(VLOOKUP(D26,Référentiel!$B$2:$C$5,2,FALSE),G26))","v":0},{"$f":"IF(OR(D26=\"\",H26=\"\"),0,MIN(VLOOKUP(D26,Référentiel!$B$2:$C$5,2,FALSE),H26))","v":0},{"$f":"IF(OR(D26=\"\",I26=\"\"),0,MIN(VLOOKUP(D26,Référentiel!$B$2:$C$5,2,FALSE),I26))","v":0},{"$f":"IF(OR(D26=\"\",J26=\"\"),0,MIN(VLOOKUP(D26,Référentiel!$B$2:$C$5,2,FALSE),J26))","v":0},null,null,null,"","","","","","","",{"$f":"IF(OR(T26=\"\",U26=\"\"),0,MIN(VLOOKUP(T26,Référentiel!$B$2:$C$5,2,FALSE),U26))","v":0},{"$f":"IF(OR(T26=\"\",V26=\"\"),0,MIN(VLOOKUP(T26,Référentiel!$B$2:$C$5,2,FALSE),V26))","v":0},{"$f":"IF(OR(T26=\"\",W26=\"\"),0,MIN(VLOOKUP(T26,Référentiel!$B$2:$C$5,2,FALSE),W26))","v":0},{"$f":"IF(OR(T26=\"\",X26=\"\"),0,MIN(VLOOKUP(T26,Référentiel!$B$2:$C$5,2,FALSE),X26))","v":0},{"$f":"IF(OR(T26=\"\",Y26=\"\"),0,MIN(VLOOKUP(T26,Référentiel!$B$2:$C$5,2,FALSE),Y26))","v":0},{"$f":"IF(OR(T26=\"\",Z26=\"\"),0,MIN(VLOOKUP(T26,Référentiel!$B$2:$C$5,2,FALSE),Z26))","v":0}]
[{"$f":"B27&COUNTIF($B$18:B26,B27)+1","v":"1"},null,null,null,null,null,null,null,null,null,{"$f":"IF(OR(D27=\"\",E27=\"\"),0,MIN(VLOOKUP(D27,Référentiel!$B$2:$C$5,2,FALSE),E27))","v":0},{"$f":"IF(OR(D27=\"\",F27=\"\"),0,MIN(VLOOKUP(D27,Référentiel!$B$2:$C$5,2,FALSE),F27))","v":0},{"$f":"IF(OR(D27=\"\",G27=\"\"),0,MIN(VLOOKUP(D27,Référentiel!$B$2:$C$5,2,FALSE),G27))","v":0},{"$f":"IF(OR(D27=\"\",H27=\"\"),0,MIN(VLOOKUP(D27,Référentiel!$B$2:$C$5,2,FALSE),H27))","v":0},{"$f":"IF(OR(D27=\"\",I27=\"\"),0,MIN(VLOOKUP(D27,Référentiel!$B$2:$C$5,2,FALSE),I27))","v":0},{"$f":"IF(OR(D27=\"\",J27=\"\"),0,MIN(VLOOKUP(D27,Référentiel!$B$2:$C$5,2,FALSE),J27))","v":0},null,null,null,"","","","","","","",{"$f":"IF(OR(T27=\"\",U27=\"\"),0,MIN(VLOOKUP(T27,Référentiel!$B$2:$C$5,2,FALSE),U27))","v":0},{"$f":"IF(OR(T27=\"\",V27=\"\"),0,MIN(VLOOKUP(T27,Référentiel!$B$2:$C$5,2,FALSE),V27))","v":0},{"$f":"IF(OR(T27=\"\",W27=\"\"),0,MIN(VLOOKUP(T27,Référentiel!$B$2:$C$5,2,FALSE),W27))","v":0},{"$f":"IF(OR(T27=\"\",X27=\"\"),0,MIN(VLOOKUP(T27,Référentiel!$B$2:$C$5,2,FALSE),X27))","v":0},{"$f":"IF(OR(T27=\"\",Y27=\"\"),0,MIN(VLOOKUP(T27,Référentiel!$B$2:$C$5,2,FALSE),Y27))","v":0},{"$f":"IF(OR(T27=\"\",Z27=\"\"),0,MIN(VLOOKUP(T27,Référentiel!$B$2:$C$5,2,FALSE),Z27))","v":0}]
[{"$f":"B28&COUNTIF($B$18:B27,B28)+1","v":"1"},null,null,null,null,null,null,null,null,null,{"$f":"IF(OR(D28=\"\",E28=\"\"),0,MIN(VLOOKUP(D28,Référentiel!$B$2:$C$5,2,FALSE),E28))","v":0},{"$f":"IF(OR(D28=\"\",F28=\"\"),0,MIN(VLOOKUP(D28,Référentiel!$B$2:$C$5,2,FALSE),F28))","v":0},{"$f":"IF(OR(D28=\"\",G28=\"\"),0,MIN(VLOOKUP(D28,Référentiel!$B$2:$C$5,2,FALSE),G28))","v":0},{"$f":"IF(OR(D28=\"\",H28=\"\"),0,MIN(VLOOKUP(D28,Référentiel!$B$2:$C$5,2,FALSE),H28))","v":0},{"$f":"IF(OR(D28=\"\",I28=\"\"),0,MIN(VLOOKUP(D28,Référentiel!$B$2:$C$5,2,FALSE),I28))","v":0},{"$f":"IF(OR(D28=\"\",J28=\"\"),0,MIN(VLOOKUP(D28,Référentiel!$B$2:$C$5,2,FALSE),J28))","v":0},null,null,null,"","","","","","","",{"$f":"IF(OR(T28=\"\",U28=\"\"),0,MIN(VLOOKUP(T28,Référentiel!$B$2:$C$5,2,FALSE),U28))","v":0},{"$f":"IF(OR(T28=\"\",V28=\"\"),0,MIN(VLOOKUP(T28,Référentiel!$B$2:$C$5,2,FALSE),V28))","v":0},{"$f":"IF(OR(T28=\"\",W28=\"\"),0,MIN(VLOOKUP(T28,Référentiel!$B$2:$C$5,2,FALSE),W28))","v":0},{"$f":"IF(OR(T28=\"\",X28=\"\"),0,MIN(VLOOKUP(T28,Référentiel!$B$2:$C$5,2,FALSE),X28))","v":0},{"$f":"IF(OR(T28=\"\",Y28=\"\"),0,MIN(VLOOKUP(T28,Référentiel!$B$2:$C$5,2,FALSE),Y28))","v":0},{"$f":"IF(OR(T28=\"\",Z28=\"\"),0,MIN(VLOOKUP(T28,Référentiel!$B$2:$C$5,2,FALSE),Z28))","v":0}]
[{"$f":"B29&COUNTIF($B$18:B28,B29)+1","v":"1"},null,null,null,null,null,null,null,null,null,{"$f":"IF(OR(D29=\"\",E29=\"\"),0,MIN(VLOOKUP(D29,Référentiel!$B$2:$C$5,2,FALSE),E29))","v":0},{"$f":"IF(OR(D29=\"\",F29=\"\"),0,MIN(VLOOKUP(D29,Référentiel!$B$2:$C$5,2,FALSE),F29))","v":0},{"$f":"IF(OR(D29=\"\",G29=\"\"),0,MIN(VLOOKUP(D29,Référentiel!$B$2:$C$5,2,FALSE),G29))","v":0},{"$f":"IF(OR(D29=\"\",H29=\"\"),0,MIN(VLOOKUP(D29,Référentiel!$B$2:$C$5,2,FALSE),H29))","v":0},{"$f":"IF(OR(D29=\"\",I29=\"\"),0,MIN(VLOOKUP(D29,Référentiel!$B$2:$C$5,2,FALSE),I29))","v":0},{"$f":"IF(OR(D29=\"\",J29=\"\"),0,MIN(VLOOKUP(D29,Référentiel!$B$2:$C$5,2,FALSE),J29))","v":0},null,null,null,"","","","","","","",{"$f":"IF(OR(T29=\"\",U29=\"\"),0,MIN(VLOOKUP(T29,Référentiel!$B$2:$C$5,2,FALSE),U29))","v":0},{"$f":"IF(OR(T29=\"\",V29=\"\"),0,MIN(VLOOKUP(T29,Référentiel!$B$2:$C$5,2,FALSE),V29))","v":0},{"$f":"IF(OR(T29=\"\",W29=\"\"),0,MIN(VLOOKUP(T29,Référentiel!$B$2:$C$5,2,FALSE),W29))","v":0},{"$f":"IF(OR(T29=\"\",X29=\"\"),0,MIN(VLOOKUP(T29,Référentiel!$B$2:$C$5,2,FALSE),X29))","v":0},{"$f":"IF(OR(T29=\"\",Y29=\"\"),0,MIN(VLOOKUP(T29,Référentiel!$B$2:$C$5,2,FALSE),Y29))","v":0},{"$f":"IF(OR(T29=\"\",Z29=\"\"),0,MIN(VLOOKUP(T29,Référentiel!$B$2:$C$5,2,FALSE),Z29))","v":0}]
[{"$f":"B30&COUNTIF($B$18:B29,B30)+1","v":"1"},null,null,null,null,null,null,null,null,null,{"$f":"IF(OR(D30=\"\",E30=\"\"),0,MIN(VLOOKUP(D30,Référentiel!$B$2:$C$5,2,FALSE),E30))","v":0},{"$f":"IF(OR(D30=\"\",F30=\"\"),0,MIN(VLOOKUP(D30,Référentiel!$B$2:$C$5,2,FALSE),F30))","v":0},{"$f":"IF(OR(D30=\"\",G30=\"\"),0,MIN(VLOOKUP(D30,Référentiel!$B$2:$C$5,2,FALSE),G30))","v":0},{"$f":"IF(OR(D30=\"\",H30=\"\"),0,MIN(VLOOKUP(D30,Référentiel!$B$2:$C$5,2,FALSE),H30))","v":0},{"$f":"IF(OR(D30=\"\",I30=\"\"),0,MIN(VLOOKUP(D30,Référentiel!$B$2:$C$5,2,FALSE),I30))","v":0},{"$f":"IF(OR(D30=\"\",J30=\"\"),0,MIN(VLOOKUP(D30,Référentiel!$B$2:$C$5,2,FALSE),J30))","v":0},null,null,null,"","","","","","","",{"$f":"IF(OR(T30=\"\",U30=\"\"),0,MIN(VLOOKUP(T30,Référentiel!$B$2:$C$5,2,FALSE),U30))","v":0},{"$f":"IF(OR(T30=\"\",V30=\"\"),0,MIN(VLOOKUP(T30,Référentiel!$B$2:$C$5,2,FALSE),V30))","v":0},{"$f":"IF(OR(T30=\"\",W30=\"\"),0,MIN(VLOOKUP(T30,Référentiel!$B$2:$C$5,2,FALSE),W30))","v":0},{"$f":"IF(OR(T30=\"\",X30=\"\"),0,MIN(VLOOKUP(T30,Référentiel!$B$2:$C$5,2,FALSE),X30))","v":0},{"$f":"IF(OR(T30=\"\",Y30=\"\"),0,MIN(VLOOKUP(T30,Référentiel!$B$2:$C$5,2,FALSE),Y30))","v":0},{"$f":"IF(OR(T30=\"\",Z30=\"\"),0,MIN(VLOOKUP(T30,Référentiel!$B$2:$C$5,2,FALSE),Z30))","v":0}]
[{"$f":"B31&COUNTIF($B$18:B30,B31)+1","v":"1"},null,null,null,null,null,null,null,null,null,{"$f":"IF(OR(D31=\"\",E31=\"\"),0,MIN(VLOOKUP(D31,Référentiel!$B$2:$C$5,2,FALSE),E31))","v":0},{"$f":"IF(OR(D31=\"\",F31=\"\"),0,MIN(VLOOKUP(D31,Référentiel!$B$2:$C$5,2,FALSE),F31))","v":0},{"$f":"IF(OR(D31=\"\",G31=\"\"),0,MIN(VLOOKUP(D31,Référentiel!$B$2:$C$5,2,FALSE),G31))","v":0},{"$f":"IF(OR(D31=\"\",H31=\"\"),0,MIN(VLOOKUP(D31,Référentiel!$B$2:$C$5,2,FALSE),H31))","v":0},{"$f":"IF(OR(D31=\"\",I31=\"\"),0,MIN(VLOOKUP(D31,Référentiel!$B$2:$C$5,2,FALSE),I31))","v":0},{"$f":"IF(OR(D31=\"\",J31=\"\"),0,MIN(VLOOKUP(D31,Référentiel!$B$2:$C$5,2,FALSE),J31))","v":0},null,null,null,"","","","","","","",{"$f":"IF(OR(T31=\"\",U31=\"\"),0,MIN(VLOOKUP(T31,Référentiel!$B$2:$C$5,2,FALSE),U31))","v":0},{"$f":"IF(OR(T31=\"\",V31=\"\"),0,MIN(VLOOKUP(T31,Référentiel!$B$2:$C$5,2,FALSE),V31))","v":0},{"$f":"IF(OR(T31=\"\",W31=\"\"),0,MIN(VLOOKUP(T31,Référentiel!$B$2:$C$5,2,FALSE),W31))","v":0},{"$f":"IF(OR(T31=\"\",X31=\"\"),0,MIN(VLOOKUP(T31,Référentiel!$B$2:$C$5,2,FALSE),X31))","v":0},{"$f":"IF(OR(T31=\"\",Y31=\"\"),0,MIN(VLOOKUP(T31,Référentiel!$B$2:$C$5,2,FALSE),Y31))","v":0},{"$f":"IF(OR(T31=\"\",Z31=\"\"),0,MIN(VLOOKUP(T31,Référentiel!$B$2:$C$5,2,FALSE),Z31))","v":0}]
[{"$f":"B32&COUNTIF($B$18:B31,B32)+1","v":"1"},null,null,null,null,null,null,null,null,null,{"$f":"IF(OR(D32=\"\",E32=\"\"),0,MIN(VLOOKUP(D32,Référentiel!$B$2:$C$5,2,FALSE),E32))","v":0},{"$f":"IF(OR(D32=\"\",F32=\"\"),0,MIN(VLOOKUP(D32,Référentiel!$B$2:$C$5,2,FALSE),F32))","v":0},{"$f":"IF(OR(D32=\"\",G32=\"\"),0,MIN(VLOOKUP(D32,Référentiel!$B$2:$C$5,2,FALSE),G32))","v":0},{"$f":"IF(OR(D32=\"\",H32=\"\"),0,MIN(VLOOKUP(D32,Référentiel!$B$2:$C$5,2,FALSE),H32))","v":0},{"$f":"IF(OR(D32=\"\",I32=\"\"),0,MIN(VLOOKUP(D32,Référentiel!$B$2:$C$5,2,FALSE),I32))","v":0},{"$f":"IF(OR(D32=\"\",J32=\"\"),0,MIN(VLOOKUP(D32,Référentiel!$B$2:$C$5,2,FALSE),J32))","v":0},null,null,null,"","","","","","","",{"$f":"IF(OR(T32=\"\",U32=\"\"),0,MIN(VLOOKUP(T32,Référentiel!$B$2:$C$5,2,FALSE),U32))","v":0},{"$f":"IF(OR(T32=\"\",V32=\"\"),0,MIN(VLOOKUP(T32,Référentiel!$B$2:$C$5,2,FALSE),V32))","v":0},{"$f":"IF(OR(T32=\"\",W32=\"\"),0,MIN(VLOOKUP(T32,Référentiel!$B$2:$C$5,2,FALSE),W32))","v":0},{"$f":"IF(OR(T32=\"\",X32=\"\"),0,MIN(VLOOKUP(T32,Référentiel!$B$2:$C$5,2,FALSE),X32))","v":0},{"$f":"IF(OR(T32=\"\",Y32=\"\"),0,MIN(VLOOKUP(T32,Référentiel!$B$2:$C$5,2,FALSE),Y32))","v":0},{"$f":"IF(OR(T32=\"\",Z32=\"\"),0,MIN(VLOOKUP(T32,Référentiel!$B$2:$C$5,2,FALSE),Z32))","v":0}]
[{"$f":"B33&COUNTIF($B$18:B32,B33)+1","v":"1"},null,null,null,null,null,null,null,null,null,{"$f":"IF(OR(D33=\"\",E33=\"\"),0,MIN(VLOOKUP(D33,Référentiel!$B$2:$C$5,2,FALSE),E33))","v":0},{"$f":"IF(OR(D33=\"\",F33=\"\"),0,MIN(VLOOKUP(D33,Référentiel!$B$2:$C$5,2,FALSE),F33))","v":0},{"$f":"IF(OR(D33=\"\",G33=\"\"),0,MIN(VLOOKUP(D33,Référentiel!$B$2:$C$5,2,FALSE),G33))","v":0},{"$f":"IF(OR(D33=\"\",H33=\"\"),0,MIN(VLOOKUP(D33,Référentiel!$B$2:$C$5,2,FALSE),H33))","v":0},{"$f":"IF(OR(D33=\"\",I33=\"\"),0,MIN(VLOOKUP(D33,Référentiel!$B$2:$C$5,2,FALSE),I33))","v":0},{"$f":"IF(OR(D33=\"\",J33=\"\"),0,MIN(VLOOKUP(D33,Référentiel!$B$2:$C$5,2,FALSE),J33))","v":0},null,null,null,"","","","","","","",{"$f":"IF(OR(T33=\"\",U33=\"\"),0,MIN(VLOOKUP(T33,Référentiel!$B$2:$C$5,2,FALSE),U33))","v":0},{"$f":"IF(OR(T33=\"\",V33=\"\"),0,MIN(VLOOKUP(T33,Référentiel!$B$2:$C$5,2,FALSE),V33))","v":0},{"$f":"IF(OR(T33=\"\",W33=\"\"),0,MIN(VLOOKUP(T33,Référentiel!$B$2:$C$5,2,FALSE),W33))","v":0},{"$f":"IF(OR(T33=\"\",X33=\"\"),0,MIN(VLOOKUP(T33,Référentiel!$B$2:$C$5,2,FALSE),X33))","v":0},{"$f":"IF(OR(T33=\"\",Y33=\"\"),0,MIN(VLOOKUP(T33,Référentiel!$B$2:$C$5,2,FALSE),Y33))","v":0},{"$f":"IF(OR(T33=\"\",Z33=\"\"),0,MIN(VLOOKUP(T33,Référentiel!$B$2:$C$5,2,FALSE),Z33))","v":0}]
[{"$f":"B34&COUNTIF($B$18:B33,B34)+1","v":"1"},null,null,null,null,null,null,null,null,null,{"$f":"IF(OR(D34=\"\",E34=\"\"),0,MIN(VLOOKUP(D34,Référentiel!$B$2:$C$5,2,FALSE),E34))","v":0},{"$f":"IF(OR(D34=\"\",F34=\"\"),0,MIN(VLOOKUP(D34,Référentiel!$B$2:$C$5,2,FALSE),F34))","v":0},{"$f":"IF(OR(D34=\"\",G34=\"\"),0,MIN(VLOOKUP(D34,Référentiel!$B$2:$C$5,2,FALSE),G34))","v":0},{"$f":"IF(OR(D34=\"\",H34=\"\"),0,MIN(VLOOKUP(D34,Référentiel!$B$2:$C$5,2,FALSE),H34))","v":0},{"$f":"IF(OR(D34=\"\",I34=\"\"),0,MIN(VLOOKUP(D34,Référentiel!$B$2:$C$5,2,FALSE),I34))","v":0},{"$f":"IF(OR(D34=\"\",J34=\"\"),0,MIN(VLOOKUP(D34,Référentiel!$B$2:$C$5,2,FALSE),J34))","v":0},null,null,null,"","","","","","","",{"$f":"IF(OR(T34=\"\",U34=\"\"),0,MIN(VLOOKUP(T34,Référentiel!$B$2:$C$5,2,FALSE),U34))","v":0},{"$f":"IF(OR(T34=\"\",V34=\"\"),0,MIN(VLOOKUP(T34,Référentiel!$B$2:$C$5,2,FALSE),V34))","v":0},{"$f":"IF(OR(T34=\"\",W34=\"\"),0,MIN(VLOOKUP(T34,Référentiel!$B$2:$C$5,2,FALSE),W34))","v":0},{"$f":"IF(OR(T34=\"\",X34=\"\"),0,MIN(VLOOKUP(T34,Référentiel!$B$2:$C$5,2,FALSE),X34))","v":0},{"$f":"IF(OR(T34=\"\",Y34=\"\"),0,MIN(VLOOKUP(T34,Référentiel!$B$2:$C$5,2,FALSE),Y34))","v":0},{"$f":"IF(OR(T34=\"\",Z34=\"\"),0,MIN(VLOOKUP(T34,Référentiel!$B$2:$C$5,2,FALSE),Z34))","v":0}]
[{"$f":"B35&COUNTIF($B$18:B34,B35)+1","v":"1"},null,null,null,null,null,null,null,null,null,{"$f":"IF(OR(D35=\"\",E35=\"\"),0,MIN(VLOOKUP(D35,Référentiel!$B$2:$C$5,2,FALSE),E35))","v":0},{"$f":"IF(OR(D35=\"\",F35=\"\"),0,MIN(VLOOKUP(D35,Référentiel!$B$2:$C$5,2,FALSE),F35))","v":0},{"$f":"IF(OR(D35=\"\",G35=\"\"),0,MIN(VLOOKUP(D35,Référentiel!$B$2:$C$5,2,FALSE),G35))","v":0},{"$f":"IF(OR(D35=\"\",H35=\"\"),0,MIN(VLOOKUP(D35,Référentiel!$B$2:$C$5,2,FALSE),H35))","v":0},{"$f":"IF(OR(D35=\"\",I35=\"\"),0,MIN(VLOOKUP(D35,Référentiel!$B$2:$C$5,2,FALSE),I35))","v":0},{"$f":"IF(OR(D35=\"\",J35=\"\"),0,MIN(VLOOKUP(D35,Référentiel!$B$2:$C$5,2,FALSE),J35))","v":0},null,null,null,"","","","","","","",{"$f":"IF(OR(T35=\"\",U35=\"\"),0,MIN(VLOOKUP(T35,Référentiel!$B$2:$C$5,2,FALSE),U35))","v":0},{"$f":"IF(OR(T35=\"\",V35=\"\"),0,MIN(VLOOKUP(T35,Référentiel!$B$2:$C$5,2,FALSE),V35))","v":0},{"$f":"IF(OR(T35=\"\",W35=\"\"),0,MIN(VLOOKUP(T35,Référentiel!$B$2:$C$5,2,FALSE),W35))","v":0},{"$f":"IF(OR(T35=\"\",X35=\"\"),0,MIN(VLOOKUP(T35,Référentiel!$B$2:$C$5,2,FALSE),X35))","v":0},{"$f":"IF(OR(T35=\"\",Y35=\"\"),0,MIN(VLOOKUP(T35,Référentiel!$B$2:$C$5,2,FALSE),Y35))","v":0},{"$f":"IF(OR(T35=\"\",Z35=\"\"),0,MIN(VLOOKUP(T35,Référentiel!$B$2:$C$5,2,FALSE),Z35))","v":0}]
[{"$f":"B36&COUNTIF($B$18:B35,B36)+1","v":"1"},null,null,null,null,null,null,null,null,null,{"$f":"IF(OR(D36=\"\",E36=\"\"),0,MIN(VLOOKUP(D36,Référentiel!$B$2:$C$5,2,FALSE),E36))","v":0},{"$f":"IF(OR(D36=\"\",F36=\"\"),0,MIN(VLOOKUP(D36,Référentiel!$B$2:$C$5,2,FALSE),F36))","v":0},{"$f":"IF(OR(D36=\"\",G36=\"\"),0,MIN(VLOOKUP(D36,Référentiel!$B$2:$C$5,2,FALSE),G36))","v":0},{"$f":"IF(OR(D36=\"\",H36=\"\"),0,MIN(VLOOKUP(D36,Référentiel!$B$2:$C$5,2,FALSE),H36))","v":0},{"$f":"IF(OR(D36=\"\",I36=\"\"),0,MIN(VLOOKUP(D36,Référentiel!$B$2:$C$5,2,FALSE),I36))","v":0},{"$f":"IF(OR(D36=\"\",J36=\"\"),0,MIN(VLOOKUP(D36,Référentiel!$B$2:$C$5,2,FALSE),J36))","v":0},null,null,null,"","","","","","","",{"$f":"IF(OR(T36=\"\",U36=\"\"),0,MIN(VLOOKUP(T36,Référentiel!$B$2:$C$5,2,FALSE),U36))","v":0},{"$f":"IF(OR(T36=\"\",V36=\"\"),0,MIN(VLOOKUP(T36,Référentiel!$B$2:$C$5,2,FALSE),V36))","v":0},{"$f":"IF(OR(T36=\"\",W36=\"\"),0,MIN(VLOOKUP(T36,Référentiel!$B$2:$C$5,2,FALSE),W36))","v":0},{"$f":"IF(OR(T36=\"\",X36=\"\"),0,MIN(VLOOKUP(T36,Référentiel!$B$2:$C$5,2,FALSE),X36))","v":0},{"$f":"IF(OR(T36=\"\",Y36=\"\"),0,MIN(VLOOKUP(T36,Référentiel!$B$2:$C$5,2,FALSE),Y36))","v":0},{"$f":"IF(OR(T36=\"\",Z36=\"\"),0,MIN(VLOOKUP(T36,Référentiel!$B$2:$C$5,2,FALSE),Z36))","v":0}]
[{"$f":"B37&COUNTIF($B$18:B36,B37)+1","v":"1"},null,null,null,null,null,null,null,null,null,{"$f":"IF(OR(D37=\"\",E37=\"\"),0,MIN(VLOOKUP(D37,Référentiel!$B$2:$C$5,2,FALSE),E37))","v":0},{"$f":"IF(OR(D37=\"\",F37=\"\"),0,MIN(VLOOKUP(D37,Référentiel!$B$2:$C$5,2,FALSE),F37))","v":0},{"$f":"IF(OR(D37=\"\",G37=\"\"),0,MIN(VLOOKUP(D37,Référentiel!$B$2:$C$5,2,FALSE),G37))","v":0},{"$f":"IF(OR(D37=\"\",H37=\"\"),0,MIN(VLOOKUP(D37,Référentiel!$B$2:$C$5,2,FALSE),H37))","v":0},{"$f":"IF(OR(D37=\"\",I37=\"\"),0,MIN(VLOOKUP(D37,Référentiel!$B$2:$C$5,2,FALSE),I37))","v":0},{"$f":"IF(OR(D37=\"\",J37=\"\"),0,MIN(VLOOKUP(D37,Référentiel!$B$2:$C$5,2,FALSE),J37))","v":0},null,null,null,"","","","","","","",{"$f":"IF(OR(T37=\"\",U37=\"\"),0,MIN(VLOOKUP(T37,Référentiel!$B$2:$C$5,2,FALSE),U37))","v":0},{"$f":"IF(OR(T37=\"\",V37=\"\"),0,MIN(VLOOKUP(T37,Référentiel!$B$2:$C$5,2,FALSE),V37))","v":0},{"$f":"IF(OR(T37=\"\",W37=\"\"),0,MIN(VLOOKUP(T37,Référentiel!$B$2:$C$5,2,FALSE),W37))","v":0},{"$f":"IF(OR(T37=\"\",X37=\"\"),0,MIN(VLOOKUP(T37,Référentiel!$B$2:$C$5,2,FALSE),X37))","v":0},{"$f":"IF(OR(T37=\"\",Y37=\"\"),0,MIN(VLOOKUP(T37,Référentiel!$B$2:$C$5,2,FALSE),Y37))","v":0},{"$f":"IF(OR(T37=\"\",Z37=\"\"),0,MIN(VLOOKUP(T37,Référentiel!$B$2:$C$5,2,FALSE),Z37))","v":0}]
[{"$f":"B38&COUNTIF($B$18:B37,B38)+1","v":"1"},null,null,null,null,null,null,null,null,null,{"$f":"IF(OR(D38=\"\",E38=\"\"),0,MIN(VLOOKUP(D38,Référentiel!$B$2:$C$5,2,FALSE),E38))","v":0},{"$f":"IF(OR(D38=\"\",F38=\"\"),0,MIN(VLOOKUP(D38,Référentiel!$B$2:$C$5,2,FALSE),F38))","v":0},{"$f":"IF(OR(D38=\"\",G38=\"\"),0,MIN(VLOOKUP(D38,Référentiel!$B$2:$C$5,2,FALSE),G38))","v":0},{"$f":"IF(OR(D38=\"\",H38=\"\"),0,MIN(VLOOKUP(D38,Référentiel!$B$2:$C$5,2,FALSE),H38))","v":0},{"$f":"IF(OR(D38=\"\",I38=\"\"),0,MIN(VLOOKUP(D38,Référentiel!$B$2:$C$5,2,FALSE),I38))","v":0},{"$f":"IF(OR(D38=\"\",J38=\"\"),0,MIN(VLOOKUP(D38,Référentiel!$B$2:$C$5,2,FALSE),J38))","v":0},null,null,null,"","","","","","","",{"$f":"IF(OR(T38=\"\",U38=\"\"),0,MIN(VLOOKUP(T38,Référentiel!$B$2:$C$5,2,FALSE),U38))","v":0},{"$f":"IF(OR(T38=\"\",V38=\"\"),0,MIN(VLOOKUP(T38,Référentiel!$B$2:$C$5,2,FALSE),V38))","v":0},{"$f":"IF(OR(T38=\"\",W38=\"\"),0,MIN(VLOOKUP(T38,Référentiel!$B$2:$C$5,2,FALSE),W38))","v":0},{"$f":"IF(OR(T38=\"\",X38=\"\"),0,MIN(VLOOKUP(T38,Référentiel!$B$2:$C$5,2,FALSE),X38))","v":0},{"$f":"IF(OR(T38=\"\",Y38=\"\"),0,MIN(VLOOKUP(T38,Référentiel!$B$2:$C$5,2,FALSE),Y38))","v":0},{"$f":"IF(OR(T38=\"\",Z38=\"\"),0,MIN(VLOOKUP(T38,Référentiel!$B$2:$C$5,2,FALSE),Z38))","v":0}]
[{"$f":"B39&COUNTIF($B$18:B38,B39)+1","v":"1"},null,null,null,null,null,null,null,null,null,{"$f":"IF(OR(D39=\"\",E39=\"\"),0,MIN(VLOOKUP(D39,Référentiel!$B$2:$C$5,2,FALSE),E39))","v":0},{"$f":"IF(OR(D39=\"\",F39=\"\"),0,MIN(VLOOKUP(D39,Référentiel!$B$2:$C$5,2,FALSE),F39))","v":0},{"$f":"IF(OR(D39=\"\",G39=\"\"),0,MIN(VLOOKUP(D39,Référentiel!$B$2:$C$5,2,FALSE),G39))","v":0},{"$f":"IF(OR(D39=\"\",H39=\"\"),0,MIN(VLOOKUP(D39,Référentiel!$B$2:$C$5,2,FALSE),H39))","v":0},{"$f":"IF(OR(D39=\"\",I39=\"\"),0,MIN(VLOOKUP(D39,Référentiel!$B$2:$C$5,2,FALSE),I39))","v":0},{"$f":"IF(OR(D39=\"\",J39=\"\"),0,MIN(VLOOKUP(D39,Référentiel!$B$2:$C$5,2,FALSE),J39))","v":0},null,null,null,"","","","","","","",{"$f":"IF(OR(T39=\"\",U39=\"\"),0,MIN(VLOOKUP(T39,Référentiel!$B$2:$C$5,2,FALSE),U39))","v":0},{"$f":"IF(OR(T39=\"\",V39=\"\"),0,MIN(VLOOKUP(T39,Référentiel!$B$2:$C$5,2,FALSE),V39))","v":0},{"$f":"IF(OR(T39=\"\",W39=\"\"),0,MIN(VLOOKUP(T39,Référentiel!$B$2:$C$5,2,FALSE),W39))","v":0},{"$f":"IF(OR(T39=\"\",X39=\"\"),0,MIN(VLOOKUP(T39,Référentiel!$B$2:$C$5,2,FALSE),X39))","v":0},{"$f":"IF(OR(T39=\"\",Y39=\"\"),0,MIN(VLOOKUP(T39,Référentiel!$B$2:$C$5,2,FALSE),Y39))","v":0},{"$f":"IF(OR(T39=\"\",Z39=\"\"),0,MIN(VLOOKUP(T39,Référentiel!$B$2:$C$5,2,FALSE),Z39))","v":0}]
[{"$f":"B40&COUNTIF($B$18:B39,B40)+1","v":"1"},null,null,null,null,null,null,null,null,null,{"$f":"IF(OR(D40=\"\",E40=\"\"),0,MIN(VLOOKUP(D40,Référentiel!$B$2:$C$5,2,FALSE),E40))","v":0},{"$f":"IF(OR(D40=\"\",F40=\"\"),0,MIN(VLOOKUP(D40,Référentiel!$B$2:$C$5,2,FALSE),F40))","v":0},{"$f":"IF(OR(D40=\"\",G40=\"\"),0,MIN(VLOOKUP(D40,Référentiel!$B$2:$C$5,2,FALSE),G40))","v":0},{"$f":"IF(OR(D40=\"\",H40=\"\"),0,MIN(VLOOKUP(D40,Référentiel!$B$2:$C$5,2,FALSE),H40))","v":0},{"$f":"IF(OR(D40=\"\",I40=\"\"),0,MIN(VLOOKUP(D40,Référentiel!$B$2:$C$5,2,FALSE),I40))","v":0},{"$f":"IF(OR(D40=\"\",J40=\"\"),0,MIN(VLOOKUP(D40,Référentiel!$B$2:$C$5,2,FALSE),J40))","v":0},null,null,null,"","","","","","","",{"$f":"IF(OR(T40=\"\",U40=\"\"),0,MIN(VLOOKUP(T40,Référentiel!$B$2:$C$5,2,FALSE),U40))","v":0},{"$f":"IF(OR(T40=\"\",V40=\"\"),0,MIN(VLOOKUP(T40,Référentiel!$B$2:$C$5,2,FALSE),V40))","v":0},{"$f":"IF(OR(T40=\"\",W40=\"\"),0,MIN(VLOOKUP(T40,Référentiel!$B$2:$C$5,2,FALSE),W40))","v":0},{"$f":"IF(OR(T40=\"\",X40=\"\"),0,MIN(VLOOKUP(T40,Référentiel!$B$2:$C$5,2,FALSE),X40))","v":0},{"$f":"IF(OR(T40=\"\",Y40=\"\"),0,MIN(VLOOKUP(T40,Référentiel!$B$2:$C$5,2,FALSE),Y40))","v":0},{"$f":"IF(OR(T40=\"\",Z40=\"\"),0,MIN(VLOOKUP(T40,Référentiel!$B$2:$C$5,2,FALSE),Z40))","v":0}]
[{"$f":"B41&COUNTIF($B$18:B40,B41)+1","v":"1"},null,null,null,null,null,null,null,null,null,{"$f":"IF(OR(D41=\"\",E41=\"\"),0,MIN(VLOOKUP(D41,Référentiel!$B$2:$C$5,2,FALSE),E41))","v":0},{"$f":"IF(OR(D41=\"\",F41=\"\"),0,MIN(VLOOKUP(D41,Référentiel!$B$2:$C$5,2,FALSE),F41))","v":0},{"$f":"IF(OR(D41=\"\",G41=\"\"),0,MIN(VLOOKUP(D41,Référentiel!$B$2:$C$5,2,FALSE),G41))","v":0},{"$f":"IF(OR(D41=\"\",H41=\"\"),0,MIN(VLOOKUP(D41,Référentiel!$B$2:$C$5,2,FALSE),H41))","v":0},{"$f":"IF(OR(D41=\"\",I41=\"\"),0,MIN(VLOOKUP(D41,Référentiel!$B$2:$C$5,2,FALSE),I41))","v":0},{"$f":"IF(OR(D41=\"\",J41=\"\"),0,MIN(VLOOKUP(D41,Référentiel!$B$2:$C$5,2,FALSE),J41))","v":0},null,null,null,"","","","","","","",{"$f":"IF(OR(T41=\"\",U41=\"\"),0,MIN(VLOOKUP(T41,Référentiel!$B$2:$C$5,2,FALSE),U41))","v":0},{"$f":"IF(OR(T41=\"\",V41=\"\"),0,MIN(VLOOKUP(T41,Référentiel!$B$2:$C$5,2,FALSE),V41))","v":0},{"$f":"IF(OR(T41=\"\",W41=\"\"),0,MIN(VLOOKUP(T41,Référentiel!$B$2:$C$5,2,FALSE),W41))","v":0},{"$f":"IF(OR(T41=\"\",X41=\"\"),0,MIN(VLOOKUP(T41,Référentiel!$B$2:$C$5,2,FALSE),X41))","v":0},{"$f":"IF(OR(T41=\"\",Y41=\"\"),0,MIN(VLOOKUP(T41,Référentiel!$B$2:$C$5,2,FALSE),Y41))","v":0},{"$f":"IF(OR(T41=\"\",Z41=\"\"),0,MIN(VLOOKUP(T41,Référentiel!$B$2:$C$5,2,FALSE),Z41))","v":0}]
[{"$f":"B42&COUNTIF($B$18:B41,B42)+1","v":"1"},null,null,null,null,null,null,null,null,null,{"$f":"IF(OR(D42=\"\",E42=\"\"),0,MIN(VLOOKUP(D42,Référentiel!$B$2:$C$5,2,FALSE),E42))","v":0},{"$f":"IF(OR(D42=\"\",F42=\"\"),0,MIN(VLOOKUP(D42,Référentiel!$B$2:$C$5,2,FALSE),F42))","v":0},{"$f":"IF(OR(D42=\"\",G42=\"\"),0,MIN(VLOOKUP(D42,Référentiel!$B$2:$C$5,2,FALSE),G42))","v":0},{"$f":"IF(OR(D42=\"\",H42=\"\"),0,MIN(VLOOKUP(D42,Référentiel!$B$2:$C$5,2,FALSE),H42))","v":0},{"$f":"IF(OR(D42=\"\",I42=\"\"),0,MIN(VLOOKUP(D42,Référentiel!$B$2:$C$5,2,FALSE),I42))","v":0},{"$f":"IF(OR(D42=\"\",J42=\"\"),0,MIN(VLOOKUP(D42,Référentiel!$B$2:$C$5,2,FALSE),J42))","v":0},null,null,null,"","","","","","","",{"$f":"IF(OR(T42=\"\",U42=\"\"),0,MIN(VLOOKUP(T42,Référentiel!$B$2:$C$5,2,FALSE),U42))","v":0},{"$f":"IF(OR(T42=\"\",V42=\"\"),0,MIN(VLOOKUP(T42,Référentiel!$B$2:$C$5,2,FALSE),V42))","v":0},{"$f":"IF(OR(T42=\"\",W42=\"\"),0,MIN(VLOOKUP(T42,Référentiel!$B$2:$C$5,2,FALSE),W42))","v":0},{"$f":"IF(OR(T42=\"\",X42=\"\"),0,MIN(VLOOKUP(T42,Référentiel!$B$2:$C$5,2,FALSE),X42))","v":0},{"$f":"IF(OR(T42=\"\",Y42=\"\"),0,MIN(VLOOKUP(T42,Référentiel!$B$2:$C$5,2,FALSE),Y42))","v":0},{"$f":"IF(OR(T42=\"\",Z42=\"\"),0,MIN(VLOOKUP(T42,Référentiel!$B$2:$C$5,2,FALSE),Z42))","v":0}]
[{"$f":"B43&COUNTIF($B$18:B42,B43)+1","v":"1"},null,null,null,null,null,null,null,null,null,{"$f":"IF(OR(D43=\"\",E43=\"\"),0,MIN(VLOOKUP(D43,Référentiel!$B$2:$C$5,2,FALSE),E43))","v":0},{"$f":"IF(OR(D43=\"\",F43=\"\"),0,MIN(VLOOKUP(D43,Référentiel!$B$2:$C$5,2,FALSE),F43))","v":0},{"$f":"IF(OR(D43=\"\",G43=\"\"),0,MIN(VLOOKUP(D43,Référentiel!$B$2:$C$5,2,FALSE),G43))","v":0},{"$f":"IF(OR(D43=\"\",H43=\"\"),0,MIN(VLOOKUP(D43,Référentiel!$B$2:$C$5,2,FALSE),H43))","v":0},{"$f":"IF(OR(D43=\"\",I43=\"\"),0,MIN(VLOOKUP(D43,Référentiel!$B$2:$C$5,2,FALSE),I43))","v":0},{"$f":"IF(OR(D43=\"\",J43=\"\"),0,MIN(VLOOKUP(D43,Référentiel!$B$2:$C$5,2,FALSE),J43))","v":0},null,null,null,"","","","","","","",{"$f":"IF(OR(T43=\"\",U43=\"\"),0,MIN(VLOOKUP(T43,Référentiel!$B$2:$C$5,2,FALSE),U43))","v":0},{"$f":"IF(OR(T43=\"\",V43=\"\"),0,MIN(VLOOKUP(T43,Référentiel!$B$2:$C$5,2,FALSE),V43))","v":0},{"$f":"IF(OR(T43=\"\",W43=\"\"),0,MIN(VLOOKUP(T43,Référentiel!$B$2:$C$5,2,FALSE),W43))","v":0},{"$f":"IF(OR(T43=\"\",X43=\"\"),0,MIN(VLOOKUP(T43,Référentiel!$B$2:$C$5,2,FALSE),X43))","v":0},{"$f":"IF(OR(T43=\"\",Y43=\"\"),0,MIN(VLOOKUP(T43,Référentiel!$B$2:$C$5,2,FALSE),Y43))","v":0},{"$f":"IF(OR(T43=\"\",Z43=\"\"),0,MIN(VLOOKUP(T43,Référentiel!$B$2:$C$5,2,FALSE),Z43))","v":0}]
[{"$f":"B44&COUNTIF($B$18:B43,B44)+1","v":"1"},null,null,null,null,null,null,null,null,null,{"$f":"IF(OR(D44=\"\",E44=\"\"),0,MIN(VLOOKUP(D44,Référentiel!$B$2:$C$5,2,FALSE),E44))","v":0},{"$f":"IF(OR(D44=\"\",F44=\"\"),0,MIN(VLOOKUP(D44,Référentiel!$B$2:$C$5,2,FALSE),F44))","v":0},{"$f":"IF(OR(D44=\"\",G44=\"\"),0,MIN(VLOOKUP(D44,Référentiel!$B$2:$C$5,2,FALSE),G44))","v":0},{"$f":"IF(OR(D44=\"\",H44=\"\"),0,MIN(VLOOKUP(D44,Référentiel!$B$2:$C$5,2,FALSE),H44))","v":0},{"$f":"IF(OR(D44=\"\",I44=\"\"),0,MIN(VLOOKUP(D44,Référentiel!$B$2:$C$5,2,FALSE),I44))","v":0},{"$f":"IF(OR(D44=\"\",J44=\"\"),0,MIN(VLOOKUP(D44,Référentiel!$B$2:$C$5,2,FALSE),J44))","v":0},null,null,null,"","","","","","","",{"$f":"IF(OR(T44=\"\",U44=\"\"),0,MIN(VLOOKUP(T44,Référentiel!$B$2:$C$5,2,FALSE),U44))","v":0},{"$f":"IF(OR(T44=\"\",V44=\"\"),0,MIN(VLOOKUP(T44,Référentiel!$B$2:$C$5,2,FALSE),V44))","v":0},{"$f":"IF(OR(T44=\"\",W44=\"\"),0,MIN(VLOOKUP(T44,Référentiel!$B$2:$C$5,2,FALSE),W44))","v":0},{"$f":"IF(OR(T44=\"\",X44=\"\"),0,MIN(VLOOKUP(T44,Référentiel!$B$2:$C$5,2,FALSE),X44))","v":0},{"$f":"IF(OR(T44=\"\",Y44=\"\"),0,MIN(VLOOKUP(T44,Référentiel!$B$2:$C$5,2,FALSE),Y44))","v":0},{"$f":"IF(OR(T44=\"\",Z44=\"\"),0,MIN(VLOOKUP(T44,Référentiel!$B$2:$C$5,2,FALSE),Z44))","v":0}]
[{"$f":"B45&COUNTIF($B$18:B44,B45)+1","v":"1"},null,null,null,null,null,null,null,null,null,{"$f":"IF(OR(D45=\"\",E45=\"\"),0,MIN(VLOOKUP(D45,Référentiel!$B$2:$C$5,2,FALSE),E45))","v":0},{"$f":"IF(OR(D45=\"\",F45=\"\"),0,MIN(VLOOKUP(D45,Référentiel!$B$2:$C$5,2,FALSE),F45))","v":0},{"$f":"IF(OR(D45=\"\",G45=\"\"),0,MIN(VLOOKUP(D45,Référentiel!$B$2:$C$5,2,FALSE),G45))","v":0},{"$f":"IF(OR(D45=\"\",H45=\"\"),0,MIN(VLOOKUP(D45,Référentiel!$B$2:$C$5,2,FALSE),H45))","v":0},{"$f":"IF(OR(D45=\"\",I45=\"\"),0,MIN(VLOOKUP(D45,Référentiel!$B$2:$C$5,2,FALSE),I45))","v":0},{"$f":"IF(OR(D45=\"\",J45=\"\"),0,MIN(VLOOKUP(D45,Référentiel!$B$2:$C$5,2,FALSE),J45))","v":0},null,null,null,"","","","","","","",{"$f":"IF(OR(T45=\"\",U45=\"\"),0,MIN(VLOOKUP(T45,Référentiel!$B$2:$C$5,2,FALSE),U45))","v":0},{"$f":"IF(OR(T45=\"\",V45=\"\"),0,MIN(VLOOKUP(T45,Référentiel!$B$2:$C$5,2,FALSE),V45))","v":0},{"$f":"IF(OR(T45=\"\",W45=\"\"),0,MIN(VLOOKUP(T45,Référentiel!$B$2:$C$5,2,FALSE),W45))","v":0},{"$f":"IF(OR(T45=\"\",X45=\"\"),0,MIN(VLOOKUP(T45,Référentiel!$B$2:$C$5,2,FALSE),X45))","v":0},{"$f":"IF(OR(T45=\"\",Y45=\"\"),0,MIN(VLOOKUP(T45,Référentiel!$B$2:$C$5,2,FALSE),Y45))","v":0},{"$f":"IF(OR(T45=\"\",Z45=\"\"),0,MIN(VLOOKUP(T45,Référentiel!$B$2:$C$5,2,FALSE),Z45))","v":0}]
[{"$f":"B46&COUNTIF($B$18:B45,B46)+1","v":"1"},null,null,null,null,null,null,null,null,null,{"$f":"IF(OR(D46=\"\",E46=\"\"),0,MIN(VLOOKUP(D46,Référentiel!$B$2:$C$5,2,FALSE),E46))","v":0},{"$f":"IF(OR(D46=\"\",F46=\"\"),0,MIN(VLOOKUP(D46,Référentiel!$B$2:$C$5,2,FALSE),F46))","v":0},{"$f":"IF(OR(D46=\"\",G46=\"\"),0,MIN(VLOOKUP(D46,Référentiel!$B$2:$C$5,2,FALSE),G46))","v":0},{"$f":"IF(OR(D46=\"\",H46=\"\"),0,MIN(VLOOKUP(D46,Référentiel!$B$2:$C$5,2,FALSE),H46))","v":0},{"$f":"IF(OR(D46=\"\",I46=\"\"),0,MIN(VLOOKUP(D46,Référentiel!$B$2:$C$5,2,FALSE),I46))","v":0},{"$f":"IF(OR(D46=\"\",J46=\"\"),0,MIN(VLOOKUP(D46,Référentiel!$B$2:$C$5,2,FALSE),J46))","v":0},null,null,null,"","","","","","","",{"$f":"IF(OR(T46=\"\",U46=\"\"),0,MIN(VLOOKUP(T46,Référentiel!$B$2:$C$5,2,FALSE),U46))","v":0},{"$f":"IF(OR(T46=\"\",V46=\"\"),0,MIN(VLOOKUP(T46,Référentiel!$B$2:$C$5,2,FALSE),V46))","v":0},{"$f":"IF(OR(T46=\"\",W46=\"\"),0,MIN(VLOOKUP(T46,Référentiel!$B$2:$C$5,2,FALSE),W46))","v":0},{"$f":"IF(OR(T46=\"\",X46=\"\"),0,MIN(VLOOKUP(T46,Référentiel!$B$2:$C$5,2,FALSE),X46))","v":0},{"$f":"IF(OR(T46=\"\",Y46=\"\"),0,MIN(VLOOKUP(T46,Référentiel!$B$2:$C$5,2,FALSE),Y46))","v":0},{"$f":"IF(OR(T46=\"\",Z46=\"\"),0,MIN(VLOOKUP(T46,Référentiel!$B$2:$C$5,2,FALSE),Z46))","v":0}]
[null,"* coût journalier hors charges de structure. A renseigner pour chaque année de réalisation des actions"]
[]
[]
[null,"Certifié exact et sincère, le (date) :","………………………………………………………………………………………………………………………….."]
[null,"Nom, prénom du représentant de la structure :","………………………………………………………………………………………………………………………….."]
[null,"Qualité :","…………………………………………………………………………………………………………………………..",null,null,null,null,null,null,null,"Signature agent comptable ou comptable (obligatoire sauf si attestation fournie en pièce justificative)"]
[null,"Cachet et signature :"]
[]
[]
[]
[]
[]
[]
[]
[null,"Demandeur :",{"$f":"Identification!E23","v":0}]
[null,"SIRET :",{"$f":"Identification!E25","v":0}]

{"sheet":"Attestation-coûts-journaliers","index":3,"n_rows":0,"n_cols":0,"rows_kept":0,"cut":false,"hidden":true,"merged":[]}

{"sheet":"Frais-mission","index":4,"n_rows":34,"n_cols":7,"rows_kept":34,"cut":false,"hidden":false,"merged":[[33,0,33,4],[0,0,1,4],[1,5,1,6],[32,0,32,4]]}
["Détailler dans cet onglet la base de remboursement des frais de missions applicable dans les structures intervennant sur le projet (joindre un justificatif : délibération, convention collective, décision de la structure, ...)"]
[null,null,null,null,null,"Instruits"]
["Structure","Prénom – Nom de l’intervenant",null,"Barème kilométrique applicable (en €/km)1","Indemnité repas (en €/repas)2","Barème kilométrique applicable (en €/km)","Indemnité repas (en €/repas)*"]
[{"$f":"IF('Intervenants et coûts-j'!B18=\"\",\"\",'Intervenants et coûts-j'!B18)","v":""},{"$f":"IF('Intervenants et coûts-j'!C18=\"\",\"\",'Intervenants et coûts-j'!C18)","v":""},null,null,null,{"$f":"D4","v":0},{"$f":"E4","v":0}]
[{"$f":"IF('Intervenants et coûts-j'!B19=\"\",\"\",'Intervenants et coûts-j'!B19)","v":""},{"$f":"IF('Intervenants et coûts-j'!C19=\"\",\"\",'Intervenants et coûts-j'!C19)","v":""},null,null,null,{"$f":"D5","v":0},0]
[{"$f":"IF('Intervenants et coûts-j'!B20=\"\",\"\",'Intervenants et coûts-j'!B20)","v":""},{"$f":"IF('Intervenants et coûts-j'!C20=\"\",\"\",'Intervenants et coûts-j'!C20)","v":""},null,null,null,0,0]
[{"$f":"IF('Intervenants et coûts-j'!B21=\"\",\"\",'Intervenants et coûts-j'!B21)","v":""},{"$f":"IF('Intervenants et coûts-j'!C21=\"\",\"\",'Intervenants et coûts-j'!C21)","v":""},null,null,null,0,0]
[{"$f":"IF('Intervenants et coûts-j'!B22=\"\",\"\",'Intervenants et coûts-j'!B22)","v":""},{"$f":"IF('Intervenants et coûts-j'!C22=\"\",\"\",'Intervenants et coûts-j'!C22)","v":""},null,null,null,0,0]
[{"$f":"IF('Intervenants et coûts-j'!B23=\"\",\"\",'Intervenants et coûts-j'!B23)","v":""},{"$f":"IF('Intervenants et coûts-j'!C23=\"\",\"\",'Intervenants et coûts-j'!C23)","v":""},null,null,null,0,0]
[{"$f":"IF('Intervenants et coûts-j'!B24=\"\",\"\",'Intervenants et coûts-j'!B24)","v":""},{"$f":"IF('Intervenants et coûts-j'!C24=\"\",\"\",'Intervenants et coûts-j'!C24)","v":""},null,null,null,0,0]
[{"$f":"IF('Intervenants et coûts-j'!B25=\"\",\"\",'Intervenants et coûts-j'!B25)","v":""},{"$f":"IF('Intervenants et coûts-j'!C25=\"\",\"\",'Intervenants et coûts-j'!C25)","v":""},null,null,null,0,0]
[{"$f":"IF('Intervenants et coûts-j'!B26=\"\",\"\",'Intervenants et coûts-j'!B26)","v":""},{"$f":"IF('Intervenants et coûts-j'!C26=\"\",\"\",'Intervenants et coûts-j'!C26)","v":""},null,null,null,0,0]
[{"$f":"IF('Intervenants et coûts-j'!B27=\"\",\"\",'Intervenants et coûts-j'!B27)","v":""},{"$f":"IF('Intervenants et coûts-j'!C27=\"\",\"\",'Intervenants et coûts-j'!C27)","v":""},null,null,null,0,0]
[{"$f":"IF('Intervenants et coûts-j'!B28=\"\",\"\",'Intervenants et coûts-j'!B28)","v":""},{"$f":"IF('Intervenants et coûts-j'!C28=\"\",\"\",'Intervenants et coûts-j'!C28)","v":""},null,null,null,0,0]
[{"$f":"IF('Intervenants et coûts-j'!B29=\"\",\"\",'Intervenants et coûts-j'!B29)","v":""},{"$f":"IF('Intervenants et coûts-j'!C29=\"\",\"\",'Intervenants et coûts-j'!C29)","v":""},null,null,null,0,0]
[{"$f":"IF('Intervenants et coûts-j'!B30=\"\",\"\",'Intervenants et coûts-j'!B30)","v":""},{"$f":"IF('Intervenants et coûts-j'!C30=\"\",\"\",'Intervenants et coûts-j'!C30)","v":""},null,null,null,0,0]
[{"$f":"IF('Intervenants et coûts-j'!B31=\"\",\"\",'Intervenants et coûts-j'!B31)","v":""},{"$f":"IF('Intervenants et coûts-j'!C31=\"\",\"\",'Intervenants et coûts-j'!C31)","v":""},null,null,null,0,0]
[{"$f":"IF('Intervenants et coûts-j'!B32=\"\",\"\",'Intervenants et coûts-j'!B32)","v":""},{"$f":"IF('Intervenants et coûts-j'!C32=\"\",\"\",'Intervenants et coûts-j'!C32)","v":""},null,null,null,0,0]
[{"$f":"IF('Intervenants et coûts-j'!B33=\"\",\"\",'Intervenants et coûts-j'!B33)","v":""},{"$f":"IF('Intervenants et coûts-j'!C33=\"\",\"\",'Intervenants et coûts-j'!C33)","v":""},null,null,null,0,0]
[{"$f":"IF('Intervenants et coûts-j'!B34=\"\",\"\",'Intervenants et coûts-j'!B34)","v":""},{"$f":"IF('Intervenants et coûts-j'!C34=\"\",\"\",'Intervenants et coûts-j'!C34)","v":""},null,null,null,0,0]
[{"$f":"IF('Intervenants et coûts-j'!B35=\"\",\"\",'Intervenants et coûts-j'!B35)","v":""},{"$f":"IF('Intervenants et coûts-j'!C35=\"\",\"\",'Intervenants et coûts-j'!C35)","v":""},null,null,null,0,0]
[{"$f":"IF('Intervenants et coûts-j'!B36=\"\",\"\",'Intervenants et coûts-j'!B36)","v":""},{"$f":"IF('Intervenants et coûts-j'!C36=\"\",\"\",'Intervenants et coûts-j'!C36)","v":""},null,null,null,0,0]
[{"$f":"IF('Intervenants et coûts-j'!B37=\"\",\"\",'Intervenants et coûts-j'!B37)","v":""},{"$f":"IF('Intervenants et coûts-j'!C37=\"\",\"\",'Intervenants et coûts-j'!C37)","v":""},null,null,null,0,0]
[{"$f":"IF('Intervenants et coûts-j'!B38=\"\",\"\",'Intervenants et coûts-j'!B38)","v":""},{"$f":"IF('Intervenants et coûts-j'!C38=\"\",\"\",'Intervenants et coûts-j'!C38)","v":""},null,null,null,0,0]
[{"$f":"IF('Intervenants et coûts-j'!B39=\"\",\"\",'Intervenants et coûts-j'!B39)","v":""},{"$f":"IF('Intervenants et coûts-j'!C39=\"\",\"\",'Intervenants et coûts-j'!C39)","v":""},null,null,null,0,0]
[{"$f":"IF('Intervenants et coûts-j'!B40=\"\",\"\",'Intervenants et coûts-j'!B40)","v":""},{"$f":"IF('Intervenants et coûts-j'!C40=\"\",\"\",'Intervenants et coûts-j'!C40)","v":""},null,null,null,0,0]
[{"$f":"IF('Intervenants et coûts-j'!B41=\"\",\"\",'Intervenants et coûts-j'!B41)","v":""},{"$f":"IF('Intervenants et coûts-j'!C41=\"\",\"\",'Intervenants et coûts-j'!C41)","v":""},null,null,null,0,0]
[{"$f":"IF('Intervenants et coûts-j'!B42=\"\",\"\",'Intervenants et coûts-j'!B42)","v":""},{"$f":"IF('Intervenants et coûts-j'!C42=\"\",\"\",'Intervenants et coûts-j'!C42)","v":""},null,null,null,0,0]
[{"$f":"IF('Intervenants et coûts-j'!B43=\"\",\"\",'Intervenants et coûts-j'!B43)","v":""},{"$f":"IF('Intervenants et coûts-j'!C43=\"\",\"\",'Intervenants et coûts-j'!C43)","v":""},null,null,null,0,0]
[{"$f":"IF('Intervenants et coûts-j'!B44=\"\",\"\",'Intervenants et coûts-j'!B44)","v":""},{"$f":"IF('Intervenants et coûts-j'!C44=\"\",\"\",'Intervenants et coûts-j'!C44)","v":""},null,null,null,0,0]
[{"$f":"IF('Intervenants et coûts-j'!B45=\"\",\"\",'Intervenants et coûts-j'!B45)","v":""},{"$f":"IF('Intervenants et coûts-j'!C45=\"\",\"\",'Intervenants et coûts-j'!C45)","v":""},null,null,null,0,0]
[{"$f":"IF('Intervenants et coûts-j'!B46=\"\",\"\",'Intervenants et coûts-j'!B46)","v":""},{"$f":"IF('Intervenants et coûts-j'!C46=\"\",\"\",'Intervenants et coûts-j'!C46)","v":""},null,null,null,0,0]
["1 si l'indemnisation des km est réalisée sur la base d'un montant variable , indiquer le coût moyen des km indemnisés dans le cadre des jours de déplacement présentés dans la demande de paiement. Joindre un tableau récapitulatif du calcul réalisé (date du déplacement, lieu, objet du déplacement, nbre de km indemnisés, montant indemnisé)"]
["2 si l'indemnisation des frais de repas est réalisée sur une base réelle et non forfaitaire, indiquer le coût moyen des repas réalisés par l'intervenant dans le cadre des déplacement présentés dans la demande de paiement. Joindre un tableau récapapitulatif du calcul réalisé (date du déplacement, lieu, objet du déplacement, montant du repas indemnisé)"]

{"sheet":"Coûts-indirects","index":5,"n_rows":34,"n_cols":20,"rows_kept":34,"cut":false,"hidden":false,"merged":[[24,19,26,19],[27,18,29,18],[27,19,29,19],[30,18,32,18],[30,19,32,19],[15,19,17,19],[18,18,20,18],[18,19,20,19],[21,18,23,18],[21,19,23,19],[6,19,8,19],[9,18,11,18],[9,19,11,19],[12,18,14,18],[12,19,14,19],[21,11,23,11],[24,11,26,11],[27,11,29,11],[30,11,32,11],[3,18,5,18],[6,18,8,18],[15,18,17,18],[24,18,26,18],[6,11,8,11],[9,11,11,11],[12,11,14,11],[15,11,17,11],[18,11,20,11],[0,0,0,6],[1,11,1,19],[3,0,5,0],[3,1,5,1],[3,9,5,9],[3,10,5,10],[3,11,5,11],[3,19,5,19],[6,0,8,0],[6,1,8,1],[6,9,8,9],[6,10,8,10],[9,0,11,0],[9,1,11,1],[9,9,11,9],[9,10,11,10],[12,0,14,0],[12,1,14,1],[15,0,17,0],[15,1,17,1],[18,0,20,0],[21,0,23,0],[24,0,26,0],[27,0,29,0],[30,0,32,0],[18,1,20,1],[21,1,23,1],[24,1,26,1],[27,1,29,1],[30,1,32,1],[12,9,14,9],[12,10,14,10],[15,9,17,9],[15,10,17,10],[18,9,20,9],[18,10,20,10],[30,9,32,9],[30,10,32,10],[21,9,23,9],[21,10,23,10],[24,9,26,9],[24,10,26,10],[27,9,29,9],[27,10,29,10]]}
["Détailler dans cet onglet le montant des fais de structure pour les différentes structures intervenant sur le projet.\nLe tableau est à remplir sur la base du dernier exercise comptable s'agissant des montants par poste comptable."]
[null,null,null,null,null,null,null,null,null,null,null,"Montants instruits"]
["Nom de la structure","Nb jours annuels travaillés par l'ensemble des salariés de la structure","                                                           Poste comptable\n                                                                            retenu*\n Montants","60 - Achats","61 - Services extérieurs","62 - Autres services extérieurs","65 - Autres charges de gestion courante","66 – Charges financières","67- Charges exeptionnelles","Total frais de structure","Coût structurel journalier","Nb jours annuels travaillés par l'ensemble des salariés de la structure","60 - Achats","61 - Services extérieurs","62 - Autres services extérieurs","64 – Charges de personnel – stagiaire hors action","65 - Autres charges de gestion courante","66 – Charges financières","Total frais de structure","Coût structurel journalier"]
[{"$f":"Référentiel!M3","v":0},null,"Montant total (a)",null,null,null,null,null,null,{"$f":"SUM(D6:I6)","v":0},{"$f":"IF(OR(B4=0,B4=\"\"),0,J4/B4)","v":0},{"$f":"B4","v":0},{"$f":"D4","v":0},{"$f":"E4","v":0},{"$f":"F4","v":0},{"$f":"G4","v":0},{"$f":"H4","v":0},{"$f":"I4","v":0},{"$f":"SUM(M6:R6)","v":0},{"$f":"IF(OR(L4=0,K4=\"\"),0,S4/L4)","v":0}]
[null,null,"Frais de mission + Frais spécifiques à déduire (b)",null,null,null,null,null,null,null,null,null,{"$f":"D5","v":0},0,0,0,0,0]
[null,null,"Montant éligible (a-b)",{"$f":"D4-D5","v":0},{"$f":"E4-E5","v":0},0,0,0,0,null,null,null,{"$f":"M4-M5","v":0},{"$f":"N4-N5","v":0},0,0,0,0]
[{"$f":"Référentiel!M4","v":"-"},null,"Montant total (a)",null,null,null,null,null,null,{"$f":"SUM(D9:I9)","v":0},{"$f":"IF(OR(B7=0,B7=\"\"),0,J7/B7)","v":0},{"$f":"B7","v":0},{"$f":"D7","v":0},{"$f":"E7","v":0},{"$f":"F7","v":0},{"$f":"G7","v":0},{"$f":"H7","v":0},{"$f":"I7","v":0},{"$f":"SUM(M9:R9)","v":0},{"$f":"IF(OR(L7=0,K7=\"\"),0,S7/L7)","v":0}]
[null,null,"Frais de mission + Frais spécifiques à déduire (b)",null,null,null,null,null,null,null,null,null,0,0,0,0,0,0]
[null,null,"Montant éligible (a-b)",{"$f":"D7-D8","v":0},{"$f":"E7-E8","v":0},{"$f":"F7-F8","v":0},{"$f":"G7-G8","v":0},{"$f":"H7-H8","v":0},{"$f":"I7-I8","v":0},null,null,null,{"$f":"M7-M8","v":0},{"$f":"N7-N8","v":0},0,0,{"$f":"Q7-Q8","v":0},0]
[{"$f":"Référentiel!M5","v":"-"},null,"Montant total (a)",null,null,null,null,null,null,{"$f":"SUM(D12:I12)","v":0},{"$f":"IF(OR(B10=0,B10=\"\"),0,J10/B10)","v":0},{"$f":"B10","v":0},0,0,0,0,0,0,{"$f":"SUM(M12:R12)","v":0},{"$f":"IF(OR(L10=0,K10=\"\"),0,S10/L10)","v":0}]
[null,null,"Frais de mission + Frais spécifiques à déduire (b)",null,null,null,null,null,null,null,null,null,0,0,0,0,0,0]
[null,null,"Montant éligible (a-b)",{"$f":"D10-D11","v":0},{"$f":"E10-E11","v":0},{"$f":"F10-F11","v":0},{"$f":"G10-G11","v":0},{"$f":"H10-H11","v":0},{"$f":"I10-I11","v":0},null,null,null,{"$f":"M10-M11","v":0},{"$f":"N10-N11","v":0},0,0,0,0]
[{"$f":"Référentiel!M6","v":"-"},null,"Montant total (a)",null,null,null,null,null,null,null,{"$f":"IF(OR(B13=0,B13=\"\"),0,J13/B13)","v":0},{"$f":"B13","v":0},0,0,0,0,0,0,{"$f":"SUM(M15:R15)","v":0},{"$f":"IF(OR(L13=0,K13=\"\"),0,S13/L13)","v":0}]
[null,null,"Frais de mission + Frais spécifiques à déduire (b)",null,null,null,null,null,null,null,null,null,0,0,0,0,0,0]
[null,null,"Montant éligible (a-b)",{"$f":"D13-D14","v":0},{"$f":"E13-E14","v":0},{"$f":"F13-F14","v":0},{"$f":"G13-G14","v":0},{"$f":"H13-H14","v":0},{"$f":"I13-I14","v":0},null,null,null,{"$f":"M13-M14","v":0},{"$f":"N13-N14","v":0},0,0,0,0]
[{"$f":"Référentiel!M7","v":"-"},null,"Montant total (a)",null,null,null,null,null,null,{"$f":"SUM(D18:I18)","v":0},{"$f":"IF(OR(B16=0,B16=\"\"),0,J16/B16)","v":0},{"$f":"B16","v":0},0,0,0,0,0,0,{"$f":"SUM(M18:R18)","v":0},{"$f":"IF(OR(L16=0,K16=\"\"),0,S16/L16)","v":0}]
[null,null,"Frais de mission + Frais spécifiques à déduire (b)",null,null,null,null,null,null,null,null,null,0,0,0,0,0,0]
[null,null,"Montant éligible (a-b)",{"$f":"D16-D17","v":0},{"$f":"E16-E17","v":0},{"$f":"F16-F17","v":0},{"$f":"G16-G17","v":0},{"$f":"H16-H17","v":0},{"$f":"I16-I17","v":0},null,null,null,{"$f":"M16-M17","v":0},{"$f":"N16-N17","v":0},0,0,0,0]
[{"$f":"Référentiel!M8","v":"-"},null,"Montant total (a)",null,null,null,null,null,null,{"$f":"SUM(D21:I21)","v":0},{"$f":"IF(OR(B19=0,B19=\"\"),0,J19/B19)","v":0},{"$f":"B19","v":0},0,0,0,0,0,0,{"$f":"SUM(M21:R21)","v":0},{"$f":"IF(OR(L19=0,K19=\"\"),0,S19/L19)","v":0}]
[null,null,"Frais de mission + Frais spécifiques à déduire (b)",null,null,null,null,null,null,null,null,null,0,0,0,0,0,0]
[null,null,"Montant éligible (a-b)",{"$f":"D19-D20","v":0},{"$f":"E19-E20","v":0},{"$f":"F19-F20","v":0},{"$f":"G19-G20","v":0},{"$f":"H19-H20","v":0},{"$f":"I19-I20","v":0},null,null,null,{"$f":"M19-M20","v":0},{"$f":"N19-N20","v":0},0,0,0,0]
[{"$f":"Référentiel!M9","v":"-"},null,"Montant total (a)",null,null,null,null,null,null,{"$f":"SUM(D24:I24)","v":0},{"$f":"IF(OR(B22=0,B22=\"\"),0,J22/B22)","v":0},{"$f":"B22","v":0},0,0,0,0,0,0,{"$f":"SUM(M24:R24)","v":0},{"$f":"IF(OR(L22=0,K22=\"\"),0,S22/L22)","v":0}]
[null,null,"Frais de mission + Frais spécifiques à déduire (b)",null,null,null,null,null,null,null,null,null,0,0,0,0,0,0]
[null,null,"Montant éligible (a-b)",{"$f":"D22-D23","v":0},{"$f":"E22-E23","v":0},{"$f":"F22-F23","v":0},{"$f":"G22-G23","v":0},{"$f":"H22-H23","v":0},{"$f":"I22-I23","v":0},null,null,null,{"$f":"M22-M23","v":0},{"$f":"N22-N23","v":0},0,0,0,0]
[{"$f":"Référentiel!M10","v":"-"},null,"Montant total (a)",null,null,null,null,null,null,{"$f":"SUM(D27:I27)","v":0},{"$f":"IF(OR(B25=0,B25=\"\"),0,J25/B25)","v":0},{"$f":"B25","v":0},0,0,0,0,0,0,{"$f":"SUM(M27:R27)","v":0},{"$f":"IF(OR(L25=0,K25=\"\"),0,S25/L25)","v":0}]
[null,null,"Frais de mission + Frais spécifiques à déduire (b)",null,null,null,null,null,null,null,null,null,0,0,0,0,0,0]
[null,null,"Montant éligible (a-b)",{"$f":"D25-D26","v":0},{"$f":"E25-E26","v":0},{"$f":"F25-F26","v":0},{"$f":"G25-G26","v":0},{"$f":"H25-H26","v":0},{"$f":"I25-I26","v":0},null,null,null,{"$f":"M25-M26","v":0},{"$f":"N25-N26","v":0},0,0,0,0]
[{"$f":"Référentiel!M11","v":"-"},null,"Montant total (a)",null,null,null,null,null,null,{"$f":"SUM(D30:I30)","v":0},{"$f":"IF(OR(B28=0,B28=\"\"),0,J28/B28)","v":0},{"$f":"B28","v":0},0,0,0,0,0,0,{"$f":"SUM(M30:R30)","v":0},{"$f":"IF(OR(L28=0,K28=\"\"),0,S28/L28)","v":0}]
[null,null,"Frais de mission + Frais spécifiques à déduire (b)",null,null,null,null,null,null,null,null,null,0,0,0,0,0,0]
[null,null,"Montant éligible (a-b)",{"$f":"D28-D29","v":0},{"$f":"E28-E29","v":0},{"$f":"F28-F29","v":0},{"$f":"G28-G29","v":0},{"$f":"H28-H29","v":0},{"$f":"I28-I29","v":0},null,null,null,{"$f":"M28-M29","v":0},{"$f":"N28-N29","v":0},0,0,0,0]
[{"$f":"Référentiel!M12","v":"-"},null,"Montant total (a)",null,null,null,null,null,null,{"$f":"SUM(D33:I33)","v":0},{"$f":"IF(OR(B31=0,B31=\"\"),0,J31/B31)","v":0},{"$f":"B31","v":0},0,0,0,0,0,0,{"$f":"SUM(M33:R33)","v":0},{"$f":"IF(OR(L31=0,K31=\"\"),0,S31/L31)","v":0}]
[null,null,"Frais de mission + Frais spécifiques à déduire (b)",null,null,null,null,null,null,null,null,null,0,0,0,0,0,0]
[null,null,"Montant éligible (a-b)",{"$f":"D31-D32","v":0},{"$f":"E31-E32","v":0},{"$f":"F31-F32","v":0},{"$f":"G31-G32","v":0},{"$f":"H31-H32","v":0},{"$f":"I31-I32","v":0},null,null,null,{"$f":"M31-M32","v":0},{"$f":"N31-N32","v":0},0,0,0,0]
["* sur la base du dernier exercice comptable clos"]

{"sheet":"Dép.volet 1-Elab.","index":6,"n_rows":100,"n_cols":37,"rows_kept":100,"cut":false,"hidden":false,"merged":[[75,19,75,29],[75,4,75,14],[81,2,81,3],[82,2,82,3],[99,0,99,1],[78,2,78,3],[79,2,79,3],[80,2,80,3],[76,2,76,3],[77,2,77,3],[75,2,75,3],[0,0,0,18],[71,3,71,8],[63,3,63,8],[64,3,64,8],[3,17,3,18],[2,4,2,18],[65,3,65,8],[66,3,66,8],[67,3,67,8],[68,3,68,8],[69,3,69,8],[70,3,70,8],[2,19,2,33],[3,4,3,7],[3,8,3,10],[3,12,3,13],[3,14,3,16],[3,19,3,22],[3,23,3,25],[3,27,3,28],[3,29,3,31],[3,32,3,33]]}
["Dépenses réalisées - Volet 1 - ELABORATION DU PAEC "]
[]
["1 - DÉPENSES DE PERSONNEL / COÛTS INDIRECTS FORFAITAIRES / FRAIS DE DEPLACEMENT FORFAITAIRES",null,null,null,"Dépenses réalisées présentées",null,null,null,null,null,null,null,null,null,null,null,null,null,null,"Dépenses réalisées retenues"]
[null,null,null,null,"Réalisation",null,null,null,"Frais de personnel",null,null,"Frais de structure","Frais de mission",null,"Plafonds spécifiques applicables",null,null,"Total",null,"Réalisation",null,null,null,"Frais de personnel",null,null,"Structure","Frais de mission",null,"Plafonds applicables",null,null,"Total"]
["Année","Libellé de l’action","Structure (demandeur, partenaire)","Prénom – Nom de l’intervenant","Nbre de jours consacrés à l'action","Dont Nbre de jours en déplacement","Nbre km déplacement","Nb repas déplacement","Coût salarial journalier (€)","Coût salarial journalier plafonné(€)","Frais de personnel présentés (€)","Frais de structure présentés","Frais de déplacement présenté","Frais de repas présentés","Plafond frais de structures","Plafond frais de mission","Plafond global applicable si réunion coll.","Montant total présenté","Montant total plafonné le cas échéant","Nbre de jours consacrés à l'action","Dont Nbre de jours en déplacement","Nbre km déplacement","Nb repas déplacement","Coût salarial journalier (€)","Coût salarial journalier plafonné(€)","Frais de personnel présentés (€)","Frais de structure présentés","Frais de déplacement présenté","Frais de repas présentés","Plafond frais de structures","Plafond frais de mission","Plafond global applicable si réunion coll.","Montant total présenté","Montant total plafonné le cas échéant","Commentaires instructeur"]
[null,null,null,null,null,null,null,null,{"$f":"IF(D6=\"\",\"\",IF(A6=2022,VLOOKUP(D6,'Intervenants et coûts-j'!$C$17:$P$47,3,FALSE),IF(A6=2023,VLOOKUP(D6,'Intervenants et coûts-j'!$C$17:$P$47,4,FALSE),IF(A6=2024,VLOOKUP(D6,'Intervenants et coûts-j'!$C$17:$P$47,5,FALSE),IF(A6=2025,VLOOKUP(D6,'Intervenants et coûts-j'!$C$17:$P$47,6,FALSE),IF(A6=2026,VLOOKUP(D6,'Intervenants et coûts-j'!$C$17:$P$47,7,FALSE),IF(A6=2027,VLOOKUP(D6,'Intervenants et coûts-j'!$C$17:$P$47,8,FALSE))))))))","v":""},{"$f":"IF(D6=\"\",\"\",IF(A6=2022,VLOOKUP(D6,'Intervenants et coûts-j'!$C$17:$P$47,9,FALSE),IF(A6=2023,VLOOKUP(D6,'Intervenants et coûts-j'!$C$17:$P$47,10,FALSE),IF(A6=2024,VLOOKUP(D6,'Intervenants et coûts-j'!$C$17:$P$47,11,FALSE),IF(A6=2025,VLOOKUP(D6,'Intervenants et coûts-j'!$C$17:$P$47,12,FALSE),IF(A6=2026,VLOOKUP(D6,'Intervenants et coûts-j'!$C$17:$P$47,13,FALSE),IF(A6=2027,VLOOKUP(D6,'Intervenants et coûts-j'!$C$17:$P$47,14,FALSE))))))))","v":""},{"$f":"IF(E6=\"\",\"\",J6*E6)","v":""},{"$f":"IF(E6=\"\",\"\",VLOOKUP(C6,'Coûts-indirects'!$A$4:$K$33,11,FALSE)*E6)","v":""},{"$f":"IF(D6=\"\",\"\",VLOOKUP(D6,'Frais-mission'!$B$3:$E$32,3,FALSE)*G6)","v":""},{"$f":"IF(D6=\"\",\"\",VLOOKUP(D6,'Frais-mission'!$B$3:$E$32,4,FALSE)*H6)","v":""},{"$f":"IF(K6=\"\",\"\",K6*0.15)","v":""},{"$f":"IF(F6=\"\",\"\",J6*F6*0.1)","v":""},{"$f":"IF(B6=\"\",\"\",IF(LEFT(B6,18)=\"Réunion collective\",350,\"\"))","v":""},{"$f":"IF(O6=\"\",\"\",K6+L6+M6+N6)","v":""},{"$f":"IF(R6=\"\",\"\",MIN(Q6,K6+MIN(L6,O6)+MIN(M6+N6,P6)))","v":""},{"$f":"IF(E6=\"\",\"\",E6)","v":""},{"$f":"IF(F6=\"\",\"\",F6)","v":""},{"$f":"IF(G6=\"\",\"\",G6)","v":""},{"$f":"IF(H6=\"\",\"\",H6)","v":""},{"$f":"IF(D6=\"\",\"\",IF(A6=2022,VLOOKUP(D6,'Intervenants et coûts-j'!$C$17:$AF$47,19,FALSE),IF(A6=2023,VLOOKUP(D6,'Intervenants et coûts-j'!$C$17:$AF$47,20,FALSE),IF(A6=2024,VLOOKUP(D6,'Intervenants et coûts-j'!$C$17:$AF$47,21,FALSE),IF(A6=2025,VLOOKUP(D6,'Intervenants et coûts-j'!$C$17:$AF$47,22,FALSE),IF(A6=2026,VLOOKUP(D6,'Intervenants et coûts-j'!$C$17:$AF$47,23,FALSE),IF(A6=2027,VLOOKUP(D6,'Intervenants et coûts-j'!$C$17:$AF$47,24,FALSE))))))))","v":""},{"$f":"IF(D6=\"\",\"\",IF(A6=2022,VLOOKUP(D6,'Intervenants et coûts-j'!$C$17:$AF$47,25,FALSE),IF(A6=2023,VLOOKUP(D6,'Intervenants et coûts-j'!$C$17:$AF$47,26,FALSE),IF(A6=2024,VLOOKUP(D6,'Intervenants et coûts-j'!$C$17:$AF$47,27,FALSE),IF(A6=2025,VLOOKUP(D6,'Intervenants et coûts-j'!$C$17:$AF$47,28,FALSE),IF(A6=2026,VLOOKUP(D6,'Intervenants et coûts-j'!$C$17:$AF$47,29,FALSE),IF(A6=2027,VLOOKUP(D6,'Intervenants et coûts-j'!$C$17:$AF$47,30,FALSE))))))))","v":""},{"$f":"IF(T6=\"\",\"\",Y6*T6)","v":""},{"$f":"IF(E6=\"\",\"\",VLOOKUP(C6,'Coûts-indirects'!$A$4:$T$33,20,FALSE)*T6)","v":""},{"$f":"IF(D6=\"\",\"\",IF(V6=\"\",0,VLOOKUP(D6,'Frais-mission'!$B$3:$F$32,5,FALSE)*V6))","v":""},{"$f":"IF(D6=\"\",\"\",IF(W6=\"\",0,VLOOKUP(D6,'Frais-mission'!$B$3:$G$32,6,FALSE)*W6))","v":""},{"$f":"IF(Z6=\"\",\"\",Z6*0.15)","v":""},{"$f":"IF(U6=\"\",\"\",Y6*U6*0.1)","v":""},{"$f":"IF(B6=\"\",\"\",IF(LEFT(B6,18)=\"Réunion collective\",350,\"\"))","v":""},{"$f":"IF(AD6=\"\",\"\",Z6+AA6+AB6+AC6)","v":""},{"$f":"IF(AG6=\"\",\"\",MIN(AF6,Z6+MIN(AA6,AD6)+MIN(AB6+AC6,AE6)))","v":""},null,null,{"$f":"\"ListeIntervenants\"&VLOOKUP(C6,'Intervenants et coûts-j'!$B$5:$C$14,2,FALSE)","v":{"$error":"#N/A"}}]
[null,null,null,null,null,null,null,null,{"$f":"IF(D7=\"\",\"\",IF(A7=2022,VLOOKUP(D7,'Intervenants et coûts-j'!$C$17:$P$47,3,FALSE),IF(A7=2023,VLOOKUP(D7,'Intervenants et coûts-j'!$C$17:$P$47,4,FALSE),IF(A7=2024,VLOOKUP(D7,'Intervenants et coûts-j'!$C$17:$P$47,5,FALSE),IF(A7=2025,VLOOKUP(D7,'Intervenants et coûts-j'!$C$17:$P$47,6,FALSE),IF(A7=2026,VLOOKUP(D7,'Intervenants et coûts-j'!$C$17:$P$47,7,FALSE),IF(A7=2027,VLOOKUP(D7,'Intervenants et coûts-j'!$C$17:$P$47,8,FALSE))))))))","v":""},{"$f":"IF(D7=\"\",\"\",IF(A7=2022,VLOOKUP(D7,'Intervenants et coûts-j'!$C$17:$P$47,9,FALSE),IF(A7=2023,VLOOKUP(D7,'Intervenants et coûts-j'!$C$17:$P$47,10,FALSE),IF(A7=2024,VLOOKUP(D7,'Intervenants et coûts-j'!$C$17:$P$47,11,FALSE),IF(A7=2025,VLOOKUP(D7,'Intervenants et coûts-j'!$C$17:$P$47,12,FALSE),IF(A7=2026,VLOOKUP(D7,'Intervenants et coûts-j'!$C$17:$P$47,13,FALSE),IF(A7=2027,VLOOKUP(D7,'Intervenants et coûts-j'!$C$17:$P$47,14,FALSE))))))))","v":""},{"$f":"IF(E7=\"\",\"\",J7*E7)","v":""},{"$f":"IF(E7=\"\",\"\",VLOOKUP(C7,'Coûts-indirects'!$A$4:$K$33,11,FALSE)*E7)","v":""},{"$f":"IF(D7=\"\",\"\",VLOOKUP(D7,'Frais-mission'!$B$3:$E$32,3,FALSE)*G7)","v":""},{"$f":"IF(D7=\"\",\"\",VLOOKUP(D7,'Frais-mission'!$B$3:$E$32,4,FALSE)*H7)","v":""},{"$f":"IF(K7=\"\",\"\",K7*0.15)","v":""},"",{"$f":"IF(B7=\"\",\"\",IF(LEFT(B7,18)=\"Réunion collective\",350-SUMIF(B6,B7,S6),\"\"))","v":""},{"$f":"IF(O7=\"\",\"\",K7+L7+M7+N7)","v":""},{"$f":"IF(R7=\"\",\"\",MIN(Q7,K7+MIN(L7,O7)+MIN(M7+N7,P7)))","v":""},{"$f":"IF(E7=\"\",\"\",E7)","v":""},"","","",{"$f":"IF(D7=\"\",\"\",IF(A7=2022,VLOOKUP(D7,'Intervenants et coûts-j'!$C$17:$AF$47,19,FALSE),IF(A7=2023,VLOOKUP(D7,'Intervenants et coûts-j'!$C$17:$AF$47,20,FALSE),IF(A7=2024,VLOOKUP(D7,'Intervenants et coûts-j'!$C$17:$AF$47,21,FALSE),IF(A7=2025,VLOOKUP(D7,'Intervenants et coûts-j'!$C$17:$AF$47,22,FALSE),IF(A7=2026,VLOOKUP(D7,'Intervenants et coûts-j'!$C$17:$AF$47,23,FALSE),IF(A7=2027,VLOOKUP(D7,'Intervenants et coûts-j'!$C$17:$AF$47,24,FALSE))))))))","v":""},{"$f":"IF(D7=\"\",\"\",IF(A7=2022,VLOOKUP(D7,'Intervenants et coûts-j'!$C$17:$AF$47,25,FALSE),IF(A7=2023,VLOOKUP(D7,'Intervenants et coûts-j'!$C$17:$AF$47,26,FALSE),IF(A7=2024,VLOOKUP(D7,'Intervenants et coûts-j'!$C$17:$AF$47,27,FALSE),IF(A7=2025,VLOOKUP(D7,'Intervenants et coûts-j'!$C$17:$AF$47,28,FALSE),IF(A7=2026,VLOOKUP(D7,'Intervenants et coûts-j'!$C$17:$AF$47,29,FALSE),IF(A7=2027,VLOOKUP(D7,'Intervenants et coûts-j'!$C$17:$AF$47,30,FALSE))))))))","v":""},{"$f":"IF(T7=\"\",\"\",Y7*T7)","v":""},{"$f":"IF(E7=\"\",\"\",VLOOKUP(C7,'Coûts-indirects'!$A$4:$T$33,20,FALSE)*T7)","v":""},{"$f":"IF(D7=\"\",\"\",IF(V7=\"\",0,VLOOKUP(D7,'Frais-mission'!$B$3:$F$32,5,FALSE)*V7))","v":""},{"$f":"IF(D7=\"\",\"\",IF(W7=\"\",0,VLOOKUP(D7,'Frais-mission'!$B$3:$G$32,6,FALSE)*W7))","v":""},"","",{"$f":"IF(B7=\"\",\"\",IF(LEFT(B7,18)=\"Réunion collective\",350-SUMIF(B6,B7,AH6),\"\"))","v":""},{"$f":"IF(AD7=\"\",\"\",Z7+AA7+AB7+AC7)","v":""},{"$f":"IF(AG7=\"\",\"\",MIN(AF7,Z7+MIN(AA7,AD7)+MIN(AB7+AC7,AE7)))","v":""},null,null,{"$f":"\"ListeIntervenants\"&VLOOKUP(C7,'Intervenants et coûts-j'!$B$5:$C$14,2,FALSE)","v":{"$error":"#N/A"}}]
[null,null,null,null,null,null,null,null,{"$f":"IF(D8=\"\",\"\",IF(A8=2022,VLOOKUP(D8,'Intervenants et coûts-j'!$C$17:$P$47,3,FALSE),IF(A8=2023,VLOOKUP(D8,'Intervenants et coûts-j'!$C$17:$P$47,4,FALSE),IF(A8=2024,VLOOKUP(D8,'Intervenants et coûts-j'!$C$17:$P$47,5,FALSE),IF(A8=2025,VLOOKUP(D8,'Intervenants et coûts-j'!$C$17:$P$47,6,FALSE),IF(A8=2026,VLOOKUP(D8,'Intervenants et coûts-j'!$C$17:$P$47,7,FALSE),IF(A8=2027,VLOOKUP(D8,'Intervenants et coûts-j'!$C$17:$P$47,8,FALSE))))))))","v":""},{"$f":"IF(D8=\"\",\"\",IF(A8=2022,VLOOKUP(D8,'Intervenants et coûts-j'!$C$17:$P$47,9,FALSE),IF(A8=2023,VLOOKUP(D8,'Intervenants et coûts-j'!$C$17:$P$47,10,FALSE),IF(A8=2024,VLOOKUP(D8,'Intervenants et coûts-j'!$C$17:$P$47,11,FALSE),IF(A8=2025,VLOOKUP(D8,'Intervenants et coûts-j'!$C$17:$P$47,12,FALSE),IF(A8=2026,VLOOKUP(D8,'Intervenants et coûts-j'!$C$17:$P$47,13,FALSE),IF(A8=2027,VLOOKUP(D8,'Intervenants et coûts-j'!$C$17:$P$47,14,FALSE))))))))","v":""},"",{"$f":"IF(E8=\"\",\"\",VLOOKUP(C8,'Coûts-indirects'!$A$4:$K$33,11,FALSE)*E8)","v":""},{"$f":"IF(D8=\"\",\"\",VLOOKUP(D8,'Frais-mission'!$B$3:$E$32,3,FALSE)*G8)","v":""},{"$f":"IF(D8=\"\",\"\",VLOOKUP(D8,'Frais-mission'!$B$3:$E$32,4,FALSE)*H8)","v":""},"","",{"$f":"IF(B8=\"\",\"\",IF(LEFT(B8,18)=\"Réunion collective\",350-SUMIF($B$6:B7,B8,$S$6:S7),\"\"))","v":""},"","","","","","",{"$f":"IF(D8=\"\",\"\",IF(A8=2022,VLOOKUP(D8,'Intervenants et coûts-j'!$C$17:$AF$47,19,FALSE),IF(A8=2023,VLOOKUP(D8,'Intervenants et coûts-j'!$C$17:$AF$47,20,FALSE),IF(A8=2024,VLOOKUP(D8,'Intervenants et coûts-j'!$C$17:$AF$47,21,FALSE),IF(A8=2025,VLOOKUP(D8,'Intervenants et coûts-j'!$C$17:$AF$47,22,FALSE),IF(A8=2026,VLOOKUP(D8,'Intervenants et coûts-j'!$C$17:$AF$47,23,FALSE),IF(A8=2027,VLOOKUP(D8,'Intervenants et coûts-j'!$C$17:$AF$47,24,FALSE))))))))","v":""},{"$f":"IF(D8=\"\",\"\",IF(A8=2022,VLOOKUP(D8,'Intervenants et coûts-j'!$C$17:$AF$47,25,FALSE),IF(A8=2023,VLOOKUP(D8,'Intervenants et coûts-j'!$C$17:$AF$47,26,FALSE),IF(A8=2024,VLOOKUP(D8,'Intervenants et coûts-j'!$C$17:$AF$47,27,FALSE),IF(A8=2025,VLOOKUP(D8,'Intervenants et coûts-j'!$C$17:$AF$47,28,FALSE),IF(A8=2026,VLOOKUP(D8,'Intervenants et coûts-j'!$C$17:$AF$47,29,FALSE),IF(A8=2027,VLOOKUP(D8,'Intervenants et coûts-j'!$C$17:$AF$47,30,FALSE))))))))","v":""},"",{"$f":"IF(E8=\"\",\"\",VLOOKUP(C8,'Coûts-indirects'!$A$4:$T$33,20,FALSE)*T8)","v":""},{"$f":"IF(D8=\"\",\"\",IF(V8=\"\",0,VLOOKUP(D8,'Frais-mission'!$B$3:$F$32,5,FALSE)*V8))","v":""},{"$f":"IF(D8=\"\",\"\",IF(W8=\"\",0,VLOOKUP(D8,'Frais-mission'!$B$3:$G$32,6,FALSE)*W8))","v":""},"","",{"$f":"IF(B8=\"\",\"\",IF(LEFT(B8,18)=\"Réunion collective\",350-SUMIF($B$6:B7,B8,$AH$6:AH7),\"\"))","v":""},"","",null,null,{"$f":"\"ListeIntervenants\"&VLOOKUP(C8,'Intervenants et coûts-j'!$B$5:$C$14,2,FALSE)","v":{"$error":"#N/A"}}]
[null,null,null,null,null,null,null,null,{"$f":"IF(D9=\"\",\"\",IF(A9=2022,VLOOKUP(D9,'Intervenants et coûts-j'!$C$17:$P$47,3,FALSE),IF(A9=2023,VLOOKUP(D9,'Intervenants et coûts-j'!$C$17:$P$47,4,FALSE),IF(A9=2024,VLOOKUP(D9,'Intervenants et coûts-j'!$C$17:$P$47,5,FALSE),IF(A9=2025,VLOOKUP(D9,'Intervenants et coûts-j'!$C$17:$P$47,6,FALSE),IF(A9=2026,VLOOKUP(D9,'Intervenants et coûts-j'!$C$17:$P$47,7,FALSE),IF(A9=2027,VLOOKUP(D9,'Intervenants et coûts-j'!$C$17:$P$47,8,FALSE))))))))","v":""},{"$f":"IF(D9=\"\",\"\",IF(A9=2022,VLOOKUP(D9,'Intervenants et coûts-j'!$C$17:$P$47,9,FALSE),IF(A9=2023,VLOOKUP(D9,'Intervenants et coûts-j'!$C$17:$P$47,10,FALSE),IF(A9=2024,VLOOKUP(D9,'Intervenants et coûts-j'!$C$17:$P$47,11,FALSE),IF(A9=2025,VLOOKUP(D9,'Intervenants et coûts-j'!$C$17:$P$47,12,FALSE),IF(A9=2026,VLOOKUP(D9,'Intervenants et coûts-j'!$C$17:$P$47,13,FALSE),IF(A9=2027,VLOOKUP(D9,'Intervenants et coûts-j'!$C$17:$P$47,14,FALSE))))))))","v":""},"",{"$f":"IF(E9=\"\",\"\",VLOOKUP(C9,'Coûts-indirects'!$A$4:$K$33,11,FALSE)*E9)","v":""},{"$f":"IF(D9=\"\",\"\",VLOOKUP(D9,'Frais-mission'!$B$3:$E$32,3,FALSE)*G9)","v":""},{"$f":"IF(D9=\"\",\"\",VLOOKUP(D9,'Frais-mission'!$B$3:$E$32,4,FALSE)*H9)","v":""},"","",{"$f":"IF(B9=\"\",\"\",IF(LEFT(B9,18)=\"Réunion collective\",350-SUMIF($B$6:B8,B9,$S$6:S8),\"\"))","v":""},"","","","","",{"$f":"IF(H9=\"\",\"\",H9)","v":""},{"$f":"IF(D9=\"\",\"\",IF(A9=2022,VLOOKUP(D9,'Intervenants et coûts-j'!$C$17:$AF$47,19,FALSE),IF(A9=2023,VLOOKUP(D9,'Intervenants et coûts-j'!$C$17:$AF$47,20,FALSE),IF(A9=2024,VLOOKUP(D9,'Intervenants et coûts-j'!$C$17:$AF$47,21,FALSE),IF(A9=2025,VLOOKUP(D9,'Intervenants et coûts-j'!$C$17:$AF$47,22,FALSE),IF(A9=2026,VLOOKUP(D9,'Intervenants et coûts-j'!$C$17:$AF$47,23,FALSE),IF(A9=2027,VLOOKUP(D9,'Intervenants et coûts-j'!$C$17:$AF$47,24,FALSE))))))))","v":""},{"$f":"IF(D9=\"\",\"\",IF(A9=2022,VLOOKUP(D9,'Intervenants et coûts-j'!$C$17:$AF$47,25,FALSE),IF(A9=2023,VLOOKUP(D9,'Intervenants et coûts-j'!$C$17:$AF$47,26,FALSE),IF(A9=2024,VLOOKUP(D9,'Intervenants et coûts-j'!$C$17:$AF$47,27,FALSE),IF(A9=2025,VLOOKUP(D9,'Intervenants et coûts-j'!$C$17:$AF$47,28,FALSE),IF(A9=2026,VLOOKUP(D9,'Intervenants et coûts-j'!$C$17:$AF$47,29,FALSE),IF(A9=2027,VLOOKUP(D9,'Intervenants et coûts-j'!$C$17:$AF$47,30,FALSE))))))))","v":""},"",{"$f":"IF(E9=\"\",\"\",VLOOKUP(C9,'Coûts-indirects'!$A$4:$T$33,20,FALSE)*T9)","v":""},{"$f":"IF(D9=\"\",\"\",IF(V9=\"\",0,VLOOKUP(D9,'Frais-mission'!$B$3:$F$32,5,FALSE)*V9))","v":""},{"$f":"IF(D9=\"\",\"\",IF(W9=\"\",0,VLOOKUP(D9,'Frais-mission'!$B$3:$G$32,6,FALSE)*W9))","v":""},"","",{"$f":"IF(B9=\"\",\"\",IF(LEFT(B9,18)=\"Réunion collective\",350-SUMIF($B$6:B8,B9,$AH$6:AH8),\"\"))","v":""},"","",null,null,{"$f":"\"ListeIntervenants\"&VLOOKUP(C9,'Intervenants et coûts-j'!$B$5:$C$14,2,FALSE)","v":{"$error":"#N/A"}}]
[null,null,null,null,null,null,null,null,{"$f":"IF(D10=\"\",\"\",IF(A10=2022,VLOOKUP(D10,'Intervenants et coûts-j'!$C$17:$P$47,3,FALSE),IF(A10=2023,VLOOKUP(D10,'Intervenants et coûts-j'!$C$17:$P$47,4,FALSE),IF(A10=2024,VLOOKUP(D10,'Intervenants et coûts-j'!$C$17:$P$47,5,FALSE),IF(A10=2025,VLOOKUP(D10,'Intervenants et coûts-j'!$C$17:$P$47,6,FALSE),IF(A10=2026,VLOOKUP(D10,'Intervenants et coûts-j'!$C$17:$P$47,7,FALSE),IF(A10=2027,VLOOKUP(D10,'Intervenants et coûts-j'!$C$17:$P$47,8,FALSE))))))))","v":""},{"$f":"IF(D10=\"\",\"\",IF(A10=2022,VLOOKUP(D10,'Intervenants et coûts-j'!$C$17:$P$47,9,FALSE),IF(A10=2023,VLOOKUP(D10,'Intervenants et coûts-j'!$C$17:$P$47,10,FALSE),IF(A10=2024,VLOOKUP(D10,'Intervenants et coûts-j'!$C$17:$P$47,11,FALSE),IF(A10=2025,VLOOKUP(D10,'Intervenants et coûts-j'!$C$17:$P$47,12,FALSE),IF(A10=2026,VLOOKUP(D10,'Intervenants et coûts-j'!$C$17:$P$47,13,FALSE),IF(A10=2027,VLOOKUP(D10,'Intervenants et coûts-j'!$C$17:$P$47,14,FALSE))))))))","v":""},"",{"$f":"IF(E10=\"\",\"\",VLOOKUP(C10,'Coûts-indirects'!$A$4:$K$33,11,FALSE)*E10)","v":""},{"$f":"IF(D10=\"\",\"\",VLOOKUP(D10,'Frais-mission'!$B$3:$E$32,3,FALSE)*G10)","v":""},{"$f":"IF(D10=\"\",\"\",VLOOKUP(D10,'Frais-mission'!$B$3:$E$32,4,FALSE)*H10)","v":""},"","",{"$f":"IF(B10=\"\",\"\",IF(LEFT(B10,18)=\"Réunion collective\",350-SUMIF($B$6:B9,B10,$S$6:S9),\"\"))","v":""},"","","","","","",{"$f":"IF(D10=\"\",\"\",IF(A10=2022,VLOOKUP(D10,'Intervenants et coûts-j'!$C$17:$AF$47,19,FALSE),IF(A10=2023,VLOOKUP(D10,'Intervenants et coûts-j'!$C$17:$AF$47,20,FALSE),IF(A10=2024,VLOOKUP(D10,'Intervenants et coûts-j'!$C$17:$AF$47,21,FALSE),IF(A10=2025,VLOOKUP(D10,'Intervenants et coûts-j'!$C$17:$AF$47,22,FALSE),IF(A10=2026,VLOOKUP(D10,'Intervenants et coûts-j'!$C$17:$AF$47,23,FALSE),IF(A10=2027,VLOOKUP(D10,'Intervenants et coûts-j'!$C$17:$AF$47,24,FALSE))))))))","v":""},{"$f":"IF(D10=\"\",\"\",IF(A10=2022,VLOOKUP(D10,'Intervenants et coûts-j'!$C$17:$AF$47,25,FALSE),IF(A10=2023,VLOOKUP(D10,'Intervenants et coûts-j'!$C$17:$AF$47,26,FALSE),IF(A10=2024,VLOOKUP(D10,'Intervenants et coûts-j'!$C$17:$AF$47,27,FALSE),IF(A10=2025,VLOOKUP(D10,'Intervenants et coûts-j'!$C$17:$AF$47,28,FALSE),IF(A10=2026,VLOOKUP(D10,'Intervenants et coûts-j'!$C$17:$AF$47,29,FALSE),IF(A10=2027,VLOOKUP(D10,'Intervenants et coûts-j'!$C$17:$AF$47,30,FALSE))))))))","v":""},"",{"$f":"IF(E10=\"\",\"\",VLOOKUP(C10,'Coûts-indirects'!$A$4:$T$33,20,FALSE)*T10)","v":""},{"$f":"IF(D10=\"\",\"\",IF(V10=\"\",0,VLOOKUP(D10,'Frais-mission'!$B$3:$F$32,5,FALSE)*V10))","v":""},{"$f":"IF(D10=\"\",\"\",IF(W10=\"\",0,VLOOKUP(D10,'Frais-mission'!$B$3:$G$32,6,FALSE)*W10))","v":""},"","",{"$f":"IF(B10=\"\",\"\",IF(LEFT(B10,18)=\"Réunion collective\",350-SUMIF($B$6:B9,B10,$AH$6:AH9),\"\"))","v":""},"","",null,null,{"$f":"\"ListeIntervenants\"&VLOOKUP(C10,'Intervenants et coûts-j'!$B$5:$C$14,2,FALSE)","v":{"$error":"#N/A"}}]
[null,null,null,null,null,null,null,null,{"$f":"IF(D11=\"\",\"\",IF(A11=2022,VLOOKUP(D11,'Intervenants et coûts-j'!$C$17:$P$47,3,FALSE),IF(A11=2023,VLOOKUP(D11,'Intervenants et coûts-j'!$C$17:$P$47,4,FALSE),IF(A11=2024,VLOOKUP(D11,'Intervenants et coûts-j'!$C$17:$P$47,5,FALSE),IF(A11=2025,VLOOKUP(D11,'Intervenants et coûts-j'!$C$17:$P$47,6,FALSE),IF(A11=2026,VLOOKUP(D11,'Intervenants et coûts-j'!$C$17:$P$47,7,FALSE),IF(A11=2027,VLOOKUP(D11,'Intervenants et coûts-j'!$C$17:$P$47,8,FALSE))))))))","v":""},{"$f":"IF(D11=\"\",\"\",IF(A11=2022,VLOOKUP(D11,'Intervenants et coûts-j'!$C$17:$P$47,9,FALSE),IF(A11=2023,VLOOKUP(D11,'Intervenants et coûts-j'!$C$17:$P$47,10,FALSE),IF(A11=2024,VLOOKUP(D11,'Intervenants et coûts-j'!$C$17:$P$47,11,FALSE),IF(A11=2025,VLOOKUP(D11,'Intervenants et coûts-j'!$C$17:$P$47,12,FALSE),IF(A11=2026,VLOOKUP(D11,'Intervenants et coûts-j'!$C$17:$P$47,13,FALSE),IF(A11=2027,VLOOKUP(D11,'Intervenants et coûts-j'!$C$17:$P$47,14,FALSE))))))))","v":""},"",{"$f":"IF(E11=\"\",\"\",VLOOKUP(C11,'Coûts-indirects'!$A$4:$K$33,11,FALSE)*E11)","v":""},{"$f":"IF(D11=\"\",\"\",VLOOKUP(D11,'Frais-mission'!$B$3:$E$32,3,FALSE)*G11)","v":""},{"$f":"IF(D11=\"\",\"\",VLOOKUP(D11,'Frais-mission'!$B$3:$E$32,4,FALSE)*H11)","v":""},"","",{"$f":"IF(B11=\"\",\"\",IF(LEFT(B11,18)=\"Réunion collective\",350-SUMIF($B$6:B10,B11,$S$6:S10),\"\"))","v":""},"","","","","",{"$f":"IF(H11=\"\",\"\",H11)","v":""},{"$f":"IF(D11=\"\",\"\",IF(A11=2022,VLOOKUP(D11,'Intervenants et coûts-j'!$C$17:$AF$47,19,FALSE),IF(A11=2023,VLOOKUP(D11,'Intervenants et coûts-j'!$C$17:$AF$47,20,FALSE),IF(A11=2024,VLOOKUP(D11,'Intervenants et coûts-j'!$C$17:$AF$47,21,FALSE),IF(A11=2025,VLOOKUP(D11,'Intervenants et coûts-j'!$C$17:$AF$47,22,FALSE),IF(A11=2026,VLOOKUP(D11,'Intervenants et coûts-j'!$C$17:$AF$47,23,FALSE),IF(A11=2027,VLOOKUP(D11,'Intervenants et coûts-j'!$C$17:$AF$47,24,FALSE))))))))","v":""},{"$f":"IF(D11=\"\",\"\",IF(A11=2022,VLOOKUP(D11,'Intervenants et coûts-j'!$C$17:$AF$47,25,FALSE),IF(A11=2023,VLOOKUP(D11,'Intervenants et coûts-j'!$C$17:$AF$47,26,FALSE),IF(A11=2024,VLOOKUP(D11,'Intervenants et coûts-j'!$C$17:$AF$47,27,FALSE),IF(A11=2025,VLOOKUP(D11,'Intervenants et coûts-j'!$C$17:$AF$47,28,FALSE),IF(A11=2026,VLOOKUP(D11,'Intervenants et coûts-j'!$C$17:$AF$47,29,FALSE),IF(A11=2027,VLOOKUP(D11,'Intervenants et coûts-j'!$C$17:$AF$47,30,FALSE))))))))","v":""},"",{"$f":"IF(E11=\"\",\"\",VLOOKUP(C11,'Coûts-indirects'!$A$4:$T$33,20,FALSE)*T11)","v":""},{"$f":"IF(D11=\"\",\"\",IF(V11=\"\",0,VLOOKUP(D11,'Frais-mission'!$B$3:$F$32,5,FALSE)*V11))","v":""},{"$f":"IF(D11=\"\",\"\",IF(W11=\"\",0,VLOOKUP(D11,'Frais-mission'!$B$3:$G$32,6,FALSE)*W11))","v":""},"","",{"$f":"IF(B11=\"\",\"\",IF(LEFT(B11,18)=\"Réunion collective\",350-SUMIF($B$6:B10,B11,$AH$6:AH10),\"\"))","v":""},"","",null,null,{"$f":"\"ListeIntervenants\"&VLOOKUP(C11,'Intervenants et coûts-j'!$B$5:$C$14,2,FALSE)","v":{"$error":"#N/A"}}]
[null,null,null,null,null,null,null,null,{"$f":"IF(D12=\"\",\"\",IF(A12=2022,VLOOKUP(D12,'Intervenants et coûts-j'!$C$17:$P$47,3,FALSE),IF(A12=2023,VLOOKUP(D12,'Intervenants et coûts-j'!$C$17:$P$47,4,FALSE),IF(A12=2024,VLOOKUP(D12,'Intervenants et coûts-j'!$C$17:$P$47,5,FALSE),IF(A12=2025,VLOOKUP(D12,'Intervenants et coûts-j'!$C$17:$P$47,6,FALSE),IF(A12=2026,VLOOKUP(D12,'Intervenants et coûts-j'!$C$17:$P$47,7,FALSE),IF(A12=2027,VLOOKUP(D12,'Intervenants et coûts-j'!$C$17:$P$47,8,FALSE))))))))","v":""},{"$f":"IF(D12=\"\",\"\",IF(A12=2022,VLOOKUP(D12,'Intervenants et coûts-j'!$C$17:$P$47,9,FALSE),IF(A12=2023,VLOOKUP(D12,'Intervenants et coûts-j'!$C$17:$P$47,10,FALSE),IF(A12=2024,VLOOKUP(D12,'Intervenants et coûts-j'!$C$17:$P$47,11,FALSE),IF(A12=2025,VLOOKUP(D12,'Intervenants et coûts-j'!$C$17:$P$47,12,FALSE),IF(A12=2026,VLOOKUP(D12,'Intervenants et coûts-j'!$C$17:$P$47,13,FALSE),IF(A12=2027,VLOOKUP(D12,'Intervenants et coûts-j'!$C$17:$P$47,14,FALSE))))))))","v":""},"",{"$f":"IF(E12=\"\",\"\",VLOOKUP(C12,'Coûts-indirects'!$A$4:$K$33,11,FALSE)*E12)","v":""},{"$f":"IF(D12=\"\",\"\",VLOOKUP(D12,'Frais-mission'!$B$3:$E$32,3,FALSE)*G12)","v":""},{"$f":"IF(D12=\"\",\"\",VLOOKUP(D12,'Frais-mission'!$B$3:$E$32,4,FALSE)*H12)","v":""},"","",{"$f":"IF(B12=\"\",\"\",IF(LEFT(B12,18)=\"Réunion collective\",350-SUMIF($B$6:B11,B12,$S$6:S11),\"\"))","v":""},"","","","","","",{"$f":"IF(D12=\"\",\"\",IF(A12=2022,VLOOKUP(D12,'Intervenants et coûts-j'!$C$17:$AF$47,19,FALSE),IF(A12=2023,VLOOKUP(D12,'Intervenants et coûts-j'!$C$17:$AF$47,20,FALSE),IF(A12=2024,VLOOKUP(D12,'Intervenants et coûts-j'!$C$17:$AF$47,21,FALSE),IF(A12=2025,VLOOKUP(D12,'Intervenants et coûts-j'!$C$17:$AF$47,22,FALSE),IF(A12=2026,VLOOKUP(D12,'Intervenants et coûts-j'!$C$17:$AF$47,23,FALSE),IF(A12=2027,VLOOKUP(D12,'Intervenants et coûts-j'!$C$17:$AF$47,24,FALSE))))))))","v":""},{"$f":"IF(D12=\"\",\"\",IF(A12=2022,VLOOKUP(D12,'Intervenants et coûts-j'!$C$17:$AF$47,25,FALSE),IF(A12=2023,VLOOKUP(D12,'Intervenants et coûts-j'!$C$17:$AF$47,26,FALSE),IF(A12=2024,VLOOKUP(D12,'Intervenants et coûts-j'!$C$17:$AF$47,27,FALSE),IF(A12=2025,VLOOKUP(D12,'Intervenants et coûts-j'!$C$17:$AF$47,28,FALSE),IF(A12=2026,VLOOKUP(D12,'Intervenants et coûts-j'!$C$17:$AF$47,29,FALSE),IF(A12=2027,VLOOKUP(D12,'Intervenants et coûts-j'!$C$17:$AF$47,30,FALSE))))))))","v":""},"",{"$f":"IF(E12=\"\",\"\",VLOOKUP(C12,'Coûts-indirects'!$A$4:$T$33,20,FALSE)*T12)","v":""},{"$f":"IF(D12=\"\",\"\",IF(V12=\"\",0,VLOOKUP(D12,'Frais-mission'!$B$3:$F$32,5,FALSE)*V12))","v":""},{"$f":"IF(D12=\"\",\"\",IF(W12=\"\",0,VLOOKUP(D12,'Frais-mission'!$B$3:$G$32,6,FALSE)*W12))","v":""},"","",{"$f":"IF(B12=\"\",\"\",IF(LEFT(B12,18)=\"Réunion collective\",350-SUMIF($B$6:B11,B12,$AH$6:AH11),\"\"))","v":""},"","",null,null,{"$f":"\"ListeIntervenants\"&VLOOKUP(C12,'Intervenants et coûts-j'!$B$5:$C$14,2,FALSE)","v":{"$error":"#N/A"}}]
[null,null,null,null,null,null,null,null,{"$f":"IF(D13=\"\",\"\",IF(A13=2022,VLOOKUP(D13,'Intervenants et coûts-j'!$C$17:$P$47,3,FALSE),IF(A13=2023,VLOOKUP(D13,'Intervenants et coûts-j'!$C$17:$P$47,4,FALSE),IF(A13=2024,VLOOKUP(D13,'Intervenants et coûts-j'!$C$17:$P$47,5,FALSE),IF(A13=2025,VLOOKUP(D13,'Intervenants et coûts-j'!$C$17:$P$47,6,FALSE),IF(A13=2026,VLOOKUP(D13,'Intervenants et coûts-j'!$C$17:$P$47,7,FALSE),IF(A13=2027,VLOOKUP(D13,'Intervenants et coûts-j'!$C$17:$P$47,8,FALSE))))))))","v":""},{"$f":"IF(D13=\"\",\"\",IF(A13=2022,VLOOKUP(D13,'Intervenants et coûts-j'!$C$17:$P$47,9,FALSE),IF(A13=2023,VLOOKUP(D13,'Intervenants et coûts-j'!$C$17:$P$47,10,FALSE),IF(A13=2024,VLOOKUP(D13,'Intervenants et coûts-j'!$C$17:$P$47,11,FALSE),IF(A13=2025,VLOOKUP(D13,'Intervenants et coûts-j'!$C$17:$P$47,12,FALSE),IF(A13=2026,VLOOKUP(D13,'Intervenants et coûts-j'!$C$17:$P$47,13,FALSE),IF(A13=2027,VLOOKUP(D13,'Intervenants et coûts-j'!$C$17:$P$47,14,FALSE))))))))","v":""},"",{"$f":"IF(E13=\"\",\"\",VLOOKUP(C13,'Coûts-indirects'!$A$4:$K$33,11,FALSE)*E13)","v":""},{"$f":"IF(D13=\"\",\"\",VLOOKUP(D13,'Frais-mission'!$B$3:$E$32,3,FALSE)*G13)","v":""},{"$f":"IF(D13=\"\",\"\",VLOOKUP(D13,'Frais-mission'!$B$3:$E$32,4,FALSE)*H13)","v":""},"","",{"$f":"IF(B13=\"\",\"\",IF(LEFT(B13,18)=\"Réunion collective\",350-SUMIF($B$6:B12,B13,$S$6:S12),\"\"))","v":""},"","","","","","",{"$f":"IF(D13=\"\",\"\",IF(A13=2022,VLOOKUP(D13,'Intervenants et coûts-j'!$C$17:$AF$47,19,FALSE),IF(A13=2023,VLOOKUP(D13,'Intervenants et coûts-j'!$C$17:$AF$47,20,FALSE),IF(A13=2024,VLOOKUP(D13,'Intervenants et coûts-j'!$C$17:$AF$47,21,FALSE),IF(A13=2025,VLOOKUP(D13,'Intervenants et coûts-j'!$C$17:$AF$47,22,FALSE),IF(A13=2026,VLOOKUP(D13,'Intervenants et coûts-j'!$C$17:$AF$47,23,FALSE),IF(A13=2027,VLOOKUP(D13,'Intervenants et coûts-j'!$C$17:$AF$47,24,FALSE))))))))","v":""},{"$f":"IF(D13=\"\",\"\",IF(A13=2022,VLOOKUP(D13,'Intervenants et coûts-j'!$C$17:$AF$47,25,FALSE),IF(A13=2023,VLOOKUP(D13,'Intervenants et coûts-j'!$C$17:$AF$47,26,FALSE),IF(A13=2024,VLOOKUP(D13,'Intervenants et coûts-j'!$C$17:$AF$47,27,FALSE),IF(A13=2025,VLOOKUP(D13,'Intervenants et coûts-j'!$C$17:$AF$47,28,FALSE),IF(A13=2026,VLOOKUP(D13,'Intervenants et coûts-j'!$C$17:$AF$47,29,FALSE),IF(A13=2027,VLOOKUP(D13,'Intervenants et coûts-j'!$C$17:$AF$47,30,FALSE))))))))","v":""},"",{"$f":"IF(E13=\"\",\"\",VLOOKUP(C13,'Coûts-indirects'!$A$4:$T$33,20,FALSE)*T13)","v":""},{"$f":"IF(D13=\"\",\"\",IF(V13=\"\",0,VLOOKUP(D13,'Frais-mission'!$B$3:$F$32,5,FALSE)*V13))","v":""},{"$f":"IF(D13=\"\",\"\",IF(W13=\"\",0,VLOOKUP(D13,'Frais-mission'!$B$3:$G$32,6,FALSE)*W13))","v":""},"","",{"$f":"IF(B13=\"\",\"\",IF(LEFT(B13,18)=\"Réunion collective\",350-SUMIF($B$6:B12,B13,$AH$6:AH12),\"\"))","v":""},"","",null,null,{"$f":"\"ListeIntervenants\"&VLOOKUP(C13,'Intervenants et coûts-j'!$B$5:$C$14,2,FALSE)","v":{"$error":"#N/A"}}]
[null,null,null,null,null,null,null,null,{"$f":"IF(D14=\"\",\"\",IF(A14=2022,VLOOKUP(D14,'Intervenants et coûts-j'!$C$17:$P$47,3,FALSE),IF(A14=2023,VLOOKUP(D14,'Intervenants et coûts-j'!$C$17:$P$47,4,FALSE),IF(A14=2024,VLOOKUP(D14,'Intervenants et coûts-j'!$C$17:$P$47,5,FALSE),IF(A14=2025,VLOOKUP(D14,'Intervenants et coûts-j'!$C$17:$P$47,6,FALSE),IF(A14=2026,VLOOKUP(D14,'Intervenants et coûts-j'!$C$17:$P$47,7,FALSE),IF(A14=2027,VLOOKUP(D14,'Intervenants et coûts-j'!$C$17:$P$47,8,FALSE))))))))","v":""},{"$f":"IF(D14=\"\",\"\",IF(A14=2022,VLOOKUP(D14,'Intervenants et coûts-j'!$C$17:$P$47,9,FALSE),IF(A14=2023,VLOOKUP(D14,'Intervenants et coûts-j'!$C$17:$P$47,10,FALSE),IF(A14=2024,VLOOKUP(D14,'Intervenants et coûts-j'!$C$17:$P$47,11,FALSE),IF(A14=2025,VLOOKUP(D14,'Intervenants et coûts-j'!$C$17:$P$47,12,FALSE),IF(A14=2026,VLOOKUP(D14,'Intervenants et coûts-j'!$C$17:$P$47,13,FALSE),IF(A14=2027,VLOOKUP(D14,'Intervenants et coûts-j'!$C$17:$P$47,14,FALSE))))))))","v":""},"",{"$f":"IF(E14=\"\",\"\",VLOOKUP(C14,'Coûts-indirects'!$A$4:$K$33,11,FALSE)*E14)","v":""},{"$f":"IF(D14=\"\",\"\",VLOOKUP(D14,'Frais-mission'!$B$3:$E$32,3,FALSE)*G14)","v":""},{"$f":"IF(D14=\"\",\"\",VLOOKUP(D14,'Frais-mission'!$B$3:$E$32,4,FALSE)*H14)","v":""},"","",{"$f":"IF(B14=\"\",\"\",IF(LEFT(B14,18)=\"Réunion collective\",350-SUMIF($B$6:B13,B14,$S$6:S13),\"\"))","v":""},"","","","","","",{"$f":"IF(D14=\"\",\"\",IF(A14=2022,VLOOKUP(D14,'Intervenants et coûts-j'!$C$17:$AF$47,19,FALSE),IF(A14=2023,VLOOKUP(D14,'Intervenants et coûts-j'!$C$17:$AF$47,20,FALSE),IF(A14=2024,VLOOKUP(D14,'Intervenants et coûts-j'!$C$17:$AF$47,21,FALSE),IF(A14=2025,VLOOKUP(D14,'Intervenants et coûts-j'!$C$17:$AF$47,22,FALSE),IF(A14=2026,VLOOKUP(D14,'Intervenants et coûts-j'!$C$17:$AF$47,23,FALSE),IF(A14=2027,VLOOKUP(D14,'Intervenants et coûts-j'!$C$17:$AF$47,24,FALSE))))))))","v":""},{"$f":"IF(D14=\"\",\"\",IF(A14=2022,VLOOKUP(D14,'Intervenants et coûts-j'!$C$17:$AF$47,25,FALSE),IF(A14=2023,VLOOKUP(D14,'Intervenants et coûts-j'!$C$17:$AF$47,26,FALSE),IF(A14=2024,VLOOKUP(D14,'Intervenants et coûts-j'!$C$17:$AF$47,27,FALSE),IF(A14=2025,VLOOKUP(D14,'Intervenants et coûts-j'!$C$17:$AF$47,28,FALSE),IF(A14=2026,VLOOKUP(D14,'Intervenants et coûts-j'!$C$17:$AF$47,29,FALSE),IF(A14=2027,VLOOKUP(D14,'Intervenants et coûts-j'!$C$17:$AF$47,30,FALSE))))))))","v":""},"",{"$f":"IF(E14=\"\",\"\",VLOOKUP(C14,'Coûts-indirects'!$A$4:$T$33,20,FALSE)*T14)","v":""},{"$f":"IF(D14=\"\",\"\",IF(V14=\"\",0,VLOOKUP(D14,'Frais-mission'!$B$3:$F$32,5,FALSE)*V14))","v":""},{"$f":"IF(D14=\"\",\"\",IF(W14=\"\",0,VLOOKUP(D14,'Frais-mission'!$B$3:$G$32,6,FALSE)*W14))","v":""},"","",{"$f":"IF(B14=\"\",\"\",IF(LEFT(B14,18)=\"Réunion collective\",350-SUMIF($B$6:B13,B14,$AH$6:AH13),\"\"))","v":""},"","",null,null,{"$f":"\"ListeIntervenants\"&VLOOKUP(C14,'Intervenants et coûts-j'!$B$5:$C$14,2,FALSE)","v":{"$error":"#N/A"}}]
[null,null,null,null,null,null,null,null,{"$f":"IF(D15=\"\",\"\",IF(A15=2022,VLOOKUP(D15,'Intervenants et coûts-j'!$C$17:$P$47,3,FALSE),IF(A15=2023,VLOOKUP(D15,'Intervenants et coûts-j'!$C$17:$P$47,4,FALSE),IF(A15=2024,VLOOKUP(D15,'Intervenants et coûts-j'!$C$17:$P$47,5,FALSE),IF(A15=2025,VLOOKUP(D15,'Intervenants et coûts-j'!$C$17:$P$47,6,FALSE),IF(A15=2026,VLOOKUP(D15,'Intervenants et coûts-j'!$C$17:$P$47,7,FALSE),IF(A15=2027,VLOOKUP(D15,'Intervenants et coûts-j'!$C$17:$P$47,8,FALSE))))))))","v":""},{"$f":"IF(D15=\"\",\"\",IF(A15=2022,VLOOKUP(D15,'Intervenants et coûts-j'!$C$17:$P$47,9,FALSE),IF(A15=2023,VLOOKUP(D15,'Intervenants et coûts-j'!$C$17:$P$47,10,FALSE),IF(A15=2024,VLOOKUP(D15,'Intervenants et coûts-j'!$C$17:$P$47,11,FALSE),IF(A15=2025,VLOOKUP(D15,'Intervenants et coûts-j'!$C$17:$P$47,12,FALSE),IF(A15=2026,VLOOKUP(D15,'Intervenants et coûts-j'!$C$17:$P$47,13,FALSE),IF(A15=2027,VLOOKUP(D15,'Intervenants et coûts-j'!$C$17:$P$47,14,FALSE))))))))","v":""},"",{"$f":"IF(E15=\"\",\"\",VLOOKUP(C15,'Coûts-indirects'!$A$4:$K$33,11,FALSE)*E15)","v":""},{"$f":"IF(D15=\"\",\"\",VLOOKUP(D15,'Frais-mission'!$B$3:$E$32,3,FALSE)*G15)","v":""},{"$f":"IF(D15=\"\",\"\",VLOOKUP(D15,'Frais-mission'!$B$3:$E$32,4,FALSE)*H15)","v":""},"","",{"$f":"IF(B15=\"\",\"\",IF(LEFT(B15,18)=\"Réunion collective\",350-SUMIF($B$6:B14,B15,$S$6:S14),\"\"))","v":""},"","","","","","",{"$f":"IF(D15=\"\",\"\",IF(A15=2022,VLOOKUP(D15,'Intervenants et coûts-j'!$C$17:$AF$47,19,FALSE),IF(A15=2023,VLOOKUP(D15,'Intervenants et coûts-j'!$C$17:$AF$47,20,FALSE),IF(A15=2024,VLOOKUP(D15,'Intervenants et coûts-j'!$C$17:$AF$47,21,FALSE),IF(A15=2025,VLOOKUP(D15,'Intervenants et coûts-j'!$C$17:$AF$47,22,FALSE),IF(A15=2026,VLOOKUP(D15,'Intervenants et coûts-j'!$C$17:$AF$47,23,FALSE),IF(A15=2027,VLOOKUP(D15,'Intervenants et coûts-j'!$C$17:$AF$47,24,FALSE))))))))","v":""},{"$f":"IF(D15=\"\",\"\",IF(A15=2022,VLOOKUP(D15,'Intervenants et coûts-j'!$C$17:$AF$47,25,FALSE),IF(A15=2023,VLOOKUP(D15,'Intervenants et coûts-j'!$C$17:$AF$47,26,FALSE),IF(A15=2024,VLOOKUP(D15,'Intervenants et coûts-j'!$C$17:$AF$47,27,FALSE),IF(A15=2025,VLOOKUP(D15,'Intervenants et coûts-j'!$C$17:$AF$47,28,FALSE),IF(A15=2026,VLOOKUP(D15,'Intervenants et coûts-j'!$C$17:$AF$47,29,FALSE),IF(A15=2027,VLOOKUP(D15,'Intervenants et coûts-j'!$C$17:$AF$47,30,FALSE))))))))","v":""},"",{"$f":"IF(E15=\"\",\"\",VLOOKUP(C15,'Coûts-indirects'!$A$4:$T$33,20,FALSE)*T15)","v":""},{"$f":"IF(D15=\"\",\"\",IF(V15=\"\",0,VLOOKUP(D15,'Frais-mission'!$B$3:$F$32,5,FALSE)*V15))","v":""},{"$f":"IF(D15=\"\",\"\",IF(W15=\"\",0,VLOOKUP(D15,'Frais-mission'!$B$3:$G$32,6,FALSE)*W15))","v":""},"","",{"$f":"IF(B15=\"\",\"\",IF(LEFT(B15,18)=\"Réunion collective\",350-SUMIF($B$6:B14,B15,$AH$6:AH14),\"\"))","v":""},"","",null,null,{"$f":"\"ListeIntervenants\"&VLOOKUP(C15,'Intervenants et coûts-j'!$B$5:$C$14,2,FALSE)","v":{"$error":"#N/A"}}]
[null,null,null,null,null,null,null,null,{"$f":"IF(D16=\"\",\"\",IF(A16=2022,VLOOKUP(D16,'Intervenants et coûts-j'!$C$17:$P$47,3,FALSE),IF(A16=2023,VLOOKUP(D16,'Intervenants et coûts-j'!$C$17:$P$47,4,FALSE),IF(A16=2024,VLOOKUP(D16,'Intervenants et coûts-j'!$C$17:$P$47,5,FALSE),IF(A16=2025,VLOOKUP(D16,'Intervenants et coûts-j'!$C$17:$P$47,6,FALSE),IF(A16=2026,VLOOKUP(D16,'Intervenants et coûts-j'!$C$17:$P$47,7,FALSE),IF(A16=2027,VLOOKUP(D16,'Intervenants et coûts-j'!$C$17:$P$47,8,FALSE))))))))","v":""},{"$f":"IF(D16=\"\",\"\",IF(A16=2022,VLOOKUP(D16,'Intervenants et coûts-j'!$C$17:$P$47,9,FALSE),IF(A16=2023,VLOOKUP(D16,'Intervenants et coûts-j'!$C$17:$P$47,10,FALSE),IF(A16=2024,VLOOKUP(D16,'Intervenants et coûts-j'!$C$17:$P$47,11,FALSE),IF(A16=2025,VLOOKUP(D16,'Intervenants et coûts-j'!$C$17:$P$47,12,FALSE),IF(A16=2026,VLOOKUP(D16,'Intervenants et coûts-j'!$C$17:$P$47,13,FALSE),IF(A16=2027,VLOOKUP(D16,'Intervenants et coûts-j'!$C$17:$P$47,14,FALSE))))))))","v":""},"",{"$f":"IF(E16=\"\",\"\",VLOOKUP(C16,'Coûts-indirects'!$A$4:$K$33,11,FALSE)*E16)","v":""},{"$f":"IF(D16=\"\",\"\",VLOOKUP(D16,'Frais-mission'!$B$3:$E$32,3,FALSE)*G16)","v":""},{"$f":"IF(D16=\"\",\"\",VLOOKUP(D16,'Frais-mission'!$B$3:$E$32,4,FALSE)*H16)","v":""},"","",{"$f":"IF(B16=\"\",\"\",IF(LEFT(B16,18)=\"Réunion collective\",350-SUMIF($B$6:B15,B16,$S$6:S15),\"\"))","v":""},"","","","","","",{"$f":"IF(D16=\"\",\"\",IF(A16=2022,VLOOKUP(D16,'Intervenants et coûts-j'!$C$17:$AF$47,19,FALSE),IF(A16=2023,VLOOKUP(D16,'Intervenants et coûts-j'!$C$17:$AF$47,20,FALSE),IF(A16=2024,VLOOKUP(D16,'Intervenants et coûts-j'!$C$17:$AF$47,21,FALSE),IF(A16=2025,VLOOKUP(D16,'Intervenants et coûts-j'!$C$17:$AF$47,22,FALSE),IF(A16=2026,VLOOKUP(D16,'Intervenants et coûts-j'!$C$17:$AF$47,23,FALSE),IF(A16=2027,VLOOKUP(D16,'Intervenants et coûts-j'!$C$17:$AF$47,24,FALSE))))))))","v":""},{"$f":"IF(D16=\"\",\"\",IF(A16=2022,VLOOKUP(D16,'Intervenants et coûts-j'!$C$17:$AF$47,25,FALSE),IF(A16=2023,VLOOKUP(D16,'Intervenants et coûts-j'!$C$17:$AF$47,26,FALSE),IF(A16=2024,VLOOKUP(D16,'Intervenants et coûts-j'!$C$17:$AF$47,27,FALSE),IF(A16=2025,VLOOKUP(D16,'Intervenants et coûts-j'!$C$17:$AF$47,28,FALSE),IF(A16=2026,VLOOKUP(D16,'Intervenants et coûts-j'!$C$17:$AF$47,29,FALSE),IF(A16=2027,VLOOKUP(D16,'Intervenants et coûts-j'!$C$17:$AF$47,30,FALSE))))))))","v":""},"",{"$f":"IF(E16=\"\",\"\",VLOOKUP(C16,'Coûts-indirects'!$A$4:$T$33,20,FALSE)*T16)","v":""},{"$f":"IF(D16=\"\",\"\",IF(V16=\"\",0,VLOOKUP(D16,'Frais-mission'!$B$3:$F$32,5,FALSE)*V16))","v":""},{"$f":"IF(D16=\"\",\"\",IF(W16=\"\",0,VLOOKUP(D16,'Frais-mission'!$B$3:$G$32,6,FALSE)*W16))","v":""},"","",{"$f":"IF(B16=\"\",\"\",IF(LEFT(B16,18)=\"Réunion collective\",350-SUMIF($B$6:B15,B16,$AH$6:AH15),\"\"))","v":""},"","",null,null,{"$f":"\"ListeIntervenants\"&VLOOKUP(C16,'Intervenants et coûts-j'!$B$5:$C$14,2,FALSE)","v":{"$error":"#N/A"}}]
[null,null,null,null,null,null,null,null,{"$f":"IF(D17=\"\",\"\",IF(A17=2022,VLOOKUP(D17,'Intervenants et coûts-j'!$C$17:$P$47,3,FALSE),IF(A17=2023,VLOOKUP(D17,'Intervenants et coûts-j'!$C$17:$P$47,4,FALSE),IF(A17=2024,VLOOKUP(D17,'Intervenants et coûts-j'!$C$17:$P$47,5,FALSE),IF(A17=2025,VLOOKUP(D17,'Intervenants et coûts-j'!$C$17:$P$47,6,FALSE),IF(A17=2026,VLOOKUP(D17,'Intervenants et coûts-j'!$C$17:$P$47,7,FALSE),IF(A17=2027,VLOOKUP(D17,'Intervenants et coûts-j'!$C$17:$P$47,8,FALSE))))))))","v":""},{"$f":"IF(D17=\"\",\"\",IF(A17=2022,VLOOKUP(D17,'Intervenants et coûts-j'!$C$17:$P$47,9,FALSE),IF(A17=2023,VLOOKUP(D17,'Intervenants et coûts-j'!$C$17:$P$47,10,FALSE),IF(A17=2024,VLOOKUP(D17,'Intervenants et coûts-j'!$C$17:$P$47,11,FALSE),IF(A17=2025,VLOOKUP(D17,'Intervenants et coûts-j'!$C$17:$P$47,12,FALSE),IF(A17=2026,VLOOKUP(D17,'Intervenants et coûts-j'!$C$17:$P$47,13,FALSE),IF(A17=2027,VLOOKUP(D17,'Intervenants et coûts-j'!$C$17:$P$47,14,FALSE))))))))","v":""},"",{"$f":"IF(E17=\"\",\"\",VLOOKUP(C17,'Coûts-indirects'!$A$4:$K$33,11,FALSE)*E17)","v":""},{"$f":"IF(D17=\"\",\"\",VLOOKUP(D17,'Frais-mission'!$B$3:$E$32,3,FALSE)*G17)","v":""},{"$f":"IF(D17=\"\",\"\",VLOOKUP(D17,'Frais-mission'!$B$3:$E$32,4,FALSE)*H17)","v":""},"","",{"$f":"IF(B17=\"\",\"\",IF(LEFT(B17,18)=\"Réunion collective\",350-SUMIF($B$6:B16,B17,$S$6:S16),\"\"))","v":""},"","","","","","",{"$f":"IF(D17=\"\",\"\",IF(A17=2022,VLOOKUP(D17,'Intervenants et coûts-j'!$C$17:$AF$47,19,FALSE),IF(A17=2023,VLOOKUP(D17,'Intervenants et coûts-j'!$C$17:$AF$47,20,FALSE),IF(A17=2024,VLOOKUP(D17,'Intervenants et coûts-j'!$C$17:$AF$47,21,FALSE),IF(A17=2025,VLOOKUP(D17,'Intervenants et coûts-j'!$C$17:$AF$47,22,FALSE),IF(A17=2026,VLOOKUP(D17,'Intervenants et coûts-j'!$C$17:$AF$47,23,FALSE),IF(A17=2027,VLOOKUP(D17,'Intervenants et coûts-j'!$C$17:$AF$47,24,FALSE))))))))","v":""},{"$f":"IF(D17=\"\",\"\",IF(A17=2022,VLOOKUP(D17,'Intervenants et coûts-j'!$C$17:$AF$47,25,FALSE),IF(A17=2023,VLOOKUP(D17,'Intervenants et coûts-j'!$C$17:$AF$47,26,FALSE),IF(A17=2024,VLOOKUP(D17,'Intervenants et coûts-j'!$C$17:$AF$47,27,FALSE),IF(A17=2025,VLOOKUP(D17,'Intervenants et coûts-j'!$C$17:$AF$47,28,FALSE),IF(A17=2026,VLOOKUP(D17,'Intervenants et coûts-j'!$C$17:$AF$47,29,FALSE),IF(A17=2027,VLOOKUP(D17,'Intervenants et coûts-j'!$C$17:$AF$47,30,FALSE))))))))","v":""},"",{"$f":"IF(E17=\"\",\"\",VLOOKUP(C17,'Coûts-indirects'!$A$4:$T$33,20,FALSE)*T17)","v":""},{"$f":"IF(D17=\"\",\"\",IF(V17=\"\",0,VLOOKUP(D17,'Frais-mission'!$B$3:$F$32,5,FALSE)*V17))","v":""},{"$f":"IF(D17=\"\",\"\",IF(W17=\"\",0,VLOOKUP(D17,'Frais-mission'!$B$3:$G$32,6,FALSE)*W17))","v":""},"","",{"$f":"IF(B17=\"\",\"\",IF(LEFT(B17,18)=\"Réunion collective\",350-SUMIF($B$6:B16,B17,$AH$6:AH16),\"\"))","v":""},"","",null,null,{"$f":"\"ListeIntervenants\"&VLOOKUP(C17,'Intervenants et coûts-j'!$B$5:$C$14,2,FALSE)","v":{"$error":"#N/A"}}]
[null,null,null,null,null,null,null,null,{"$f":"IF(D18=\"\",\"\",IF(A18=2022,VLOOKUP(D18,'Intervenants et coûts-j'!$C$17:$P$47,3,FALSE),IF(A18=2023,VLOOKUP(D18,'Intervenants et coûts-j'!$C$17:$P$47,4,FALSE),IF(A18=2024,VLOOKUP(D18,'Intervenants et coûts-j'!$C$17:$P$47,5,FALSE),IF(A18=2025,VLOOKUP(D18,'Intervenants et coûts-j'!$C$17:$P$47,6,FALSE),IF(A18=2026,VLOOKUP(D18,'Intervenants et coûts-j'!$C$17:$P$47,7,FALSE),IF(A18=2027,VLOOKUP(D18,'Intervenants et coûts-j'!$C$17:$P$47,8,FALSE))))))))","v":""},{"$f":"IF(D18=\"\",\"\",IF(A18=2022,VLOOKUP(D18,'Intervenants et coûts-j'!$C$17:$P$47,9,FALSE),IF(A18=2023,VLOOKUP(D18,'Intervenants et coûts-j'!$C$17:$P$47,10,FALSE),IF(A18=2024,VLOOKUP(D18,'Intervenants et coûts-j'!$C$17:$P$47,11,FALSE),IF(A18=2025,VLOOKUP(D18,'Intervenants et coûts-j'!$C$17:$P$47,12,FALSE),IF(A18=2026,VLOOKUP(D18,'Intervenants et coûts-j'!$C$17:$P$47,13,FALSE),IF(A18=2027,VLOOKUP(D18,'Intervenants et coûts-j'!$C$17:$P$47,14,FALSE))))))))","v":""},"",{"$f":"IF(E18=\"\",\"\",VLOOKUP(C18,'Coûts-indirects'!$A$4:$K$33,11,FALSE)*E18)","v":""},{"$f":"IF(D18=\"\",\"\",VLOOKUP(D18,'Frais-mission'!$B$3:$E$32,3,FALSE)*G18)","v":""},{"$f":"IF(D18=\"\",\"\",VLOOKUP(D18,'Frais-mission'!$B$3:$E$32,4,FALSE)*H18)","v":""},"","",{"$f":"IF(B18=\"\",\"\",IF(LEFT(B18,18)=\"Réunion collective\",350-SUMIF($B$6:B17,B18,$S$6:S17),\"\"))","v":""},"","","","","","",{"$f":"IF(D18=\"\",\"\",IF(A18=2022,VLOOKUP(D18,'Intervenants et coûts-j'!$C$17:$AF$47,19,FALSE),IF(A18=2023,VLOOKUP(D18,'Intervenants et coûts-j'!$C$17:$AF$47,20,FALSE),IF(A18=2024,VLOOKUP(D18,'Intervenants et coûts-j'!$C$17:$AF$47,21,FALSE),IF(A18=2025,VLOOKUP(D18,'Intervenants et coûts-j'!$C$17:$AF$47,22,FALSE),IF(A18=2026,VLOOKUP(D18,'Intervenants et coûts-j'!$C$17:$AF$47,23,FALSE),IF(A18=2027,VLOOKUP(D18,'Intervenants et coûts-j'!$C$17:$AF$47,24,FALSE))))))))","v":""},{"$f":"IF(D18=\"\",\"\",IF(A18=2022,VLOOKUP(D18,'Intervenants et coûts-j'!$C$17:$AF$47,25,FALSE),IF(A18=2023,VLOOKUP(D18,'Intervenants et coûts-j'!$C$17:$AF$47,26,FALSE),IF(A18=2024,VLOOKUP(D18,'Intervenants et coûts-j'!$C$17:$AF$47,27,FALSE),IF(A18=2025,VLOOKUP(D18,'Intervenants et coûts-j'!$C$17:$AF$47,28,FALSE),IF(A18=2026,VLOOKUP(D18,'Intervenants et coûts-j'!$C$17:$AF$47,29,FALSE),IF(A18=2027,VLOOKUP(D18,'Intervenants et coûts-j'!$C$17:$AF$47,30,FALSE))))))))","v":""},"",{"$f":"IF(E18=\"\",\"\",VLOOKUP(C18,'Coûts-indirects'!$A$4:$T$33,20,FALSE)*T18)","v":""},{"$f":"IF(D18=\"\",\"\",IF(V18=\"\",0,VLOOKUP(D18,'Frais-mission'!$B$3:$F$32,5,FALSE)*V18))","v":""},{"$f":"IF(D18=\"\",\"\",IF(W18=\"\",0,VLOOKUP(D18,'Frais-mission'!$B$3:$G$32,6,FALSE)*W18))","v":""},"","",{"$f":"IF(B18=\"\",\"\",IF(LEFT(B18,18)=\"Réunion collective\",350-SUMIF($B$6:B17,B18,$AH$6:AH17),\"\"))","v":""},"","",null,null,{"$f":"\"ListeIntervenants\"&VLOOKUP(C18,'Intervenants et coûts-j'!$B$5:$C$14,2,FALSE)","v":{"$error":"#N/A"}}]
[null,null,null,null,null,null,null,null,{"$f":"IF(D19=\"\",\"\",IF(A19=2022,VLOOKUP(D19,'Intervenants et coûts-j'!$C$17:$P$47,3,FALSE),IF(A19=2023,VLOOKUP(D19,'Intervenants et coûts-j'!$C$17:$P$47,4,FALSE),IF(A19=2024,VLOOKUP(D19,'Intervenants et coûts-j'!$C$17:$P$47,5,FALSE),IF(A19=2025,VLOOKUP(D19,'Intervenants et coûts-j'!$C$17:$P$47,6,FALSE),IF(A19=2026,VLOOKUP(D19,'Intervenants et coûts-j'!$C$17:$P$47,7,FALSE),IF(A19=2027,VLOOKUP(D19,'Intervenants et coûts-j'!$C$17:$P$47,8,FALSE))))))))","v":""},{"$f":"IF(D19=\"\",\"\",IF(A19=2022,VLOOKUP(D19,'Intervenants et coûts-j'!$C$17:$P$47,9,FALSE),IF(A19=2023,VLOOKUP(D19,'Intervenants et coûts-j'!$C$17:$P$47,10,FALSE),IF(A19=2024,VLOOKUP(D19,'Intervenants et coûts-j'!$C$17:$P$47,11,FALSE),IF(A19=2025,VLOOKUP(D19,'Intervenants et coûts-j'!$C$17:$P$47,12,FALSE),IF(A19=2026,VLOOKUP(D19,'Intervenants et coûts-j'!$C$17:$P$47,13,FALSE),IF(A19=2027,VLOOKUP(D19,'Intervenants et coûts-j'!$C$17:$P$47,14,FALSE))))))))","v":""},"",{"$f":"IF(E19=\"\",\"\",VLOOKUP(C19,'Coûts-indirects'!$A$4:$K$33,11,FALSE)*E19)","v":""},{"$f":"IF(D19=\"\",\"\",VLOOKUP(D19,'Frais-mission'!$B$3:$E$32,3,FALSE)*G19)","v":""},{"$f":"IF(D19=\"\",\"\",VLOOKUP(D19,'Frais-mission'!$B$3:$E$32,4,FALSE)*H19)","v":""},"","",{"$f":"IF(B19=\"\",\"\",IF(LEFT(B19,18)=\"Réunion collective\",350-SUMIF($B$6:B18,B19,$S$6:S18),\"\"))","v":""},"","","","","","",{"$f":"IF(D19=\"\",\"\",IF(A19=2022,VLOOKUP(D19,'Intervenants et coûts-j'!$C$17:$AF$47,19,FALSE),IF(A19=2023,VLOOKUP(D19,'Intervenants et coûts-j'!$C$17:$AF$47,20,FALSE),IF(A19=2024,VLOOKUP(D19,'Intervenants et coûts-j'!$C$17:$AF$47,21,FALSE),IF(A19=2025,VLOOKUP(D19,'Intervenants et coûts-j'!$C$17:$AF$47,22,FALSE),IF(A19=2026,VLOOKUP(D19,'Intervenants et coûts-j'!$C$17:$AF$47,23,FALSE),IF(A19=2027,VLOOKUP(D19,'Intervenants et coûts-j'!$C$17:$AF$47,24,FALSE))))))))","v":""},{"$f":"IF(D19=\"\",\"\",IF(A19=2022,VLOOKUP(D19,'Intervenants et coûts-j'!$C$17:$AF$47,25,FALSE),IF(A19=2023,VLOOKUP(D19,'Intervenants et coûts-j'!$C$17:$AF$47,26,FALSE),IF(A19=2024,VLOOKUP(D19,'Intervenants et coûts-j'!$C$17:$AF$47,27,FALSE),IF(A19=2025,VLOOKUP(D19,'Intervenants et coûts-j'!$C$17:$AF$47,28,FALSE),IF(A19=2026,VLOOKUP(D19,'Intervenants et coûts-j'!$C$17:$AF$47,29,FALSE),IF(A19=2027,VLOOKUP(D19,'Intervenants et coûts-j'!$C$17:$AF$47,30,FALSE))))))))","v":""},"",{"$f":"IF(E19=\"\",\"\",VLOOKUP(C19,'Coûts-indirects'!$A$4:$T$33,20,FALSE)*T19)","v":""},{"$f":"IF(D19=\"\",\"\",IF(V19=\"\",0,VLOOKUP(D19,'Frais-mission'!$B$3:$F$32,5,FALSE)*V19))","v":""},{"$f":"IF(D19=\"\",\"\",IF(W19=\"\",0,VLOOKUP(D19,'Frais-mission'!$B$3:$G$32,6,FALSE)*W19))","v":""},"","",{"$f":"IF(B19=\"\",\"\",IF(LEFT(B19,18)=\"Réunion collective\",350-SUMIF($B$6:B18,B19,$AH$6:AH18),\"\"))","v":""},"","",null,null,{"$f":"\"ListeIntervenants\"&VLOOKUP(C19,'Intervenants et coûts-j'!$B$5:$C$14,2,FALSE)","v":{"$error":"#N/A"}}]
[null,null,null,null,null,null,null,null,{"$f":"IF(D20=\"\",\"\",IF(A20=2022,VLOOKUP(D20,'Intervenants et coûts-j'!$C$17:$P$47,3,FALSE),IF(A20=2023,VLOOKUP(D20,'Intervenants et coûts-j'!$C$17:$P$47,4,FALSE),IF(A20=2024,VLOOKUP(D20,'Intervenants et coûts-j'!$C$17:$P$47,5,FALSE),IF(A20=2025,VLOOKUP(D20,'Intervenants et coûts-j'!$C$17:$P$47,6,FALSE),IF(A20=2026,VLOOKUP(D20,'Intervenants et coûts-j'!$C$17:$P$47,7,FALSE),IF(A20=2027,VLOOKUP(D20,'Intervenants et coûts-j'!$C$17:$P$47,8,FALSE))))))))","v":""},{"$f":"IF(D20=\"\",\"\",IF(A20=2022,VLOOKUP(D20,'Intervenants et coûts-j'!$C$17:$P$47,9,FALSE),IF(A20=2023,VLOOKUP(D20,'Intervenants et coûts-j'!$C$17:$P$47,10,FALSE),IF(A20=2024,VLOOKUP(D20,'Intervenants et coûts-j'!$C$17:$P$47,11,FALSE),IF(A20=2025,VLOOKUP(D20,'Intervenants et coûts-j'!$C$17:$P$47,12,FALSE),IF(A20=2026,VLOOKUP(D20,'Intervenants et coûts-j'!$C$17:$P$47,13,FALSE),IF(A20=2027,VLOOKUP(D20,'Intervenants et coûts-j'!$C$17:$P$47,14,FALSE))))))))","v":""},"",{"$f":"IF(E20=\"\",\"\",VLOOKUP(C20,'Coûts-indirects'!$A$4:$K$33,11,FALSE)*E20)","v":""},{"$f":"IF(D20=\"\",\"\",VLOOKUP(D20,'Frais-mission'!$B$3:$E$32,3,FALSE)*G20)","v":""},{"$f":"IF(D20=\"\",\"\",VLOOKUP(D20,'Frais-mission'!$B$3:$E$32,4,FALSE)*H20)","v":""},"","",{"$f":"IF(B20=\"\",\"\",IF(LEFT(B20,18)=\"Réunion collective\",350-SUMIF($B$6:B19,B20,$S$6:S19),\"\"))","v":""},"","","","","","",{"$f":"IF(D20=\"\",\"\",IF(A20=2022,VLOOKUP(D20,'Intervenants et coûts-j'!$C$17:$AF$47,19,FALSE),IF(A20=2023,VLOOKUP(D20,'Intervenants et coûts-j'!$C$17:$AF$47,20,FALSE),IF(A20=2024,VLOOKUP(D20,'Intervenants et coûts-j'!$C$17:$AF$47,21,FALSE),IF(A20=2025,VLOOKUP(D20,'Intervenants et coûts-j'!$C$17:$AF$47,22,FALSE),IF(A20=2026,VLOOKUP(D20,'Intervenants et coûts-j'!$C$17:$AF$47,23,FALSE),IF(A20=2027,VLOOKUP(D20,'Intervenants et coûts-j'!$C$17:$AF$47,24,FALSE))))))))","v":""},{"$f":"IF(D20=\"\",\"\",IF(A20=2022,VLOOKUP(D20,'Intervenants et coûts-j'!$C$17:$AF$47,25,FALSE),IF(A20=2023,VLOOKUP(D20,'Intervenants et coûts-j'!$C$17:$AF$47,26,FALSE),IF(A20=2024,VLOOKUP(D20,'Intervenants et coûts-j'!$C$17:$AF$47,27,FALSE),IF(A20=2025,VLOOKUP(D20,'Intervenants et coûts-j'!$C$17:$AF$47,28,FALSE),IF(A20=2026,VLOOKUP(D20,'Intervenants et coûts-j'!$C$17:$AF$47,29,FALSE),IF(A20=2027,VLOOKUP(D20,'Intervenants et coûts-j'!$C$17:$AF$47,30,FALSE))))))))","v":""},"",{"$f":"IF(E20=\"\",\"\",VLOOKUP(C20,'Coûts-indirects'!$A$4:$T$33,20,FALSE)*T20)","v":""},{"$f":"IF(D20=\"\",\"\",IF(V20=\"\",0,VLOOKUP(D20,'Frais-mission'!$B$3:$F$32,5,FALSE)*V20))","v":""},{"$f":"IF(D20=\"\",\"\",IF(W20=\"\",0,VLOOKUP(D20,'Frais-mission'!$B$3:$G$32,6,FALSE)*W20))","v":""},"","",{"$f":"IF(B20=\"\",\"\",IF(LEFT(B20,18)=\"Réunion collective\",350-SUMIF($B$6:B19,B20,$AH$6:AH19),\"\"))","v":""},"","",null,null,{"$f":"\"ListeIntervenants\"&VLOOKUP(C20,'Intervenants et coûts-j'!$B$5:$C$14,2,FALSE)","v":{"$error":"#N/A"}}]
[null,null,null,null,null,null,null,null,{"$f":"IF(D21=\"\",\"\",IF(A21=2022,VLOOKUP(D21,'Intervenants et coûts-j'!$C$17:$P$47,3,FALSE),IF(A21=2023,VLOOKUP(D21,'Intervenants et coûts-j'!$C$17:$P$47,4,FALSE),IF(A21=2024,VLOOKUP(D21,'Intervenants et coûts-j'!$C$17:$P$47,5,FALSE),IF(A21=2025,VLOOKUP(D21,'Intervenants et coûts-j'!$C$17:$P$47,6,FALSE),IF(A21=2026,VLOOKUP(D21,'Intervenants et coûts-j'!$C$17:$P$47,7,FALSE),IF(A21=2027,VLOOKUP(D21,'Intervenants et coûts-j'!$C$17:$P$47,8,FALSE))))))))","v":""},{"$f":"IF(D21=\"\",\"\",IF(A21=2022,VLOOKUP(D21,'Intervenants et coûts-j'!$C$17:$P$47,9,FALSE),IF(A21=2023,VLOOKUP(D21,'Intervenants et coûts-j'!$C$17:$P$47,10,FALSE),IF(A21=2024,VLOOKUP(D21,'Intervenants et coûts-j'!$C$17:$P$47,11,FALSE),IF(A21=2025,VLOOKUP(D21,'Intervenants et coûts-j'!$C$17:$P$47,12,FALSE),IF(A21=2026,VLOOKUP(D21,'Intervenants et coûts-j'!$C$17:$P$47,13,FALSE),IF(A21=2027,VLOOKUP(D21,'Intervenants et coûts-j'!$C$17:$P$47,14,FALSE))))))))","v":""},"",{"$f":"IF(E21=\"\",\"\",VLOOKUP(C21,'Coûts-indirects'!$A$4:$K$33,11,FALSE)*E21)","v":""},{"$f":"IF(D21=\"\",\"\",VLOOKUP(D21,'Frais-mission'!$B$3:$E$32,3,FALSE)*G21)","v":""},{"$f":"IF(D21=\"\",\"\",VLOOKUP(D21,'Frais-mission'!$B$3:$E$32,4,FALSE)*H21)","v":""},"","",{"$f":"IF(B21=\"\",\"\",IF(LEFT(B21,18)=\"Réunion collective\",350-SUMIF($B$6:B20,B21,$S$6:S20),\"\"))","v":""},"","","","","","",{"$f":"IF(D21=\"\",\"\",IF(A21=2022,VLOOKUP(D21,'Intervenants et coûts-j'!$C$17:$AF$47,19,FALSE),IF(A21=2023,VLOOKUP(D21,'Intervenants et coûts-j'!$C$17:$AF$47,20,FALSE),IF(A21=2024,VLOOKUP(D21,'Intervenants et coûts-j'!$C$17:$AF$47,21,FALSE),IF(A21=2025,VLOOKUP(D21,'Intervenants et coûts-j'!$C$17:$AF$47,22,FALSE),IF(A21=2026,VLOOKUP(D21,'Intervenants et coûts-j'!$C$17:$AF$47,23,FALSE),IF(A21=2027,VLOOKUP(D21,'Intervenants et coûts-j'!$C$17:$AF$47,24,FALSE))))))))","v":""},{"$f":"IF(D21=\"\",\"\",IF(A21=2022,VLOOKUP(D21,'Intervenants et coûts-j'!$C$17:$AF$47,25,FALSE),IF(A21=2023,VLOOKUP(D21,'Intervenants et coûts-j'!$C$17:$AF$47,26,FALSE),IF(A21=2024,VLOOKUP(D21,'Intervenants et coûts-j'!$C$17:$AF$47,27,FALSE),IF(A21=2025,VLOOKUP(D21,'Intervenants et coûts-j'!$C$17:$AF$47,28,FALSE),IF(A21=2026,VLOOKUP(D21,'Intervenants et coûts-j'!$C$17:$AF$47,29,FALSE),IF(A21=2027,VLOOKUP(D21,'Intervenants et coûts-j'!$C$17:$AF$47,30,FALSE))))))))","v":""},"",{"$f":"IF(E21=\"\",\"\",VLOOKUP(C21,'Coûts-indirects'!$A$4:$T$33,20,FALSE)*T21)","v":""},{"$f":"IF(D21=\"\",\"\",IF(V21=\"\",0,VLOOKUP(D21,'Frais-mission'!$B$3:$F$32,5,FALSE)*V21))","v":""},{"$f":"IF(D21=\"\",\"\",IF(W21=\"\",0,VLOOKUP(D21,'Frais-mission'!$B$3:$G$32,6,FALSE)*W21))","v":""},"","",{"$f":"IF(B21=\"\",\"\",IF(LEFT(B21,18)=\"Réunion collective\",350-SUMIF($B$6:B20,B21,$AH$6:AH20),\"\"))","v":""},"","",null,null,{"$f":"\"ListeIntervenants\"&VLOOKUP(C21,'Intervenants et coûts-j'!$B$5:$C$14,2,FALSE)","v":{"$error":"#N/A"}}]
[null,null,null,null,null,null,null,null,{"$f":"IF(D22=\"\",\"\",IF(A22=2022,VLOOKUP(D22,'Intervenants et coûts-j'!$C$17:$P$47,3,FALSE),IF(A22=2023,VLOOKUP(D22,'Intervenants et coûts-j'!$C$17:$P$47,4,FALSE),IF(A22=2024,VLOOKUP(D22,'Intervenants et coûts-j'!$C$17:$P$47,5,FALSE),IF(A22=2025,VLOOKUP(D22,'Intervenants et coûts-j'!$C$17:$P$47,6,FALSE),IF(A22=2026,VLOOKUP(D22,'Intervenants et coûts-j'!$C$17:$P$47,7,FALSE),IF(A22=2027,VLOOKUP(D22,'Intervenants et coûts-j'!$C$17:$P$47,8,FALSE))))))))","v":""},{"$f":"IF(D22=\"\",\"\",IF(A22=2022,VLOOKUP(D22,'Intervenants et coûts-j'!$C$17:$P$47,9,FALSE),IF(A22=2023,VLOOKUP(D22,'Intervenants et coûts-j'!$C$17:$P$47,10,FALSE),IF(A22=2024,VLOOKUP(D22,'Intervenants et coûts-j'!$C$17:$P$47,11,FALSE),IF(A22=2025,VLOOKUP(D22,'Intervenants et coûts-j'!$C$17:$P$47,12,FALSE),IF(A22=2026,VLOOKUP(D22,'Intervenants et coûts-j'!$C$17:$P$47,13,FALSE),IF(A22=2027,VLOOKUP(D22,'Intervenants et coûts-j'!$C$17:$P$47,14,FALSE))))))))","v":""},"",{"$f":"IF(E22=\"\",\"\",VLOOKUP(C22,'Coûts-indirects'!$A$4:$K$33,11,FALSE)*E22)","v":""},{"$f":"IF(D22=\"\",\"\",VLOOKUP(D22,'Frais-mission'!$B$3:$E$32,3,FALSE)*G22)","v":""},{"$f":"IF(D22=\"\",\"\",VLOOKUP(D22,'Frais-mission'!$B$3:$E$32,4,FALSE)*H22)","v":""},"","",{"$f":"IF(B22=\"\",\"\",IF(LEFT(B22,18)=\"Réunion collective\",350-SUMIF($B$6:B21,B22,$S$6:S21),\"\"))","v":""},"","","","","","",{"$f":"IF(D22=\"\",\"\",IF(A22=2022,VLOOKUP(D22,'Intervenants et coûts-j'!$C$17:$AF$47,19,FALSE),IF(A22=2023,VLOOKUP(D22,'Intervenants et coûts-j'!$C$17:$AF$47,20,FALSE),IF(A22=2024,VLOOKUP(D22,'Intervenants et coûts-j'!$C$17:$AF$47,21,FALSE),IF(A22=2025,VLOOKUP(D22,'Intervenants et coûts-j'!$C$17:$AF$47,22,FALSE),IF(A22=2026,VLOOKUP(D22,'Intervenants et coûts-j'!$C$17:$AF$47,23,FALSE),IF(A22=2027,VLOOKUP(D22,'Intervenants et coûts-j'!$C$17:$AF$47,24,FALSE))))))))","v":""},{"$f":"IF(D22=\"\",\"\",IF(A22=2022,VLOOKUP(D22,'Intervenants et coûts-j'!$C$17:$AF$47,25,FALSE),IF(A22=2023,VLOOKUP(D22,'Intervenants et coûts-j'!$C$17:$AF$47,26,FALSE),IF(A22=2024,VLOOKUP(D22,'Intervenants et coûts-j'!$C$17:$AF$47,27,FALSE),IF(A22=2025,VLOOKUP(D22,'Intervenants et coûts-j'!$C$17:$AF$47,28,FALSE),IF(A22=2026,VLOOKUP(D22,'Intervenants et coûts-j'!$C$17:$AF$47,29,FALSE),IF(A22=2027,VLOOKUP(D22,'Intervenants et coûts-j'!$C$17:$AF$47,30,FALSE))))))))","v":""},"",{"$f":"IF(E22=\"\",\"\",VLOOKUP(C22,'Coûts-indirects'!$A$4:$T$33,20,FALSE)*T22)","v":""},{"$f":"IF(D22=\"\",\"\",IF(V22=\"\",0,VLOOKUP(D22,'Frais-mission'!$B$3:$F$32,5,FALSE)*V22))","v":""},{"$f":"IF(D22=\"\",\"\",IF(W22=\"\",0,VLOOKUP(D22,'Frais-mission'!$B$3:$G$32,6,FALSE)*W22))","v":""},"","",{"$f":"IF(B22=\"\",\"\",IF(LEFT(B22,18)=\"Réunion collective\",350-SUMIF($B$6:B21,B22,$AH$6:AH21),\"\"))","v":""},"","",null,null,{"$f":"\"ListeIntervenants\"&VLOOKUP(C22,'Intervenants et coûts-j'!$B$5:$C$14,2,FALSE)","v":{"$error":"#N/A"}}]
[null,null,null,null,null,null,null,null,{"$f":"IF(D23=\"\",\"\",IF(A23=2022,VLOOKUP(D23,'Intervenants et coûts-j'!$C$17:$P$47,3,FALSE),IF(A23=2023,VLOOKUP(D23,'Intervenants et coûts-j'!$C$17:$P$47,4,FALSE),IF(A23=2024,VLOOKUP(D23,'Intervenants et coûts-j'!$C$17:$P$47,5,FALSE),IF(A23=2025,VLOOKUP(D23,'Intervenants et coûts-j'!$C$17:$P$47,6,FALSE),IF(A23=2026,VLOOKUP(D23,'Intervenants et coûts-j'!$C$17:$P$47,7,FALSE),IF(A23=2027,VLOOKUP(D23,'Intervenants et coûts-j'!$C$17:$P$47,8,FALSE))))))))","v":""},{"$f":"IF(D23=\"\",\"\",IF(A23=2022,VLOOKUP(D23,'Intervenants et coûts-j'!$C$17:$P$47,9,FALSE),IF(A23=2023,VLOOKUP(D23,'Intervenants et coûts-j'!$C$17:$P$47,10,FALSE),IF(A23=2024,VLOOKUP(D23,'Intervenants et coûts-j'!$C$17:$P$47,11,FALSE),IF(A23=2025,VLOOKUP(D23,'Intervenants et coûts-j'!$C$17:$P$47,12,FALSE),IF(A23=2026,VLOOKUP(D23,'Intervenants et coûts-j'!$C$17:$P$47,13,FALSE),IF(A23=2027,VLOOKUP(D23,'Intervenants et coûts-j'!$C$17:$P$47,14,FALSE))))))))","v":""},"",{"$f":"IF(E23=\"\",\"\",VLOOKUP(C23,'Coûts-indirects'!$A$4:$K$33,11,FALSE)*E23)","v":""},{"$f":"IF(D23=\"\",\"\",VLOOKUP(D23,'Frais-mission'!$B$3:$E$32,3,FALSE)*G23)","v":""},{"$f":"IF(D23=\"\",\"\",VLOOKUP(D23,'Frais-mission'!$B$3:$E$32,4,FALSE)*H23)","v":""},"","",{"$f":"IF(B23=\"\",\"\",IF(LEFT(B23,18)=\"Réunion collective\",350-SUMIF($B$6:B22,B23,$S$6:S22),\"\"))","v":""},"","","","","","",{"$f":"IF(D23=\"\",\"\",IF(A23=2022,VLOOKUP(D23,'Intervenants et coûts-j'!$C$17:$AF$47,19,FALSE),IF(A23=2023,VLOOKUP(D23,'Intervenants et coûts-j'!$C$17:$AF$47,20,FALSE),IF(A23=2024,VLOOKUP(D23,'Intervenants et coûts-j'!$C$17:$AF$47,21,FALSE),IF(A23=2025,VLOOKUP(D23,'Intervenants et coûts-j'!$C$17:$AF$47,22,FALSE),IF(A23=2026,VLOOKUP(D23,'Intervenants et coûts-j'!$C$17:$AF$47,23,FALSE),IF(A23=2027,VLOOKUP(D23,'Intervenants et coûts-j'!$C$17:$AF$47,24,FALSE))))))))","v":""},{"$f":"IF(D23=\"\",\"\",IF(A23=2022,VLOOKUP(D23,'Intervenants et coûts-j'!$C$17:$AF$47,25,FALSE),IF(A23=2023,VLOOKUP(D23,'Intervenants et coûts-j'!$C$17:$AF$47,26,FALSE),IF(A23=2024,VLOOKUP(D23,'Intervenants et coûts-j'!$C$17:$AF$47,27,FALSE),IF(A23=2025,VLOOKUP(D23,'Intervenants et coûts-j'!$C$17:$AF$47,28,FALSE),IF(A23=2026,VLOOKUP(D23,'Intervenants et coûts-j'!$C$17:$AF$47,29,FALSE),IF(A23=2027,VLOOKUP(D23,'Intervenants et coûts-j'!$C$17:$AF$47,30,FALSE))))))))","v":""},"",{"$f":"IF(E23=\"\",\"\",VLOOKUP(C23,'Coûts-indirects'!$A$4:$T$33,20,FALSE)*T23)","v":""},{"$f":"IF(D23=\"\",\"\",IF(V23=\"\",0,VLOOKUP(D23,'Frais-mission'!$B$3:$F$32,5,FALSE)*V23))","v":""},{"$f":"IF(D23=\"\",\"\",IF(W23=\"\",0,VLOOKUP(D23,'Frais-mission'!$B$3:$G$32,6,FALSE)*W23))","v":""},"","",{"$f":"IF(B23=\"\",\"\",IF(LEFT(B23,18)=\"Réunion collective\",350-SUMIF($B$6:B22,B23,$AH$6:AH22),\"\"))","v":""},"","",null,null,{"$f":"\"ListeIntervenants\"&VLOOKUP(C23,'Intervenants et coûts-j'!$B$5:$C$14,2,FALSE)","v":{"$error":"#N/A"}}]
[null,null,null,null,null,null,null,null,{"$f":"IF(D24=\"\",\"\",IF(A24=2022,VLOOKUP(D24,'Intervenants et coûts-j'!$C$17:$P$47,3,FALSE),IF(A24=2023,VLOOKUP(D24,'Intervenants et coûts-j'!$C$17:$P$47,4,FALSE),IF(A24=2024,VLOOKUP(D24,'Intervenants et coûts-j'!$C$17:$P$47,5,FALSE),IF(A24=2025,VLOOKUP(D24,'Intervenants et coûts-j'!$C$17:$P$47,6,FALSE),IF(A24=2026,VLOOKUP(D24,'Intervenants et coûts-j'!$C$17:$P$47,7,FALSE),IF(A24=2027,VLOOKUP(D24,'Intervenants et coûts-j'!$C$17:$P$47,8,FALSE))))))))","v":""},{"$f":"IF(D24=\"\",\"\",IF(A24=2022,VLOOKUP(D24,'Intervenants et coûts-j'!$C$17:$P$47,9,FALSE),IF(A24=2023,VLOOKUP(D24,'Intervenants et coûts-j'!$C$17:$P$47,10,FALSE),IF(A24=2024,VLOOKUP(D24,'Intervenants et coûts-j'!$C$17:$P$47,11,FALSE),IF(A24=2025,VLOOKUP(D24,'Intervenants et coûts-j'!$C$17:$P$47,12,FALSE),IF(A24=2026,VLOOKUP(D24,'Intervenants et coûts-j'!$C$17:$P$47,13,FALSE),IF(A24=2027,VLOOKUP(D24,'Intervenants et coûts-j'!$C$17:$P$47,14,FALSE))))))))","v":""},"",{"$f":"IF(E24=\"\",\"\",VLOOKUP(C24,'Coûts-indirects'!$A$4:$K$33,11,FALSE)*E24)","v":""},{"$f":"IF(D24=\"\",\"\",VLOOKUP(D24,'Frais-mission'!$B$3:$E$32,3,FALSE)*G24)","v":""},{"$f":"IF(D24=\"\",\"\",VLOOKUP(D24,'Frais-mission'!$B$3:$E$32,4,FALSE)*H24)","v":""},"","",{"$f":"IF(B24=\"\",\"\",IF(LEFT(B24,18)=\"Réunion collective\",350-SUMIF($B$6:B23,B24,$S$6:S23),\"\"))","v":""},"","","","","","",{"$f":"IF(D24=\"\",\"\",IF(A24=2022,VLOOKUP(D24,'Intervenants et coûts-j'!$C$17:$AF$47,19,FALSE),IF(A24=2023,VLOOKUP(D24,'Intervenants et coûts-j'!$C$17:$AF$47,20,FALSE),IF(A24=2024,VLOOKUP(D24,'Intervenants et coûts-j'!$C$17:$AF$47,21,FALSE),IF(A24=2025,VLOOKUP(D24,'Intervenants et coûts-j'!$C$17:$AF$47,22,FALSE),IF(A24=2026,VLOOKUP(D24,'Intervenants et coûts-j'!$C$17:$AF$47,23,FALSE),IF(A24=2027,VLOOKUP(D24,'Intervenants et coûts-j'!$C$17:$AF$47,24,FALSE))))))))","v":""},{"$f":"IF(D24=\"\",\"\",IF(A24=2022,VLOOKUP(D24,'Intervenants et coûts-j'!$C$17:$AF$47,25,FALSE),IF(A24=2023,VLOOKUP(D24,'Intervenants et coûts-j'!$C$17:$AF$47,26,FALSE),IF(A24=2024,VLOOKUP(D24,'Intervenants et coûts-j'!$C$17:$AF$47,27,FALSE),IF(A24=2025,VLOOKUP(D24,'Intervenants et coûts-j'!$C$17:$AF$47,28,FALSE),IF(A24=2026,VLOOKUP(D24,'Intervenants et coûts-j'!$C$17:$AF$47,29,FALSE),IF(A24=2027,VLOOKUP(D24,'Intervenants et coûts-j'!$C$17:$AF$47,30,FALSE))))))))","v":""},"",{"$f":"IF(E24=\"\",\"\",VLOOKUP(C24,'Coûts-indirects'!$A$4:$T$33,20,FALSE)*T24)","v":""},{"$f":"IF(D24=\"\",\"\",IF(V24=\"\",0,VLOOKUP(D24,'Frais-mission'!$B$3:$F$32,5,FALSE)*V24))","v":""},{"$f":"IF(D24=\"\",\"\",IF(W24=\"\",0,VLOOKUP(D24,'Frais-mission'!$B$3:$G$32,6,FALSE)*W24))","v":""},"","",{"$f":"IF(B24=\"\",\"\",IF(LEFT(B24,18)=\"Réunion collective\",350-SUMIF($B$6:B23,B24,$AH$6:AH23),\"\"))","v":""},"","",null,null,{"$f":"\"ListeIntervenants\"&VLOOKUP(C24,'Intervenants et coûts-j'!$B$5:$C$14,2,FALSE)","v":{"$error":"#N/A"}}]
[null,null,null,null,null,null,null,null,{"$f":"IF(D25=\"\",\"\",IF(A25=2022,VLOOKUP(D25,'Intervenants et coûts-j'!$C$17:$P$47,3,FALSE),IF(A25=2023,VLOOKUP(D25,'Intervenants et coûts-j'!$C$17:$P$47,4,FALSE),IF(A25=2024,VLOOKUP(D25,'Intervenants et coûts-j'!$C$17:$P$47,5,FALSE),IF(A25=2025,VLOOKUP(D25,'Intervenants et coûts-j'!$C$17:$P$47,6,FALSE),IF(A25=2026,VLOOKUP(D25,'Intervenants et coûts-j'!$C$17:$P$47,7,FALSE),IF(A25=2027,VLOOKUP(D25,'Intervenants et coûts-j'!$C$17:$P$47,8,FALSE))))))))","v":""},{"$f":"IF(D25=\"\",\"\",IF(A25=2022,VLOOKUP(D25,'Intervenants et coûts-j'!$C$17:$P$47,9,FALSE),IF(A25=2023,VLOOKUP(D25,'Intervenants et coûts-j'!$C$17:$P$47,10,FALSE),IF(A25=2024,VLOOKUP(D25,'Intervenants et coûts-j'!$C$17:$P$47,11,FALSE),IF(A25=2025,VLOOKUP(D25,'Intervenants et coûts-j'!$C$17:$P$47,12,FALSE),IF(A25=2026,VLOOKUP(D25,'Intervenants et coûts-j'!$C$17:$P$47,13,FALSE),IF(A25=2027,VLOOKUP(D25,'Intervenants et coûts-j'!$C$17:$P$47,14,FALSE))))))))","v":""},"",{"$f":"IF(E25=\"\",\"\",VLOOKUP(C25,'Coûts-indirects'!$A$4:$K$33,11,FALSE)*E25)","v":""},{"$f":"IF(D25=\"\",\"\",VLOOKUP(D25,'Frais-mission'!$B$3:$E$32,3,FALSE)*G25)","v":""},{"$f":"IF(D25=\"\",\"\",VLOOKUP(D25,'Frais-mission'!$B$3:$E$32,4,FALSE)*H25)","v":""},"","",{"$f":"IF(B25=\"\",\"\",IF(LEFT(B25,18)=\"Réunion collective\",350-SUMIF($B$6:B24,B25,$S$6:S24),\"\"))","v":""},"","","","","","",{"$f":"IF(D25=\"\",\"\",IF(A25=2022,VLOOKUP(D25,'Intervenants et coûts-j'!$C$17:$AF$47,19,FALSE),IF(A25=2023,VLOOKUP(D25,'Intervenants et coûts-j'!$C$17:$AF$47,20,FALSE),IF(A25=2024,VLOOKUP(D25,'Intervenants et coûts-j'!$C$17:$AF$47,21,FALSE),IF(A25=2025,VLOOKUP(D25,'Intervenants et coûts-j'!$C$17:$AF$47,22,FALSE),IF(A25=2026,VLOOKUP(D25,'Intervenants et coûts-j'!$C$17:$AF$47,23,FALSE),IF(A25=2027,VLOOKUP(D25,'Intervenants et coûts-j'!$C$17:$AF$47,24,FALSE))))))))","v":""},{"$f":"IF(D25=\"\",\"\",IF(A25=2022,VLOOKUP(D25,'Intervenants et coûts-j'!$C$17:$AF$47,25,FALSE),IF(A25=2023,VLOOKUP(D25,'Intervenants et coûts-j'!$C$17:$AF$47,26,FALSE),IF(A25=2024,VLOOKUP(D25,'Intervenants et coûts-j'!$C$17:$AF$47,27,FALSE),IF(A25=2025,VLOOKUP(D25,'Intervenants et coûts-j'!$C$17:$AF$47,28,FALSE),IF(A25=2026,VLOOKUP(D25,'Intervenants et coûts-j'!$C$17:$AF$47,29,FALSE),IF(A25=2027,VLOOKUP(D25,'Intervenants et coûts-j'!$C$17:$AF$47,30,FALSE))))))))","v":""},"",{"$f":"IF(E25=\"\",\"\",VLOOKUP(C25,'Coûts-indirects'!$A$4:$T$33,20,FALSE)*T25)","v":""},{"$f":"IF(D25=\"\",\"\",IF(V25=\"\",0,VLOOKUP(D25,'Frais-mission'!$B$3:$F$32,5,FALSE)*V25))","v":""},{"$f":"IF(D25=\"\",\"\",IF(W25=\"\",0,VLOOKUP(D25,'Frais-mission'!$B$3:$G$32,6,FALSE)*W25))","v":""},"","",{"$f":"IF(B25=\"\",\"\",IF(LEFT(B25,18)=\"Réunion collective\",350-SUMIF($B$6:B24,B25,$AH$6:AH24),\"\"))","v":""},"","",null,null,{"$f":"\"ListeIntervenants\"&VLOOKUP(C25,'Intervenants et coûts-j'!$B$5:$C$14,2,FALSE)","v":{"$error":"#N/A"}}]
[null,null,null,null,null,null,null,null,{"$f":"IF(D26=\"\",\"\",IF(A26=2022,VLOOKUP(D26,'Intervenants et coûts-j'!$C$17:$P$47,3,FALSE),IF(A26=2023,VLOOKUP(D26,'Intervenants et coûts-j'!$C$17:$P$47,4,FALSE),IF(A26=2024,VLOOKUP(D26,'Intervenants et coûts-j'!$C$17:$P$47,5,FALSE),IF(A26=2025,VLOOKUP(D26,'Intervenants et coûts-j'!$C$17:$P$47,6,FALSE),IF(A26=2026,VLOOKUP(D26,'Intervenants et coûts-j'!$C$17:$P$47,7,FALSE),IF(A26=2027,VLOOKUP(D26,'Intervenants et coûts-j'!$C$17:$P$47,8,FALSE))))))))","v":""},{"$f":"IF(D26=\"\",\"\",IF(A26=2022,VLOOKUP(D26,'Intervenants et coûts-j'!$C$17:$P$47,9,FALSE),IF(A26=2023,VLOOKUP(D26,'Intervenants et coûts-j'!$C$17:$P$47,10,FALSE),IF(A26=2024,VLOOKUP(D26,'Intervenants et coûts-j'!$C$17:$P$47,11,FALSE),IF(A26=2025,VLOOKUP(D26,'Intervenants et coûts-j'!$C$17:$P$47,12,FALSE),IF(A26=2026,VLOOKUP(D26,'Intervenants et coûts-j'!$C$17:$P$47,13,FALSE),IF(A26=2027,VLOOKUP(D26,'Intervenants et coûts-j'!$C$17:$P$47,14,FALSE))))))))","v":""},"",{"$f":"IF(E26=\"\",\"\",VLOOKUP(C26,'Coûts-indirects'!$A$4:$K$33,11,FALSE)*E26)","v":""},{"$f":"IF(D26=\"\",\"\",VLOOKUP(D26,'Frais-mission'!$B$3:$E$32,3,FALSE)*G26)","v":""},{"$f":"IF(D26=\"\",\"\",VLOOKUP(D26,'Frais-mission'!$B$3:$E$32,4,FALSE)*H26)","v":""},"","",{"$f":"IF(B26=\"\",\"\",IF(LEFT(B26,18)=\"Réunion collective\",350-SUMIF($B$6:B25,B26,$S$6:S25),\"\"))","v":""},"","","","","","",{"$f":"IF(D26=\"\",\"\",IF(A26=2022,VLOOKUP(D26,'Intervenants et coûts-j'!$C$17:$AF$47,19,FALSE),IF(A26=2023,VLOOKUP(D26,'Intervenants et coûts-j'!$C$17:$AF$47,20,FALSE),IF(A26=2024,VLOOKUP(D26,'Intervenants et coûts-j'!$C$17:$AF$47,21,FALSE),IF(A26=2025,VLOOKUP(D26,'Intervenants et coûts-j'!$C$17:$AF$47,22,FALSE),IF(A26=2026,VLOOKUP(D26,'Intervenants et coûts-j'!$C$17:$AF$47,23,FALSE),IF(A26=2027,VLOOKUP(D26,'Intervenants et coûts-j'!$C$17:$AF$47,24,FALSE))))))))","v":""},{"$f":"IF(D26=\"\",\"\",IF(A26=2022,VLOOKUP(D26,'Intervenants et coûts-j'!$C$17:$AF$47,25,FALSE),IF(A26=2023,VLOOKUP(D26,'Intervenants et coûts-j'!$C$17:$AF$47,26,FALSE),IF(A26=2024,VLOOKUP(D26,'Intervenants et coûts-j'!$C$17:$AF$47,27,FALSE),IF(A26=2025,VLOOKUP(D26,'Intervenants et coûts-j'!$C$17:$AF$47,28,FALSE),IF(A26=2026,VLOOKUP(D26,'Intervenants et coûts-j'!$C$17:$AF$47,29,FALSE),IF(A26=2027,VLOOKUP(D26,'Intervenants et coûts-j'!$C$17:$AF$47,30,FALSE))))))))","v":""},"",{"$f":"IF(E26=\"\",\"\",VLOOKUP(C26,'Coûts-indirects'!$A$4:$T$33,20,FALSE)*T26)","v":""},{"$f":"IF(D26=\"\",\"\",IF(V26=\"\",0,VLOOKUP(D26,'Frais-mission'!$B$3:$F$32,5,FALSE)*V26))","v":""},{"$f":"IF(D26=\"\",\"\",IF(W26=\"\",0,VLOOKUP(D26,'Frais-mission'!$B$3:$G$32,6,FALSE)*W26))","v":""},"","",{"$f":"IF(B26=\"\",\"\",IF(LEFT(B26,18)=\"Réunion collective\",350-SUMIF($B$6:B25,B26,$AH$6:AH25),\"\"))","v":""},"","",null,null,{"$f":"\"ListeIntervenants\"&VLOOKUP(C26,'Intervenants et coûts-j'!$B$5:$C$14,2,FALSE)","v":{"$error":"#N/A"}}]
[null,null,null,null,null,null,null,null,{"$f":"IF(D27=\"\",\"\",IF(A27=2022,VLOOKUP(D27,'Intervenants et coûts-j'!$C$17:$P$47,3,FALSE),IF(A27=2023,VLOOKUP(D27,'Intervenants et coûts-j'!$C$17:$P$47,4,FALSE),IF(A27=2024,VLOOKUP(D27,'Intervenants et coûts-j'!$C$17:$P$47,5,FALSE),IF(A27=2025,VLOOKUP(D27,'Intervenants et coûts-j'!$C$17:$P$47,6,FALSE),IF(A27=2026,VLOOKUP(D27,'Intervenants et coûts-j'!$C$17:$P$47,7,FALSE),IF(A27=2027,VLOOKUP(D27,'Intervenants et coûts-j'!$C$17:$P$47,8,FALSE))))))))","v":""},{"$f":"IF(D27=\"\",\"\",IF(A27=2022,VLOOKUP(D27,'Intervenants et coûts-j'!$C$17:$P$47,9,FALSE),IF(A27=2023,VLOOKUP(D27,'Intervenants et coûts-j'!$C$17:$P$47,10,FALSE),IF(A27=2024,VLOOKUP(D27,'Intervenants et coûts-j'!$C$17:$P$47,11,FALSE),IF(A27=2025,VLOOKUP(D27,'Intervenants et coûts-j'!$C$17:$P$47,12,FALSE),IF(A27=2026,VLOOKUP(D27,'Intervenants et coûts-j'!$C$17:$P$47,13,FALSE),IF(A27=2027,VLOOKUP(D27,'Intervenants et coûts-j'!$C$17:$P$47,14,FALSE))))))))","v":""},"",{"$f":"IF(E27=\"\",\"\",VLOOKUP(C27,'Coûts-indirects'!$A$4:$K$33,11,FALSE)*E27)","v":""},{"$f":"IF(D27=\"\",\"\",VLOOKUP(D27,'Frais-mission'!$B$3:$E$32,3,FALSE)*G27)","v":""},{"$f":"IF(D27=\"\",\"\",VLOOKUP(D27,'Frais-mission'!$B$3:$E$32,4,FALSE)*H27)","v":""},"","",{"$f":"IF(B27=\"\",\"\",IF(LEFT(B27,18)=\"Réunion collective\",350-SUMIF($B$6:B26,B27,$S$6:S26),\"\"))","v":""},"","","","","","",{"$f":"IF(D27=\"\",\"\",IF(A27=2022,VLOOKUP(D27,'Intervenants et coûts-j'!$C$17:$AF$47,19,FALSE),IF(A27=2023,VLOOKUP(D27,'Intervenants et coûts-j'!$C$17:$AF$47,20,FALSE),IF(A27=2024,VLOOKUP(D27,'Intervenants et coûts-j'!$C$17:$AF$47,21,FALSE),IF(A27=2025,VLOOKUP(D27,'Intervenants et coûts-j'!$C$17:$AF$47,22,FALSE),IF(A27=2026,VLOOKUP(D27,'Intervenants et coûts-j'!$C$17:$AF$47,23,FALSE),IF(A27=2027,VLOOKUP(D27,'Intervenants et coûts-j'!$C$17:$AF$47,24,FALSE))))))))","v":""},{"$f":"IF(D27=\"\",\"\",IF(A27=2022,VLOOKUP(D27,'Intervenants et coûts-j'!$C$17:$AF$47,25,FALSE),IF(A27=2023,VLOOKUP(D27,'Intervenants et coûts-j'!$C$17:$AF$47,26,FALSE),IF(A27=2024,VLOOKUP(D27,'Intervenants et coûts-j'!$C$17:$AF$47,27,FALSE),IF(A27=2025,VLOOKUP(D27,'Intervenants et coûts-j'!$C$17:$AF$47,28,FALSE),IF(A27=2026,VLOOKUP(D27,'Intervenants et coûts-j'!$C$17:$AF$47,29,FALSE),IF(A27=2027,VLOOKUP(D27,'Intervenants et coûts-j'!$C$17:$AF$47,30,FALSE))))))))","v":""},"",{"$f":"IF(E27=\"\",\"\",VLOOKUP(C27,'Coûts-indirects'!$A$4:$T$33,20,FALSE)*T27)","v":""},{"$f":"IF(D27=\"\",\"\",IF(V27=\"\",0,VLOOKUP(D27,'Frais-mission'!$B$3:$F$32,5,FALSE)*V27))","v":""},{"$f":"IF(D27=\"\",\"\",IF(W27=\"\",0,VLOOKUP(D27,'Frais-mission'!$B$3:$G$32,6,FALSE)*W27))","v":""},"","",{"$f":"IF(B27=\"\",\"\",IF(LEFT(B27,18)=\"Réunion collective\",350-SUMIF($B$6:B26,B27,$AH$6:AH26),\"\"))","v":""},"","",null,null,{"$f":"\"ListeIntervenants\"&VLOOKUP(C27,'Intervenants et coûts-j'!$B$5:$C$14,2,FALSE)","v":{"$error":"#N/A"}}]
[null,null,null,null,null,null,null,null,{"$f":"IF(D28=\"\",\"\",IF(A28=2022,VLOOKUP(D28,'Intervenants et coûts-j'!$C$17:$P$47,3,FALSE),IF(A28=2023,VLOOKUP(D28,'Intervenants et coûts-j'!$C$17:$P$47,4,FALSE),IF(A28=2024,VLOOKUP(D28,'Intervenants et coûts-j'!$C$17:$P$47,5,FALSE),IF(A28=2025,VLOOKUP(D28,'Intervenants et coûts-j'!$C$17:$P$47,6,FALSE),IF(A28=2026,VLOOKUP(D28,'Intervenants et coûts-j'!$C$17:$P$47,7,FALSE),IF(A28=2027,VLOOKUP(D28,'Intervenants et coûts-j'!$C$17:$P$47,8,FALSE))))))))","v":""},{"$f":"IF(D28=\"\",\"\",IF(A28=2022,VLOOKUP(D28,'Intervenants et coûts-j'!$C$17:$P$47,9,FALSE),IF(A28=2023,VLOOKUP(D28,'Intervenants et coûts-j'!$C$17:$P$47,10,FALSE),IF(A28=2024,VLOOKUP(D28,'Intervenants et coûts-j'!$C$17:$P$47,11,FALSE),IF(A28=2025,VLOOKUP(D28,'Intervenants et coûts-j'!$C$17:$P$47,12,FALSE),IF(A28=2026,VLOOKUP(D28,'Intervenants et coûts-j'!$C$17:$P$47,13,FALSE),IF(A28=2027,VLOOKUP(D28,'Intervenants et coûts-j'!$C$17:$P$47,14,FALSE))))))))","v":""},"",{"$f":"IF(E28=\"\",\"\",VLOOKUP(C28,'Coûts-indirects'!$A$4:$K$33,11,FALSE)*E28)","v":""},{"$f":"IF(D28=\"\",\"\",VLOOKUP(D28,'Frais-mission'!$B$3:$E$32,3,FALSE)*G28)","v":""},{"$f":"IF(D28=\"\",\"\",VLOOKUP(D28,'Frais-mission'!$B$3:$E$32,4,FALSE)*H28)","v":""},"","",{"$f":"IF(B28=\"\",\"\",IF(LEFT(B28,18)=\"Réunion collective\",350-SUMIF($B$6:B27,B28,$S$6:S27),\"\"))","v":""},"","","","","","",{"$f":"IF(D28=\"\",\"\",IF(A28=2022,VLOOKUP(D28,'Intervenants et coûts-j'!$C$17:$AF$47,19,FALSE),IF(A28=2023,VLOOKUP(D28,'Intervenants et coûts-j'!$C$17:$AF$47,20,FALSE),IF(A28=2024,VLOOKUP(D28,'Intervenants et coûts-j'!$C$17:$AF$47,21,FALSE),IF(A28=2025,VLOOKUP(D28,'Intervenants et coûts-j'!$C$17:$AF$47,22,FALSE),IF(A28=2026,VLOOKUP(D28,'Intervenants et coûts-j'!$C$17:$AF$47,23,FALSE),IF(A28=2027,VLOOKUP(D28,'Intervenants et coûts-j'!$C$17:$AF$47,24,FALSE))))))))","v":""},{"$f":"IF(D28=\"\",\"\",IF(A28=2022,VLOOKUP(D28,'Intervenants et coûts-j'!$C$17:$AF$47,25,FALSE),IF(A28=2023,VLOOKUP(D28,'Intervenants et coûts-j'!$C$17:$AF$47,26,FALSE),IF(A28=2024,VLOOKUP(D28,'Intervenants et coûts-j'!$C$17:$AF$47,27,FALSE),IF(A28=2025,VLOOKUP(D28,'Intervenants et coûts-j'!$C$17:$AF$47,28,FALSE),IF(A28=2026,VLOOKUP(D28,'Intervenants et coûts-j'!$C$17:$AF$47,29,FALSE),IF(A28=2027,VLOOKUP(D28,'Intervenants et coûts-j'!$C$17:$AF$47,30,FALSE))))))))","v":""},"",{"$f":"IF(E28=\"\",\"\",VLOOKUP(C28,'Coûts-indirects'!$A$4:$T$33,20,FALSE)*T28)","v":""},{"$f":"IF(D28=\"\",\"\",IF(V28=\"\",0,VLOOKUP(D28,'Frais-mission'!$B$3:$F$32,5,FALSE)*V28))","v":""},{"$f":"IF(D28=\"\",\"\",IF(W28=\"\",0,VLOOKUP(D28,'Frais-mission'!$B$3:$G$32,6,FALSE)*W28))","v":""},"","",{"$f":"IF(B28=\"\",\"\",IF(LEFT(B28,18)=\"Réunion collective\",350-SUMIF($B$6:B27,B28,$AH$6:AH27),\"\"))","v":""},"","",null,null,{"$f":"\"ListeIntervenants\"&VLOOKUP(C28,'Intervenants et coûts-j'!$B$5:$C$14,2,FALSE)","v":{"$error":"#N/A"}}]
[null,null,null,null,null,null,null,null,{"$f":"IF(D29=\"\",\"\",IF(A29=2022,VLOOKUP(D29,'Intervenants et coûts-j'!$C$17:$P$47,3,FALSE),IF(A29=2023,VLOOKUP(D29,'Intervenants et coûts-j'!$C$17:$P$47,4,FALSE),IF(A29=2024,VLOOKUP(D29,'Intervenants et coûts-j'!$C$17:$P$47,5,FALSE),IF(A29=2025,VLOOKUP(D29,'Intervenants et coûts-j'!$C$17:$P$47,6,FALSE),IF(A29=2026,VLOOKUP(D29,'Intervenants et coûts-j'!$C$17:$P$47,7,FALSE),IF(A29=2027,VLOOKUP(D29,'Intervenants et coûts-j'!$C$17:$P$47,8,FALSE))))))))","v":""},{"$f":"IF(D29=\"\",\"\",IF(A29=2022,VLOOKUP(D29,'Intervenants et coûts-j'!$C$17:$P$47,9,FALSE),IF(A29=2023,VLOOKUP(D29,'Intervenants et coûts-j'!$C$17:$P$47,10,FALSE),IF(A29=2024,VLOOKUP(D29,'Intervenants et coûts-j'!$C$17:$P$47,11,FALSE),IF(A29=2025,VLOOKUP(D29,'Intervenants et coûts-j'!$C$17:$P$47,12,FALSE),IF(A29=2026,VLOOKUP(D29,'Intervenants et coûts-j'!$C$17:$P$47,13,FALSE),IF(A29=2027,VLOOKUP(D29,'Intervenants et coûts-j'!$C$17:$P$47,14,FALSE))))))))","v":""},"",{"$f":"IF(E29=\"\",\"\",VLOOKUP(C29,'Coûts-indirects'!$A$4:$K$33,11,FALSE)*E29)","v":""},{"$f":"IF(D29=\"\",\"\",VLOOKUP(D29,'Frais-mission'!$B$3:$E$32,3,FALSE)*G29)","v":""},{"$f":"IF(D29=\"\",\"\",VLOOKUP(D29,'Frais-mission'!$B$3:$E$32,4,FALSE)*H29)","v":""},"","",{"$f":"IF(B29=\"\",\"\",IF(LEFT(B29,18)=\"Réunion collective\",350-SUMIF($B$6:B28,B29,$S$6:S28),\"\"))","v":""},"","","","","","",{"$f":"IF(D29=\"\",\"\",IF(A29=2022,VLOOKUP(D29,'Intervenants et coûts-j'!$C$17:$AF$47,19,FALSE),IF(A29=2023,VLOOKUP(D29,'Intervenants et coûts-j'!$C$17:$AF$47,20,FALSE),IF(A29=2024,VLOOKUP(D29,'Intervenants et coûts-j'!$C$17:$AF$47,21,FALSE),IF(A29=2025,VLOOKUP(D29,'Intervenants et coûts-j'!$C$17:$AF$47,22,FALSE),IF(A29=2026,VLOOKUP(D29,'Intervenants et coûts-j'!$C$17:$AF$47,23,FALSE),IF(A29=2027,VLOOKUP(D29,'Intervenants et coûts-j'!$C$17:$AF$47,24,FALSE))))))))","v":""},{"$f":"IF(D29=\"\",\"\",IF(A29=2022,VLOOKUP(D29,'Intervenants et coûts-j'!$C$17:$AF$47,25,FALSE),IF(A29=2023,VLOOKUP(D29,'Intervenants et coûts-j'!$C$17:$AF$47,26,FALSE),IF(A29=2024,VLOOKUP(D29,'Intervenants et coûts-j'!$C$17:$AF$47,27,FALSE),IF(A29=2025,VLOOKUP(D29,'Intervenants et coûts-j'!$C$17:$AF$47,28,FALSE),IF(A29=2026,VLOOKUP(D29,'Intervenants et coûts-j'!$C$17:$AF$47,29,FALSE),IF(A29=2027,VLOOKUP(D29,'Intervenants et coûts-j'!$C$17:$AF$47,30,FALSE))))))))","v":""},"",{"$f":"IF(E29=\"\",\"\",VLOOKUP(C29,'Coûts-indirects'!$A$4:$T$33,20,FALSE)*T29)","v":""},{"$f":"IF(D29=\"\",\"\",IF(V29=\"\",0,VLOOKUP(D29,'Frais-mission'!$B$3:$F$32,5,FALSE)*V29))","v":""},{"$f":"IF(D29=\"\",\"\",IF(W29=\"\",0,VLOOKUP(D29,'Frais-mission'!$B$3:$G$32,6,FALSE)*W29))","v":""},"","",{"$f":"IF(B29=\"\",\"\",IF(LEFT(B29,18)=\"Réunion collective\",350-SUMIF($B$6:B28,B29,$AH$6:AH28),\"\"))","v":""},"","",null,null,{"$f":"\"ListeIntervenants\"&VLOOKUP(C29,'Intervenants et coûts-j'!$B$5:$C$14,2,FALSE)","v":{"$error":"#N/A"}}]
[null,null,null,null,null,null,null,null,{"$f":"IF(D30=\"\",\"\",IF(A30=2022,VLOOKUP(D30,'Intervenants et coûts-j'!$C$17:$P$47,3,FALSE),IF(A30=2023,VLOOKUP(D30,'Intervenants et coûts-j'!$C$17:$P$47,4,FALSE),IF(A30=2024,VLOOKUP(D30,'Intervenants et coûts-j'!$C$17:$P$47,5,FALSE),IF(A30=2025,VLOOKUP(D30,'Intervenants et coûts-j'!$C$17:$P$47,6,FALSE),IF(A30=2026,VLOOKUP(D30,'Intervenants et coûts-j'!$C$17:$P$47,7,FALSE),IF(A30=2027,VLOOKUP(D30,'Intervenants et coûts-j'!$C$17:$P$47,8,FALSE))))))))","v":""},{"$f":"IF(D30=\"\",\"\",IF(A30=2022,VLOOKUP(D30,'Intervenants et coûts-j'!$C$17:$P$47,9,FALSE),IF(A30=2023,VLOOKUP(D30,'Intervenants et coûts-j'!$C$17:$P$47,10,FALSE),IF(A30=2024,VLOOKUP(D30,'Intervenants et coûts-j'!$C$17:$P$47,11,FALSE),IF(A30=2025,VLOOKUP(D30,'Intervenants et coûts-j'!$C$17:$P$47,12,FALSE),IF(A30=2026,VLOOKUP(D30,'Intervenants et coûts-j'!$C$17:$P$47,13,FALSE),IF(A30=2027,VLOOKUP(D30,'Intervenants et coûts-j'!$C$17:$P$47,14,FALSE))))))))","v":""},"",{"$f":"IF(E30=\"\",\"\",VLOOKUP(C30,'Coûts-indirects'!$A$4:$K$33,11,FALSE)*E30)","v":""},{"$f":"IF(D30=\"\",\"\",VLOOKUP(D30,'Frais-mission'!$B$3:$E$32,3,FALSE)*G30)","v":""},{"$f":"IF(D30=\"\",\"\",VLOOKUP(D30,'Frais-mission'!$B$3:$E$32,4,FALSE)*H30)","v":""},"","",{"$f":"IF(B30=\"\",\"\",IF(LEFT(B30,18)=\"Réunion collective\",350-SUMIF($B$6:B29,B30,$S$6:S29),\"\"))","v":""},"","","","","","",{"$f":"IF(D30=\"\",\"\",IF(A30=2022,VLOOKUP(D30,'Intervenants et coûts-j'!$C$17:$AF$47,19,FALSE),IF(A30=2023,VLOOKUP(D30,'Intervenants et coûts-j'!$C$17:$AF$47,20,FALSE),IF(A30=2024,VLOOKUP(D30,'Intervenants et coûts-j'!$C$17:$AF$47,21,FALSE),IF(A30=2025,VLOOKUP(D30,'Intervenants et coûts-j'!$C$17:$AF$47,22,FALSE),IF(A30=2026,VLOOKUP(D30,'Intervenants et coûts-j'!$C$17:$AF$47,23,FALSE),IF(A30=2027,VLOOKUP(D30,'Intervenants et coûts-j'!$C$17:$AF$47,24,FALSE))))))))","v":""},{"$f":"IF(D30=\"\",\"\",IF(A30=2022,VLOOKUP(D30,'Intervenants et coûts-j'!$C$17:$AF$47,25,FALSE),IF(A30=2023,VLOOKUP(D30,'Intervenants et coûts-j'!$C$17:$AF$47,26,FALSE),IF(A30=2024,VLOOKUP(D30,'Intervenants et coûts-j'!$C$17:$AF$47,27,FALSE),IF(A30=2025,VLOOKUP(D30,'Intervenants et coûts-j'!$C$17:$AF$47,28,FALSE),IF(A30=2026,VLOOKUP(D30,'Intervenants et coûts-j'!$C$17:$AF$47,29,FALSE),IF(A30=2027,VLOOKUP(D30,'Intervenants et coûts-j'!$C$17:$AF$47,30,FALSE))))))))","v":""},"",{"$f":"IF(E30=\"\",\"\",VLOOKUP(C30,'Coûts-indirects'!$A$4:$T$33,20,FALSE)*T30)","v":""},{"$f":"IF(D30=\"\",\"\",IF(V30=\"\",0,VLOOKUP(D30,'Frais-mission'!$B$3:$F$32,5,FALSE)*V30))","v":""},{"$f":"IF(D30=\"\",\"\",IF(W30=\"\",0,VLOOKUP(D30,'Frais-mission'!$B$3:$G$32,6,FALSE)*W30))","v":""},"","",{"$f":"IF(B30=\"\",\"\",IF(LEFT(B30,18)=\"Réunion collective\",350-SUMIF($B$6:B29,B30,$AH$6:AH29),\"\"))","v":""},"","",null,null,{"$f":"\"ListeIntervenants\"&VLOOKUP(C30,'Intervenants et coûts-j'!$B$5:$C$14,2,FALSE)","v":{"$error":"#N/A"}}]
[null,null,null,null,null,null,null,null,{"$f":"IF(D31=\"\",\"\",IF(A31=2022,VLOOKUP(D31,'Intervenants et coûts-j'!$C$17:$P$47,3,FALSE),IF(A31=2023,VLOOKUP(D31,'Intervenants et coûts-j'!$C$17:$P$47,4,FALSE),IF(A31=2024,VLOOKUP(D31,'Intervenants et coûts-j'!$C$17:$P$47,5,FALSE),IF(A31=2025,VLOOKUP(D31,'Intervenants et coûts-j'!$C$17:$P$47,6,FALSE),IF(A31=2026,VLOOKUP(D31,'Intervenants et coûts-j'!$C$17:$P$47,7,FALSE),IF(A31=2027,VLOOKUP(D31,'Intervenants et coûts-j'!$C$17:$P$47,8,FALSE))))))))","v":""},{"$f":"IF(D31=\"\",\"\",IF(A31=2022,VLOOKUP(D31,'Intervenants et coûts-j'!$C$17:$P$47,9,FALSE),IF(A31=2023,VLOOKUP(D31,'Intervenants et coûts-j'!$C$17:$P$47,10,FALSE),IF(A31=2024,VLOOKUP(D31,'Intervenants et coûts-j'!$C$17:$P$47,11,FALSE),IF(A31=2025,VLOOKUP(D31,'Intervenants et coûts-j'!$C$17:$P$47,12,FALSE),IF(A31=2026,VLOOKUP(D31,'Intervenants et coûts-j'!$C$17:$P$47,13,FALSE),IF(A31=2027,VLOOKUP(D31,'Intervenants et coûts-j'!$C$17:$P$47,14,FALSE))))))))","v":""},"",{"$f":"IF(E31=\"\",\"\",VLOOKUP(C31,'Coûts-indirects'!$A$4:$K$33,11,FALSE)*E31)","v":""},{"$f":"IF(D31=\"\",\"\",VLOOKUP(D31,'Frais-mission'!$B$3:$E$32,3,FALSE)*G31)","v":""},{"$f":"IF(D31=\"\",\"\",VLOOKUP(D31,'Frais-mission'!$B$3:$E$32,4,FALSE)*H31)","v":""},"","",{"$f":"IF(B31=\"\",\"\",IF(LEFT(B31,18)=\"Réunion collective\",350-SUMIF($B$6:B30,B31,$S$6:S30),\"\"))","v":""},"","","","","","",{"$f":"IF(D31=\"\",\"\",IF(A31=2022,VLOOKUP(D31,'Intervenants et coûts-j'!$C$17:$AF$47,19,FALSE),IF(A31=2023,VLOOKUP(D31,'Intervenants et coûts-j'!$C$17:$AF$47,20,FALSE),IF(A31=2024,VLOOKUP(D31,'Intervenants et coûts-j'!$C$17:$AF$47,21,FALSE),IF(A31=2025,VLOOKUP(D31,'Intervenants et coûts-j'!$C$17:$AF$47,22,FALSE),IF(A31=2026,VLOOKUP(D31,'Intervenants et coûts-j'!$C$17:$AF$47,23,FALSE),IF(A31=2027,VLOOKUP(D31,'Intervenants et coûts-j'!$C$17:$AF$47,24,FALSE))))))))","v":""},{"$f":"IF(D31=\"\",\"\",IF(A31=2022,VLOOKUP(D31,'Intervenants et coûts-j'!$C$17:$AF$47,25,FALSE),IF(A31=2023,VLOOKUP(D31,'Intervenants et coûts-j'!$C$17:$AF$47,26,FALSE),IF(A31=2024,VLOOKUP(D31,'Intervenants et coûts-j'!$C$17:$AF$47,27,FALSE),IF(A31=2025,VLOOKUP(D31,'Intervenants et coûts-j'!$C$17:$AF$47,28,FALSE),IF(A31=2026,VLOOKUP(D31,'Intervenants et coûts-j'!$C$17:$AF$47,29,FALSE),IF(A31=2027,VLOOKUP(D31,'Intervenants et coûts-j'!$C$17:$AF$47,30,FALSE))))))))","v":""},"",{"$f":"IF(E31=\"\",\"\",VLOOKUP(C31,'Coûts-indirects'!$A$4:$T$33,20,FALSE)*T31)","v":""},{"$f":"IF(D31=\"\",\"\",IF(V31=\"\",0,VLOOKUP(D31,'Frais-mission'!$B$3:$F$32,5,FALSE)*V31))","v":""},{"$f":"IF(D31=\"\",\"\",IF(W31=\"\",0,VLOOKUP(D31,'Frais-mission'!$B$3:$G$32,6,FALSE)*W31))","v":""},"","",{"$f":"IF(B31=\"\",\"\",IF(LEFT(B31,18)=\"Réunion collective\",350-SUMIF($B$6:B30,B31,$AH$6:AH30),\"\"))","v":""},"","",null,null,{"$f":"\"ListeIntervenants\"&VLOOKUP(C31,'Intervenants et coûts-j'!$B$5:$C$14,2,FALSE)","v":{"$error":"#N/A"}}]
[null,null,null,null,null,null,null,null,{"$f":"IF(D32=\"\",\"\",IF(A32=2022,VLOOKUP(D32,'Intervenants et coûts-j'!$C$17:$P$47,3,FALSE),IF(A32=2023,VLOOKUP(D32,'Intervenants et coûts-j'!$C$17:$P$47,4,FALSE),IF(A32=2024,VLOOKUP(D32,'Intervenants et coûts-j'!$C$17:$P$47,5,FALSE),IF(A32=2025,VLOOKUP(D32,'Intervenants et coûts-j'!$C$17:$P$47,6,FALSE),IF(A32=2026,VLOOKUP(D32,'Intervenants et coûts-j'!$C$17:$P$47,7,FALSE),IF(A32=2027,VLOOKUP(D32,'Intervenants et coûts-j'!$C$17:$P$47,8,FALSE))))))))","v":""},{"$f":"IF(D32=\"\",\"\",IF(A32=2022,VLOOKUP(D32,'Intervenants et coûts-j'!$C$17:$P$47,9,FALSE),IF(A32=2023,VLOOKUP(D32,'Intervenants et coûts-j'!$C$17:$P$47,10,FALSE),IF(A32=2024,VLOOKUP(D32,'Intervenants et coûts-j'!$C$17:$P$47,11,FALSE),IF(A32=2025,VLOOKUP(D32,'Intervenants et coûts-j'!$C$17:$P$47,12,FALSE),IF(A32=2026,VLOOKUP(D32,'Intervenants et coûts-j'!$C$17:$P$47,13,FALSE),IF(A32=2027,VLOOKUP(D32,'Intervenants et coûts-j'!$C$17:$P$47,14,FALSE))))))))","v":""},"",{"$f":"IF(E32=\"\",\"\",VLOOKUP(C32,'Coûts-indirects'!$A$4:$K$33,11,FALSE)*E32)","v":""},{"$f":"IF(D32=\"\",\"\",VLOOKUP(D32,'Frais-mission'!$B$3:$E$32,3,FALSE)*G32)","v":""},{"$f":"IF(D32=\"\",\"\",VLOOKUP(D32,'Frais-mission'!$B$3:$E$32,4,FALSE)*H32)","v":""},"","",{"$f":"IF(B32=\"\",\"\",IF(LEFT(B32,18)=\"Réunion collective\",350-SUMIF($B$6:B31,B32,$S$6:S31),\"\"))","v":""},"","","","","","",{"$f":"IF(D32=\"\",\"\",IF(A32=2022,VLOOKUP(D32,'Intervenants et coûts-j'!$C$17:$AF$47,19,FALSE),IF(A32=2023,VLOOKUP(D32,'Intervenants et coûts-j'!$C$17:$AF$47,20,FALSE),IF(A32=2024,VLOOKUP(D32,'Intervenants et coûts-j'!$C$17:$AF$47,21,FALSE),IF(A32=2025,VLOOKUP(D32,'Intervenants et coûts-j'!$C$17:$AF$47,22,FALSE),IF(A32=2026,VLOOKUP(D32,'Intervenants et coûts-j'!$C$17:$AF$47,23,FALSE),IF(A32=2027,VLOOKUP(D32,'Intervenants et coûts-j'!$C$17:$AF$47,24,FALSE))))))))","v":""},{"$f":"IF(D32=\"\",\"\",IF(A32=2022,VLOOKUP(D32,'Intervenants et coûts-j'!$C$17:$AF$47,25,FALSE),IF(A32=2023,VLOOKUP(D32,'Intervenants et coûts-j'!$C$17:$AF$47,26,FALSE),IF(A32=2024,VLOOKUP(D32,'Intervenants et coûts-j'!$C$17:$AF$47,27,FALSE),IF(A32=2025,VLOOKUP(D32,'Intervenants et coûts-j'!$C$17:$AF$47,28,FALSE),IF(A32=2026,VLOOKUP(D32,'Intervenants et coûts-j'!$C$17:$AF$47,29,FALSE),IF(A32=2027,VLOOKUP(D32,'Intervenants et coûts-j'!$C$17:$AF$47,30,FALSE))))))))","v":""},"",{"$f":"IF(E32=\"\",\"\",VLOOKUP(C32,'Coûts-indirects'!$A$4:$T$33,20,FALSE)*T32)","v":""},{"$f":"IF(D32=\"\",\"\",IF(V32=\"\",0,VLOOKUP(D32,'Frais-mission'!$B$3:$F$32,5,FALSE)*V32))","v":""},{"$f":"IF(D32=\"\",\"\",IF(W32=\"\",0,VLOOKUP(D32,'Frais-mission'!$B$3:$G$32,6,FALSE)*W32))","v":""},"","",{"$f":"IF(B32=\"\",\"\",IF(LEFT(B32,18)=\"Réunion collective\",350-SUMIF($B$6:B31,B32,$AH$6:AH31),\"\"))","v":""},"","",null,null,{"$f":"\"ListeIntervenants\"&VLOOKUP(C32,'Intervenants et coûts-j'!$B$5:$C$14,2,FALSE)","v":{"$error":"#N/A"}}]
[null,null,null,null,null,null,null,null,{"$f":"IF(D33=\"\",\"\",IF(A33=2022,VLOOKUP(D33,'Intervenants et coûts-j'!$C$17:$P$47,3,FALSE),IF(A33=2023,VLOOKUP(D33,'Intervenants et coûts-j'!$C$17:$P$47,4,FALSE),IF(A33=2024,VLOOKUP(D33,'Intervenants et coûts-j'!$C$17:$P$47,5,FALSE),IF(A33=2025,VLOOKUP(D33,'Intervenants et coûts-j'!$C$17:$P$47,6,FALSE),IF(A33=2026,VLOOKUP(D33,'Intervenants et coûts-j'!$C$17:$P$47,7,FALSE),IF(A33=2027,VLOOKUP(D33,'Intervenants et coûts-j'!$C$17:$P$47,8,FALSE))))))))","v":""},{"$f":"IF(D33=\"\",\"\",IF(A33=2022,VLOOKUP(D33,'Intervenants et coûts-j'!$C$17:$P$47,9,FALSE),IF(A33=2023,VLOOKUP(D33,'Intervenants et coûts-j'!$C$17:$P$47,10,FALSE),IF(A33=2024,VLOOKUP(D33,'Intervenants et coûts-j'!$C$17:$P$47,11,FALSE),IF(A33=2025,VLOOKUP(D33,'Intervenants et coûts-j'!$C$17:$P$47,12,FALSE),IF(A33=2026,VLOOKUP(D33,'Intervenants et coûts-j'!$C$17:$P$47,13,FALSE),IF(A33=2027,VLOOKUP(D33,'Intervenants et coûts-j'!$C$17:$P$47,14,FALSE))))))))","v":""},"",{"$f":"IF(E33=\"\",\"\",VLOOKUP(C33,'Coûts-indirects'!$A$4:$K$33,11,FALSE)*E33)","v":""},{"$f":"IF(D33=\"\",\"\",VLOOKUP(D33,'Frais-mission'!$B$3:$E$32,3,FALSE)*G33)","v":""},{"$f":"IF(D33=\"\",\"\",VLOOKUP(D33,'Frais-mission'!$B$3:$E$32,4,FALSE)*H33)","v":""},"","",{"$f":"IF(B33=\"\",\"\",IF(LEFT(B33,18)=\"Réunion collective\",350-SUMIF($B$6:B32,B33,$S$6:S32),\"\"))","v":""},"","","","","","",{"$f":"IF(D33=\"\",\"\",IF(A33=2022,VLOOKUP(D33,'Intervenants et coûts-j'!$C$17:$AF$47,19,FALSE),IF(A33=2023,VLOOKUP(D33,'Intervenants et coûts-j'!$C$17:$AF$47,20,FALSE),IF(A33=2024,VLOOKUP(D33,'Intervenants et coûts-j'!$C$17:$AF$47,21,FALSE),IF(A33=2025,VLOOKUP(D33,'Intervenants et coûts-j'!$C$17:$AF$47,22,FALSE),IF(A33=2026,VLOOKUP(D33,'Intervenants et coûts-j'!$C$17:$AF$47,23,FALSE),IF(A33=2027,VLOOKUP(D33,'Intervenants et coûts-j'!$C$17:$AF$47,24,FALSE))))))))","v":""},{"$f":"IF(D33=\"\",\"\",IF(A33=2022,VLOOKUP(D33,'Intervenants et coûts-j'!$C$17:$AF$47,25,FALSE),IF(A33=2023,VLOOKUP(D33,'Intervenants et coûts-j'!$C$17:$AF$47,26,FALSE),IF(A33=2024,VLOOKUP(D33,'Intervenants et coûts-j'!$C$17:$AF$47,27,FALSE),IF(A33=2025,VLOOKUP(D33,'Intervenants et coûts-j'!$C$17:$AF$47,28,FALSE),IF(A33=2026,VLOOKUP(D33,'Intervenants et coûts-j'!$C$17:$AF$47,29,FALSE),IF(A33=2027,VLOOKUP(D33,'Intervenants et coûts-j'!$C$17:$AF$47,30,FALSE))))))))","v":""},"",{"$f":"IF(E33=\"\",\"\",VLOOKUP(C33,'Coûts-indirects'!$A$4:$T$33,20,FALSE)*T33)","v":""},{"$f":"IF(D33=\"\",\"\",IF(V33=\"\",0,VLOOKUP(D33,'Frais-mission'!$B$3:$F$32,5,FALSE)*V33))","v":""},{"$f":"IF(D33=\"\",\"\",IF(W33=\"\",0,VLOOKUP(D33,'Frais-mission'!$B$3:$G$32,6,FALSE)*W33))","v":""},"","",{"$f":"IF(B33=\"\",\"\",IF(LEFT(B33,18)=\"Réunion collective\",350-SUMIF($B$6:B32,B33,$AH$6:AH32),\"\"))","v":""},"","",null,null,{"$f":"\"ListeIntervenants\"&VLOOKUP(C33,'Intervenants et coûts-j'!$B$5:$C$14,2,FALSE)","v":{"$error":"#N/A"}}]
[null,null,null,null,null,null,null,null,{"$f":"IF(D34=\"\",\"\",IF(A34=2022,VLOOKUP(D34,'Intervenants et coûts-j'!$C$17:$P$47,3,FALSE),IF(A34=2023,VLOOKUP(D34,'Intervenants et coûts-j'!$C$17:$P$47,4,FALSE),IF(A34=2024,VLOOKUP(D34,'Intervenants et coûts-j'!$C$17:$P$47,5,FALSE),IF(A34=2025,VLOOKUP(D34,'Intervenants et coûts-j'!$C$17:$P$47,6,FALSE),IF(A34=2026,VLOOKUP(D34,'Intervenants et coûts-j'!$C$17:$P$47,7,FALSE),IF(A34=2027,VLOOKUP(D34,'Intervenants et coûts-j'!$C$17:$P$47,8,FALSE))))))))","v":""},{"$f":"IF(D34=\"\",\"\",IF(A34=2022,VLOOKUP(D34,'Intervenants et coûts-j'!$C$17:$P$47,9,FALSE),IF(A34=2023,VLOOKUP(D34,'Intervenants et coûts-j'!$C$17:$P$47,10,FALSE),IF(A34=2024,VLOOKUP(D34,'Intervenants et coûts-j'!$C$17:$P$47,11,FALSE),IF(A34=2025,VLOOKUP(D34,'Intervenants et coûts-j'!$C$17:$P$47,12,FALSE),IF(A34=2026,VLOOKUP(D34,'Intervenants et coûts-j'!$C$17:$P$47,13,FALSE),IF(A34=2027,VLOOKUP(D34,'Intervenants et coûts-j'!$C$17:$P$47,14,FALSE))))))))","v":""},"",{"$f":"IF(E34=\"\",\"\",VLOOKUP(C34,'Coûts-indirects'!$A$4:$K$33,11,FALSE)*E34)","v":""},{"$f":"IF(D34=\"\",\"\",VLOOKUP(D34,'Frais-mission'!$B$3:$E$32,3,FALSE)*G34)","v":""},{"$f":"IF(D34=\"\",\"\",VLOOKUP(D34,'Frais-mission'!$B$3:$E$32,4,FALSE)*H34)","v":""},"","",{"$f":"IF(B34=\"\",\"\",IF(LEFT(B34,18)=\"Réunion collective\",350-SUMIF($B$6:B33,B34,$S$6:S33),\"\"))","v":""},"","","","","","",{"$f":"IF(D34=\"\",\"\",IF(A34=2022,VLOOKUP(D34,'Intervenants et coûts-j'!$C$17:$AF$47,19,FALSE),IF(A34=2023,VLOOKUP(D34,'Intervenants et coûts-j'!$C$17:$AF$47,20,FALSE),IF(A34=2024,VLOOKUP(D34,'Intervenants et coûts-j'!$C$17:$AF$47,21,FALSE),IF(A34=2025,VLOOKUP(D34,'Intervenants et coûts-j'!$C$17:$AF$47,22,FALSE),IF(A34=2026,VLOOKUP(D34,'Intervenants et coûts-j'!$C$17:$AF$47,23,FALSE),IF(A34=2027,VLOOKUP(D34,'Intervenants et coûts-j'!$C$17:$AF$47,24,FALSE))))))))","v":""},{"$f":"IF(D34=\"\",\"\",IF(A34=2022,VLOOKUP(D34,'Intervenants et coûts-j'!$C$17:$AF$47,25,FALSE),IF(A34=2023,VLOOKUP(D34,'Intervenants et coûts-j'!$C$17:$AF$47,26,FALSE),IF(A34=2024,VLOOKUP(D34,'Intervenants et coûts-j'!$C$17:$AF$47,27,FALSE),IF(A34=2025,VLOOKUP(D34,'Intervenants et coûts-j'!$C$17:$AF$47,28,FALSE),IF(A34=2026,VLOOKUP(D34,'Intervenants et coûts-j'!$C$17:$AF$47,29,FALSE),IF(A34=2027,VLOOKUP(D34,'Intervenants et coûts-j'!$C$17:$AF$47,30,FALSE))))))))","v":""},"",{"$f":"IF(E34=\"\",\"\",VLOOKUP(C34,'Coûts-indirects'!$A$4:$T$33,20,FALSE)*T34)","v":""},{"$f":"IF(D34=\"\",\"\",IF(V34=\"\",0,VLOOKUP(D34,'Frais-mission'!$B$3:$F$32,5,FALSE)*V34))","v":""},{"$f":"IF(D34=\"\",\"\",IF(W34=\"\",0,VLOOKUP(D34,'Frais-mission'!$B$3:$G$32,6,FALSE)*W34))","v":""},"","",{"$f":"IF(B34=\"\",\"\",IF(LEFT(B34,18)=\"Réunion collective\",350-SUMIF($B$6:B33,B34,$AH$6:AH33),\"\"))","v":""},"","",null,null,{"$f":"\"ListeIntervenants\"&VLOOKUP(C34,'Intervenants et coûts-j'!$B$5:$C$14,2,FALSE)","v":{"$error":"#N/A"}}]
[null,null,null,null,null,null,null,null,{"$f":"IF(D35=\"\",\"\",IF(A35=2022,VLOOKUP(D35,'Intervenants et coûts-j'!$C$17:$P$47,3,FALSE),IF(A35=2023,VLOOKUP(D35,'Intervenants et coûts-j'!$C$17:$P$47,4,FALSE),IF(A35=2024,VLOOKUP(D35,'Intervenants et coûts-j'!$C$17:$P$47,5,FALSE),IF(A35=2025,VLOOKUP(D35,'Intervenants et coûts-j'!$C$17:$P$47,6,FALSE),IF(A35=2026,VLOOKUP(D35,'Intervenants et coûts-j'!$C$17:$P$47,7,FALSE),IF(A35=2027,VLOOKUP(D35,'Intervenants et coûts-j'!$C$17:$P$47,8,FALSE))))))))","v":""},{"$f":"IF(D35=\"\",\"\",IF(A35=2022,VLOOKUP(D35,'Intervenants et coûts-j'!$C$17:$P$47,9,FALSE),IF(A35=2023,VLOOKUP(D35,'Intervenants et coûts-j'!$C$17:$P$47,10,FALSE),IF(A35=2024,VLOOKUP(D35,'Intervenants et coûts-j'!$C$17:$P$47,11,FALSE),IF(A35=2025,VLOOKUP(D35,'Intervenants et coûts-j'!$C$17:$P$47,12,FALSE),IF(A35=2026,VLOOKUP(D35,'Intervenants et coûts-j'!$C$17:$P$47,13,FALSE),IF(A35=2027,VLOOKUP(D35,'Intervenants et coûts-j'!$C$17:$P$47,14,FALSE))))))))","v":""},"",{"$f":"IF(E35=\"\",\"\",VLOOKUP(C35,'Coûts-indirects'!$A$4:$K$33,11,FALSE)*E35)","v":""},{"$f":"IF(D35=\"\",\"\",VLOOKUP(D35,'Frais-mission'!$B$3:$E$32,3,FALSE)*G35)","v":""},{"$f":"IF(D35=\"\",\"\",VLOOKUP(D35,'Frais-mission'!$B$3:$E$32,4,FALSE)*H35)","v":""},"","",{"$f":"IF(B35=\"\",\"\",IF(LEFT(B35,18)=\"Réunion collective\",350-SUMIF($B$6:B34,B35,$S$6:S34),\"\"))","v":""},"","","","","","",{"$f":"IF(D35=\"\",\"\",IF(A35=2022,VLOOKUP(D35,'Intervenants et coûts-j'!$C$17:$AF$47,19,FALSE),IF(A35=2023,VLOOKUP(D35,'Intervenants et coûts-j'!$C$17:$AF$47,20,FALSE),IF(A35=2024,VLOOKUP(D35,'Intervenants et coûts-j'!$C$17:$AF$47,21,FALSE),IF(A35=2025,VLOOKUP(D35,'Intervenants et coûts-j'!$C$17:$AF$47,22,FALSE),IF(A35=2026,VLOOKUP(D35,'Intervenants et coûts-j'!$C$17:$AF$47,23,FALSE),IF(A35=2027,VLOOKUP(D35,'Intervenants et coûts-j'!$C$17:$AF$47,24,FALSE))))))))","v":""},{"$f":"IF(D35=\"\",\"\",IF(A35=2022,VLOOKUP(D35,'Intervenants et coûts-j'!$C$17:$AF$47,25,FALSE),IF(A35=2023,VLOOKUP(D35,'Intervenants et coûts-j'!$C$17:$AF$47,26,FALSE),IF(A35=2024,VLOOKUP(D35,'Intervenants et coûts-j'!$C$17:$AF$47,27,FALSE),IF(A35=2025,VLOOKUP(D35,'Intervenants et coûts-j'!$C$17:$AF$47,28,FALSE),IF(A35=2026,VLOOKUP(D35,'Intervenants et coûts-j'!$C$17:$AF$47,29,FALSE),IF(A35=2027,VLOOKUP(D35,'Intervenants et coûts-j'!$C$17:$AF$47,30,FALSE))))))))","v":""},"",{"$f":"IF(E35=\"\",\"\",VLOOKUP(C35,'Coûts-indirects'!$A$4:$T$33,20,FALSE)*T35)","v":""},{"$f":"IF(D35=\"\",\"\",IF(V35=\"\",0,VLOOKUP(D35,'Frais-mission'!$B$3:$F$32,5,FALSE)*V35))","v":""},{"$f":"IF(D35=\"\",\"\",IF(W35=\"\",0,VLOOKUP(D35,'Frais-mission'!$B$3:$G$32,6,FALSE)*W35))","v":""},"","",{"$f":"IF(B35=\"\",\"\",IF(LEFT(B35,18)=\"Réunion collective\",350-SUMIF($B$6:B34,B35,$AH$6:AH34),\"\"))","v":""},"","",null,null,{"$f":"\"ListeIntervenants\"&VLOOKUP(C35,'Intervenants et coûts-j'!$B$5:$C$14,2,FALSE)","v":{"$error":"#N/A"}}]
[null,null,null,null,null,null,null,null,{"$f":"IF(D36=\"\",\"\",IF(A36=2022,VLOOKUP(D36,'Intervenants et coûts-j'!$C$17:$P$47,3,FALSE),IF(A36=2023,VLOOKUP(D36,'Intervenants et coûts-j'!$C$17:$P$47,4,FALSE),IF(A36=2024,VLOOKUP(D36,'Intervenants et coûts-j'!$C$17:$P$47,5,FALSE),IF(A36=2025,VLOOKUP(D36,'Intervenants et coûts-j'!$C$17:$P$47,6,FALSE),IF(A36=2026,VLOOKUP(D36,'Intervenants et coûts-j'!$C$17:$P$47,7,FALSE),IF(A36=2027,VLOOKUP(D36,'Intervenants et coûts-j'!$C$17:$P$47,8,FALSE))))))))","v":""},{"$f":"IF(D36=\"\",\"\",IF(A36=2022,VLOOKUP(D36,'Intervenants et coûts-j'!$C$17:$P$47,9,FALSE),IF(A36=2023,VLOOKUP(D36,'Intervenants et coûts-j'!$C$17:$P$47,10,FALSE),IF(A36=2024,VLOOKUP(D36,'Intervenants et coûts-j'!$C$17:$P$47,11,FALSE),IF(A36=2025,VLOOKUP(D36,'Intervenants et coûts-j'!$C$17:$P$47,12,FALSE),IF(A36=2026,VLOOKUP(D36,'Intervenants et coûts-j'!$C$17:$P$47,13,FALSE),IF(A36=2027,VLOOKUP(D36,'Intervenants et coûts-j'!$C$17:$P$47,14,FALSE))))))))","v":""},"",{"$f":"IF(E36=\"\",\"\",VLOOKUP(C36,'Coûts-indirects'!$A$4:$K$33,11,FALSE)*E36)","v":""},{"$f":"IF(D36=\"\",\"\",VLOOKUP(D36,'Frais-mission'!$B$3:$E$32,3,FALSE)*G36)","v":""},{"$f":"IF(D36=\"\",\"\",VLOOKUP(D36,'Frais-mission'!$B$3:$E$32,4,FALSE)*H36)","v":""},"","",{"$f":"IF(B36=\"\",\"\",IF(LEFT(B36,18)=\"Réunion collective\",350-SUMIF($B$6:B35,B36,$S$6:S35),\"\"))","v":""},"","","","","","",{"$f":"IF(D36=\"\",\"\",IF(A36=2022,VLOOKUP(D36,'Intervenants et coûts-j'!$C$17:$AF$47,19,FALSE),IF(A36=2023,VLOOKUP(D36,'Intervenants et coûts-j'!$C$17:$AF$47,20,FALSE),IF(A36=2024,VLOOKUP(D36,'Intervenants et coûts-j'!$C$17:$AF$47,21,FALSE),IF(A36=2025,VLOOKUP(D36,'Intervenants et coûts-j'!$C$17:$AF$47,22,FALSE),IF(A36=2026,VLOOKUP(D36,'Intervenants et coûts-j'!$C$17:$AF$47,23,FALSE),IF(A36=2027,VLOOKUP(D36,'Intervenants et coûts-j'!$C$17:$AF$47,24,FALSE))))))))","v":""},{"$f":"IF(D36=\"\",\"\",IF(A36=2022,VLOOKUP(D36,'Intervenants et coûts-j'!$C$17:$AF$47,25,FALSE),IF(A36=2023,VLOOKUP(D36,'Intervenants et coûts-j'!$C$17:$AF$47,26,FALSE),IF(A36=2024,VLOOKUP(D36,'Intervenants et coûts-j'!$C$17:$AF$47,27,FALSE),IF(A36=2025,VLOOKUP(D36,'Intervenants et coûts-j'!$C$17:$AF$47,28,FALSE),IF(A36=2026,VLOOKUP(D36,'Intervenants et coûts-j'!$C$17:$AF$47,29,FALSE),IF(A36=2027,VLOOKUP(D36,'Intervenants et coûts-j'!$C$17:$AF$47,30,FALSE))))))))","v":""},"",{"$f":"IF(E36=\"\",\"\",VLOOKUP(C36,'Coûts-indirects'!$A$4:$T$33,20,FALSE)*T36)","v":""},{"$f":"IF(D36=\"\",\"\",IF(V36=\"\",0,VLOOKUP(D36,'Frais-mission'!$B$3:$F$32,5,FALSE)*V36))","v":""},{"$f":"IF(D36=\"\",\"\",IF(W36=\"\",0,VLOOKUP(D36,'Frais-mission'!$B$3:$G$32,6,FALSE)*W36))","v":""},"","",{"$f":"IF(B36=\"\",\"\",IF(LEFT(B36,18)=\"Réunion collective\",350-SUMIF($B$6:B35,B36,$AH$6:AH35),\"\"))","v":""},"","",null,null,{"$f":"\"ListeIntervenants\"&VLOOKUP(C36,'Intervenants et coûts-j'!$B$5:$C$14,2,FALSE)","v":{"$error":"#N/A"}}]
[null,null,null,null,null,null,null,null,{"$f":"IF(D37=\"\",\"\",IF(A37=2022,VLOOKUP(D37,'Intervenants et coûts-j'!$C$17:$P$47,3,FALSE),IF(A37=2023,VLOOKUP(D37,'Intervenants et coûts-j'!$C$17:$P$47,4,FALSE),IF(A37=2024,VLOOKUP(D37,'Intervenants et coûts-j'!$C$17:$P$47,5,FALSE),IF(A37=2025,VLOOKUP(D37,'Intervenants et coûts-j'!$C$17:$P$47,6,FALSE),IF(A37=2026,VLOOKUP(D37,'Intervenants et coûts-j'!$C$17:$P$47,7,FALSE),IF(A37=2027,VLOOKUP(D37,'Intervenants et coûts-j'!$C$17:$P$47,8,FALSE))))))))","v":""},{"$f":"IF(D37=\"\",\"\",IF(A37=2022,VLOOKUP(D37,'Intervenants et coûts-j'!$C$17:$P$47,9,FALSE),IF(A37=2023,VLOOKUP(D37,'Intervenants et coûts-j'!$C$17:$P$47,10,FALSE),IF(A37=2024,VLOOKUP(D37,'Intervenants et coûts-j'!$C$17:$P$47,11,FALSE),IF(A37=2025,VLOOKUP(D37,'Intervenants et coûts-j'!$C$17:$P$47,12,FALSE),IF(A37=2026,VLOOKUP(D37,'Intervenants et coûts-j'!$C$17:$P$47,13,FALSE),IF(A37=2027,VLOOKUP(D37,'Intervenants et coûts-j'!$C$17:$P$47,14,FALSE))))))))","v":""},"",{"$f":"IF(E37=\"\",\"\",VLOOKUP(C37,'Coûts-indirects'!$A$4:$K$33,11,FALSE)*E37)","v":""},{"$f":"IF(D37=\"\",\"\",VLOOKUP(D37,'Frais-mission'!$B$3:$E$32,3,FALSE)*G37)","v":""},{"$f":"IF(D37=\"\",\"\",VLOOKUP(D37,'Frais-mission'!$B$3:$E$32,4,FALSE)*H37)","v":""},"","",{"$f":"IF(B37=\"\",\"\",IF(LEFT(B37,18)=\"Réunion collective\",350-SUMIF($B$6:B36,B37,$S$6:S36),\"\"))","v":""},"","","","","","",{"$f":"IF(D37=\"\",\"\",IF(A37=2022,VLOOKUP(D37,'Intervenants et coûts-j'!$C$17:$AF$47,19,FALSE),IF(A37=2023,VLOOKUP(D37,'Intervenants et coûts-j'!$C$17:$AF$47,20,FALSE),IF(A37=2024,VLOOKUP(D37,'Intervenants et coûts-j'!$C$17:$AF$47,21,FALSE),IF(A37=2025,VLOOKUP(D37,'Intervenants et coûts-j'!$C$17:$AF$47,22,FALSE),IF(A37=2026,VLOOKUP(D37,'Intervenants et coûts-j'!$C$17:$AF$47,23,FALSE),IF(A37=2027,VLOOKUP(D37,'Intervenants et coûts-j'!$C$17:$AF$47,24,FALSE))))))))","v":""},{"$f":"IF(D37=\"\",\"\",IF(A37=2022,VLOOKUP(D37,'Intervenants et coûts-j'!$C$17:$AF$47,25,FALSE),IF(A37=2023,VLOOKUP(D37,'Intervenants et coûts-j'!$C$17:$AF$47,26,FALSE),IF(A37=2024,VLOOKUP(D37,'Intervenants et coûts-j'!$C$17:$AF$47,27,FALSE),IF(A37=2025,VLOOKUP(D37,'Intervenants et coûts-j'!$C$17:$AF$47,28,FALSE),IF(A37=2026,VLOOKUP(D37,'Intervenants et coûts-j'!$C$17:$AF$47,29,FALSE),IF(A37=2027,VLOOKUP(D37,'Intervenants et coûts-j'!$C$17:$AF$47,30,FALSE))))))))","v":""},"",{"$f":"IF(E37=\"\",\"\",VLOOKUP(C37,'Coûts-indirects'!$A$4:$T$33,20,FALSE)*T37)","v":""},{"$f":"IF(D37=\"\",\"\",IF(V37=\"\",0,VLOOKUP(D37,'Frais-mission'!$B$3:$F$32,5,FALSE)*V37))","v":""},{"$f":"IF(D37=\"\",\"\",IF(W37=\"\",0,VLOOKUP(D37,'Frais-mission'!$B$3:$G$32,6,FALSE)*W37))","v":""},"","",{"$f":"IF(B37=\"\",\"\",IF(LEFT(B37,18)=\"Réunion collective\",350-SUMIF($B$6:B36,B37,$AH$6:AH36),\"\"))","v":""},"","",null,null,{"$f":"\"ListeIntervenants\"&VLOOKUP(C37,'Intervenants et coûts-j'!$B$5:$C$14,2,FALSE)","v":{"$error":"#N/A"}}]
[null,null,null,null,null,null,null,null,{"$f":"IF(D38=\"\",\"\",IF(A38=2022,VLOOKUP(D38,'Intervenants et coûts-j'!$C$17:$P$47,3,FALSE),IF(A38=2023,VLOOKUP(D38,'Intervenants et coûts-j'!$C$17:$P$47,4,FALSE),IF(A38=2024,VLOOKUP(D38,'Intervenants et coûts-j'!$C$17:$P$47,5,FALSE),IF(A38=2025,VLOOKUP(D38,'Intervenants et coûts-j'!$C$17:$P$47,6,FALSE),IF(A38=2026,VLOOKUP(D38,'Intervenants et coûts-j'!$C$17:$P$47,7,FALSE),IF(A38=2027,VLOOKUP(D38,'Intervenants et coûts-j'!$C$17:$P$47,8,FALSE))))))))","v":""},{"$f":"IF(D38=\"\",\"\",IF(A38=2022,VLOOKUP(D38,'Intervenants et coûts-j'!$C$17:$P$47,9,FALSE),IF(A38=2023,VLOOKUP(D38,'Intervenants et coûts-j'!$C$17:$P$47,10,FALSE),IF(A38=2024,VLOOKUP(D38,'Intervenants et coûts-j'!$C$17:$P$47,11,FALSE),IF(A38=2025,VLOOKUP(D38,'Intervenants et coûts-j'!$C$17:$P$47,12,FALSE),IF(A38=2026,VLOOKUP(D38,'Intervenants et coûts-j'!$C$17:$P$47,13,FALSE),IF(A38=2027,VLOOKUP(D38,'Intervenants et coûts-j'!$C$17:$P$47,14,FALSE))))))))","v":""},"",{"$f":"IF(E38=\"\",\"\",VLOOKUP(C38,'Coûts-indirects'!$A$4:$K$33,11,FALSE)*E38)","v":""},{"$f":"IF(D38=\"\",\"\",VLOOKUP(D38,'Frais-mission'!$B$3:$E$32,3,FALSE)*G38)","v":""},{"$f":"IF(D38=\"\",\"\",VLOOKUP(D38,'Frais-mission'!$B$3:$E$32,4,FALSE)*H38)","v":""},"","",{"$f":"IF(B38=\"\",\"\",IF(LEFT(B38,18)=\"Réunion collective\",350-SUMIF($B$6:B37,B38,$S$6:S37),\"\"))","v":""},"","","","","","",{"$f":"IF(D38=\"\",\"\",IF(A38=2022,VLOOKUP(D38,'Intervenants et coûts-j'!$C$17:$AF$47,19,FALSE),IF(A38=2023,VLOOKUP(D38,'Intervenants et coûts-j'!$C$17:$AF$47,20,FALSE),IF(A38=2024,VLOOKUP(D38,'Intervenants et coûts-j'!$C$17:$AF$47,21,FALSE),IF(A38=2025,VLOOKUP(D38,'Intervenants et coûts-j'!$C$17:$AF$47,22,FALSE),IF(A38=2026,VLOOKUP(D38,'Intervenants et coûts-j'!$C$17:$AF$47,23,FALSE),IF(A38=2027,VLOOKUP(D38,'Intervenants et coûts-j'!$C$17:$AF$47,24,FALSE))))))))","v":""},{"$f":"IF(D38=\"\",\"\",IF(A38=2022,VLOOKUP(D38,'Intervenants et coûts-j'!$C$17:$AF$47,25,FALSE),IF(A38=2023,VLOOKUP(D38,'Intervenants et coûts-j'!$C$17:$AF$47,26,FALSE),IF(A38=2024,VLOOKUP(D38,'Intervenants et coûts-j'!$C$17:$AF$47,27,FALSE),IF(A38=2025,VLOOKUP(D38,'Intervenants et coûts-j'!$C$17:$AF$47,28,FALSE),IF(A38=2026,VLOOKUP(D38,'Intervenants et coûts-j'!$C$17:$AF$47,29,FALSE),IF(A38=2027,VLOOKUP(D38,'Intervenants et coûts-j'!$C$17:$AF$47,30,FALSE))))))))","v":""},"",{"$f":"IF(E38=\"\",\"\",VLOOKUP(C38,'Coûts-indirects'!$A$4:$T$33,20,FALSE)*T38)","v":""},{"$f":"IF(D38=\"\",\"\",IF(V38=\"\",0,VLOOKUP(D38,'Frais-mission'!$B$3:$F$32,5,FALSE)*V38))","v":""},{"$f":"IF(D38=\"\",\"\",IF(W38=\"\",0,VLOOKUP(D38,'Frais-mission'!$B$3:$G$32,6,FALSE)*W38))","v":""},"","",{"$f":"IF(B38=\"\",\"\",IF(LEFT(B38,18)=\"Réunion collective\",350-SUMIF($B$6:B37,B38,$AH$6:AH37),\"\"))","v":""},"","",null,null,{"$f":"\"ListeIntervenants\"&VLOOKUP(C38,'Intervenants et coûts-j'!$B$5:$C$14,2,FALSE)","v":{"$error":"#N/A"}}]
[null,null,null,null,null,null,null,null,{"$f":"IF(D39=\"\",\"\",IF(A39=2022,VLOOKUP(D39,'Intervenants et coûts-j'!$C$17:$P$47,3,FALSE),IF(A39=2023,VLOOKUP(D39,'Intervenants et coûts-j'!$C$17:$P$47,4,FALSE),IF(A39=2024,VLOOKUP(D39,'Intervenants et coûts-j'!$C$17:$P$47,5,FALSE),IF(A39=2025,VLOOKUP(D39,'Intervenants et coûts-j'!$C$17:$P$47,6,FALSE),IF(A39=2026,VLOOKUP(D39,'Intervenants et coûts-j'!$C$17:$P$47,7,FALSE),IF(A39=2027,VLOOKUP(D39,'Intervenants et coûts-j'!$C$17:$P$47,8,FALSE))))))))","v":""},{"$f":"IF(D39=\"\",\"\",IF(A39=2022,VLOOKUP(D39,'Intervenants et coûts-j'!$C$17:$P$47,9,FALSE),IF(A39=2023,VLOOKUP(D39,'Intervenants et coûts-j'!$C$17:$P$47,10,FALSE),IF(A39=2024,VLOOKUP(D39,'Intervenants et coûts-j'!$C$17:$P$47,11,FALSE),IF(A39=2025,VLOOKUP(D39,'Intervenants et coûts-j'!$C$17:$P$47,12,FALSE),IF(A39=2026,VLOOKUP(D39,'Intervenants et coûts-j'!$C$17:$P$47,13,FALSE),IF(A39=2027,VLOOKUP(D39,'Intervenants et coûts-j'!$C$17:$P$47,14,FALSE))))))))","v":""},"",{"$f":"IF(E39=\"\",\"\",VLOOKUP(C39,'Coûts-indirects'!$A$4:$K$33,11,FALSE)*E39)","v":""},{"$f":"IF(D39=\"\",\"\",VLOOKUP(D39,'Frais-mission'!$B$3:$E$32,3,FALSE)*G39)","v":""},{"$f":"IF(D39=\"\",\"\",VLOOKUP(D39,'Frais-mission'!$B$3:$E$32,4,FALSE)*H39)","v":""},"","",{"$f":"IF(B39=\"\",\"\",IF(LEFT(B39,18)=\"Réunion collective\",350-SUMIF($B$6:B38,B39,$S$6:S38),\"\"))","v":""},"","","","","","",{"$f":"IF(D39=\"\",\"\",IF(A39=2022,VLOOKUP(D39,'Intervenants et coûts-j'!$C$17:$AF$47,19,FALSE),IF(A39=2023,VLOOKUP(D39,'Intervenants et coûts-j'!$C$17:$AF$47,20,FALSE),IF(A39=2024,VLOOKUP(D39,'Intervenants et coûts-j'!$C$17:$AF$47,21,FALSE),IF(A39=2025,VLOOKUP(D39,'Intervenants et coûts-j'!$C$17:$AF$47,22,FALSE),IF(A39=2026,VLOOKUP(D39,'Intervenants et coûts-j'!$C$17:$AF$47,23,FALSE),IF(A39=2027,VLOOKUP(D39,'Intervenants et coûts-j'!$C$17:$AF$47,24,FALSE))))))))","v":""},{"$f":"IF(D39=\"\",\"\",IF(A39=2022,VLOOKUP(D39,'Intervenants et coûts-j'!$C$17:$AF$47,25,FALSE),IF(A39=2023,VLOOKUP(D39,'Intervenants et coûts-j'!$C$17:$AF$47,26,FALSE),IF(A39=2024,VLOOKUP(D39,'Intervenants et coûts-j'!$C$17:$AF$47,27,FALSE),IF(A39=2025,VLOOKUP(D39,'Intervenants et coûts-j'!$C$17:$AF$47,28,FALSE),IF(A39=2026,VLOOKUP(D39,'Intervenants et coûts-j'!$C$17:$AF$47,29,FALSE),IF(A39=2027,VLOOKUP(D39,'Intervenants et coûts-j'!$C$17:$AF$47,30,FALSE))))))))","v":""},"",{"$f":"IF(E39=\"\",\"\",VLOOKUP(C39,'Coûts-indirects'!$A$4:$T$33,20,FALSE)*T39)","v":""},{"$f":"IF(D39=\"\",\"\",IF(V39=\"\",0,VLOOKUP(D39,'Frais-mission'!$B$3:$F$32,5,FALSE)*V39))","v":""},{"$f":"IF(D39=\"\",\"\",IF(W39=\"\",0,VLOOKUP(D39,'Frais-mission'!$B$3:$G$32,6,FALSE)*W39))","v":""},"","",{"$f":"IF(B39=\"\",\"\",IF(LEFT(B39,18)=\"Réunion collective\",350-SUMIF($B$6:B38,B39,$AH$6:AH38),\"\"))","v":""},"","",null,null,{"$f":"\"ListeIntervenants\"&VLOOKUP(C39,'Intervenants et coûts-j'!$B$5:$C$14,2,FALSE)","v":{"$error":"#N/A"}}]
[null,null,null,null,null,null,null,null,{"$f":"IF(D40=\"\",\"\",IF(A40=2022,VLOOKUP(D40,'Intervenants et coûts-j'!$C$17:$P$47,3,FALSE),IF(A40=2023,VLOOKUP(D40,'Intervenants et coûts-j'!$C$17:$P$47,4,FALSE),IF(A40=2024,VLOOKUP(D40,'Intervenants et coûts-j'!$C$17:$P$47,5,FALSE),IF(A40=2025,VLOOKUP(D40,'Intervenants et coûts-j'!$C$17:$P$47,6,FALSE),IF(A40=2026,VLOOKUP(D40,'Intervenants et coûts-j'!$C$17:$P$47,7,FALSE),IF(A40=2027,VLOOKUP(D40,'Intervenants et coûts-j'!$C$17:$P$47,8,FALSE))))))))","v":""},{"$f":"IF(D40=\"\",\"\",IF(A40=2022,VLOOKUP(D40,'Intervenants et coûts-j'!$C$17:$P$47,9,FALSE),IF(A40=2023,VLOOKUP(D40,'Intervenants et coûts-j'!$C$17:$P$47,10,FALSE),IF(A40=2024,VLOOKUP(D40,'Intervenants et coûts-j'!$C$17:$P$47,11,FALSE),IF(A40=2025,VLOOKUP(D40,'Intervenants et coûts-j'!$C$17:$P$47,12,FALSE),IF(A40=2026,VLOOKUP(D40,'Intervenants et coûts-j'!$C$17:$P$47,13,FALSE),IF(A40=2027,VLOOKUP(D40,'Intervenants et coûts-j'!$C$17:$P$47,14,FALSE))))))))","v":""},"",{"$f":"IF(E40=\"\",\"\",VLOOKUP(C40,'Coûts-indirects'!$A$4:$K$33,11,FALSE)*E40)","v":""},{"$f":"IF(D40=\"\",\"\",VLOOKUP(D40,'Frais-mission'!$B$3:$E$32,3,FALSE)*G40)","v":""},{"$f":"IF(D40=\"\",\"\",VLOOKUP(D40,'Frais-mission'!$B$3:$E$32,4,FALSE)*H40)","v":""},"","",{"$f":"IF(B40=\"\",\"\",IF(LEFT(B40,18)=\"Réunion collective\",350-SUMIF($B$6:B39,B40,$S$6:S39),\"\"))","v":""},"","","","","","",{"$f":"IF(D40=\"\",\"\",IF(A40=2022,VLOOKUP(D40,'Intervenants et coûts-j'!$C$17:$AF$47,19,FALSE),IF(A40=2023,VLOOKUP(D40,'Intervenants et coûts-j'!$C$17:$AF$47,20,FALSE),IF(A40=2024,VLOOKUP(D40,'Intervenants et coûts-j'!$C$17:$AF$47,21,FALSE),IF(A40=2025,VLOOKUP(D40,'Intervenants et coûts-j'!$C$17:$AF$47,22,FALSE),IF(A40=2026,VLOOKUP(D40,'Intervenants et coûts-j'!$C$17:$AF$47,23,FALSE),IF(A40=2027,VLOOKUP(D40,'Intervenants et coûts-j'!$C$17:$AF$47,24,FALSE))))))))","v":""},{"$f":"IF(D40=\"\",\"\",IF(A40=2022,VLOOKUP(D40,'Intervenants et coûts-j'!$C$17:$AF$47,25,FALSE),IF(A40=2023,VLOOKUP(D40,'Intervenants et coûts-j'!$C$17:$AF$47,26,FALSE),IF(A40=2024,VLOOKUP(D40,'Intervenants et coûts-j'!$C$17:$AF$47,27,FALSE),IF(A40=2025,VLOOKUP(D40,'Intervenants et coûts-j'!$C$17:$AF$47,28,FALSE),IF(A40=2026,VLOOKUP(D40,'Intervenants et coûts-j'!$C$17:$AF$47,29,FALSE),IF(A40=2027,VLOOKUP(D40,'Intervenants et coûts-j'!$C$17:$AF$47,30,FALSE))))))))","v":""},"",{"$f":"IF(E40=\"\",\"\",VLOOKUP(C40,'Coûts-indirects'!$A$4:$T$33,20,FALSE)*T40)","v":""},{"$f":"IF(D40=\"\",\"\",IF(V40=\"\",0,VLOOKUP(D40,'Frais-mission'!$B$3:$F$32,5,FALSE)*V40))","v":""},{"$f":"IF(D40=\"\",\"\",IF(W40=\"\",0,VLOOKUP(D40,'Frais-mission'!$B$3:$G$32,6,FALSE)*W40))","v":""},"","",{"$f":"IF(B40=\"\",\"\",IF(LEFT(B40,18)=\"Réunion collective\",350-SUMIF($B$6:B39,B40,$AH$6:AH39),\"\"))","v":""},"","",null,null,{"$f":"\"ListeIntervenants\"&VLOOKUP(C40,'Intervenants et coûts-j'!$B$5:$C$14,2,FALSE)","v":{"$error":"#N/A"}}]
[null,null,null,null,null,null,null,null,{"$f":"IF(D41=\"\",\"\",IF(A41=2022,VLOOKUP(D41,'Intervenants et coûts-j'!$C$17:$P$47,3,FALSE),IF(A41=2023,VLOOKUP(D41,'Intervenants et coûts-j'!$C$17:$P$47,4,FALSE),IF(A41=2024,VLOOKUP(D41,'Intervenants et coûts-j'!$C$17:$P$47,5,FALSE),IF(A41=2025,VLOOKUP(D41,'Intervenants et coûts-j'!$C$17:$P$47,6,FALSE),IF(A41=2026,VLOOKUP(D41,'Intervenants et coûts-j'!$C$17:$P$47,7,FALSE),IF(A41=2027,VLOOKUP(D41,'Intervenants et coûts-j'!$C$17:$P$47,8,FALSE))))))))","v":""},{"$f":"IF(D41=\"\",\"\",IF(A41=2022,VLOOKUP(D41,'Intervenants et coûts-j'!$C$17:$P$47,9,FALSE),IF(A41=2023,VLOOKUP(D41,'Intervenants et coûts-j'!$C$17:$P$47,10,FALSE),IF(A41=2024,VLOOKUP(D41,'Intervenants et coûts-j'!$C$17:$P$47,11,FALSE),IF(A41=2025,VLOOKUP(D41,'Intervenants et coûts-j'!$C$17:$P$47,12,FALSE),IF(A41=2026,VLOOKUP(D41,'Intervenants et coûts-j'!$C$17:$P$47,13,FALSE),IF(A41=2027,VLOOKUP(D41,'Intervenants et coûts-j'!$C$17:$P$47,14,FALSE))))))))","v":""},"",{"$f":"IF(E41=\"\",\"\",VLOOKUP(C41,'Coûts-indirects'!$A$4:$K$33,11,FALSE)*E41)","v":""},{"$f":"IF(D41=\"\",\"\",VLOOKUP(D41,'Frais-mission'!$B$3:$E$32,3,FALSE)*G41)","v":""},{"$f":"IF(D41=\"\",\"\",VLOOKUP(D41,'Frais-mission'!$B$3:$E$32,4,FALSE)*H41)","v":""},"","",{"$f":"IF(B41=\"\",\"\",IF(LEFT(B41,18)=\"Réunion collective\",350-SUMIF($B$6:B40,B41,$S$6:S40),\"\"))","v":""},"","","","","","",{"$f":"IF(D41=\"\",\"\",IF(A41=2022,VLOOKUP(D41,'Intervenants et coûts-j'!$C$17:$AF$47,19,FALSE),IF(A41=2023,VLOOKUP(D41,'Intervenants et coûts-j'!$C$17:$AF$47,20,FALSE),IF(A41=2024,VLOOKUP(D41,'Intervenants et coûts-j'!$C$17:$AF$47,21,FALSE),IF(A41=2025,VLOOKUP(D41,'Intervenants et coûts-j'!$C$17:$AF$47,22,FALSE),IF(A41=2026,VLOOKUP(D41,'Intervenants et coûts-j'!$C$17:$AF$47,23,FALSE),IF(A41=2027,VLOOKUP(D41,'Intervenants et coûts-j'!$C$17:$AF$47,24,FALSE))))))))","v":""},{"$f":"IF(D41=\"\",\"\",IF(A41=2022,VLOOKUP(D41,'Intervenants et coûts-j'!$C$17:$AF$47,25,FALSE),IF(A41=2023,VLOOKUP(D41,'Intervenants et coûts-j'!$C$17:$AF$47,26,FALSE),IF(A41=2024,VLOOKUP(D41,'Intervenants et coûts-j'!$C$17:$AF$47,27,FALSE),IF(A41=2025,VLOOKUP(D41,'Intervenants et coûts-j'!$C$17:$AF$47,28,FALSE),IF(A41=2026,VLOOKUP(D41,'Intervenants et coûts-j'!$C$17:$AF$47,29,FALSE),IF(A41=2027,VLOOKUP(D41,'Intervenants et coûts-j'!$C$17:$AF$47,30,FALSE))))))))","v":""},"",{"$f":"IF(E41=\"\",\"\",VLOOKUP(C41,'Coûts-indirects'!$A$4:$T$33,20,FALSE)*T41)","v":""},{"$f":"IF(D41=\"\",\"\",IF(V41=\"\",0,VLOOKUP(D41,'Frais-mission'!$B$3:$F$32,5,FALSE)*V41))","v":""},{"$f":"IF(D41=\"\",\"\",IF(W41=\"\",0,VLOOKUP(D41,'Frais-mission'!$B$3:$G$32,6,FALSE)*W41))","v":""},"","",{"$f":"IF(B41=\"\",\"\",IF(LEFT(B41,18)=\"Réunion collective\",350-SUMIF($B$6:B40,B41,$AH$6:AH40),\"\"))","v":""},"","",null,null,{"$f":"\"ListeIntervenants\"&VLOOKUP(C41,'Intervenants et coûts-j'!$B$5:$C$14,2,FALSE)","v":{"$error":"#N/A"}}]
[null,null,null,null,null,null,null,null,{"$f":"IF(D42=\"\",\"\",IF(A42=2022,VLOOKUP(D42,'Intervenants et coûts-j'!$C$17:$P$47,3,FALSE),IF(A42=2023,VLOOKUP(D42,'Intervenants et coûts-j'!$C$17:$P$47,4,FALSE),IF(A42=2024,VLOOKUP(D42,'Intervenants et coûts-j'!$C$17:$P$47,5,FALSE),IF(A42=2025,VLOOKUP(D42,'Intervenants et coûts-j'!$C$17:$P$47,6,FALSE),IF(A42=2026,VLOOKUP(D42,'Intervenants et coûts-j'!$C$17:$P$47,7,FALSE),IF(A42=2027,VLOOKUP(D42,'Intervenants et coûts-j'!$C$17:$P$47,8,FALSE))))))))","v":""},{"$f":"IF(D42=\"\",\"\",IF(A42=2022,VLOOKUP(D42,'Intervenants et coûts-j'!$C$17:$P$47,9,FALSE),IF(A42=2023,VLOOKUP(D42,'Intervenants et coûts-j'!$C$17:$P$47,10,FALSE),IF(A42=2024,VLOOKUP(D42,'Intervenants et coûts-j'!$C$17:$P$47,11,FALSE),IF(A42=2025,VLOOKUP(D42,'Intervenants et coûts-j'!$C$17:$P$47,12,FALSE),IF(A42=2026,VLOOKUP(D42,'Intervenants et coûts-j'!$C$17:$P$47,13,FALSE),IF(A42=2027,VLOOKUP(D42,'Intervenants et coûts-j'!$C$17:$P$47,14,FALSE))))))))","v":""},"",{"$f":"IF(E42=\"\",\"\",VLOOKUP(C42,'Coûts-indirects'!$A$4:$K$33,11,FALSE)*E42)","v":""},{"$f":"IF(D42=\"\",\"\",VLOOKUP(D42,'Frais-mission'!$B$3:$E$32,3,FALSE)*G42)","v":""},{"$f":"IF(D42=\"\",\"\",VLOOKUP(D42,'Frais-mission'!$B$3:$E$32,4,FALSE)*H42)","v":""},"","",{"$f":"IF(B42=\"\",\"\",IF(LEFT(B42,18)=\"Réunion collective\",350-SUMIF($B$6:B41,B42,$S$6:S41),\"\"))","v":""},"","","","","","",{"$f":"IF(D42=\"\",\"\",IF(A42=2022,VLOOKUP(D42,'Intervenants et coûts-j'!$C$17:$AF$47,19,FALSE),IF(A42=2023,VLOOKUP(D42,'Intervenants et coûts-j'!$C$17:$AF$47,20,FALSE),IF(A42=2024,VLOOKUP(D42,'Intervenants et coûts-j'!$C$17:$AF$47,21,FALSE),IF(A42=2025,VLOOKUP(D42,'Intervenants et coûts-j'!$C$17:$AF$47,22,FALSE),IF(A42=2026,VLOOKUP(D42,'Intervenants et coûts-j'!$C$17:$AF$47,23,FALSE),IF(A42=2027,VLOOKUP(D42,'Intervenants et coûts-j'!$C$17:$AF$47,24,FALSE))))))))","v":""},{"$f":"IF(D42=\"\",\"\",IF(A42=2022,VLOOKUP(D42,'Intervenants et coûts-j'!$C$17:$AF$47,25,FALSE),IF(A42=2023,VLOOKUP(D42,'Intervenants et coûts-j'!$C$17:$AF$47,26,FALSE),IF(A42=2024,VLOOKUP(D42,'Intervenants et coûts-j'!$C$17:$AF$47,27,FALSE),IF(A42=2025,VLOOKUP(D42,'Intervenants et coûts-j'!$C$17:$AF$47,28,FALSE),IF(A42=2026,VLOOKUP(D42,'Intervenants et coûts-j'!$C$17:$AF$47,29,FALSE),IF(A42=2027,VLOOKUP(D42,'Intervenants et coûts-j'!$C$17:$AF$47,30,FALSE))))))))","v":""},"",{"$f":"IF(E42=\"\",\"\",VLOOKUP(C42,'Coûts-indirects'!$A$4:$T$33,20,FALSE)*T42)","v":""},{"$f":"IF(D42=\"\",\"\",IF(V42=\"\",0,VLOOKUP(D42,'Frais-mission'!$B$3:$F$32,5,FALSE)*V42))","v":""},{"$f":"IF(D42=\"\",\"\",IF(W42=\"\",0,VLOOKUP(D42,'Frais-mission'!$B$3:$G$32,6,FALSE)*W42))","v":""},"","",{"$f":"IF(B42=\"\",\"\",IF(LEFT(B42,18)=\"Réunion collective\",350-SUMIF($B$6:B41,B42,$AH$6:AH41),\"\"))","v":""},"","",null,null,{"$f":"\"ListeIntervenants\"&VLOOKUP(C42,'Intervenants et coûts-j'!$B$5:$C$14,2,FALSE)","v":{"$error":"#N/A"}}]
[null,null,null,null,null,null,null,null,{"$f":"IF(D43=\"\",\"\",IF(A43=2022,VLOOKUP(D43,'Intervenants et coûts-j'!$C$17:$P$47,3,FALSE),IF(A43=2023,VLOOKUP(D43,'Intervenants et coûts-j'!$C$17:$P$47,4,FALSE),IF(A43=2024,VLOOKUP(D43,'Intervenants et coûts-j'!$C$17:$P$47,5,FALSE),IF(A43=2025,VLOOKUP(D43,'Intervenants et coûts-j'!$C$17:$P$47,6,FALSE),IF(A43=2026,VLOOKUP(D43,'Intervenants et coûts-j'!$C$17:$P$47,7,FALSE),IF(A43=2027,VLOOKUP(D43,'Intervenants et coûts-j'!$C$17:$P$47,8,FALSE))))))))","v":""},{"$f":"IF(D43=\"\",\"\",IF(A43=2022,VLOOKUP(D43,'Intervenants et coûts-j'!$C$17:$P$47,9,FALSE),IF(A43=2023,VLOOKUP(D43,'Intervenants et coûts-j'!$C$17:$P$47,10,FALSE),IF(A43=2024,VLOOKUP(D43,'Intervenants et coûts-j'!$C$17:$P$47,11,FALSE),IF(A43=2025,VLOOKUP(D43,'Intervenants et coûts-j'!$C$17:$P$47,12,FALSE),IF(A43=2026,VLOOKUP(D43,'Intervenants et coûts-j'!$C$17:$P$47,13,FALSE),IF(A43=2027,VLOOKUP(D43,'Intervenants et coûts-j'!$C$17:$P$47,14,FALSE))))))))","v":""},"",{"$f":"IF(E43=\"\",\"\",VLOOKUP(C43,'Coûts-indirects'!$A$4:$K$33,11,FALSE)*E43)","v":""},{"$f":"IF(D43=\"\",\"\",VLOOKUP(D43,'Frais-mission'!$B$3:$E$32,3,FALSE)*G43)","v":""},{"$f":"IF(D43=\"\",\"\",VLOOKUP(D43,'Frais-mission'!$B$3:$E$32,4,FALSE)*H43)","v":""},"","",{"$f":"IF(B43=\"\",\"\",IF(LEFT(B43,18)=\"Réunion collective\",350-SUMIF($B$6:B42,B43,$S$6:S42),\"\"))","v":""},"","","","","","",{"$f":"IF(D43=\"\",\"\",IF(A43=2022,VLOOKUP(D43,'Intervenants et coûts-j'!$C$17:$AF$47,19,FALSE),IF(A43=2023,VLOOKUP(D43,'Intervenants et coûts-j'!$C$17:$AF$47,20,FALSE),IF(A43=2024,VLOOKUP(D43,'Intervenants et coûts-j'!$C$17:$AF$47,21,FALSE),IF(A43=2025,VLOOKUP(D43,'Intervenants et coûts-j'!$C$17:$AF$47,22,FALSE),IF(A43=2026,VLOOKUP(D43,'Intervenants et coûts-j'!$C$17:$AF$47,23,FALSE),IF(A43=2027,VLOOKUP(D43,'Intervenants et coûts-j'!$C$17:$AF$47,24,FALSE))))))))","v":""},{"$f":"IF(D43=\"\",\"\",IF(A43=2022,VLOOKUP(D43,'Intervenants et coûts-j'!$C$17:$AF$47,25,FALSE),IF(A43=2023,VLOOKUP(D43,'Intervenants et coûts-j'!$C$17:$AF$47,26,FALSE),IF(A43=2024,VLOOKUP(D43,'Intervenants et coûts-j'!$C$17:$AF$47,27,FALSE),IF(A43=2025,VLOOKUP(D43,'Intervenants et coûts-j'!$C$17:$AF$47,28,FALSE),IF(A43=2026,VLOOKUP(D43,'Intervenants et coûts-j'!$C$17:$AF$47,29,FALSE),IF(A43=2027,VLOOKUP(D43,'Intervenants et coûts-j'!$C$17:$AF$47,30,FALSE))))))))","v":""},"",{"$f":"IF(E43=\"\",\"\",VLOOKUP(C43,'Coûts-indirects'!$A$4:$T$33,20,FALSE)*T43)","v":""},{"$f":"IF(D43=\"\",\"\",IF(V43=\"\",0,VLOOKUP(D43,'Frais-mission'!$B$3:$F$32,5,FALSE)*V43))","v":""},{"$f":"IF(D43=\"\",\"\",IF(W43=\"\",0,VLOOKUP(D43,'Frais-mission'!$B$3:$G$32,6,FALSE)*W43))","v":""},"","",{"$f":"IF(B43=\"\",\"\",IF(LEFT(B43,18)=\"Réunion collective\",350-SUMIF($B$6:B42,B43,$AH$6:AH42),\"\"))","v":""},"","",null,null,{"$f":"\"ListeIntervenants\"&VLOOKUP(C43,'Intervenants et coûts-j'!$B$5:$C$14,2,FALSE)","v":{"$error":"#N/A"}}]
[null,null,null,null,null,null,null,null,{"$f":"IF(D44=\"\",\"\",IF(A44=2022,VLOOKUP(D44,'Intervenants et coûts-j'!$C$17:$P$47,3,FALSE),IF(A44=2023,VLOOKUP(D44,'Intervenants et coûts-j'!$C$17:$P$47,4,FALSE),IF(A44=2024,VLOOKUP(D44,'Intervenants et coûts-j'!$C$17:$P$47,5,FALSE),IF(A44=2025,VLOOKUP(D44,'Intervenants et coûts-j'!$C$17:$P$47,6,FALSE),IF(A44=2026,VLOOKUP(D44,'Intervenants et coûts-j'!$C$17:$P$47,7,FALSE),IF(A44=2027,VLOOKUP(D44,'Intervenants et coûts-j'!$C$17:$P$47,8,FALSE))))))))","v":""},{"$f":"IF(D44=\"\",\"\",IF(A44=2022,VLOOKUP(D44,'Intervenants et coûts-j'!$C$17:$P$47,9,FALSE),IF(A44=2023,VLOOKUP(D44,'Intervenants et coûts-j'!$C$17:$P$47,10,FALSE),IF(A44=2024,VLOOKUP(D44,'Intervenants et coûts-j'!$C$17:$P$47,11,FALSE),IF(A44=2025,VLOOKUP(D44,'Intervenants et coûts-j'!$C$17:$P$47,12,FALSE),IF(A44=2026,VLOOKUP(D44,'Intervenants et coûts-j'!$C$17:$P$47,13,FALSE),IF(A44=2027,VLOOKUP(D44,'Intervenants et coûts-j'!$C$17:$P$47,14,FALSE))))))))","v":""},"",{"$f":"IF(E44=\"\",\"\",VLOOKUP(C44,'Coûts-indirects'!$A$4:$K$33,11,FALSE)*E44)","v":""},{"$f":"IF(D44=\"\",\"\",VLOOKUP(D44,'Frais-mission'!$B$3:$E$32,3,FALSE)*G44)","v":""},{"$f":"IF(D44=\"\",\"\",VLOOKUP(D44,'Frais-mission'!$B$3:$E$32,4,FALSE)*H44)","v":""},"","",{"$f":"IF(B44=\"\",\"\",IF(LEFT(B44,18)=\"Réunion collective\",350-SUMIF($B$6:B43,B44,$S$6:S43),\"\"))","v":""},"","","","","","",{"$f":"IF(D44=\"\",\"\",IF(A44=2022,VLOOKUP(D44,'Intervenants et coûts-j'!$C$17:$AF$47,19,FALSE),IF(A44=2023,VLOOKUP(D44,'Intervenants et coûts-j'!$C$17:$AF$47,20,FALSE),IF(A44=2024,VLOOKUP(D44,'Intervenants et coûts-j'!$C$17:$AF$47,21,FALSE),IF(A44=2025,VLOOKUP(D44,'Intervenants et coûts-j'!$C$17:$AF$47,22,FALSE),IF(A44=2026,VLOOKUP(D44,'Intervenants et coûts-j'!$C$17:$AF$47,23,FALSE),IF(A44=2027,VLOOKUP(D44,'Intervenants et coûts-j'!$C$17:$AF$47,24,FALSE))))))))","v":""},{"$f":"IF(D44=\"\",\"\",IF(A44=2022,VLOOKUP(D44,'Intervenants et coûts-j'!$C$17:$AF$47,25,FALSE),IF(A44=2023,VLOOKUP(D44,'Intervenants et coûts-j'!$C$17:$AF$47,26,FALSE),IF(A44=2024,VLOOKUP(D44,'Intervenants et coûts-j'!$C$17:$AF$47,27,FALSE),IF(A44=2025,VLOOKUP(D44,'Intervenants et coûts-j'!$C$17:$AF$47,28,FALSE),IF(A44=2026,VLOOKUP(D44,'Intervenants et coûts-j'!$C$17:$AF$47,29,FALSE),IF(A44=2027,VLOOKUP(D44,'Intervenants et coûts-j'!$C$17:$AF$47,30,FALSE))))))))","v":""},"",{"$f":"IF(E44=\"\",\"\",VLOOKUP(C44,'Coûts-indirects'!$A$4:$T$33,20,FALSE)*T44)","v":""},{"$f":"IF(D44=\"\",\"\",IF(V44=\"\",0,VLOOKUP(D44,'Frais-mission'!$B$3:$F$32,5,FALSE)*V44))","v":""},{"$f":"IF(D44=\"\",\"\",IF(W44=\"\",0,VLOOKUP(D44,'Frais-mission'!$B$3:$G$32,6,FALSE)*W44))","v":""},"","",{"$f":"IF(B44=\"\",\"\",IF(LEFT(B44,18)=\"Réunion collective\",350-SUMIF($B$6:B43,B44,$AH$6:AH43),\"\"))","v":""},"","",null,null,{"$f":"\"ListeIntervenants\"&VLOOKUP(C44,'Intervenants et coûts-j'!$B$5:$C$14,2,FALSE)","v":{"$error":"#N/A"}}]
[null,null,null,null,null,null,null,null,{"$f":"IF(D45=\"\",\"\",IF(A45=2022,VLOOKUP(D45,'Intervenants et coûts-j'!$C$17:$P$47,3,FALSE),IF(A45=2023,VLOOKUP(D45,'Intervenants et coûts-j'!$C$17:$P$47,4,FALSE),IF(A45=2024,VLOOKUP(D45,'Intervenants et coûts-j'!$C$17:$P$47,5,FALSE),IF(A45=2025,VLOOKUP(D45,'Intervenants et coûts-j'!$C$17:$P$47,6,FALSE),IF(A45=2026,VLOOKUP(D45,'Intervenants et coûts-j'!$C$17:$P$47,7,FALSE),IF(A45=2027,VLOOKUP(D45,'Intervenants et coûts-j'!$C$17:$P$47,8,FALSE))))))))","v":""},{"$f":"IF(D45=\"\",\"\",IF(A45=2022,VLOOKUP(D45,'Intervenants et coûts-j'!$C$17:$P$47,9,FALSE),IF(A45=2023,VLOOKUP(D45,'Intervenants et coûts-j'!$C$17:$P$47,10,FALSE),IF(A45=2024,VLOOKUP(D45,'Intervenants et coûts-j'!$C$17:$P$47,11,FALSE),IF(A45=2025,VLOOKUP(D45,'Intervenants et coûts-j'!$C$17:$P$47,12,FALSE),IF(A45=2026,VLOOKUP(D45,'Intervenants et coûts-j'!$C$17:$P$47,13,FALSE),IF(A45=2027,VLOOKUP(D45,'Intervenants et coûts-j'!$C$17:$P$47,14,FALSE))))))))","v":""},"",{"$f":"IF(E45=\"\",\"\",VLOOKUP(C45,'Coûts-indirects'!$A$4:$K$33,11,FALSE)*E45)","v":""},{"$f":"IF(D45=\"\",\"\",VLOOKUP(D45,'Frais-mission'!$B$3:$E$32,3,FALSE)*G45)","v":""},{"$f":"IF(D45=\"\",\"\",VLOOKUP(D45,'Frais-mission'!$B$3:$E$32,4,FALSE)*H45)","v":""},"","",{"$f":"IF(B45=\"\",\"\",IF(LEFT(B45,18)=\"Réunion collective\",350-SUMIF($B$6:B44,B45,$S$6:S44),\"\"))","v":""},"","","","","","",{"$f":"IF(D45=\"\",\"\",IF(A45=2022,VLOOKUP(D45,'Intervenants et coûts-j'!$C$17:$AF$47,19,FALSE),IF(A45=2023,VLOOKUP(D45,'Intervenants et coûts-j'!$C$17:$AF$47,20,FALSE),IF(A45=2024,VLOOKUP(D45,'Intervenants et coûts-j'!$C$17:$AF$47,21,FALSE),IF(A45=2025,VLOOKUP(D45,'Intervenants et coûts-j'!$C$17:$AF$47,22,FALSE),IF(A45=2026,VLOOKUP(D45,'Intervenants et coûts-j'!$C$17:$AF$47,23,FALSE),IF(A45=2027,VLOOKUP(D45,'Intervenants et coûts-j'!$C$17:$AF$47,24,FALSE))))))))","v":""},{"$f":"IF(D45=\"\",\"\",IF(A45=2022,VLOOKUP(D45,'Intervenants et coûts-j'!$C$17:$AF$47,25,FALSE),IF(A45=2023,VLOOKUP(D45,'Intervenants et coûts-j'!$C$17:$AF$47,26,FALSE),IF(A45=2024,VLOOKUP(D45,'Intervenants et coûts-j'!$C$17:$AF$47,27,FALSE),IF(A45=2025,VLOOKUP(D45,'Intervenants et coûts-j'!$C$17:$AF$47,28,FALSE),IF(A45=2026,VLOOKUP(D45,'Intervenants et coûts-j'!$C$17:$AF$47,29,FALSE),IF(A45=2027,VLOOKUP(D45,'Intervenants et coûts-j'!$C$17:$AF$47,30,FALSE))))))))","v":""},"",{"$f":"IF(E45=\"\",\"\",VLOOKUP(C45,'Coûts-indirects'!$A$4:$T$33,20,FALSE)*T45)","v":""},{"$f":"IF(D45=\"\",\"\",IF(V45=\"\",0,VLOOKUP(D45,'Frais-mission'!$B$3:$F$32,5,FALSE)*V45))","v":""},{"$f":"IF(D45=\"\",\"\",IF(W45=\"\",0,VLOOKUP(D45,'Frais-mission'!$B$3:$G$32,6,FALSE)*W45))","v":""},"","",{"$f":"IF(B45=\"\",\"\",IF(LEFT(B45,18)=\"Réunion collective\",350-SUMIF($B$6:B44,B45,$AH$6:AH44),\"\"))","v":""},"","",null,null,{"$f":"\"ListeIntervenants\"&VLOOKUP(C45,'Intervenants et coûts-j'!$B$5:$C$14,2,FALSE)","v":{"$error":"#N/A"}}]
[null,null,null,null,null,null,null,null,{"$f":"IF(D46=\"\",\"\",IF(A46=2022,VLOOKUP(D46,'Intervenants et coûts-j'!$C$17:$P$47,3,FALSE),IF(A46=2023,VLOOKUP(D46,'Intervenants et coûts-j'!$C$17:$P$47,4,FALSE),IF(A46=2024,VLOOKUP(D46,'Intervenants et coûts-j'!$C$17:$P$47,5,FALSE),IF(A46=2025,VLOOKUP(D46,'Intervenants et coûts-j'!$C$17:$P$47,6,FALSE),IF(A46=2026,VLOOKUP(D46,'Intervenants et coûts-j'!$C$17:$P$47,7,FALSE),IF(A46=2027,VLOOKUP(D46,'Intervenants et coûts-j'!$C$17:$P$47,8,FALSE))))))))","v":""},{"$f":"IF(D46=\"\",\"\",IF(A46=2022,VLOOKUP(D46,'Intervenants et coûts-j'!$C$17:$P$47,9,FALSE),IF(A46=2023,VLOOKUP(D46,'Intervenants et coûts-j'!$C$17:$P$47,10,FALSE),IF(A46=2024,VLOOKUP(D46,'Intervenants et coûts-j'!$C$17:$P$47,11,FALSE),IF(A46=2025,VLOOKUP(D46,'Intervenants et coûts-j'!$C$17:$P$47,12,FALSE),IF(A46=2026,VLOOKUP(D46,'Intervenants et coûts-j'!$C$17:$P$47,13,FALSE),IF(A46=2027,VLOOKUP(D46,'Intervenants et coûts-j'!$C$17:$P$47,14,FALSE))))))))","v":""},"",{"$f":"IF(E46=\"\",\"\",VLOOKUP(C46,'Coûts-indirects'!$A$4:$K$33,11,FALSE)*E46)","v":""},{"$f":"IF(D46=\"\",\"\",VLOOKUP(D46,'Frais-mission'!$B$3:$E$32,3,FALSE)*G46)","v":""},{"$f":"IF(D46=\"\",\"\",VLOOKUP(D46,'Frais-mission'!$B$3:$E$32,4,FALSE)*H46)","v":""},"","",{"$f":"IF(B46=\"\",\"\",IF(LEFT(B46,18)=\"Réunion collective\",350-SUMIF($B$6:B45,B46,$S$6:S45),\"\"))","v":""},"","","","","","",{"$f":"IF(D46=\"\",\"\",IF(A46=2022,VLOOKUP(D46,'Intervenants et coûts-j'!$C$17:$AF$47,19,FALSE),IF(A46=2023,VLOOKUP(D46,'Intervenants et coûts-j'!$C$17:$AF$47,20,FALSE),IF(A46=2024,VLOOKUP(D46,'Intervenants et coûts-j'!$C$17:$AF$47,21,FALSE),IF(A46=2025,VLOOKUP(D46,'Intervenants et coûts-j'!$C$17:$AF$47,22,FALSE),IF(A46=2026,VLOOKUP(D46,'Intervenants et coûts-j'!$C$17:$AF$47,23,FALSE),IF(A46=2027,VLOOKUP(D46,'Intervenants et coûts-j'!$C$17:$AF$47,24,FALSE))))))))","v":""},{"$f":"IF(D46=\"\",\"\",IF(A46=2022,VLOOKUP(D46,'Intervenants et coûts-j'!$C$17:$AF$47,25,FALSE),IF(A46=2023,VLOOKUP(D46,'Intervenants et coûts-j'!$C$17:$AF$47,26,FALSE),IF(A46=2024,VLOOKUP(D46,'Intervenants et coûts-j'!$C$17:$AF$47,27,FALSE),IF(A46=2025,VLOOKUP(D46,'Intervenants et coûts-j'!$C$17:$AF$47,28,FALSE),IF(A46=2026,VLOOKUP(D46,'Intervenants et coûts-j'!$C$17:$AF$47,29,FALSE),IF(A46=2027,VLOOKUP(D46,'Intervenants et coûts-j'!$C$17:$AF$47,30,FALSE))))))))","v":""},"",{"$f":"IF(E46=\"\",\"\",VLOOKUP(C46,'Coûts-indirects'!$A$4:$T$33,20,FALSE)*T46)","v":""},{"$f":"IF(D46=\"\",\"\",IF(V46=\"\",0,VLOOKUP(D46,'Frais-mission'!$B$3:$F$32,5,FALSE)*V46))","v":""},{"$f":"IF(D46=\"\",\"\",IF(W46=\"\",0,VLOOKUP(D46,'Frais-mission'!$B$3:$G$32,6,FALSE)*W46))","v":""},"","",{"$f":"IF(B46=\"\",\"\",IF(LEFT(B46,18)=\"Réunion collective\",350-SUMIF($B$6:B45,B46,$AH$6:AH45),\"\"))","v":""},"","",null,null,{"$f":"\"ListeIntervenants\"&VLOOKUP(C46,'Intervenants et coûts-j'!$B$5:$C$14,2,FALSE)","v":{"$error":"#N/A"}}]
[null,null,null,null,null,null,null,null,{"$f":"IF(D47=\"\",\"\",IF(A47=2022,VLOOKUP(D47,'Intervenants et coûts-j'!$C$17:$P$47,3,FALSE),IF(A47=2023,VLOOKUP(D47,'Intervenants et coûts-j'!$C$17:$P$47,4,FALSE),IF(A47=2024,VLOOKUP(D47,'Intervenants et coûts-j'!$C$17:$P$47,5,FALSE),IF(A47=2025,VLOOKUP(D47,'Intervenants et coûts-j'!$C$17:$P$47,6,FALSE),IF(A47=2026,VLOOKUP(D47,'Intervenants et coûts-j'!$C$17:$P$47,7,FALSE),IF(A47=2027,VLOOKUP(D47,'Intervenants et coûts-j'!$C$17:$P$47,8,FALSE))))))))","v":""},{"$f":"IF(D47=\"\",\"\",IF(A47=2022,VLOOKUP(D47,'Intervenants et coûts-j'!$C$17:$P$47,9,FALSE),IF(A47=2023,VLOOKUP(D47,'Intervenants et coûts-j'!$C$17:$P$47,10,FALSE),IF(A47=2024,VLOOKUP(D47,'Intervenants et coûts-j'!$C$17:$P$47,11,FALSE),IF(A47=2025,VLOOKUP(D47,'Intervenants et coûts-j'!$C$17:$P$47,12,FALSE),IF(A47=2026,VLOOKUP(D47,'Intervenants et coûts-j'!$C$17:$P$47,13,FALSE),IF(A47=2027,VLOOKUP(D47,'Intervenants et coûts-j'!$C$17:$P$47,14,FALSE))))))))","v":""},"",{"$f":"IF(E47=\"\",\"\",VLOOKUP(C47,'Coûts-indirects'!$A$4:$K$33,11,FALSE)*E47)","v":""},{"$f":"IF(D47=\"\",\"\",VLOOKUP(D47,'Frais-mission'!$B$3:$E$32,3,FALSE)*G47)","v":""},{"$f":"IF(D47=\"\",\"\",VLOOKUP(D47,'Frais-mission'!$B$3:$E$32,4,FALSE)*H47)","v":""},"","",{"$f":"IF(B47=\"\",\"\",IF(LEFT(B47,18)=\"Réunion collective\",350-SUMIF($B$6:B46,B47,$S$6:S46),\"\"))","v":""},"","","","","","",{"$f":"IF(D47=\"\",\"\",IF(A47=2022,VLOOKUP(D47,'Intervenants et coûts-j'!$C$17:$AF$47,19,FALSE),IF(A47=2023,VLOOKUP(D47,'Intervenants et coûts-j'!$C$17:$AF$47,20,FALSE),IF(A47=2024,VLOOKUP(D47,'Intervenants et coûts-j'!$C$17:$AF$47,21,FALSE),IF(A47=2025,VLOOKUP(D47,'Intervenants et coûts-j'!$C$17:$AF$47,22,FALSE),IF(A47=2026,VLOOKUP(D47,'Intervenants et coûts-j'!$C$17:$AF$47,23,FALSE),IF(A47=2027,VLOOKUP(D47,'Intervenants et coûts-j'!$C$17:$AF$47,24,FALSE))))))))","v":""},{"$f":"IF(D47=\"\",\"\",IF(A47=2022,VLOOKUP(D47,'Intervenants et coûts-j'!$C$17:$AF$47,25,FALSE),IF(A47=2023,VLOOKUP(D47,'Intervenants et coûts-j'!$C$17:$AF$47,26,FALSE),IF(A47=2024,VLOOKUP(D47,'Intervenants et coûts-j'!$C$17:$AF$47,27,FALSE),IF(A47=2025,VLOOKUP(D47,'Intervenants et coûts-j'!$C$17:$AF$47,28,FALSE),IF(A47=2026,VLOOKUP(D47,'Intervenants et coûts-j'!$C$17:$AF$47,29,FALSE),IF(A47=2027,VLOOKUP(D47,'Intervenants et coûts-j'!$C$17:$AF$47,30,FALSE))))))))","v":""},"",{"$f":"IF(E47=\"\",\"\",VLOOKUP(C47,'Coûts-indirects'!$A$4:$T$33,20,FALSE)*T47)","v":""},{"$f":"IF(D47=\"\",\"\",IF(V47=\"\",0,VLOOKUP(D47,'Frais-mission'!$B$3:$F$32,5,FALSE)*V47))","v":""},{"$f":"IF(D47=\"\",\"\",IF(W47=\"\",0,VLOOKUP(D47,'Frais-mission'!$B$3:$G$32,6,FALSE)*W47))","v":""},"","",{"$f":"IF(B47=\"\",\"\",IF(LEFT(B47,18)=\"Réunion collective\",350-SUMIF($B$6:B46,B47,$AH$6:AH46),\"\"))","v":""},"","",null,null,{"$f":"\"ListeIntervenants\"&VLOOKUP(C47,'Intervenants et coûts-j'!$B$5:$C$14,2,FALSE)","v":{"$error":"#N/A"}}]
[null,null,null,null,null,null,null,null,{"$f":"IF(D48=\"\",\"\",IF(A48=2022,VLOOKUP(D48,'Intervenants et coûts-j'!$C$17:$P$47,3,FALSE),IF(A48=2023,VLOOKUP(D48,'Intervenants et coûts-j'!$C$17:$P$47,4,FALSE),IF(A48=2024,VLOOKUP(D48,'Intervenants et coûts-j'!$C$17:$P$47,5,FALSE),IF(A48=2025,VLOOKUP(D48,'Intervenants et coûts-j'!$C$17:$P$47,6,FALSE),IF(A48=2026,VLOOKUP(D48,'Intervenants et coûts-j'!$C$17:$P$47,7,FALSE),IF(A48=2027,VLOOKUP(D48,'Intervenants et coûts-j'!$C$17:$P$47,8,FALSE))))))))","v":""},{"$f":"IF(D48=\"\",\"\",IF(A48=2022,VLOOKUP(D48,'Intervenants et coûts-j'!$C$17:$P$47,9,FALSE),IF(A48=2023,VLOOKUP(D48,'Intervenants et coûts-j'!$C$17:$P$47,10,FALSE),IF(A48=2024,VLOOKUP(D48,'Intervenants et coûts-j'!$C$17:$P$47,11,FALSE),IF(A48=2025,VLOOKUP(D48,'Intervenants et coûts-j'!$C$17:$P$47,12,FALSE),IF(A48=2026,VLOOKUP(D48,'Intervenants et coûts-j'!$C$17:$P$47,13,FALSE),IF(A48=2027,VLOOKUP(D48,'Intervenants et coûts-j'!$C$17:$P$47,14,FALSE))))))))","v":""},"",{"$f":"IF(E48=\"\",\"\",VLOOKUP(C48,'Coûts-indirects'!$A$4:$K$33,11,FALSE)*E48)","v":""},{"$f":"IF(D48=\"\",\"\",VLOOKUP(D48,'Frais-mission'!$B$3:$E$32,3,FALSE)*G48)","v":""},{"$f":"IF(D48=\"\",\"\",VLOOKUP(D48,'Frais-mission'!$B$3:$E$32,4,FALSE)*H48)","v":""},"","",{"$f":"IF(B48=\"\",\"\",IF(LEFT(B48,18)=\"Réunion collective\",350-SUMIF($B$6:B47,B48,$S$6:S47),\"\"))","v":""},"","","","","","",{"$f":"IF(D48=\"\",\"\",IF(A48=2022,VLOOKUP(D48,'Intervenants et coûts-j'!$C$17:$AF$47,19,FALSE),IF(A48=2023,VLOOKUP(D48,'Intervenants et coûts-j'!$C$17:$AF$47,20,FALSE),IF(A48=2024,VLOOKUP(D48,'Intervenants et coûts-j'!$C$17:$AF$47,21,FALSE),IF(A48=2025,VLOOKUP(D48,'Intervenants et coûts-j'!$C$17:$AF$47,22,FALSE),IF(A48=2026,VLOOKUP(D48,'Intervenants et coûts-j'!$C$17:$AF$47,23,FALSE),IF(A48=2027,VLOOKUP(D48,'Intervenants et coûts-j'!$C$17:$AF$47,24,FALSE))))))))","v":""},{"$f":"IF(D48=\"\",\"\",IF(A48=2022,VLOOKUP(D48,'Intervenants et coûts-j'!$C$17:$AF$47,25,FALSE),IF(A48=2023,VLOOKUP(D48,'Intervenants et coûts-j'!$C$17:$AF$47,26,FALSE),IF(A48=2024,VLOOKUP(D48,'Intervenants et coûts-j'!$C$17:$AF$47,27,FALSE),IF(A48=2025,VLOOKUP(D48,'Intervenants et coûts-j'!$C$17:$AF$47,28,FALSE),IF(A48=2026,VLOOKUP(D48,'Intervenants et coûts-j'!$C$17:$AF$47,29,FALSE),IF(A48=2027,VLOOKUP(D48,'Intervenants et coûts-j'!$C$17:$AF$47,30,FALSE))))))))","v":""},"",{"$f":"IF(E48=\"\",\"\",VLOOKUP(C48,'Coûts-indirects'!$A$4:$T$33,20,FALSE)*T48)","v":""},{"$f":"IF(D48=\"\",\"\",IF(V48=\"\",0,VLOOKUP(D48,'Frais-mission'!$B$3:$F$32,5,FALSE)*V48))","v":""},{"$f":"IF(D48=\"\",\"\",IF(W48=\"\",0,VLOOKUP(D48,'Frais-mission'!$B$3:$G$32,6,FALSE)*W48))","v":""},"","",{"$f":"IF(B48=\"\",\"\",IF(LEFT(B48,18)=\"Réunion collective\",350-SUMIF($B$6:B47,B48,$AH$6:AH47),\"\"))","v":""},"","",null,null,{"$f":"\"ListeIntervenants\"&VLOOKUP(C48,'Intervenants et coûts-j'!$B$5:$C$14,2,FALSE)","v":{"$error":"#N/A"}}]
[null,null,null,null,null,null,null,null,{"$f":"IF(D49=\"\",\"\",IF(A49=2022,VLOOKUP(D49,'Intervenants et coûts-j'!$C$17:$P$47,3,FALSE),IF(A49=2023,VLOOKUP(D49,'Intervenants et coûts-j'!$C$17:$P$47,4,FALSE),IF(A49=2024,VLOOKUP(D49,'Intervenants et coûts-j'!$C$17:$P$47,5,FALSE),IF(A49=2025,VLOOKUP(D49,'Intervenants et coûts-j'!$C$17:$P$47,6,FALSE),IF(A49=2026,VLOOKUP(D49,'Intervenants et coûts-j'!$C$17:$P$47,7,FALSE),IF(A49=2027,VLOOKUP(D49,'Intervenants et coûts-j'!$C$17:$P$47,8,FALSE))))))))","v":""},{"$f":"IF(D49=\"\",\"\",IF(A49=2022,VLOOKUP(D49,'Intervenants et coûts-j'!$C$17:$P$47,9,FALSE),IF(A49=2023,VLOOKUP(D49,'Intervenants et coûts-j'!$C$17:$P$47,10,FALSE),IF(A49=2024,VLOOKUP(D49,'Intervenants et coûts-j'!$C$17:$P$47,11,FALSE),IF(A49=2025,VLOOKUP(D49,'Intervenants et coûts-j'!$C$17:$P$47,12,FALSE),IF(A49=2026,VLOOKUP(D49,'Intervenants et coûts-j'!$C$17:$P$47,13,FALSE),IF(A49=2027,VLOOKUP(D49,'Intervenants et coûts-j'!$C$17:$P$47,14,FALSE))))))))","v":""},"",{"$f":"IF(E49=\"\",\"\",VLOOKUP(C49,'Coûts-indirects'!$A$4:$K$33,11,FALSE)*E49)","v":""},{"$f":"IF(D49=\"\",\"\",VLOOKUP(D49,'Frais-mission'!$B$3:$E$32,3,FALSE)*G49)","v":""},{"$f":"IF(D49=\"\",\"\",VLOOKUP(D49,'Frais-mission'!$B$3:$E$32,4,FALSE)*H49)","v":""},"","",{"$f":"IF(B49=\"\",\"\",IF(LEFT(B49,18)=\"Réunion collective\",350-SUMIF($B$6:B48,B49,$S$6:S48),\"\"))","v":""},"","","","","","",{"$f":"IF(D49=\"\",\"\",IF(A49=2022,VLOOKUP(D49,'Intervenants et coûts-j'!$C$17:$AF$47,19,FALSE),IF(A49=2023,VLOOKUP(D49,'Intervenants et coûts-j'!$C$17:$AF$47,20,FALSE),IF(A49=2024,VLOOKUP(D49,'Intervenants et coûts-j'!$C$17:$AF$47,21,FALSE),IF(A49=2025,VLOOKUP(D49,'Intervenants et coûts-j'!$C$17:$AF$47,22,FALSE),IF(A49=2026,VLOOKUP(D49,'Intervenants et coûts-j'!$C$17:$AF$47,23,FALSE),IF(A49=2027,VLOOKUP(D49,'Intervenants et coûts-j'!$C$17:$AF$47,24,FALSE))))))))","v":""},{"$f":"IF(D49=\"\",\"\",IF(A49=2022,VLOOKUP(D49,'Intervenants et coûts-j'!$C$17:$AF$47,25,FALSE),IF(A49=2023,VLOOKUP(D49,'Intervenants et coûts-j'!$C$17:$AF$47,26,FALSE),IF(A49=2024,VLOOKUP(D49,'Intervenants et coûts-j'!$C$17:$AF$47,27,FALSE),IF(A49=2025,VLOOKUP(D49,'Intervenants et coûts-j'!$C$17:$AF$47,28,FALSE),IF(A49=2026,VLOOKUP(D49,'Intervenants et coûts-j'!$C$17:$AF$47,29,FALSE),IF(A49=2027,VLOOKUP(D49,'Intervenants et coûts-j'!$C$17:$AF$47,30,FALSE))))))))","v":""},"",{"$f":"IF(E49=\"\",\"\",VLOOKUP(C49,'Coûts-indirects'!$A$4:$T$33,20,FALSE)*T49)","v":""},{"$f":"IF(D49=\"\",\"\",IF(V49=\"\",0,VLOOKUP(D49,'Frais-mission'!$B$3:$F$32,5,FALSE)*V49))","v":""},{"$f":"IF(D49=\"\",\"\",IF(W49=\"\",0,VLOOKUP(D49,'Frais-mission'!$B$3:$G$32,6,FALSE)*W49))","v":""},"","",{"$f":"IF(B49=\"\",\"\",IF(LEFT(B49,18)=\"Réunion collective\",350-SUMIF($B$6:B48,B49,$AH$6:AH48),\"\"))","v":""},"","",null,null,{"$f":"\"ListeIntervenants\"&VLOOKUP(C49,'Intervenants et coûts-j'!$B$5:$C$14,2,FALSE)","v":{"$error":"#N/A"}}]
[null,null,null,null,null,null,null,null,{"$f":"IF(D50=\"\",\"\",IF(A50=2022,VLOOKUP(D50,'Intervenants et coûts-j'!$C$17:$P$47,3,FALSE),IF(A50=2023,VLOOKUP(D50,'Intervenants et coûts-j'!$C$17:$P$47,4,FALSE),IF(A50=2024,VLOOKUP(D50,'Intervenants et coûts-j'!$C$17:$P$47,5,FALSE),IF(A50=2025,VLOOKUP(D50,'Intervenants et coûts-j'!$C$17:$P$47,6,FALSE),IF(A50=2026,VLOOKUP(D50,'Intervenants et coûts-j'!$C$17:$P$47,7,FALSE),IF(A50=2027,VLOOKUP(D50,'Intervenants et coûts-j'!$C$17:$P$47,8,FALSE))))))))","v":""},{"$f":"IF(D50=\"\",\"\",IF(A50=2022,VLOOKUP(D50,'Intervenants et coûts-j'!$C$17:$P$47,9,FALSE),IF(A50=2023,VLOOKUP(D50,'Intervenants et coûts-j'!$C$17:$P$47,10,FALSE),IF(A50=2024,VLOOKUP(D50,'Intervenants et coûts-j'!$C$17:$P$47,11,FALSE),IF(A50=2025,VLOOKUP(D50,'Intervenants et coûts-j'!$C$17:$P$47,12,FALSE),IF(A50=2026,VLOOKUP(D50,'Intervenants et coûts-j'!$C$17:$P$47,13,FALSE),IF(A50=2027,VLOOKUP(D50,'Intervenants et coûts-j'!$C$17:$P$47,14,FALSE))))))))","v":""},"",{"$f":"IF(E50=\"\",\"\",VLOOKUP(C50,'Coûts-indirects'!$A$4:$K$33,11,FALSE)*E50)","v":""},{"$f":"IF(D50=\"\",\"\",VLOOKUP(D50,'Frais-mission'!$B$3:$E$32,3,FALSE)*G50)","v":""},{"$f":"IF(D50=\"\",\"\",VLOOKUP(D50,'Frais-mission'!$B$3:$E$32,4,FALSE)*H50)","v":""},"","",{"$f":"IF(B50=\"\",\"\",IF(LEFT(B50,18)=\"Réunion collective\",350-SUMIF($B$6:B49,B50,$S$6:S49),\"\"))","v":""},"","","","","","",{"$f":"IF(D50=\"\",\"\",IF(A50=2022,VLOOKUP(D50,'Intervenants et coûts-j'!$C$17:$AF$47,19,FALSE),IF(A50=2023,VLOOKUP(D50,'Intervenants et coûts-j'!$C$17:$AF$47,20,FALSE),IF(A50=2024,VLOOKUP(D50,'Intervenants et coûts-j'!$C$17:$AF$47,21,FALSE),IF(A50=2025,VLOOKUP(D50,'Intervenants et coûts-j'!$C$17:$AF$47,22,FALSE),IF(A50=2026,VLOOKUP(D50,'Intervenants et coûts-j'!$C$17:$AF$47,23,FALSE),IF(A50=2027,VLOOKUP(D50,'Intervenants et coûts-j'!$C$17:$AF$47,24,FALSE))))))))","v":""},{"$f":"IF(D50=\"\",\"\",IF(A50=2022,VLOOKUP(D50,'Intervenants et coûts-j'!$C$17:$AF$47,25,FALSE),IF(A50=2023,VLOOKUP(D50,'Intervenants et coûts-j'!$C$17:$AF$47,26,FALSE),IF(A50=2024,VLOOKUP(D50,'Intervenants et coûts-j'!$C$17:$AF$47,27,FALSE),IF(A50=2025,VLOOKUP(D50,'Intervenants et coûts-j'!$C$17:$AF$47,28,FALSE),IF(A50=2026,VLOOKUP(D50,'Intervenants et coûts-j'!$C$17:$AF$47,29,FALSE),IF(A50=2027,VLOOKUP(D50,'Intervenants et coûts-j'!$C$17:$AF$47,30,FALSE))))))))","v":""},"",{"$f":"IF(E50=\"\",\"\",VLOOKUP(C50,'Coûts-indirects'!$A$4:$T$33,20,FALSE)*T50)","v":""},{"$f":"IF(D50=\"\",\"\",IF(V50=\"\",0,VLOOKUP(D50,'Frais-mission'!$B$3:$F$32,5,FALSE)*V50))","v":""},{"$f":"IF(D50=\"\",\"\",IF(W50=\"\",0,VLOOKUP(D50,'Frais-mission'!$B$3:$G$32,6,FALSE)*W50))","v":""},"","",{"$f":"IF(B50=\"\",\"\",IF(LEFT(B50,18)=\"Réunion collective\",350-SUMIF($B$6:B49,B50,$AH$6:AH49),\"\"))","v":""},"","",null,null,{"$f":"\"ListeIntervenants\"&VLOOKUP(C50,'Intervenants et coûts-j'!$B$5:$C$14,2,FALSE)","v":{"$error":"#N/A"}}]
[null,null,null,null,null,null,null,null,{"$f":"IF(D51=\"\",\"\",IF(A51=2022,VLOOKUP(D51,'Intervenants et coûts-j'!$C$17:$P$47,3,FALSE),IF(A51=2023,VLOOKUP(D51,'Intervenants et coûts-j'!$C$17:$P$47,4,FALSE),IF(A51=2024,VLOOKUP(D51,'Intervenants et coûts-j'!$C$17:$P$47,5,FALSE),IF(A51=2025,VLOOKUP(D51,'Intervenants et coûts-j'!$C$17:$P$47,6,FALSE),IF(A51=2026,VLOOKUP(D51,'Intervenants et coûts-j'!$C$17:$P$47,7,FALSE),IF(A51=2027,VLOOKUP(D51,'Intervenants et coûts-j'!$C$17:$P$47,8,FALSE))))))))","v":""},{"$f":"IF(D51=\"\",\"\",IF(A51=2022,VLOOKUP(D51,'Intervenants et coûts-j'!$C$17:$P$47,9,FALSE),IF(A51=2023,VLOOKUP(D51,'Intervenants et coûts-j'!$C$17:$P$47,10,FALSE),IF(A51=2024,VLOOKUP(D51,'Intervenants et coûts-j'!$C$17:$P$47,11,FALSE),IF(A51=2025,VLOOKUP(D51,'Intervenants et coûts-j'!$C$17:$P$47,12,FALSE),IF(A51=2026,VLOOKUP(D51,'Intervenants et coûts-j'!$C$17:$P$47,13,FALSE),IF(A51=2027,VLOOKUP(D51,'Intervenants et coûts-j'!$C$17:$P$47,14,FALSE))))))))","v":""},"",{"$f":"IF(E51=\"\",\"\",VLOOKUP(C51,'Coûts-indirects'!$A$4:$K$33,11,FALSE)*E51)","v":""},{"$f":"IF(D51=\"\",\"\",VLOOKUP(D51,'Frais-mission'!$B$3:$E$32,3,FALSE)*G51)","v":""},{"$f":"IF(D51=\"\",\"\",VLOOKUP(D51,'Frais-mission'!$B$3:$E$32,4,FALSE)*H51)","v":""},"","",{"$f":"IF(B51=\"\",\"\",IF(LEFT(B51,18)=\"Réunion collective\",350-SUMIF($B$6:B50,B51,$S$6:S50),\"\"))","v":""},"","","","","","",{"$f":"IF(D51=\"\",\"\",IF(A51=2022,VLOOKUP(D51,'Intervenants et coûts-j'!$C$17:$AF$47,19,FALSE),IF(A51=2023,VLOOKUP(D51,'Intervenants et coûts-j'!$C$17:$AF$47,20,FALSE),IF(A51=2024,VLOOKUP(D51,'Intervenants et coûts-j'!$C$17:$AF$47,21,FALSE),IF(A51=2025,VLOOKUP(D51,'Intervenants et coûts-j'!$C$17:$AF$47,22,FALSE),IF(A51=2026,VLOOKUP(D51,'Intervenants et coûts-j'!$C$17:$AF$47,23,FALSE),IF(A51=2027,VLOOKUP(D51,'Intervenants et coûts-j'!$C$17:$AF$47,24,FALSE))))))))","v":""},{"$f":"IF(D51=\"\",\"\",IF(A51=2022,VLOOKUP(D51,'Intervenants et coûts-j'!$C$17:$AF$47,25,FALSE),IF(A51=2023,VLOOKUP(D51,'Intervenants et coûts-j'!$C$17:$AF$47,26,FALSE),IF(A51=2024,VLOOKUP(D51,'Intervenants et coûts-j'!$C$17:$AF$47,27,FALSE),IF(A51=2025,VLOOKUP(D51,'Intervenants et coûts-j'!$C$17:$AF$47,28,FALSE),IF(A51=2026,VLOOKUP(D51,'Intervenants et coûts-j'!$C$17:$AF$47,29,FALSE),IF(A51=2027,VLOOKUP(D51,'Intervenants et coûts-j'!$C$17:$AF$47,30,FALSE))))))))","v":""},"",{"$f":"IF(E51=\"\",\"\",VLOOKUP(C51,'Coûts-indirects'!$A$4:$T$33,20,FALSE)*T51)","v":""},{"$f":"IF(D51=\"\",\"\",IF(V51=\"\",0,VLOOKUP(D51,'Frais-mission'!$B$3:$F$32,5,FALSE)*V51))","v":""},{"$f":"IF(D51=\"\",\"\",IF(W51=\"\",0,VLOOKUP(D51,'Frais-mission'!$B$3:$G$32,6,FALSE)*W51))","v":""},"","",{"$f":"IF(B51=\"\",\"\",IF(LEFT(B51,18)=\"Réunion collective\",350-SUMIF($B$6:B50,B51,$AH$6:AH50),\"\"))","v":""},"","",null,null,{"$f":"\"ListeIntervenants\"&VLOOKUP(C51,'Intervenants et coûts-j'!$B$5:$C$14,2,FALSE)","v":{"$error":"#N/A"}}]
[null,null,null,null,null,null,null,null,{"$f":"IF(D52=\"\",\"\",IF(A52=2022,VLOOKUP(D52,'Intervenants et coûts-j'!$C$17:$P$47,3,FALSE),IF(A52=2023,VLOOKUP(D52,'Intervenants et coûts-j'!$C$17:$P$47,4,FALSE),IF(A52=2024,VLOOKUP(D52,'Intervenants et coûts-j'!$C$17:$P$47,5,FALSE),IF(A52=2025,VLOOKUP(D52,'Intervenants et coûts-j'!$C$17:$P$47,6,FALSE),IF(A52=2026,VLOOKUP(D52,'Intervenants et coûts-j'!$C$17:$P$47,7,FALSE),IF(A52=2027,VLOOKUP(D52,'Intervenants et coûts-j'!$C$17:$P$47,8,FALSE))))))))","v":""},{"$f":"IF(D52=\"\",\"\",IF(A52=2022,VLOOKUP(D52,'Intervenants et coûts-j'!$C$17:$P$47,9,FALSE),IF(A52=2023,VLOOKUP(D52,'Intervenants et coûts-j'!$C$17:$P$47,10,FALSE),IF(A52=2024,VLOOKUP(D52,'Intervenants et coûts-j'!$C$17:$P$47,11,FALSE),IF(A52=2025,VLOOKUP(D52,'Intervenants et coûts-j'!$C$17:$P$47,12,FALSE),IF(A52=2026,VLOOKUP(D52,'Intervenants et coûts-j'!$C$17:$P$47,13,FALSE),IF(A52=2027,VLOOKUP(D52,'Intervenants et coûts-j'!$C$17:$P$47,14,FALSE))))))))","v":""},"",{"$f":"IF(E52=\"\",\"\",VLOOKUP(C52,'Coûts-indirects'!$A$4:$K$33,11,FALSE)*E52)","v":""},{"$f":"IF(D52=\"\",\"\",VLOOKUP(D52,'Frais-mission'!$B$3:$E$32,3,FALSE)*G52)","v":""},{"$f":"IF(D52=\"\",\"\",VLOOKUP(D52,'Frais-mission'!$B$3:$E$32,4,FALSE)*H52)","v":""},"","",{"$f":"IF(B52=\"\",\"\",IF(LEFT(B52,18)=\"Réunion collective\",350-SUMIF($B$6:B51,B52,$S$6:S51),\"\"))","v":""},"","","","","","",{"$f":"IF(D52=\"\",\"\",IF(A52=2022,VLOOKUP(D52,'Intervenants et coûts-j'!$C$17:$AF$47,19,FALSE),IF(A52=2023,VLOOKUP(D52,'Intervenants et coûts-j'!$C$17:$AF$47,20,FALSE),IF(A52=2024,VLOOKUP(D52,'Intervenants et coûts-j'!$C$17:$AF$47,21,FALSE),IF(A52=2025,VLOOKUP(D52,'Intervenants et coûts-j'!$C$17:$AF$47,22,FALSE),IF(A52=2026,VLOOKUP(D52,'Intervenants et coûts-j'!$C$17:$AF$47,23,FALSE),IF(A52=2027,VLOOKUP(D52,'Intervenants et coûts-j'!$C$17:$AF$47,24,FALSE))))))))","v":""},{"$f":"IF(D52=\"\",\"\",IF(A52=2022,VLOOKUP(D52,'Intervenants et coûts-j'!$C$17:$AF$47,25,FALSE),IF(A52=2023,VLOOKUP(D52,'Intervenants et coûts-j'!$C$17:$AF$47,26,FALSE),IF(A52=2024,VLOOKUP(D52,'Intervenants et coûts-j'!$C$17:$AF$47,27,FALSE),IF(A52=2025,VLOOKUP(D52,'Intervenants et coûts-j'!$C$17:$AF$47,28,FALSE),IF(A52=2026,VLOOKUP(D52,'Intervenants et coûts-j'!$C$17:$AF$47,29,FALSE),IF(A52=2027,VLOOKUP(D52,'Intervenants et coûts-j'!$C$17:$AF$47,30,FALSE))))))))","v":""},"",{"$f":"IF(E52=\"\",\"\",VLOOKUP(C52,'Coûts-indirects'!$A$4:$T$33,20,FALSE)*T52)","v":""},{"$f":"IF(D52=\"\",\"\",IF(V52=\"\",0,VLOOKUP(D52,'Frais-mission'!$B$3:$F$32,5,FALSE)*V52))","v":""},{"$f":"IF(D52=\"\",\"\",IF(W52=\"\",0,VLOOKUP(D52,'Frais-mission'!$B$3:$G$32,6,FALSE)*W52))","v":""},"","",{"$f":"IF(B52=\"\",\"\",IF(LEFT(B52,18)=\"Réunion collective\",350-SUMIF($B$6:B51,B52,$AH$6:AH51),\"\"))","v":""},"","",null,null,{"$f":"\"ListeIntervenants\"&VLOOKUP(C52,'Intervenants et coûts-j'!$B$5:$C$14,2,FALSE)","v":{"$error":"#N/A"}}]
[null,null,null,null,null,null,null,null,{"$f":"IF(D53=\"\",\"\",IF(A53=2022,VLOOKUP(D53,'Intervenants et coûts-j'!$C$17:$P$47,3,FALSE),IF(A53=2023,VLOOKUP(D53,'Intervenants et coûts-j'!$C$17:$P$47,4,FALSE),IF(A53=2024,VLOOKUP(D53,'Intervenants et coûts-j'!$C$17:$P$47,5,FALSE),IF(A53=2025,VLOOKUP(D53,'Intervenants et coûts-j'!$C$17:$P$47,6,FALSE),IF(A53=2026,VLOOKUP(D53,'Intervenants et coûts-j'!$C$17:$P$47,7,FALSE),IF(A53=2027,VLOOKUP(D53,'Intervenants et coûts-j'!$C$17:$P$47,8,FALSE))))))))","v":""},{"$f":"IF(D53=\"\",\"\",IF(A53=2022,VLOOKUP(D53,'Intervenants et coûts-j'!$C$17:$P$47,9,FALSE),IF(A53=2023,VLOOKUP(D53,'Intervenants et coûts-j'!$C$17:$P$47,10,FALSE),IF(A53=2024,VLOOKUP(D53,'Intervenants et coûts-j'!$C$17:$P$47,11,FALSE),IF(A53=2025,VLOOKUP(D53,'Intervenants et coûts-j'!$C$17:$P$47,12,FALSE),IF(A53=2026,VLOOKUP(D53,'Intervenants et coûts-j'!$C$17:$P$47,13,FALSE),IF(A53=2027,VLOOKUP(D53,'Intervenants et coûts-j'!$C$17:$P$47,14,FALSE))))))))","v":""},"",{"$f":"IF(E53=\"\",\"\",VLOOKUP(C53,'Coûts-indirects'!$A$4:$K$33,11,FALSE)*E53)","v":""},{"$f":"IF(D53=\"\",\"\",VLOOKUP(D53,'Frais-mission'!$B$3:$E$32,3,FALSE)*G53)","v":""},{"$f":"IF(D53=\"\",\"\",VLOOKUP(D53,'Frais-mission'!$B$3:$E$32,4,FALSE)*H53)","v":""},"","",{"$f":"IF(B53=\"\",\"\",IF(LEFT(B53,18)=\"Réunion collective\",350-SUMIF($B$6:B52,B53,$S$6:S52),\"\"))","v":""},"","","","","","",{"$f":"IF(D53=\"\",\"\",IF(A53=2022,VLOOKUP(D53,'Intervenants et coûts-j'!$C$17:$AF$47,19,FALSE),IF(A53=2023,VLOOKUP(D53,'Intervenants et coûts-j'!$C$17:$AF$47,20,FALSE),IF(A53=2024,VLOOKUP(D53,'Intervenants et coûts-j'!$C$17:$AF$47,21,FALSE),IF(A53=2025,VLOOKUP(D53,'Intervenants et coûts-j'!$C$17:$AF$47,22,FALSE),IF(A53=2026,VLOOKUP(D53,'Intervenants et coûts-j'!$C$17:$AF$47,23,FALSE),IF(A53=2027,VLOOKUP(D53,'Intervenants et coûts-j'!$C$17:$AF$47,24,FALSE))))))))","v":""},{"$f":"IF(D53=\"\",\"\",IF(A53=2022,VLOOKUP(D53,'Intervenants et coûts-j'!$C$17:$AF$47,25,FALSE),IF(A53=2023,VLOOKUP(D53,'Intervenants et coûts-j'!$C$17:$AF$47,26,FALSE),IF(A53=2024,VLOOKUP(D53,'Intervenants et coûts-j'!$C$17:$AF$47,27,FALSE),IF(A53=2025,VLOOKUP(D53,'Intervenants et coûts-j'!$C$17:$AF$47,28,FALSE),IF(A53=2026,VLOOKUP(D53,'Intervenants et coûts-j'!$C$17:$AF$47,29,FALSE),IF(A53=2027,VLOOKUP(D53,'Intervenants et coûts-j'!$C$17:$AF$47,30,FALSE))))))))","v":""},"",{"$f":"IF(E53=\"\",\"\",VLOOKUP(C53,'Coûts-indirects'!$A$4:$T$33,20,FALSE)*T53)","v":""},{"$f":"IF(D53=\"\",\"\",IF(V53=\"\",0,VLOOKUP(D53,'Frais-mission'!$B$3:$F$32,5,FALSE)*V53))","v":""},{"$f":"IF(D53=\"\",\"\",IF(W53=\"\",0,VLOOKUP(D53,'Frais-mission'!$B$3:$G$32,6,FALSE)*W53))","v":""},"","",{"$f":"IF(B53=\"\",\"\",IF(LEFT(B53,18)=\"Réunion collective\",350-SUMIF($B$6:B52,B53,$AH$6:AH52),\"\"))","v":""},"","",null,null,{"$f":"\"ListeIntervenants\"&VLOOKUP(C53,'Intervenants et coûts-j'!$B$5:$C$14,2,FALSE)","v":{"$error":"#N/A"}}]
[null,null,null,null,null,null,null,null,{"$f":"IF(D54=\"\",\"\",IF(A54=2022,VLOOKUP(D54,'Intervenants et coûts-j'!$C$17:$P$47,3,FALSE),IF(A54=2023,VLOOKUP(D54,'Intervenants et coûts-j'!$C$17:$P$47,4,FALSE),IF(A54=2024,VLOOKUP(D54,'Intervenants et coûts-j'!$C$17:$P$47,5,FALSE),IF(A54=2025,VLOOKUP(D54,'Intervenants et coûts-j'!$C$17:$P$47,6,FALSE),IF(A54=2026,VLOOKUP(D54,'Intervenants et coûts-j'!$C$17:$P$47,7,FALSE),IF(A54=2027,VLOOKUP(D54,'Intervenants et coûts-j'!$C$17:$P$47,8,FALSE))))))))","v":""},{"$f":"IF(D54=\"\",\"\",IF(A54=2022,VLOOKUP(D54,'Intervenants et coûts-j'!$C$17:$P$47,9,FALSE),IF(A54=2023,VLOOKUP(D54,'Intervenants et coûts-j'!$C$17:$P$47,10,FALSE),IF(A54=2024,VLOOKUP(D54,'Intervenants et coûts-j'!$C$17:$P$47,11,FALSE),IF(A54=2025,VLOOKUP(D54,'Intervenants et coûts-j'!$C$17:$P$47,12,FALSE),IF(A54=2026,VLOOKUP(D54,'Intervenants et coûts-j'!$C$17:$P$47,13,FALSE),IF(A54=2027,VLOOKUP(D54,'Intervenants et coûts-j'!$C$17:$P$47,14,FALSE))))))))","v":""},"",{"$f":"IF(E54=\"\",\"\",VLOOKUP(C54,'Coûts-indirects'!$A$4:$K$33,11,FALSE)*E54)","v":""},{"$f":"IF(D54=\"\",\"\",VLOOKUP(D54,'Frais-mission'!$B$3:$E$32,3,FALSE)*G54)","v":""},{"$f":"IF(D54=\"\",\"\",VLOOKUP(D54,'Frais-mission'!$B$3:$E$32,4,FALSE)*H54)","v":""},"","",{"$f":"IF(B54=\"\",\"\",IF(LEFT(B54,18)=\"Réunion collective\",350-SUMIF($B$6:B53,B54,$S$6:S53),\"\"))","v":""},"","","","","","",{"$f":"IF(D54=\"\",\"\",IF(A54=2022,VLOOKUP(D54,'Intervenants et coûts-j'!$C$17:$AF$47,19,FALSE),IF(A54=2023,VLOOKUP(D54,'Intervenants et coûts-j'!$C$17:$AF$47,20,FALSE),IF(A54=2024,VLOOKUP(D54,'Intervenants et coûts-j'!$C$17:$AF$47,21,FALSE),IF(A54=2025,VLOOKUP(D54,'Intervenants et coûts-j'!$C$17:$AF$47,22,FALSE),IF(A54=2026,VLOOKUP(D54,'Intervenants et coûts-j'!$C$17:$AF$47,23,FALSE),IF(A54=2027,VLOOKUP(D54,'Intervenants et coûts-j'!$C$17:$AF$47,24,FALSE))))))))","v":""},{"$f":"IF(D54=\"\",\"\",IF(A54=2022,VLOOKUP(D54,'Intervenants et coûts-j'!$C$17:$AF$47,25,FALSE),IF(A54=2023,VLOOKUP(D54,'Intervenants et coûts-j'!$C$17:$AF$47,26,FALSE),IF(A54=2024,VLOOKUP(D54,'Intervenants et coûts-j'!$C$17:$AF$47,27,FALSE),IF(A54=2025,VLOOKUP(D54,'Intervenants et coûts-j'!$C$17:$AF$47,28,FALSE),IF(A54=2026,VLOOKUP(D54,'Intervenants et coûts-j'!$C$17:$AF$47,29,FALSE),IF(A54=2027,VLOOKUP(D54,'Intervenants et coûts-j'!$C$17:$AF$47,30,FALSE))))))))","v":""},"",{"$f":"IF(E54=\"\",\"\",VLOOKUP(C54,'Coûts-indirects'!$A$4:$T$33,20,FALSE)*T54)","v":""},{"$f":"IF(D54=\"\",\"\",IF(V54=\"\",0,VLOOKUP(D54,'Frais-mission'!$B$3:$F$32,5,FALSE)*V54))","v":""},{"$f":"IF(D54=\"\",\"\",IF(W54=\"\",0,VLOOKUP(D54,'Frais-mission'!$B$3:$G$32,6,FALSE)*W54))","v":""},"","",{"$f":"IF(B54=\"\",\"\",IF(LEFT(B54,18)=\"Réunion collective\",350-SUMIF($B$6:B53,B54,$AH$6:AH53),\"\"))","v":""},"","",null,null,{"$f":"\"ListeIntervenants\"&VLOOKUP(C54,'Intervenants et coûts-j'!$B$5:$C$14,2,FALSE)","v":{"$error":"#N/A"}}]
[null,null,null,null,null,null,null,null,{"$f":"IF(D55=\"\",\"\",IF(A55=2022,VLOOKUP(D55,'Intervenants et coûts-j'!$C$17:$P$47,3,FALSE),IF(A55=2023,VLOOKUP(D55,'Intervenants et coûts-j'!$C$17:$P$47,4,FALSE),IF(A55=2024,VLOOKUP(D55,'Intervenants et coûts-j'!$C$17:$P$47,5,FALSE),IF(A55=2025,VLOOKUP(D55,'Intervenants et coûts-j'!$C$17:$P$47,6,FALSE),IF(A55=2026,VLOOKUP(D55,'Intervenants et coûts-j'!$C$17:$P$47,7,FALSE),IF(A55=2027,VLOOKUP(D55,'Intervenants et coûts-j'!$C$17:$P$47,8,FALSE))))))))","v":""},{"$f":"IF(D55=\"\",\"\",IF(A55=2022,VLOOKUP(D55,'Intervenants et coûts-j'!$C$17:$P$47,9,FALSE),IF(A55=2023,VLOOKUP(D55,'Intervenants et coûts-j'!$C$17:$P$47,10,FALSE),IF(A55=2024,VLOOKUP(D55,'Intervenants et coûts-j'!$C$17:$P$47,11,FALSE),IF(A55=2025,VLOOKUP(D55,'Intervenants et coûts-j'!$C$17:$P$47,12,FALSE),IF(A55=2026,VLOOKUP(D55,'Intervenants et coûts-j'!$C$17:$P$47,13,FALSE),IF(A55=2027,VLOOKUP(D55,'Intervenants et coûts-j'!$C$17:$P$47,14,FALSE))))))))","v":""},"",{"$f":"IF(E55=\"\",\"\",VLOOKUP(C55,'Coûts-indirects'!$A$4:$K$33,11,FALSE)*E55)","v":""},{"$f":"IF(D55=\"\",\"\",VLOOKUP(D55,'Frais-mission'!$B$3:$E$32,3,FALSE)*G55)","v":""},{"$f":"IF(D55=\"\",\"\",VLOOKUP(D55,'Frais-mission'!$B$3:$E$32,4,FALSE)*H55)","v":""},"","",{"$f":"IF(B55=\"\",\"\",IF(LEFT(B55,18)=\"Réunion collective\",350-SUMIF($B$6:B54,B55,$S$6:S54),\"\"))","v":""},"","","","","","",{"$f":"IF(D55=\"\",\"\",IF(A55=2022,VLOOKUP(D55,'Intervenants et coûts-j'!$C$17:$AF$47,19,FALSE),IF(A55=2023,VLOOKUP(D55,'Intervenants et coûts-j'!$C$17:$AF$47,20,FALSE),IF(A55=2024,VLOOKUP(D55,'Intervenants et coûts-j'!$C$17:$AF$47,21,FALSE),IF(A55=2025,VLOOKUP(D55,'Intervenants et coûts-j'!$C$17:$AF$47,22,FALSE),IF(A55=2026,VLOOKUP(D55,'Intervenants et coûts-j'!$C$17:$AF$47,23,FALSE),IF(A55=2027,VLOOKUP(D55,'Intervenants et coûts-j'!$C$17:$AF$47,24,FALSE))))))))","v":""},{"$f":"IF(D55=\"\",\"\",IF(A55=2022,VLOOKUP(D55,'Intervenants et coûts-j'!$C$17:$AF$47,25,FALSE),IF(A55=2023,VLOOKUP(D55,'Intervenants et coûts-j'!$C$17:$AF$47,26,FALSE),IF(A55=2024,VLOOKUP(D55,'Intervenants et coûts-j'!$C$17:$AF$47,27,FALSE),IF(A55=2025,VLOOKUP(D55,'Intervenants et coûts-j'!$C$17:$AF$47,28,FALSE),IF(A55=2026,VLOOKUP(D55,'Intervenants et coûts-j'!$C$17:$AF$47,29,FALSE),IF(A55=2027,VLOOKUP(D55,'Intervenants et coûts-j'!$C$17:$AF$47,30,FALSE))))))))","v":""},"",{"$f":"IF(E55=\"\",\"\",VLOOKUP(C55,'Coûts-indirects'!$A$4:$T$33,20,FALSE)*T55)","v":""},{"$f":"IF(D55=\"\",\"\",IF(V55=\"\",0,VLOOKUP(D55,'Frais-mission'!$B$3:$F$32,5,FALSE)*V55))","v":""},{"$f":"IF(D55=\"\",\"\",IF(W55=\"\",0,VLOOKUP(D55,'Frais-mission'!$B$3:$G$32,6,FALSE)*W55))","v":""},"","",{"$f":"IF(B55=\"\",\"\",IF(LEFT(B55,18)=\"Réunion collective\",350-SUMIF($B$6:B54,B55,$AH$6:AH54),\"\"))","v":""},"","",null,null,{"$f":"\"ListeIntervenants\"&VLOOKUP(C55,'Intervenants et coûts-j'!$B$5:$C$14,2,FALSE)","v":{"$error":"#N/A"}}]
[null,null,null,null,null,null,null,null,{"$f":"IF(D56=\"\",\"\",IF(A56=2022,VLOOKUP(D56,'Intervenants et coûts-j'!$C$17:$P$47,3,FALSE),IF(A56=2023,VLOOKUP(D56,'Intervenants et coûts-j'!$C$17:$P$47,4,FALSE),IF(A56=2024,VLOOKUP(D56,'Intervenants et coûts-j'!$C$17:$P$47,5,FALSE),IF(A56=2025,VLOOKUP(D56,'Intervenants et coûts-j'!$C$17:$P$47,6,FALSE),IF(A56=2026,VLOOKUP(D56,'Intervenants et coûts-j'!$C$17:$P$47,7,FALSE),IF(A56=2027,VLOOKUP(D56,'Intervenants et coûts-j'!$C$17:$P$47,8,FALSE))))))))","v":""},{"$f":"IF(D56=\"\",\"\",IF(A56=2022,VLOOKUP(D56,'Intervenants et coûts-j'!$C$17:$P$47,9,FALSE),IF(A56=2023,VLOOKUP(D56,'Intervenants et coûts-j'!$C$17:$P$47,10,FALSE),IF(A56=2024,VLOOKUP(D56,'Intervenants et coûts-j'!$C$17:$P$47,11,FALSE),IF(A56=2025,VLOOKUP(D56,'Intervenants et coûts-j'!$C$17:$P$47,12,FALSE),IF(A56=2026,VLOOKUP(D56,'Intervenants et coûts-j'!$C$17:$P$47,13,FALSE),IF(A56=2027,VLOOKUP(D56,'Intervenants et coûts-j'!$C$17:$P$47,14,FALSE))))))))","v":""},"",{"$f":"IF(E56=\"\",\"\",VLOOKUP(C56,'Coûts-indirects'!$A$4:$K$33,11,FALSE)*E56)","v":""},{"$f":"IF(D56=\"\",\"\",VLOOKUP(D56,'Frais-mission'!$B$3:$E$32,3,FALSE)*G56)","v":""},{"$f":"IF(D56=\"\",\"\",VLOOKUP(D56,'Frais-mission'!$B$3:$E$32,4,FALSE)*H56)","v":""},"","",{"$f":"IF(B56=\"\",\"\",IF(LEFT(B56,18)=\"Réunion collective\",350-SUMIF($B$6:B55,B56,$S$6:S55),\"\"))","v":""},"","","","","","",{"$f":"IF(D56=\"\",\"\",IF(A56=2022,VLOOKUP(D56,'Intervenants et coûts-j'!$C$17:$AF$47,19,FALSE),IF(A56=2023,VLOOKUP(D56,'Intervenants et coûts-j'!$C$17:$AF$47,20,FALSE),IF(A56=2024,VLOOKUP(D56,'Intervenants et coûts-j'!$C$17:$AF$47,21,FALSE),IF(A56=2025,VLOOKUP(D56,'Intervenants et coûts-j'!$C$17:$AF$47,22,FALSE),IF(A56=2026,VLOOKUP(D56,'Intervenants et coûts-j'!$C$17:$AF$47,23,FALSE),IF(A56=2027,VLOOKUP(D56,'Intervenants et coûts-j'!$C$17:$AF$47,24,FALSE))))))))","v":""},{"$f":"IF(D56=\"\",\"\",IF(A56=2022,VLOOKUP(D56,'Intervenants et coûts-j'!$C$17:$AF$47,25,FALSE),IF(A56=2023,VLOOKUP(D56,'Intervenants et coûts-j'!$C$17:$AF$47,26,FALSE),IF(A56=2024,VLOOKUP(D56,'Intervenants et coûts-j'!$C$17:$AF$47,27,FALSE),IF(A56=2025,VLOOKUP(D56,'Intervenants et coûts-j'!$C$17:$AF$47,28,FALSE),IF(A56=2026,VLOOKUP(D56,'Intervenants et coûts-j'!$C$17:$AF$47,29,FALSE),IF(A56=2027,VLOOKUP(D56,'Intervenants et coûts-j'!$C$17:$AF$47,30,FALSE))))))))","v":""},"",{"$f":"IF(E56=\"\",\"\",VLOOKUP(C56,'Coûts-indirects'!$A$4:$T$33,20,FALSE)*T56)","v":""},{"$f":"IF(D56=\"\",\"\",IF(V56=\"\",0,VLOOKUP(D56,'Frais-mission'!$B$3:$F$32,5,FALSE)*V56))","v":""},{"$f":"IF(D56=\"\",\"\",IF(W56=\"\",0,VLOOKUP(D56,'Frais-mission'!$B$3:$G$32,6,FALSE)*W56))","v":""},"","",{"$f":"IF(B56=\"\",\"\",IF(LEFT(B56,18)=\"Réunion collective\",350-SUMIF($B$6:B55,B56,$AH$6:AH55),\"\"))","v":""},"","",null,null,{"$f":"\"ListeIntervenants\"&VLOOKUP(C56,'Intervenants et coûts-j'!$B$5:$C$14,2,FALSE)","v":{"$error":"#N/A"}}]
[null,null,null,null,null,null,null,null,{"$f":"IF(D57=\"\",\"\",IF(A57=2022,VLOOKUP(D57,'Intervenants et coûts-j'!$C$17:$P$47,3,FALSE),IF(A57=2023,VLOOKUP(D57,'Intervenants et coûts-j'!$C$17:$P$47,4,FALSE),IF(A57=2024,VLOOKUP(D57,'Intervenants et coûts-j'!$C$17:$P$47,5,FALSE),IF(A57=2025,VLOOKUP(D57,'Intervenants et coûts-j'!$C$17:$P$47,6,FALSE),IF(A57=2026,VLOOKUP(D57,'Intervenants et coûts-j'!$C$17:$P$47,7,FALSE),IF(A57=2027,VLOOKUP(D57,'Intervenants et coûts-j'!$C$17:$P$47,8,FALSE))))))))","v":""},{"$f":"IF(D57=\"\",\"\",IF(A57=2022,VLOOKUP(D57,'Intervenants et coûts-j'!$C$17:$P$47,9,FALSE),IF(A57=2023,VLOOKUP(D57,'Intervenants et coûts-j'!$C$17:$P$47,10,FALSE),IF(A57=2024,VLOOKUP(D57,'Intervenants et coûts-j'!$C$17:$P$47,11,FALSE),IF(A57=2025,VLOOKUP(D57,'Intervenants et coûts-j'!$C$17:$P$47,12,FALSE),IF(A57=2026,VLOOKUP(D57,'Intervenants et coûts-j'!$C$17:$P$47,13,FALSE),IF(A57=2027,VLOOKUP(D57,'Intervenants et coûts-j'!$C$17:$P$47,14,FALSE))))))))","v":""},"",{"$f":"IF(E57=\"\",\"\",VLOOKUP(C57,'Coûts-indirects'!$A$4:$K$33,11,FALSE)*E57)","v":""},{"$f":"IF(D57=\"\",\"\",VLOOKUP(D57,'Frais-mission'!$B$3:$E$32,3,FALSE)*G57)","v":""},{"$f":"IF(D57=\"\",\"\",VLOOKUP(D57,'Frais-mission'!$B$3:$E$32,4,FALSE)*H57)","v":""},"","",{"$f":"IF(B57=\"\",\"\",IF(LEFT(B57,18)=\"Réunion collective\",350-SUMIF($B$6:B56,B57,$S$6:S56),\"\"))","v":""},"","","","","","",{"$f":"IF(D57=\"\",\"\",IF(A57=2022,VLOOKUP(D57,'Intervenants et coûts-j'!$C$17:$AF$47,19,FALSE),IF(A57=2023,VLOOKUP(D57,'Intervenants et coûts-j'!$C$17:$AF$47,20,FALSE),IF(A57=2024,VLOOKUP(D57,'Intervenants et coûts-j'!$C$17:$AF$47,21,FALSE),IF(A57=2025,VLOOKUP(D57,'Intervenants et coûts-j'!$C$17:$AF$47,22,FALSE),IF(A57=2026,VLOOKUP(D57,'Intervenants et coûts-j'!$C$17:$AF$47,23,FALSE),IF(A57=2027,VLOOKUP(D57,'Intervenants et coûts-j'!$C$17:$AF$47,24,FALSE))))))))","v":""},{"$f":"IF(D57=\"\",\"\",IF(A57=2022,VLOOKUP(D57,'Intervenants et coûts-j'!$C$17:$AF$47,25,FALSE),IF(A57=2023,VLOOKUP(D57,'Intervenants et coûts-j'!$C$17:$AF$47,26,FALSE),IF(A57=2024,VLOOKUP(D57,'Intervenants et coûts-j'!$C$17:$AF$47,27,FALSE),IF(A57=2025,VLOOKUP(D57,'Intervenants et coûts-j'!$C$17:$AF$47,28,FALSE),IF(A57=2026,VLOOKUP(D57,'Intervenants et coûts-j'!$C$17:$AF$47,29,FALSE),IF(A57=2027,VLOOKUP(D57,'Intervenants et coûts-j'!$C$17:$AF$47,30,FALSE))))))))","v":""},"",{"$f":"IF(E57=\"\",\"\",VLOOKUP(C57,'Coûts-indirects'!$A$4:$T$33,20,FALSE)*T57)","v":""},{"$f":"IF(D57=\"\",\"\",IF(V57=\"\",0,VLOOKUP(D57,'Frais-mission'!$B$3:$F$32,5,FALSE)*V57))","v":""},{"$f":"IF(D57=\"\",\"\",IF(W57=\"\",0,VLOOKUP(D57,'Frais-mission'!$B$3:$G$32,6,FALSE)*W57))","v":""},"","",{"$f":"IF(B57=\"\",\"\",IF(LEFT(B57,18)=\"Réunion collective\",350-SUMIF($B$6:B56,B57,$AH$6:AH56),\"\"))","v":""},"","",null,null,{"$f":"\"ListeIntervenants\"&VLOOKUP(C57,'Intervenants et coûts-j'!$B$5:$C$14,2,FALSE)","v":{"$error":"#N/A"}}]
[null,null,null,null,null,null,null,null,{"$f":"IF(D58=\"\",\"\",IF(A58=2022,VLOOKUP(D58,'Intervenants et coûts-j'!$C$17:$P$47,3,FALSE),IF(A58=2023,VLOOKUP(D58,'Intervenants et coûts-j'!$C$17:$P$47,4,FALSE),IF(A58=2024,VLOOKUP(D58,'Intervenants et coûts-j'!$C$17:$P$47,5,FALSE),IF(A58=2025,VLOOKUP(D58,'Intervenants et coûts-j'!$C$17:$P$47,6,FALSE),IF(A58=2026,VLOOKUP(D58,'Intervenants et coûts-j'!$C$17:$P$47,7,FALSE),IF(A58=2027,VLOOKUP(D58,'Intervenants et coûts-j'!$C$17:$P$47,8,FALSE))))))))","v":""},{"$f":"IF(D58=\"\",\"\",IF(A58=2022,VLOOKUP(D58,'Intervenants et coûts-j'!$C$17:$P$47,9,FALSE),IF(A58=2023,VLOOKUP(D58,'Intervenants et coûts-j'!$C$17:$P$47,10,FALSE),IF(A58=2024,VLOOKUP(D58,'Intervenants et coûts-j'!$C$17:$P$47,11,FALSE),IF(A58=2025,VLOOKUP(D58,'Intervenants et coûts-j'!$C$17:$P$47,12,FALSE),IF(A58=2026,VLOOKUP(D58,'Intervenants et coûts-j'!$C$17:$P$47,13,FALSE),IF(A58=2027,VLOOKUP(D58,'Intervenants et coûts-j'!$C$17:$P$47,14,FALSE))))))))","v":""},{"$f":"IF(E58=\"\",\"\",J58*E58)","v":""},{"$f":"IF(E58=\"\",\"\",VLOOKUP(C58,'Coûts-indirects'!$A$4:$K$33,11,FALSE)*E58)","v":""},{"$f":"IF(D58=\"\",\"\",VLOOKUP(D58,'Frais-mission'!$B$3:$E$32,3,FALSE)*G58)","v":""},{"$f":"IF(D58=\"\",\"\",VLOOKUP(D58,'Frais-mission'!$B$3:$E$32,4,FALSE)*H58)","v":""},{"$f":"IF(K58=\"\",\"\",K58*0.15)","v":""},{"$f":"IF(F58=\"\",\"\",J58*F58*0.1)","v":""},{"$f":"IF(B58=\"\",\"\",IF(LEFT(B58,18)=\"Réunion collective\",350-SUMIF($B$6:B57,B58,$S$6:S57),\"\"))","v":""},{"$f":"IF(O58=\"\",\"\",K58+L58+M58+N58)","v":""},{"$f":"IF(R58=\"\",\"\",MIN(Q58,K58+MIN(L58,O58)+MIN(M58+N58,P58)))","v":""},"","","","",{"$f":"IF(D58=\"\",\"\",IF(A58=2022,VLOOKUP(D58,'Intervenants et coûts-j'!$C$17:$AF$47,19,FALSE),IF(A58=2023,VLOOKUP(D58,'Intervenants et coûts-j'!$C$17:$AF$47,20,FALSE),IF(A58=2024,VLOOKUP(D58,'Intervenants et coûts-j'!$C$17:$AF$47,21,FALSE),IF(A58=2025,VLOOKUP(D58,'Intervenants et coûts-j'!$C$17:$AF$47,22,FALSE),IF(A58=2026,VLOOKUP(D58,'Intervenants et coûts-j'!$C$17:$AF$47,23,FALSE),IF(A58=2027,VLOOKUP(D58,'Intervenants et coûts-j'!$C$17:$AF$47,24,FALSE))))))))","v":""},{"$f":"IF(D58=\"\",\"\",IF(A58=2022,VLOOKUP(D58,'Intervenants et coûts-j'!$C$17:$AF$47,25,FALSE),IF(A58=2023,VLOOKUP(D58,'Intervenants et coûts-j'!$C$17:$AF$47,26,FALSE),IF(A58=2024,VLOOKUP(D58,'Intervenants et coûts-j'!$C$17:$AF$47,27,FALSE),IF(A58=2025,VLOOKUP(D58,'Intervenants et coûts-j'!$C$17:$AF$47,28,FALSE),IF(A58=2026,VLOOKUP(D58,'Intervenants et coûts-j'!$C$17:$AF$47,29,FALSE),IF(A58=2027,VLOOKUP(D58,'Intervenants et coûts-j'!$C$17:$AF$47,30,FALSE))))))))","v":""},"",{"$f":"IF(E58=\"\",\"\",VLOOKUP(C58,'Coûts-indirects'!$A$4:$T$33,20,FALSE)*T58)","v":""},{"$f":"IF(D58=\"\",\"\",IF(V58=\"\",0,VLOOKUP(D58,'Frais-mission'!$B$3:$F$32,5,FALSE)*V58))","v":""},{"$f":"IF(D58=\"\",\"\",IF(W58=\"\",0,VLOOKUP(D58,'Frais-mission'!$B$3:$G$32,6,FALSE)*W58))","v":""},"","",{"$f":"IF(B58=\"\",\"\",IF(LEFT(B58,18)=\"Réunion collective\",350-SUMIF($B$6:B57,B58,$AH$6:AH57),\"\"))","v":""},"","",null,null,{"$f":"\"ListeIntervenants\"&VLOOKUP(C58,'Intervenants et coûts-j'!$B$5:$C$14,2,FALSE)","v":{"$error":"#N/A"}}]
[null,null,null,null,null,null,null,null,{"$f":"IF(D59=\"\",\"\",IF(A59=2022,VLOOKUP(D59,'Intervenants et coûts-j'!$C$17:$P$47,3,FALSE),IF(A59=2023,VLOOKUP(D59,'Intervenants et coûts-j'!$C$17:$P$47,4,FALSE),IF(A59=2024,VLOOKUP(D59,'Intervenants et coûts-j'!$C$17:$P$47,5,FALSE),IF(A59=2025,VLOOKUP(D59,'Intervenants et coûts-j'!$C$17:$P$47,6,FALSE),IF(A59=2026,VLOOKUP(D59,'Intervenants et coûts-j'!$C$17:$P$47,7,FALSE),IF(A59=2027,VLOOKUP(D59,'Intervenants et coûts-j'!$C$17:$P$47,8,FALSE))))))))","v":""},{"$f":"IF(D59=\"\",\"\",IF(A59=2022,VLOOKUP(D59,'Intervenants et coûts-j'!$C$17:$P$47,9,FALSE),IF(A59=2023,VLOOKUP(D59,'Intervenants et coûts-j'!$C$17:$P$47,10,FALSE),IF(A59=2024,VLOOKUP(D59,'Intervenants et coûts-j'!$C$17:$P$47,11,FALSE),IF(A59=2025,VLOOKUP(D59,'Intervenants et coûts-j'!$C$17:$P$47,12,FALSE),IF(A59=2026,VLOOKUP(D59,'Intervenants et coûts-j'!$C$17:$P$47,13,FALSE),IF(A59=2027,VLOOKUP(D59,'Intervenants et coûts-j'!$C$17:$P$47,14,FALSE))))))))","v":""},"",{"$f":"IF(E59=\"\",\"\",VLOOKUP(C59,'Coûts-indirects'!$A$4:$K$33,11,FALSE)*E59)","v":""},{"$f":"IF(D59=\"\",\"\",VLOOKUP(D59,'Frais-mission'!$B$3:$E$32,3,FALSE)*G59)","v":""},{"$f":"IF(D59=\"\",\"\",VLOOKUP(D59,'Frais-mission'!$B$3:$E$32,4,FALSE)*H59)","v":""},"","",{"$f":"IF(B59=\"\",\"\",IF(LEFT(B59,18)=\"Réunion collective\",350-SUMIF($B$6:B58,B59,$S$6:S58),\"\"))","v":""},"","",{"$f":"IF(E59=\"\",\"\",E59)","v":""},{"$f":"IF(F59=\"\",\"\",F59)","v":""},{"$f":"IF(G59=\"\",\"\",G59)","v":""},{"$f":"IF(H59=\"\",\"\",H59)","v":""},{"$f":"IF(D59=\"\",\"\",IF(A59=2022,VLOOKUP(D59,'Intervenants et coûts-j'!$C$17:$AF$47,19,FALSE),IF(A59=2023,VLOOKUP(D59,'Intervenants et coûts-j'!$C$17:$AF$47,20,FALSE),IF(A59=2024,VLOOKUP(D59,'Intervenants et coûts-j'!$C$17:$AF$47,21,FALSE),IF(A59=2025,VLOOKUP(D59,'Intervenants et coûts-j'!$C$17:$AF$47,22,FALSE),IF(A59=2026,VLOOKUP(D59,'Intervenants et coûts-j'!$C$17:$AF$47,23,FALSE),IF(A59=2027,VLOOKUP(D59,'Intervenants et coûts-j'!$C$17:$AF$47,24,FALSE))))))))","v":""},{"$f":"IF(D59=\"\",\"\",IF(A59=2022,VLOOKUP(D59,'Intervenants et coûts-j'!$C$17:$AF$47,25,FALSE),IF(A59=2023,VLOOKUP(D59,'Intervenants et coûts-j'!$C$17:$AF$47,26,FALSE),IF(A59=2024,VLOOKUP(D59,'Intervenants et coûts-j'!$C$17:$AF$47,27,FALSE),IF(A59=2025,VLOOKUP(D59,'Intervenants et coûts-j'!$C$17:$AF$47,28,FALSE),IF(A59=2026,VLOOKUP(D59,'Intervenants et coûts-j'!$C$17:$AF$47,29,FALSE),IF(A59=2027,VLOOKUP(D59,'Intervenants et coûts-j'!$C$17:$AF$47,30,FALSE))))))))","v":""},{"$f":"IF(T59=\"\",\"\",Y59*T59)","v":""},{"$f":"IF(E59=\"\",\"\",VLOOKUP(C59,'Coûts-indirects'!$A$4:$T$33,20,FALSE)*T59)","v":""},{"$f":"IF(D59=\"\",\"\",IF(V59=\"\",0,VLOOKUP(D59,'Frais-mission'!$B$3:$F$32,5,FALSE)*V59))","v":""},{"$f":"IF(D59=\"\",\"\",IF(W59=\"\",0,VLOOKUP(D59,'Frais-mission'!$B$3:$G$32,6,FALSE)*W59))","v":""},{"$f":"IF(Z59=\"\",\"\",Z59*0.15)","v":""},{"$f":"IF(U59=\"\",\"\",Y59*U59*0.1)","v":""},{"$f":"IF(B59=\"\",\"\",IF(LEFT(B59,18)=\"Réunion collective\",350-SUMIF($B$6:B58,B59,$AH$6:AH58),\"\"))","v":""},{"$f":"IF(AD59=\"\",\"\",Z59+AA59+AB59+AC59)","v":""},{"$f":"IF(AG59=\"\",\"\",MIN(AF59,Z59+MIN(AA59,AD59)+MIN(AB59+AC59,AE59)))","v":""},null,null,{"$f":"\"ListeIntervenants\"&VLOOKUP(C59,'Intervenants et coûts-j'!$B$5:$C$14,2,FALSE)","v":{"$error":"#N/A"}}]
[null,null,null,"Sous-total",{"$f":"SUM(E6:E59)","v":0},0,0,0,0,0,0,0,0,0,0,0,0,0,0,0,0,0,0,0,0,0,0,0,0,0,0,0,0,0]
[]
[]
["2. AUTRES FRAIS (prestation, location de salle et de matériel…) "]
["Campagne","Libellé de la dépense","Structure qui supporte la dépense (opérateur)","Prestataire ou fournisseur",null,null,null,null,null,"N° Facture",null,null,null,null,null,null,"Plafond applicable (si réunion coll.)","Montant total présenté","Montant total plafonné le cas échéant",null,null,null,null,null,"N° Facture",null,null,null,null,null,null,"Plafond applicable (si réunion coll.)","Montant total présenté","Montant total plafonné le cas échéant","Commentaires instructeur"]
[2022,null,null,null,null,null,null,null,null,null,null,null,null,null,null,null,{"$f":"IF(B65=\"\",\"\",IF(LEFT(B65,18)=\"Réunion collective\",350-SUMIF($B$6:B64,B65,$S$6:S64),\"\"))","v":""},0,{"$f":"IF(R65=\"\",\"\",MIN(Q65,R65))","v":0},null,null,null,null,null,{"$f":"IF(J65=\"\",\"\",J65)","v":""},null,null,null,null,null,null,{"$f":"IF(B65=\"\",\"\",IF(LEFT(B65,18)=\"Réunion collective\",350-SUMIF($B$6:B64,B65,$AH$6:AH64),\"\"))","v":""},{"$f":"IF(R65=\"\",\"\",R65)","v":0},{"$f":"IF(AG65=\"\",\"\",MIN(AF65,AG65))","v":0}]
[2022,null,null,null,null,null,null,null,null,null,null,null,null,null,null,null,{"$f":"IF(B66=\"\",\"\",IF(LEFT(B66,18)=\"Réunion collective\",350-SUMIF($B$6:B65,B66,$S$6:S65),\"\"))","v":""},0,{"$f":"IF(R66=\"\",\"\",MIN(Q66,R66))","v":0},null,null,null,null,null,"",null,null,null,null,null,null,{"$f":"IF(B66=\"\",\"\",IF(LEFT(B66,18)=\"Réunion collective\",350-SUMIF($B$6:B65,B66,$AH$6:AH65),\"\"))","v":""},{"$f":"IF(R66=\"\",\"\",R66)","v":0},{"$f":"IF(AG66=\"\",\"\",MIN(AF66,AG66))","v":0}]
[2022,null,null,null,null,null,null,null,null,null,null,null,null,null,null,null,{"$f":"IF(B67=\"\",\"\",IF(LEFT(B67,18)=\"Réunion collective\",350-SUMIF($B$6:B66,B67,$S$6:S66),\"\"))","v":""},0,0,null,null,null,null,null,"",null,null,null,null,null,null,{"$f":"IF(B67=\"\",\"\",IF(LEFT(B67,18)=\"Réunion collective\",350-SUMIF($B$6:B66,B67,$AH$6:AH66),\"\"))","v":""},0,0]
[2022,null,null,null,null,null,null,null,null,null,null,null,null,null,null,null,{"$f":"IF(B68=\"\",\"\",IF(LEFT(B68,18)=\"Réunion collective\",350-SUMIF($B$6:B67,B68,$S$6:S67),\"\"))","v":""},0,0,null,null,null,null,null,"",null,null,null,null,null,null,{"$f":"IF(B68=\"\",\"\",IF(LEFT(B68,18)=\"Réunion collective\",350-SUMIF($B$6:B67,B68,$AH$6:AH67),\"\"))","v":""},0,0]
[2022,null,null,null,null,null,null,null,null,null,null,null,null,null,null,null,{"$f":"IF(B69=\"\",\"\",IF(LEFT(B69,18)=\"Réunion collective\",350-SUMIF($B$6:B68,B69,$S$6:S68),\"\"))","v":""},0,0,null,null,null,null,null,"",null,null,null,null,null,null,{"$f":"IF(B69=\"\",\"\",IF(LEFT(B69,18)=\"Réunion collective\",350-SUMIF($B$6:B68,B69,$AH$6:AH68),\"\"))","v":""},0,0]
[2022,null,null,null,null,null,null,null,null,null,null,null,null,null,null,null,{"$f":"IF(B70=\"\",\"\",IF(LEFT(B70,18)=\"Réunion collective\",350-SUMIF($B$6:B69,B70,$S$6:S69),\"\"))","v":""},0,0,null,null,null,null,null,"",null,null,null,null,null,null,{"$f":"IF(B70=\"\",\"\",IF(LEFT(B70,18)=\"Réunion collective\",350-SUMIF($B$6:B69,B70,$AH$6:AH69),\"\"))","v":""},0,0]
[2022,null,null,null,null,null,null,null,null,null,null,null,null,null,null,null,{"$f":"IF(B71=\"\",\"\",IF(LEFT(B71,18)=\"Réunion collective\",350-SUMIF($B$6:B70,B71,$S$6:S70),\"\"))","v":""},0,0,null,null,null,null,null,"",null,null,null,null,null,null,{"$f":"IF(B71=\"\",\"\",IF(LEFT(B71,18)=\"Réunion collective\",350-SUMIF($B$6:B70,B71,$AH$6:AH70),\"\"))","v":""},0,0]
[2022,null,null,null,null,null,null,null,null,null,null,null,null,null,null,null,{"$f":"IF(B72=\"\",\"\",IF(LEFT(B72,18)=\"Réunion collective\",350-SUMIF($B$6:B71,B72,$S$6:S71),\"\"))","v":""},0,0,null,null,null,null,null,"",null,null,null,null,null,null,{"$f":"IF(B72=\"\",\"\",IF(LEFT(B72,18)=\"Réunion collective\",350-SUMIF($B$6:B71,B72,$AH$6:AH71),\"\"))","v":""},0,0]
[null,null,null,null,null,null,null,null,"Sous-total",null,null,null,null,null,null,null,null,{"$f":"SUM(R65:R72)","v":0},{"$f":"SUM(S65:S72)","v":0},null,null,null,null,"Sous-total",null,null,null,null,null,null,null,null,{"$f":"SUM(AG65:AG72)","v":0},{"$f":"SUM(AH65:AH72)","v":0}]
[]
[]
[null,null,null,null,"Montants présentés par structure",null,null,null,null,null,null,null,null,null,null,null,null,null,null,"Montants retenus par structure"]
[null,null,"Postes de dépenses",null,{"$f":"Référentiel!M3","v":0},{"$f":"Référentiel!M4","v":"-"},{"$f":"Référentiel!M5","v":"-"},{"$f":"Référentiel!M6","v":"-"},{"$f":"Référentiel!M7","v":"-"},{"$f":"Référentiel!M8","v":"-"},{"$f":"Référentiel!M9","v":"-"},{"$f":"Référentiel!M10","v":"-"},{"$f":"Référentiel!M11","v":"-"},{"$f":"Référentiel!M12","v":"-"},"TOTAL",null,null,null,null,{"$f":"E77","v":0},"-","-","-","-","-","-","-","-","-","TOTAL"]
[null,null,"Frais de personnel",null,{"$f":"SUMIF($C$6:$C$59,E77,$K$6:$K$59)","v":0},0,0,0,0,0,0,0,0,0,{"$f":"SUM(E78:N78)","v":0},null,null,null,null,{"$f":"SUMIF($C$6:$C$59,T77,$Z$6:$Z$59)","v":0},0,0,0,0,0,0,0,0,0,{"$f":"SUM(T78:AC78)","v":0}]
[null,null,"Coûts indirects",null,{"$f":"SUMIF($C$6:$C$59,E77,$L$6:$L$59)","v":0},0,0,0,0,0,0,0,0,0,{"$f":"SUM(E79:N79)","v":0},null,null,null,null,{"$f":"SUMIF($C$6:$C$59,T77,$AA$6:$AA$59)","v":0},0,0,0,0,0,0,0,0,0,{"$f":"SUM(T79:AC79)","v":0}]
[null,null,"Frais de déplacement de restauration et d'hébergement",null,{"$f":"SUMIF($C$6:$C$59,E77,$M$6:$M$59)+SUMIF($C$6:$C$59,E77,$N$6:$N$59)","v":0},0,0,0,0,0,0,0,0,0,0,null,null,null,null,{"$f":"SUMIF($C$6:$C$59,T77,$AB$6:$AB$59)+SUMIF($C$6:$C$59,T77,$AC$6:$AC$59)","v":0},0,0,0,0,0,0,0,0,0,0]
[null,null,"Autres frais",null,{"$f":"SUMIF($C$65:$C$72,E77,$R$65:$R$72)","v":0},{"$f":"SUMIF($C$65:$C$72,F77,$R$65:$R$72)","v":0},0,0,0,0,0,0,0,0,0,null,null,null,null,{"$f":"SUMIF($C$65:$C$72,T77,$AG$65:$AG$72)","v":0},0,0,0,0,0,0,0,0,0,0]
[null,null,"Total volet 2",null,{"$f":"SUM(E78:E81)","v":0},{"$f":"SUM(F78:F81)","v":0},0,0,0,0,0,0,0,0,0,null,null,null,null,{"$f":"SUM(T78:T81)","v":0},{"$f":"SUM(U78:U81)","v":0},0,0,0,0,0,0,0,0,0]
[null,null,"Total volet 2 (plafonné le cas échéant)",null,{"$f":"SUMIF($C$6:$C$59,E77,$S$6:$S$59)+SUMIF($C$65:$C$72,E77,$S$65:$S$72)","v":0},0,0,0,0,0,0,0,0,0,0,null,null,null,null,{"$f":"SUMIF($C$6:$C$59,T77,$AH$6:$AH$59)+SUMIF($C$65:$C$72,T77,$AH$65:$AH$72)","v":0},0,0,0,0,0,0,0,0,0,0]
[]
[]
[]
[null,"Certifié exact et sincère, le (date) :","………………………………………………………………………………………………………………………….."]
[null,"Nom, prénom du représentant de la structure :","………………………………………………………………………………………………………………………….."]
[null,"Qualité :","………………………………………………………………………………………………………………………….."]
[null,"Cachet et signature :"]
[]
[]
[]
[]
[]
[]
[]
[]
["Demandeur :",null,{"$f":"Identification!E23","v":0}]
["SIRET :",null,{"$f":"Identification!E25","v":0}]

{"sheet":"Dép.volet 2-Anim.","index":7,"n_rows":100,"n_cols":37,"rows_kept":100,"cut":false,"hidden":false,"merged":[[99,0,99,1],[75,2,75,3],[76,2,76,3],[77,2,77,3],[78,2,78,3],[79,2,79,3],[80,2,80,3],[81,2,81,3],[82,2,82,3],[75,4,75,14],[75,19,75,28],[68,3,68,8],[0,0,0,18],[3,27,3,28],[3,19,3,22],[71,3,71,8],[3,17,3,18],[3,14,3,16],[3,23,3,25],[3,29,3,31],[3,32,3,33],[70,3,70,8],[2,4,2,18],[69,3,69,8],[63,3,63,8],[64,3,64,8],[65,3,65,8],[66,3,66,8],[67,3,67,8],[3,8,3,10],[3,4,3,7],[3,12,3,13],[2,19,2,33]]}
["Dépenses réalisées - Volet 2 - ANIMATION DU PAEC "]
[]
["1 - DÉPENSES DE PERSONNEL / COÛTS INDIRECTS FORFAITAIRES / FRAIS DE DEPLACEMENT FORFAITAIRES",null,null,null,"Dépenses réalisées présentées",null,null,null,null,null,null,null,null,null,null,null,null,null,null,"Dépenses réalisées retenues"]
[null,null,null,null,"Réalisation",null,null,null,"Frais de personnel",null,null,"Structure","Frais de mission",null,"Plafonds spécifiques applicables",null,null,"Total",null,"Réalisation",null,null,null,"Frais de personnel",null,null,"Structure","Frais de mission",null,"Plafonds applicables",null,null,"Total"]
["Année","Libellé de l’action","Structure (demandeur, partenaire)","Prénom – Nom de l’intervenant","Nbre de jours consacrés à l'action","Dont Nbre de jours en déplacement","Nbre km déplacement","Nb repas déplacement","Coût salarial journalier (€)","Coût salarial journalier plafonné(€)","Frais de personnel présentés (€)","Frais de structure présentés","Frais de déplacement présenté","Frais de repas présentés","Plafond frais de structures","Plafond frais de mission","Plafond global applicable si réunion coll.","Montant total présenté","Montant total plafonné le cas échéant","Nbre de jours consacrés à l'action","Dont Nbre de jours en déplacement","Nbre km déplacement","Nb repas déplacement","Coût salarial journalier (€)","Coût salarial journalier plafonné(€)","Frais de personnel présentés (€)","Frais de structure présentés","Frais de déplacement présenté","Frais de repas présentés","Plafond frais de structures","Plafond frais de mission","Plafond global applicable si réunion coll.","Montant total présenté","Montant total plafonné le cas échéant","Commentaires instructeur"]
[null,null,null,null,null,null,null,null,{"$f":"IF(D6=\"\",\"\",IF(A6=2022,VLOOKUP(D6,'Intervenants et coûts-j'!$C$17:$P$47,3,FALSE),IF(A6=2023,VLOOKUP(D6,'Intervenants et coûts-j'!$C$17:$P$47,4,FALSE),IF(A6=2024,VLOOKUP(D6,'Intervenants et coûts-j'!$C$17:$P$47,5,FALSE),IF(A6=2025,VLOOKUP(D6,'Intervenants et coûts-j'!$C$17:$P$47,6,FALSE),IF(A6=2026,VLOOKUP(D6,'Intervenants et coûts-j'!$C$17:$P$47,7,FALSE),IF(A6=2027,VLOOKUP(D6,'Intervenants et coûts-j'!$C$17:$P$47,8,FALSE))))))))","v":""},{"$f":"IF(D6=\"\",\"\",IF(A6=2022,VLOOKUP(D6,'Intervenants et coûts-j'!$C$17:$P$47,9,FALSE),IF(A6=2023,VLOOKUP(D6,'Intervenants et coûts-j'!$C$17:$P$47,10,FALSE),IF(A6=2024,VLOOKUP(D6,'Intervenants et coûts-j'!$C$17:$P$47,11,FALSE),IF(A6=2025,VLOOKUP(D6,'Intervenants et coûts-j'!$C$17:$P$47,12,FALSE),IF(A6=2026,VLOOKUP(D6,'Intervenants et coûts-j'!$C$17:$P$47,13,FALSE),IF(A6=2027,VLOOKUP(D6,'Intervenants et coûts-j'!$C$17:$P$47,14,FALSE))))))))","v":""},{"$f":"IF(E6=\"\",\"\",J6*E6)","v":""},{"$f":"IF(E6=\"\",\"\",VLOOKUP(C6,'Coûts-indirects'!$A$4:$K$33,11,FALSE)*E6)","v":""},{"$f":"IF(D6=\"\",\"\",VLOOKUP(D6,'Frais-mission'!$B$3:$E$32,3,FALSE)*G6)","v":""},{"$f":"IF(D6=\"\",\"\",VLOOKUP(D6,'Frais-mission'!$B$3:$E$32,4,FALSE)*H6)","v":""},{"$f":"IF(K6=\"\",\"\",K6*0.15)","v":""},{"$f":"IF(F6=\"\",\"\",J6*F6*0.1)","v":""},{"$f":"IF(B6=\"\",\"\",IF(LEFT(B6,18)=\"Réunion collective\",350,\"\"))","v":""},{"$f":"IF(O6=\"\",\"\",K6+L6+M6+N6)","v":""},{"$f":"IF(R6=\"\",\"\",MIN(Q6,K6+MIN(L6,O6)+MIN(M6+N6,P6)))","v":""},{"$f":"IF(E6=\"\",\"\",E6)","v":""},{"$f":"IF(F6=\"\",\"\",F6)","v":""},{"$f":"IF(G6=\"\",\"\",G6)","v":""},{"$f":"IF(H6=\"\",\"\",H6)","v":""},{"$f":"IF(D6=\"\",\"\",IF(A6=2022,VLOOKUP(D6,'Intervenants et coûts-j'!$C$17:$AF$47,19,FALSE),IF(A6=2023,VLOOKUP(D6,'Intervenants et coûts-j'!$C$17:$AF$47,20,FALSE),IF(A6=2024,VLOOKUP(D6,'Intervenants et coûts-j'!$C$17:$AF$47,21,FALSE),IF(A6=2025,VLOOKUP(D6,'Intervenants et coûts-j'!$C$17:$AF$47,22,FALSE),IF(A6=2026,VLOOKUP(D6,'Intervenants et coûts-j'!$C$17:$AF$47,23,FALSE),IF(A6=2027,VLOOKUP(D6,'Intervenants et coûts-j'!$C$17:$AF$47,24,FALSE))))))))","v":""},{"$f":"IF(D6=\"\",\"\",IF(A6=2022,VLOOKUP(D6,'Intervenants et coûts-j'!$C$17:$AF$47,25,FALSE),IF(A6=2023,VLOOKUP(D6,'Intervenants et coûts-j'!$C$17:$AF$47,26,FALSE),IF(A6=2024,VLOOKUP(D6,'Intervenants et coûts-j'!$C$17:$AF$47,27,FALSE),IF(A6=2025,VLOOKUP(D6,'Intervenants et coûts-j'!$C$17:$AF$47,28,FALSE),IF(A6=2026,VLOOKUP(D6,'Intervenants et coûts-j'!$C$17:$AF$47,29,FALSE),IF(A6=2027,VLOOKUP(D6,'Intervenants et coûts-j'!$C$17:$AF$47,30,FALSE))))))))","v":""},{"$f":"IF(T6=\"\",\"\",Y6*T6)","v":""},{"$f":"IF(E6=\"\",\"\",VLOOKUP(C6,'Coûts-indirects'!$A$4:$T$33,20,FALSE)*T6)","v":""},{"$f":"IF(D6=\"\",\"\",IF(V6=\"\",0,VLOOKUP(D6,'Frais-mission'!$B$3:$F$32,5,FALSE)*V6))","v":""},{"$f":"IF(D6=\"\",\"\",IF(W6=\"\",0,VLOOKUP(D6,'Frais-mission'!$B$3:$G$32,6,FALSE)*W6))","v":""},{"$f":"IF(Z6=\"\",\"\",Z6*0.15)","v":""},{"$f":"IF(U6=\"\",\"\",Y6*U6*0.1)","v":""},{"$f":"IF(B6=\"\",\"\",IF(LEFT(B6,18)=\"Réunion collective\",350,\"\"))","v":""},{"$f":"IF(AD6=\"\",\"\",Z6+AA6+AB6+AC6)","v":""},{"$f":"IF(AG6=\"\",\"\",MIN(AF6,Z6+MIN(AA6,AD6)+MIN(AB6+AC6,AE6)))","v":""},null,null,{"$f":"\"ListeIntervenants\"&VLOOKUP(C6,'Intervenants et coûts-j'!$B$5:$C$14,2,FALSE)","v":{"$error":"#N/A"}}]
[null,null,null,null,null,null,null,null,{"$f":"IF(D7=\"\",\"\",IF(A7=2022,VLOOKUP(D7,'Intervenants et coûts-j'!$C$17:$P$47,3,FALSE),IF(A7=2023,VLOOKUP(D7,'Intervenants et coûts-j'!$C$17:$P$47,4,FALSE),IF(A7=2024,VLOOKUP(D7,'Intervenants et coûts-j'!$C$17:$P$47,5,FALSE),IF(A7=2025,VLOOKUP(D7,'Intervenants et coûts-j'!$C$17:$P$47,6,FALSE),IF(A7=2026,VLOOKUP(D7,'Intervenants et coûts-j'!$C$17:$P$47,7,FALSE),IF(A7=2027,VLOOKUP(D7,'Intervenants et coûts-j'!$C$17:$P$47,8,FALSE))))))))","v":""},{"$f":"IF(D7=\"\",\"\",IF(A7=2022,VLOOKUP(D7,'Intervenants et coûts-j'!$C$17:$P$47,9,FALSE),IF(A7=2023,VLOOKUP(D7,'Intervenants et coûts-j'!$C$17:$P$47,10,FALSE),IF(A7=2024,VLOOKUP(D7,'Intervenants et coûts-j'!$C$17:$P$47,11,FALSE),IF(A7=2025,VLOOKUP(D7,'Intervenants et coûts-j'!$C$17:$P$47,12,FALSE),IF(A7=2026,VLOOKUP(D7,'Intervenants et coûts-j'!$C$17:$P$47,13,FALSE),IF(A7=2027,VLOOKUP(D7,'Intervenants et coûts-j'!$C$17:$P$47,14,FALSE))))))))","v":""},"",{"$f":"IF(E7=\"\",\"\",VLOOKUP(C7,'Coûts-indirects'!$A$4:$K$33,11,FALSE)*E7)","v":""},{"$f":"IF(D7=\"\",\"\",VLOOKUP(D7,'Frais-mission'!$B$3:$E$32,3,FALSE)*G7)","v":""},{"$f":"IF(D7=\"\",\"\",VLOOKUP(D7,'Frais-mission'!$B$3:$E$32,4,FALSE)*H7)","v":""},"","",{"$f":"IF(B7=\"\",\"\",IF(LEFT(B7,18)=\"Réunion collective\",350-SUMIF(B6,B7,S6),\"\"))","v":""},{"$f":"IF(O7=\"\",\"\",K7+L7+M7+N7)","v":""},{"$f":"IF(R7=\"\",\"\",MIN(Q7,K7+MIN(L7,O7)+MIN(M7+N7,P7)))","v":""},"",{"$f":"IF(F7=\"\",\"\",F7)","v":""},{"$f":"IF(G7=\"\",\"\",G7)","v":""},{"$f":"IF(H7=\"\",\"\",H7)","v":""},{"$f":"IF(D7=\"\",\"\",IF(A7=2022,VLOOKUP(D7,'Intervenants et coûts-j'!$C$17:$AF$47,19,FALSE),IF(A7=2023,VLOOKUP(D7,'Intervenants et coûts-j'!$C$17:$AF$47,20,FALSE),IF(A7=2024,VLOOKUP(D7,'Intervenants et coûts-j'!$C$17:$AF$47,21,FALSE),IF(A7=2025,VLOOKUP(D7,'Intervenants et coûts-j'!$C$17:$AF$47,22,FALSE),IF(A7=2026,VLOOKUP(D7,'Intervenants et coûts-j'!$C$17:$AF$47,23,FALSE),IF(A7=2027,VLOOKUP(D7,'Intervenants et coûts-j'!$C$17:$AF$47,24,FALSE))))))))","v":""},{"$f":"IF(D7=\"\",\"\",IF(A7=2022,VLOOKUP(D7,'Intervenants et coûts-j'!$C$17:$AF$47,25,FALSE),IF(A7=2023,VLOOKUP(D7,'Intervenants et coûts-j'!$C$17:$AF$47,26,FALSE),IF(A7=2024,VLOOKUP(D7,'Intervenants et coûts-j'!$C$17:$AF$47,27,FALSE),IF(A7=2025,VLOOKUP(D7,'Intervenants et coûts-j'!$C$17:$AF$47,28,FALSE),IF(A7=2026,VLOOKUP(D7,'Intervenants et coûts-j'!$C$17:$AF$47,29,FALSE),IF(A7=2027,VLOOKUP(D7,'Intervenants et coûts-j'!$C$17:$AF$47,30,FALSE))))))))","v":""},{"$f":"IF(T7=\"\",\"\",Y7*T7)","v":""},{"$f":"IF(E7=\"\",\"\",VLOOKUP(C7,'Coûts-indirects'!$A$4:$T$33,20,FALSE)*T7)","v":""},{"$f":"IF(D7=\"\",\"\",IF(V7=\"\",0,VLOOKUP(D7,'Frais-mission'!$B$3:$F$32,5,FALSE)*V7))","v":""},{"$f":"IF(D7=\"\",\"\",IF(W7=\"\",0,VLOOKUP(D7,'Frais-mission'!$B$3:$G$32,6,FALSE)*W7))","v":""},"","",{"$f":"IF(B7=\"\",\"\",IF(LEFT(B7,18)=\"Réunion collective\",350-SUMIF(B6,B7,AH6),\"\"))","v":""},{"$f":"IF(AD7=\"\",\"\",Z7+AA7+AB7+AC7)","v":""},{"$f":"IF(AG7=\"\",\"\",MIN(AF7,Z7+MIN(AA7,AD7)+MIN(AB7+AC7,AE7)))","v":""},null,null,{"$f":"\"ListeIntervenants\"&VLOOKUP(C7,'Intervenants et coûts-j'!$B$5:$C$14,2,FALSE)","v":{"$error":"#N/A"}}]
[null,null,null,null,null,null,null,null,{"$f":"IF(D8=\"\",\"\",IF(A8=2022,VLOOKUP(D8,'Intervenants et coûts-j'!$C$17:$P$47,3,FALSE),IF(A8=2023,VLOOKUP(D8,'Intervenants et coûts-j'!$C$17:$P$47,4,FALSE),IF(A8=2024,VLOOKUP(D8,'Intervenants et coûts-j'!$C$17:$P$47,5,FALSE),IF(A8=2025,VLOOKUP(D8,'Intervenants et coûts-j'!$C$17:$P$47,6,FALSE),IF(A8=2026,VLOOKUP(D8,'Intervenants et coûts-j'!$C$17:$P$47,7,FALSE),IF(A8=2027,VLOOKUP(D8,'Intervenants et coûts-j'!$C$17:$P$47,8,FALSE))))))))","v":""},{"$f":"IF(D8=\"\",\"\",IF(A8=2022,VLOOKUP(D8,'Intervenants et coûts-j'!$C$17:$P$47,9,FALSE),IF(A8=2023,VLOOKUP(D8,'Intervenants et coûts-j'!$C$17:$P$47,10,FALSE),IF(A8=2024,VLOOKUP(D8,'Intervenants et coûts-j'!$C$17:$P$47,11,FALSE),IF(A8=2025,VLOOKUP(D8,'Intervenants et coûts-j'!$C$17:$P$47,12,FALSE),IF(A8=2026,VLOOKUP(D8,'Intervenants et coûts-j'!$C$17:$P$47,13,FALSE),IF(A8=2027,VLOOKUP(D8,'Intervenants et coûts-j'!$C$17:$P$47,14,FALSE))))))))","v":""},"",{"$f":"IF(E8=\"\",\"\",VLOOKUP(C8,'Coûts-indirects'!$A$4:$K$33,11,FALSE)*E8)","v":""},{"$f":"IF(D8=\"\",\"\",VLOOKUP(D8,'Frais-mission'!$B$3:$E$32,3,FALSE)*G8)","v":""},{"$f":"IF(D8=\"\",\"\",VLOOKUP(D8,'Frais-mission'!$B$3:$E$32,4,FALSE)*H8)","v":""},"",{"$f":"IF(F8=\"\",\"\",J8*F8*0.1)","v":""},{"$f":"IF(B8=\"\",\"\",IF(LEFT(B8,18)=\"Réunion collective\",350-SUMIF($B$6:B7,B8,$S$6:S7),\"\"))","v":""},"","","",{"$f":"IF(F8=\"\",\"\",F8)","v":""},{"$f":"IF(G8=\"\",\"\",G8)","v":""},{"$f":"IF(H8=\"\",\"\",H8)","v":""},{"$f":"IF(D8=\"\",\"\",IF(A8=2022,VLOOKUP(D8,'Intervenants et coûts-j'!$C$17:$AF$47,19,FALSE),IF(A8=2023,VLOOKUP(D8,'Intervenants et coûts-j'!$C$17:$AF$47,20,FALSE),IF(A8=2024,VLOOKUP(D8,'Intervenants et coûts-j'!$C$17:$AF$47,21,FALSE),IF(A8=2025,VLOOKUP(D8,'Intervenants et coûts-j'!$C$17:$AF$47,22,FALSE),IF(A8=2026,VLOOKUP(D8,'Intervenants et coûts-j'!$C$17:$AF$47,23,FALSE),IF(A8=2027,VLOOKUP(D8,'Intervenants et coûts-j'!$C$17:$AF$47,24,FALSE))))))))","v":""},{"$f":"IF(D8=\"\",\"\",IF(A8=2022,VLOOKUP(D8,'Intervenants et coûts-j'!$C$17:$AF$47,25,FALSE),IF(A8=2023,VLOOKUP(D8,'Intervenants et coûts-j'!$C$17:$AF$47,26,FALSE),IF(A8=2024,VLOOKUP(D8,'Intervenants et coûts-j'!$C$17:$AF$47,27,FALSE),IF(A8=2025,VLOOKUP(D8,'Intervenants et coûts-j'!$C$17:$AF$47,28,FALSE),IF(A8=2026,VLOOKUP(D8,'Intervenants et coûts-j'!$C$17:$AF$47,29,FALSE),IF(A8=2027,VLOOKUP(D8,'Intervenants et coûts-j'!$C$17:$AF$47,30,FALSE))))))))","v":""},"",{"$f":"IF(E8=\"\",\"\",VLOOKUP(C8,'Coûts-indirects'!$A$4:$T$33,20,FALSE)*T8)","v":""},{"$f":"IF(D8=\"\",\"\",IF(V8=\"\",0,VLOOKUP(D8,'Frais-mission'!$B$3:$F$32,5,FALSE)*V8))","v":""},{"$f":"IF(D8=\"\",\"\",IF(W8=\"\",0,VLOOKUP(D8,'Frais-mission'!$B$3:$G$32,6,FALSE)*W8))","v":""},"","",{"$f":"IF(B8=\"\",\"\",IF(LEFT(B8,18)=\"Réunion collective\",350-SUMIF($B$6:B7,B8,$AH$6:AH7),\"\"))","v":""},"","",null,null,{"$f":"\"ListeIntervenants\"&VLOOKUP(C8,'Intervenants et coûts-j'!$B$5:$C$14,2,FALSE)","v":{"$error":"#N/A"}}]
[null,null,null,null,null,null,null,null,{"$f":"IF(D9=\"\",\"\",IF(A9=2022,VLOOKUP(D9,'Intervenants et coûts-j'!$C$17:$P$47,3,FALSE),IF(A9=2023,VLOOKUP(D9,'Intervenants et coûts-j'!$C$17:$P$47,4,FALSE),IF(A9=2024,VLOOKUP(D9,'Intervenants et coûts-j'!$C$17:$P$47,5,FALSE),IF(A9=2025,VLOOKUP(D9,'Intervenants et coûts-j'!$C$17:$P$47,6,FALSE),IF(A9=2026,VLOOKUP(D9,'Intervenants et coûts-j'!$C$17:$P$47,7,FALSE),IF(A9=2027,VLOOKUP(D9,'Intervenants et coûts-j'!$C$17:$P$47,8,FALSE))))))))","v":""},{"$f":"IF(D9=\"\",\"\",IF(A9=2022,VLOOKUP(D9,'Intervenants et coûts-j'!$C$17:$P$47,9,FALSE),IF(A9=2023,VLOOKUP(D9,'Intervenants et coûts-j'!$C$17:$P$47,10,FALSE),IF(A9=2024,VLOOKUP(D9,'Intervenants et coûts-j'!$C$17:$P$47,11,FALSE),IF(A9=2025,VLOOKUP(D9,'Intervenants et coûts-j'!$C$17:$P$47,12,FALSE),IF(A9=2026,VLOOKUP(D9,'Intervenants et coûts-j'!$C$17:$P$47,13,FALSE),IF(A9=2027,VLOOKUP(D9,'Intervenants et coûts-j'!$C$17:$P$47,14,FALSE))))))))","v":""},"",{"$f":"IF(E9=\"\",\"\",VLOOKUP(C9,'Coûts-indirects'!$A$4:$K$33,11,FALSE)*E9)","v":""},{"$f":"IF(D9=\"\",\"\",VLOOKUP(D9,'Frais-mission'!$B$3:$E$32,3,FALSE)*G9)","v":""},{"$f":"IF(D9=\"\",\"\",VLOOKUP(D9,'Frais-mission'!$B$3:$E$32,4,FALSE)*H9)","v":""},"","",{"$f":"IF(B9=\"\",\"\",IF(LEFT(B9,18)=\"Réunion collective\",350-SUMIF($B$6:B8,B9,$S$6:S8),\"\"))","v":""},"","","","","","",{"$f":"IF(D9=\"\",\"\",IF(A9=2022,VLOOKUP(D9,'Intervenants et coûts-j'!$C$17:$AF$47,19,FALSE),IF(A9=2023,VLOOKUP(D9,'Intervenants et coûts-j'!$C$17:$AF$47,20,FALSE),IF(A9=2024,VLOOKUP(D9,'Intervenants et coûts-j'!$C$17:$AF$47,21,FALSE),IF(A9=2025,VLOOKUP(D9,'Intervenants et coûts-j'!$C$17:$AF$47,22,FALSE),IF(A9=2026,VLOOKUP(D9,'Intervenants et coûts-j'!$C$17:$AF$47,23,FALSE),IF(A9=2027,VLOOKUP(D9,'Intervenants et coûts-j'!$C$17:$AF$47,24,FALSE))))))))","v":""},{"$f":"IF(D9=\"\",\"\",IF(A9=2022,VLOOKUP(D9,'Intervenants et coûts-j'!$C$17:$AF$47,25,FALSE),IF(A9=2023,VLOOKUP(D9,'Intervenants et coûts-j'!$C$17:$AF$47,26,FALSE),IF(A9=2024,VLOOKUP(D9,'Intervenants et coûts-j'!$C$17:$AF$47,27,FALSE),IF(A9=2025,VLOOKUP(D9,'Intervenants et coûts-j'!$C$17:$AF$47,28,FALSE),IF(A9=2026,VLOOKUP(D9,'Intervenants et coûts-j'!$C$17:$AF$47,29,FALSE),IF(A9=2027,VLOOKUP(D9,'Intervenants et coûts-j'!$C$17:$AF$47,30,FALSE))))))))","v":""},"",{"$f":"IF(E9=\"\",\"\",VLOOKUP(C9,'Coûts-indirects'!$A$4:$T$33,20,FALSE)*T9)","v":""},{"$f":"IF(D9=\"\",\"\",IF(V9=\"\",0,VLOOKUP(D9,'Frais-mission'!$B$3:$F$32,5,FALSE)*V9))","v":""},{"$f":"IF(D9=\"\",\"\",IF(W9=\"\",0,VLOOKUP(D9,'Frais-mission'!$B$3:$G$32,6,FALSE)*W9))","v":""},"","",{"$f":"IF(B9=\"\",\"\",IF(LEFT(B9,18)=\"Réunion collective\",350-SUMIF($B$6:B8,B9,$AH$6:AH8),\"\"))","v":""},"","",null,null,{"$f":"\"ListeIntervenants\"&VLOOKUP(C9,'Intervenants et coûts-j'!$B$5:$C$14,2,FALSE)","v":{"$error":"#N/A"}}]
[null,null,null,null,null,null,null,null,{"$f":"IF(D10=\"\",\"\",IF(A10=2022,VLOOKUP(D10,'Intervenants et coûts-j'!$C$17:$P$47,3,FALSE),IF(A10=2023,VLOOKUP(D10,'Intervenants et coûts-j'!$C$17:$P$47,4,FALSE),IF(A10=2024,VLOOKUP(D10,'Intervenants et coûts-j'!$C$17:$P$47,5,FALSE),IF(A10=2025,VLOOKUP(D10,'Intervenants et coûts-j'!$C$17:$P$47,6,FALSE),IF(A10=2026,VLOOKUP(D10,'Intervenants et coûts-j'!$C$17:$P$47,7,FALSE),IF(A10=2027,VLOOKUP(D10,'Intervenants et coûts-j'!$C$17:$P$47,8,FALSE))))))))","v":""},{"$f":"IF(D10=\"\",\"\",IF(A10=2022,VLOOKUP(D10,'Intervenants et coûts-j'!$C$17:$P$47,9,FALSE),IF(A10=2023,VLOOKUP(D10,'Intervenants et coûts-j'!$C$17:$P$47,10,FALSE),IF(A10=2024,VLOOKUP(D10,'Intervenants et coûts-j'!$C$17:$P$47,11,FALSE),IF(A10=2025,VLOOKUP(D10,'Intervenants et coûts-j'!$C$17:$P$47,12,FALSE),IF(A10=2026,VLOOKUP(D10,'Intervenants et coûts-j'!$C$17:$P$47,13,FALSE),IF(A10=2027,VLOOKUP(D10,'Intervenants et coûts-j'!$C$17:$P$47,14,FALSE))))))))","v":""},"",{"$f":"IF(E10=\"\",\"\",VLOOKUP(C10,'Coûts-indirects'!$A$4:$K$33,11,FALSE)*E10)","v":""},{"$f":"IF(D10=\"\",\"\",VLOOKUP(D10,'Frais-mission'!$B$3:$E$32,3,FALSE)*G10)","v":""},{"$f":"IF(D10=\"\",\"\",VLOOKUP(D10,'Frais-mission'!$B$3:$E$32,4,FALSE)*H10)","v":""},"","",{"$f":"IF(B10=\"\",\"\",IF(LEFT(B10,18)=\"Réunion collective\",350-SUMIF($B$6:B9,B10,$S$6:S9),\"\"))","v":""},"","","","","","",{"$f":"IF(D10=\"\",\"\",IF(A10=2022,VLOOKUP(D10,'Intervenants et coûts-j'!$C$17:$AF$47,19,FALSE),IF(A10=2023,VLOOKUP(D10,'Intervenants et coûts-j'!$C$17:$AF$47,20,FALSE),IF(A10=2024,VLOOKUP(D10,'Intervenants et coûts-j'!$C$17:$AF$47,21,FALSE),IF(A10=2025,VLOOKUP(D10,'Intervenants et coûts-j'!$C$17:$AF$47,22,FALSE),IF(A10=2026,VLOOKUP(D10,'Intervenants et coûts-j'!$C$17:$AF$47,23,FALSE),IF(A10=2027,VLOOKUP(D10,'Intervenants et coûts-j'!$C$17:$AF$47,24,FALSE))))))))","v":""},{"$f":"IF(D10=\"\",\"\",IF(A10=2022,VLOOKUP(D10,'Intervenants et coûts-j'!$C$17:$AF$47,25,FALSE),IF(A10=2023,VLOOKUP(D10,'Intervenants et coûts-j'!$C$17:$AF$47,26,FALSE),IF(A10=2024,VLOOKUP(D10,'Intervenants et coûts-j'!$C$17:$AF$47,27,FALSE),IF(A10=2025,VLOOKUP(D10,'Intervenants et coûts-j'!$C$17:$AF$47,28,FALSE),IF(A10=2026,VLOOKUP(D10,'Intervenants et coûts-j'!$C$17:$AF$47,29,FALSE),IF(A10=2027,VLOOKUP(D10,'Intervenants et coûts-j'!$C$17:$AF$47,30,FALSE))))))))","v":""},"",{"$f":"IF(E10=\"\",\"\",VLOOKUP(C10,'Coûts-indirects'!$A$4:$T$33,20,FALSE)*T10)","v":""},{"$f":"IF(D10=\"\",\"\",IF(V10=\"\",0,VLOOKUP(D10,'Frais-mission'!$B$3:$F$32,5,FALSE)*V10))","v":""},{"$f":"IF(D10=\"\",\"\",IF(W10=\"\",0,VLOOKUP(D10,'Frais-mission'!$B$3:$G$32,6,FALSE)*W10))","v":""},"","",{"$f":"IF(B10=\"\",\"\",IF(LEFT(B10,18)=\"Réunion collective\",350-SUMIF($B$6:B9,B10,$AH$6:AH9),\"\"))","v":""},"","",null,null,{"$f":"\"ListeIntervenants\"&VLOOKUP(C10,'Intervenants et coûts-j'!$B$5:$C$14,2,FALSE)","v":{"$error":"#N/A"}}]
[null,null,null,null,null,null,null,null,{"$f":"IF(D11=\"\",\"\",IF(A11=2022,VLOOKUP(D11,'Intervenants et coûts-j'!$C$17:$P$47,3,FALSE),IF(A11=2023,VLOOKUP(D11,'Intervenants et coûts-j'!$C$17:$P$47,4,FALSE),IF(A11=2024,VLOOKUP(D11,'Intervenants et coûts-j'!$C$17:$P$47,5,FALSE),IF(A11=2025,VLOOKUP(D11,'Intervenants et coûts-j'!$C$17:$P$47,6,FALSE),IF(A11=2026,VLOOKUP(D11,'Intervenants et coûts-j'!$C$17:$P$47,7,FALSE),IF(A11=2027,VLOOKUP(D11,'Intervenants et coûts-j'!$C$17:$P$47,8,FALSE))))))))","v":""},{"$f":"IF(D11=\"\",\"\",IF(A11=2022,VLOOKUP(D11,'Intervenants et coûts-j'!$C$17:$P$47,9,FALSE),IF(A11=2023,VLOOKUP(D11,'Intervenants et coûts-j'!$C$17:$P$47,10,FALSE),IF(A11=2024,VLOOKUP(D11,'Intervenants et coûts-j'!$C$17:$P$47,11,FALSE),IF(A11=2025,VLOOKUP(D11,'Intervenants et coûts-j'!$C$17:$P$47,12,FALSE),IF(A11=2026,VLOOKUP(D11,'Intervenants et coûts-j'!$C$17:$P$47,13,FALSE),IF(A11=2027,VLOOKUP(D11,'Intervenants et coûts-j'!$C$17:$P$47,14,FALSE))))))))","v":""},"",{"$f":"IF(E11=\"\",\"\",VLOOKUP(C11,'Coûts-indirects'!$A$4:$K$33,11,FALSE)*E11)","v":""},{"$f":"IF(D11=\"\",\"\",VLOOKUP(D11,'Frais-mission'!$B$3:$E$32,3,FALSE)*G11)","v":""},{"$f":"IF(D11=\"\",\"\",VLOOKUP(D11,'Frais-mission'!$B$3:$E$32,4,FALSE)*H11)","v":""},"","",{"$f":"IF(B11=\"\",\"\",IF(LEFT(B11,18)=\"Réunion collective\",350-SUMIF($B$6:B10,B11,$S$6:S10),\"\"))","v":""},"","","","","","",{"$f":"IF(D11=\"\",\"\",IF(A11=2022,VLOOKUP(D11,'Intervenants et coûts-j'!$C$17:$AF$47,19,FALSE),IF(A11=2023,VLOOKUP(D11,'Intervenants et coûts-j'!$C$17:$AF$47,20,FALSE),IF(A11=2024,VLOOKUP(D11,'Intervenants et coûts-j'!$C$17:$AF$47,21,FALSE),IF(A11=2025,VLOOKUP(D11,'Intervenants et coûts-j'!$C$17:$AF$47,22,FALSE),IF(A11=2026,VLOOKUP(D11,'Intervenants et coûts-j'!$C$17:$AF$47,23,FALSE),IF(A11=2027,VLOOKUP(D11,'Intervenants et coûts-j'!$C$17:$AF$47,24,FALSE))))))))","v":""},{"$f":"IF(D11=\"\",\"\",IF(A11=2022,VLOOKUP(D11,'Intervenants et coûts-j'!$C$17:$AF$47,25,FALSE),IF(A11=2023,VLOOKUP(D11,'Intervenants et coûts-j'!$C$17:$AF$47,26,FALSE),IF(A11=2024,VLOOKUP(D11,'Intervenants et coûts-j'!$C$17:$AF$47,27,FALSE),IF(A11=2025,VLOOKUP(D11,'Intervenants et coûts-j'!$C$17:$AF$47,28,FALSE),IF(A11=2026,VLOOKUP(D11,'Intervenants et coûts-j'!$C$17:$AF$47,29,FALSE),IF(A11=2027,VLOOKUP(D11,'Intervenants et coûts-j'!$C$17:$AF$47,30,FALSE))))))))","v":""},"",{"$f":"IF(E11=\"\",\"\",VLOOKUP(C11,'Coûts-indirects'!$A$4:$T$33,20,FALSE)*T11)","v":""},{"$f":"IF(D11=\"\",\"\",IF(V11=\"\",0,VLOOKUP(D11,'Frais-mission'!$B$3:$F$32,5,FALSE)*V11))","v":""},{"$f":"IF(D11=\"\",\"\",IF(W11=\"\",0,VLOOKUP(D11,'Frais-mission'!$B$3:$G$32,6,FALSE)*W11))","v":""},"","",{"$f":"IF(B11=\"\",\"\",IF(LEFT(B11,18)=\"Réunion collective\",350-SUMIF($B$6:B10,B11,$AH$6:AH10),\"\"))","v":""},"","",null,null,{"$f":"\"ListeIntervenants\"&VLOOKUP(C11,'Intervenants et coûts-j'!$B$5:$C$14,2,FALSE)","v":{"$error":"#N/A"}}]
[null,null,null,null,null,null,null,null,{"$f":"IF(D12=\"\",\"\",IF(A12=2022,VLOOKUP(D12,'Intervenants et coûts-j'!$C$17:$P$47,3,FALSE),IF(A12=2023,VLOOKUP(D12,'Intervenants et coûts-j'!$C$17:$P$47,4,FALSE),IF(A12=2024,VLOOKUP(D12,'Intervenants et coûts-j'!$C$17:$P$47,5,FALSE),IF(A12=2025,VLOOKUP(D12,'Intervenants et coûts-j'!$C$17:$P$47,6,FALSE),IF(A12=2026,VLOOKUP(D12,'Intervenants et coûts-j'!$C$17:$P$47,7,FALSE),IF(A12=2027,VLOOKUP(D12,'Intervenants et coûts-j'!$C$17:$P$47,8,FALSE))))))))","v":""},{"$f":"IF(D12=\"\",\"\",IF(A12=2022,VLOOKUP(D12,'Intervenants et coûts-j'!$C$17:$P$47,9,FALSE),IF(A12=2023,VLOOKUP(D12,'Intervenants et coûts-j'!$C$17:$P$47,10,FALSE),IF(A12=2024,VLOOKUP(D12,'Intervenants et coûts-j'!$C$17:$P$47,11,FALSE),IF(A12=2025,VLOOKUP(D12,'Intervenants et coûts-j'!$C$17:$P$47,12,FALSE),IF(A12=2026,VLOOKUP(D12,'Intervenants et coûts-j'!$C$17:$P$47,13,FALSE),IF(A12=2027,VLOOKUP(D12,'Intervenants et coûts-j'!$C$17:$P$47,14,FALSE))))))))","v":""},"",{"$f":"IF(E12=\"\",\"\",VLOOKUP(C12,'Coûts-indirects'!$A$4:$K$33,11,FALSE)*E12)","v":""},{"$f":"IF(D12=\"\",\"\",VLOOKUP(D12,'Frais-mission'!$B$3:$E$32,3,FALSE)*G12)","v":""},{"$f":"IF(D12=\"\",\"\",VLOOKUP(D12,'Frais-mission'!$B$3:$E$32,4,FALSE)*H12)","v":""},"","",{"$f":"IF(B12=\"\",\"\",IF(LEFT(B12,18)=\"Réunion collective\",350-SUMIF($B$6:B11,B12,$S$6:S11),\"\"))","v":""},"","","","","","",{"$f":"IF(D12=\"\",\"\",IF(A12=2022,VLOOKUP(D12,'Intervenants et coûts-j'!$C$17:$AF$47,19,FALSE),IF(A12=2023,VLOOKUP(D12,'Intervenants et coûts-j'!$C$17:$AF$47,20,FALSE),IF(A12=2024,VLOOKUP(D12,'Intervenants et coûts-j'!$C$17:$AF$47,21,FALSE),IF(A12=2025,VLOOKUP(D12,'Intervenants et coûts-j'!$C$17:$AF$47,22,FALSE),IF(A12=2026,VLOOKUP(D12,'Intervenants et coûts-j'!$C$17:$AF$47,23,FALSE),IF(A12=2027,VLOOKUP(D12,'Intervenants et coûts-j'!$C$17:$AF$47,24,FALSE))))))))","v":""},{"$f":"IF(D12=\"\",\"\",IF(A12=2022,VLOOKUP(D12,'Intervenants et coûts-j'!$C$17:$AF$47,25,FALSE),IF(A12=2023,VLOOKUP(D12,'Intervenants et coûts-j'!$C$17:$AF$47,26,FALSE),IF(A12=2024,VLOOKUP(D12,'Intervenants et coûts-j'!$C$17:$AF$47,27,FALSE),IF(A12=2025,VLOOKUP(D12,'Intervenants et coûts-j'!$C$17:$AF$47,28,FALSE),IF(A12=2026,VLOOKUP(D12,'Intervenants et coûts-j'!$C$17:$AF$47,29,FALSE),IF(A12=2027,VLOOKUP(D12,'Intervenants et coûts-j'!$C$17:$AF$47,30,FALSE))))))))","v":""},"",{"$f":"IF(E12=\"\",\"\",VLOOKUP(C12,'Coûts-indirects'!$A$4:$T$33,20,FALSE)*T12)","v":""},{"$f":"IF(D12=\"\",\"\",IF(V12=\"\",0,VLOOKUP(D12,'Frais-mission'!$B$3:$F$32,5,FALSE)*V12))","v":""},{"$f":"IF(D12=\"\",\"\",IF(W12=\"\",0,VLOOKUP(D12,'Frais-mission'!$B$3:$G$32,6,FALSE)*W12))","v":""},"","",{"$f":"IF(B12=\"\",\"\",IF(LEFT(B12,18)=\"Réunion collective\",350-SUMIF($B$6:B11,B12,$AH$6:AH11),\"\"))","v":""},"","",null,null,{"$f":"\"ListeIntervenants\"&VLOOKUP(C12,'Intervenants et coûts-j'!$B$5:$C$14,2,FALSE)","v":{"$error":"#N/A"}}]
[null,null,null,null,null,null,null,null,{"$f":"IF(D13=\"\",\"\",IF(A13=2022,VLOOKUP(D13,'Intervenants et coûts-j'!$C$17:$P$47,3,FALSE),IF(A13=2023,VLOOKUP(D13,'Intervenants et coûts-j'!$C$17:$P$47,4,FALSE),IF(A13=2024,VLOOKUP(D13,'Intervenants et coûts-j'!$C$17:$P$47,5,FALSE),IF(A13=2025,VLOOKUP(D13,'Intervenants et coûts-j'!$C$17:$P$47,6,FALSE),IF(A13=2026,VLOOKUP(D13,'Intervenants et coûts-j'!$C$17:$P$47,7,FALSE),IF(A13=2027,VLOOKUP(D13,'Intervenants et coûts-j'!$C$17:$P$47,8,FALSE))))))))","v":""},{"$f":"IF(D13=\"\",\"\",IF(A13=2022,VLOOKUP(D13,'Intervenants et coûts-j'!$C$17:$P$47,9,FALSE),IF(A13=2023,VLOOKUP(D13,'Intervenants et coûts-j'!$C$17:$P$47,10,FALSE),IF(A13=2024,VLOOKUP(D13,'Intervenants et coûts-j'!$C$17:$P$47,11,FALSE),IF(A13=2025,VLOOKUP(D13,'Intervenants et coûts-j'!$C$17:$P$47,12,FALSE),IF(A13=2026,VLOOKUP(D13,'Intervenants et coûts-j'!$C$17:$P$47,13,FALSE),IF(A13=2027,VLOOKUP(D13,'Intervenants et coûts-j'!$C$17:$P$47,14,FALSE))))))))","v":""},"",{"$f":"IF(E13=\"\",\"\",VLOOKUP(C13,'Coûts-indirects'!$A$4:$K$33,11,FALSE)*E13)","v":""},{"$f":"IF(D13=\"\",\"\",VLOOKUP(D13,'Frais-mission'!$B$3:$E$32,3,FALSE)*G13)","v":""},{"$f":"IF(D13=\"\",\"\",VLOOKUP(D13,'Frais-mission'!$B$3:$E$32,4,FALSE)*H13)","v":""},"","",{"$f":"IF(B13=\"\",\"\",IF(LEFT(B13,18)=\"Réunion collective\",350-SUMIF($B$6:B12,B13,$S$6:S12),\"\"))","v":""},"","","","","","",{"$f":"IF(D13=\"\",\"\",IF(A13=2022,VLOOKUP(D13,'Intervenants et coûts-j'!$C$17:$AF$47,19,FALSE),IF(A13=2023,VLOOKUP(D13,'Intervenants et coûts-j'!$C$17:$AF$47,20,FALSE),IF(A13=2024,VLOOKUP(D13,'Intervenants et coûts-j'!$C$17:$AF$47,21,FALSE),IF(A13=2025,VLOOKUP(D13,'Intervenants et coûts-j'!$C$17:$AF$47,22,FALSE),IF(A13=2026,VLOOKUP(D13,'Intervenants et coûts-j'!$C$17:$AF$47,23,FALSE),IF(A13=2027,VLOOKUP(D13,'Intervenants et coûts-j'!$C$17:$AF$47,24,FALSE))))))))","v":""},{"$f":"IF(D13=\"\",\"\",IF(A13=2022,VLOOKUP(D13,'Intervenants et coûts-j'!$C$17:$AF$47,25,FALSE),IF(A13=2023,VLOOKUP(D13,'Intervenants et coûts-j'!$C$17:$AF$47,26,FALSE),IF(A13=2024,VLOOKUP(D13,'Intervenants et coûts-j'!$C$17:$AF$47,27,FALSE),IF(A13=2025,VLOOKUP(D13,'Intervenants et coûts-j'!$C$17:$AF$47,28,FALSE),IF(A13=2026,VLOOKUP(D13,'Intervenants et coûts-j'!$C$17:$AF$47,29,FALSE),IF(A13=2027,VLOOKUP(D13,'Intervenants et coûts-j'!$C$17:$AF$47,30,FALSE))))))))","v":""},"",{"$f":"IF(E13=\"\",\"\",VLOOKUP(C13,'Coûts-indirects'!$A$4:$T$33,20,FALSE)*T13)","v":""},{"$f":"IF(D13=\"\",\"\",IF(V13=\"\",0,VLOOKUP(D13,'Frais-mission'!$B$3:$F$32,5,FALSE)*V13))","v":""},{"$f":"IF(D13=\"\",\"\",IF(W13=\"\",0,VLOOKUP(D13,'Frais-mission'!$B$3:$G$32,6,FALSE)*W13))","v":""},"","",{"$f":"IF(B13=\"\",\"\",IF(LEFT(B13,18)=\"Réunion collective\",350-SUMIF($B$6:B12,B13,$AH$6:AH12),\"\"))","v":""},"","",null,null,{"$f":"\"ListeIntervenants\"&VLOOKUP(C13,'Intervenants et coûts-j'!$B$5:$C$14,2,FALSE)","v":{"$error":"#N/A"}}]
[null,null,null,null,null,null,null,null,{"$f":"IF(D14=\"\",\"\",IF(A14=2022,VLOOKUP(D14,'Intervenants et coûts-j'!$C$17:$P$47,3,FALSE),IF(A14=2023,VLOOKUP(D14,'Intervenants et coûts-j'!$C$17:$P$47,4,FALSE),IF(A14=2024,VLOOKUP(D14,'Intervenants et coûts-j'!$C$17:$P$47,5,FALSE),IF(A14=2025,VLOOKUP(D14,'Intervenants et coûts-j'!$C$17:$P$47,6,FALSE),IF(A14=2026,VLOOKUP(D14,'Intervenants et coûts-j'!$C$17:$P$47,7,FALSE),IF(A14=2027,VLOOKUP(D14,'Intervenants et coûts-j'!$C$17:$P$47,8,FALSE))))))))","v":""},{"$f":"IF(D14=\"\",\"\",IF(A14=2022,VLOOKUP(D14,'Intervenants et coûts-j'!$C$17:$P$47,9,FALSE),IF(A14=2023,VLOOKUP(D14,'Intervenants et coûts-j'!$C$17:$P$47,10,FALSE),IF(A14=2024,VLOOKUP(D14,'Intervenants et coûts-j'!$C$17:$P$47,11,FALSE),IF(A14=2025,VLOOKUP(D14,'Intervenants et coûts-j'!$C$17:$P$47,12,FALSE),IF(A14=2026,VLOOKUP(D14,'Intervenants et coûts-j'!$C$17:$P$47,13,FALSE),IF(A14=2027,VLOOKUP(D14,'Intervenants et coûts-j'!$C$17:$P$47,14,FALSE))))))))","v":""},"",{"$f":"IF(E14=\"\",\"\",VLOOKUP(C14,'Coûts-indirects'!$A$4:$K$33,11,FALSE)*E14)","v":""},{"$f":"IF(D14=\"\",\"\",VLOOKUP(D14,'Frais-mission'!$B$3:$E$32,3,FALSE)*G14)","v":""},{"$f":"IF(D14=\"\",\"\",VLOOKUP(D14,'Frais-mission'!$B$3:$E$32,4,FALSE)*H14)","v":""},"","",{"$f":"IF(B14=\"\",\"\",IF(LEFT(B14,18)=\"Réunion collective\",350-SUMIF($B$6:B13,B14,$S$6:S13),\"\"))","v":""},"","","","","","",{"$f":"IF(D14=\"\",\"\",IF(A14=2022,VLOOKUP(D14,'Intervenants et coûts-j'!$C$17:$AF$47,19,FALSE),IF(A14=2023,VLOOKUP(D14,'Intervenants et coûts-j'!$C$17:$AF$47,20,FALSE),IF(A14=2024,VLOOKUP(D14,'Intervenants et coûts-j'!$C$17:$AF$47,21,FALSE),IF(A14=2025,VLOOKUP(D14,'Intervenants et coûts-j'!$C$17:$AF$47,22,FALSE),IF(A14=2026,VLOOKUP(D14,'Intervenants et coûts-j'!$C$17:$AF$47,23,FALSE),IF(A14=2027,VLOOKUP(D14,'Intervenants et coûts-j'!$C$17:$AF$47,24,FALSE))))))))","v":""},{"$f":"IF(D14=\"\",\"\",IF(A14=2022,VLOOKUP(D14,'Intervenants et coûts-j'!$C$17:$AF$47,25,FALSE),IF(A14=2023,VLOOKUP(D14,'Intervenants et coûts-j'!$C$17:$AF$47,26,FALSE),IF(A14=2024,VLOOKUP(D14,'Intervenants et coûts-j'!$C$17:$AF$47,27,FALSE),IF(A14=2025,VLOOKUP(D14,'Intervenants et coûts-j'!$C$17:$AF$47,28,FALSE),IF(A14=2026,VLOOKUP(D14,'Intervenants et coûts-j'!$C$17:$AF$47,29,FALSE),IF(A14=2027,VLOOKUP(D14,'Intervenants et coûts-j'!$C$17:$AF$47,30,FALSE))))))))","v":""},"",{"$f":"IF(E14=\"\",\"\",VLOOKUP(C14,'Coûts-indirects'!$A$4:$T$33,20,FALSE)*T14)","v":""},{"$f":"IF(D14=\"\",\"\",IF(V14=\"\",0,VLOOKUP(D14,'Frais-mission'!$B$3:$F$32,5,FALSE)*V14))","v":""},{"$f":"IF(D14=\"\",\"\",IF(W14=\"\",0,VLOOKUP(D14,'Frais-mission'!$B$3:$G$32,6,FALSE)*W14))","v":""},"","",{"$f":"IF(B14=\"\",\"\",IF(LEFT(B14,18)=\"Réunion collective\",350-SUMIF($B$6:B13,B14,$AH$6:AH13),\"\"))","v":""},"","",null,null,{"$f":"\"ListeIntervenants\"&VLOOKUP(C14,'Intervenants et coûts-j'!$B$5:$C$14,2,FALSE)","v":{"$error":"#N/A"}}]
[null,null,null,null,null,null,null,null,{"$f":"IF(D15=\"\",\"\",IF(A15=2022,VLOOKUP(D15,'Intervenants et coûts-j'!$C$17:$P$47,3,FALSE),IF(A15=2023,VLOOKUP(D15,'Intervenants et coûts-j'!$C$17:$P$47,4,FALSE),IF(A15=2024,VLOOKUP(D15,'Intervenants et coûts-j'!$C$17:$P$47,5,FALSE),IF(A15=2025,VLOOKUP(D15,'Intervenants et coûts-j'!$C$17:$P$47,6,FALSE),IF(A15=2026,VLOOKUP(D15,'Intervenants et coûts-j'!$C$17:$P$47,7,FALSE),IF(A15=2027,VLOOKUP(D15,'Intervenants et coûts-j'!$C$17:$P$47,8,FALSE))))))))","v":""},{"$f":"IF(D15=\"\",\"\",IF(A15=2022,VLOOKUP(D15,'Intervenants et coûts-j'!$C$17:$P$47,9,FALSE),IF(A15=2023,VLOOKUP(D15,'Intervenants et coûts-j'!$C$17:$P$47,10,FALSE),IF(A15=2024,VLOOKUP(D15,'Intervenants et coûts-j'!$C$17:$P$47,11,FALSE),IF(A15=2025,VLOOKUP(D15,'Intervenants et coûts-j'!$C$17:$P$47,12,FALSE),IF(A15=2026,VLOOKUP(D15,'Intervenants et coûts-j'!$C$17:$P$47,13,FALSE),IF(A15=2027,VLOOKUP(D15,'Intervenants et coûts-j'!$C$17:$P$47,14,FALSE))))))))","v":""},{"$f":"IF(E15=\"\",\"\",J15*E15)","v":""},{"$f":"IF(E15=\"\",\"\",VLOOKUP(C15,'Coûts-indirects'!$A$4:$K$33,11,FALSE)*E15)","v":""},{"$f":"IF(D15=\"\",\"\",VLOOKUP(D15,'Frais-mission'!$B$3:$E$32,3,FALSE)*G15)","v":""},{"$f":"IF(D15=\"\",\"\",VLOOKUP(D15,'Frais-mission'!$B$3:$E$32,4,FALSE)*H15)","v":""},"","",{"$f":"IF(B15=\"\",\"\",IF(LEFT(B15,18)=\"Réunion collective\",350-SUMIF($B$6:B14,B15,$S$6:S14),\"\"))","v":""},"","",{"$f":"IF(E15=\"\",\"\",E15)","v":""},"","","",{"$f":"IF(D15=\"\",\"\",IF(A15=2022,VLOOKUP(D15,'Intervenants et coûts-j'!$C$17:$AF$47,19,FALSE),IF(A15=2023,VLOOKUP(D15,'Intervenants et coûts-j'!$C$17:$AF$47,20,FALSE),IF(A15=2024,VLOOKUP(D15,'Intervenants et coûts-j'!$C$17:$AF$47,21,FALSE),IF(A15=2025,VLOOKUP(D15,'Intervenants et coûts-j'!$C$17:$AF$47,22,FALSE),IF(A15=2026,VLOOKUP(D15,'Intervenants et coûts-j'!$C$17:$AF$47,23,FALSE),IF(A15=2027,VLOOKUP(D15,'Intervenants et coûts-j'!$C$17:$AF$47,24,FALSE))))))))","v":""},{"$f":"IF(D15=\"\",\"\",IF(A15=2022,VLOOKUP(D15,'Intervenants et coûts-j'!$C$17:$AF$47,25,FALSE),IF(A15=2023,VLOOKUP(D15,'Intervenants et coûts-j'!$C$17:$AF$47,26,FALSE),IF(A15=2024,VLOOKUP(D15,'Intervenants et coûts-j'!$C$17:$AF$47,27,FALSE),IF(A15=2025,VLOOKUP(D15,'Intervenants et coûts-j'!$C$17:$AF$47,28,FALSE),IF(A15=2026,VLOOKUP(D15,'Intervenants et coûts-j'!$C$17:$AF$47,29,FALSE),IF(A15=2027,VLOOKUP(D15,'Intervenants et coûts-j'!$C$17:$AF$47,30,FALSE))))))))","v":""},"",{"$f":"IF(E15=\"\",\"\",VLOOKUP(C15,'Coûts-indirects'!$A$4:$T$33,20,FALSE)*T15)","v":""},{"$f":"IF(D15=\"\",\"\",IF(V15=\"\",0,VLOOKUP(D15,'Frais-mission'!$B$3:$F$32,5,FALSE)*V15))","v":""},{"$f":"IF(D15=\"\",\"\",IF(W15=\"\",0,VLOOKUP(D15,'Frais-mission'!$B$3:$G$32,6,FALSE)*W15))","v":""},"","",{"$f":"IF(B15=\"\",\"\",IF(LEFT(B15,18)=\"Réunion collective\",350-SUMIF($B$6:B14,B15,$AH$6:AH14),\"\"))","v":""},"","",null,null,{"$f":"\"ListeIntervenants\"&VLOOKUP(C15,'Intervenants et coûts-j'!$B$5:$C$14,2,FALSE)","v":{"$error":"#N/A"}}]
[null,null,null,null,null,null,null,null,{"$f":"IF(D16=\"\",\"\",IF(A16=2022,VLOOKUP(D16,'Intervenants et coûts-j'!$C$17:$P$47,3,FALSE),IF(A16=2023,VLOOKUP(D16,'Intervenants et coûts-j'!$C$17:$P$47,4,FALSE),IF(A16=2024,VLOOKUP(D16,'Intervenants et coûts-j'!$C$17:$P$47,5,FALSE),IF(A16=2025,VLOOKUP(D16,'Intervenants et coûts-j'!$C$17:$P$47,6,FALSE),IF(A16=2026,VLOOKUP(D16,'Intervenants et coûts-j'!$C$17:$P$47,7,FALSE),IF(A16=2027,VLOOKUP(D16,'Intervenants et coûts-j'!$C$17:$P$47,8,FALSE))))))))","v":""},{"$f":"IF(D16=\"\",\"\",IF(A16=2022,VLOOKUP(D16,'Intervenants et coûts-j'!$C$17:$P$47,9,FALSE),IF(A16=2023,VLOOKUP(D16,'Intervenants et coûts-j'!$C$17:$P$47,10,FALSE),IF(A16=2024,VLOOKUP(D16,'Intervenants et coûts-j'!$C$17:$P$47,11,FALSE),IF(A16=2025,VLOOKUP(D16,'Intervenants et coûts-j'!$C$17:$P$47,12,FALSE),IF(A16=2026,VLOOKUP(D16,'Intervenants et coûts-j'!$C$17:$P$47,13,FALSE),IF(A16=2027,VLOOKUP(D16,'Intervenants et coûts-j'!$C$17:$P$47,14,FALSE))))))))","v":""},"",{"$f":"IF(E16=\"\",\"\",VLOOKUP(C16,'Coûts-indirects'!$A$4:$K$33,11,FALSE)*E16)","v":""},{"$f":"IF(D16=\"\",\"\",VLOOKUP(D16,'Frais-mission'!$B$3:$E$32,3,FALSE)*G16)","v":""},{"$f":"IF(D16=\"\",\"\",VLOOKUP(D16,'Frais-mission'!$B$3:$E$32,4,FALSE)*H16)","v":""},"","",{"$f":"IF(B16=\"\",\"\",IF(LEFT(B16,18)=\"Réunion collective\",350-SUMIF($B$6:B15,B16,$S$6:S15),\"\"))","v":""},"","","","","","",{"$f":"IF(D16=\"\",\"\",IF(A16=2022,VLOOKUP(D16,'Intervenants et coûts-j'!$C$17:$AF$47,19,FALSE),IF(A16=2023,VLOOKUP(D16,'Intervenants et coûts-j'!$C$17:$AF$47,20,FALSE),IF(A16=2024,VLOOKUP(D16,'Intervenants et coûts-j'!$C$17:$AF$47,21,FALSE),IF(A16=2025,VLOOKUP(D16,'Intervenants et coûts-j'!$C$17:$AF$47,22,FALSE),IF(A16=2026,VLOOKUP(D16,'Intervenants et coûts-j'!$C$17:$AF$47,23,FALSE),IF(A16=2027,VLOOKUP(D16,'Intervenants et coûts-j'!$C$17:$AF$47,24,FALSE))))))))","v":""},{"$f":"IF(D16=\"\",\"\",IF(A16=2022,VLOOKUP(D16,'Intervenants et coûts-j'!$C$17:$AF$47,25,FALSE),IF(A16=2023,VLOOKUP(D16,'Intervenants et coûts-j'!$C$17:$AF$47,26,FALSE),IF(A16=2024,VLOOKUP(D16,'Intervenants et coûts-j'!$C$17:$AF$47,27,FALSE),IF(A16=2025,VLOOKUP(D16,'Intervenants et coûts-j'!$C$17:$AF$47,28,FALSE),IF(A16=2026,VLOOKUP(D16,'Intervenants et coûts-j'!$C$17:$AF$47,29,FALSE),IF(A16=2027,VLOOKUP(D16,'Intervenants et coûts-j'!$C$17:$AF$47,30,FALSE))))))))","v":""},"",{"$f":"IF(E16=\"\",\"\",VLOOKUP(C16,'Coûts-indirects'!$A$4:$T$33,20,FALSE)*T16)","v":""},{"$f":"IF(D16=\"\",\"\",IF(V16=\"\",0,VLOOKUP(D16,'Frais-mission'!$B$3:$F$32,5,FALSE)*V16))","v":""},{"$f":"IF(D16=\"\",\"\",IF(W16=\"\",0,VLOOKUP(D16,'Frais-mission'!$B$3:$G$32,6,FALSE)*W16))","v":""},"","",{"$f":"IF(B16=\"\",\"\",IF(LEFT(B16,18)=\"Réunion collective\",350-SUMIF($B$6:B15,B16,$AH$6:AH15),\"\"))","v":""},"","",null,null,{"$f":"\"ListeIntervenants\"&VLOOKUP(C16,'Intervenants et coûts-j'!$B$5:$C$14,2,FALSE)","v":{"$error":"#N/A"}}]
[null,null,null,null,null,null,null,null,{"$f":"IF(D17=\"\",\"\",IF(A17=2022,VLOOKUP(D17,'Intervenants et coûts-j'!$C$17:$P$47,3,FALSE),IF(A17=2023,VLOOKUP(D17,'Intervenants et coûts-j'!$C$17:$P$47,4,FALSE),IF(A17=2024,VLOOKUP(D17,'Intervenants et coûts-j'!$C$17:$P$47,5,FALSE),IF(A17=2025,VLOOKUP(D17,'Intervenants et coûts-j'!$C$17:$P$47,6,FALSE),IF(A17=2026,VLOOKUP(D17,'Intervenants et coûts-j'!$C$17:$P$47,7,FALSE),IF(A17=2027,VLOOKUP(D17,'Intervenants et coûts-j'!$C$17:$P$47,8,FALSE))))))))","v":""},{"$f":"IF(D17=\"\",\"\",IF(A17=2022,VLOOKUP(D17,'Intervenants et coûts-j'!$C$17:$P$47,9,FALSE),IF(A17=2023,VLOOKUP(D17,'Intervenants et coûts-j'!$C$17:$P$47,10,FALSE),IF(A17=2024,VLOOKUP(D17,'Intervenants et coûts-j'!$C$17:$P$47,11,FALSE),IF(A17=2025,VLOOKUP(D17,'Intervenants et coûts-j'!$C$17:$P$47,12,FALSE),IF(A17=2026,VLOOKUP(D17,'Intervenants et coûts-j'!$C$17:$P$47,13,FALSE),IF(A17=2027,VLOOKUP(D17,'Intervenants et coûts-j'!$C$17:$P$47,14,FALSE))))))))","v":""},"",{"$f":"IF(E17=\"\",\"\",VLOOKUP(C17,'Coûts-indirects'!$A$4:$K$33,11,FALSE)*E17)","v":""},{"$f":"IF(D17=\"\",\"\",VLOOKUP(D17,'Frais-mission'!$B$3:$E$32,3,FALSE)*G17)","v":""},{"$f":"IF(D17=\"\",\"\",VLOOKUP(D17,'Frais-mission'!$B$3:$E$32,4,FALSE)*H17)","v":""},"","",{"$f":"IF(B17=\"\",\"\",IF(LEFT(B17,18)=\"Réunion collective\",350-SUMIF($B$6:B16,B17,$S$6:S16),\"\"))","v":""},"","","","","","",{"$f":"IF(D17=\"\",\"\",IF(A17=2022,VLOOKUP(D17,'Intervenants et coûts-j'!$C$17:$AF$47,19,FALSE),IF(A17=2023,VLOOKUP(D17,'Intervenants et coûts-j'!$C$17:$AF$47,20,FALSE),IF(A17=2024,VLOOKUP(D17,'Intervenants et coûts-j'!$C$17:$AF$47,21,FALSE),IF(A17=2025,VLOOKUP(D17,'Intervenants et coûts-j'!$C$17:$AF$47,22,FALSE),IF(A17=2026,VLOOKUP(D17,'Intervenants et coûts-j'!$C$17:$AF$47,23,FALSE),IF(A17=2027,VLOOKUP(D17,'Intervenants et coûts-j'!$C$17:$AF$47,24,FALSE))))))))","v":""},{"$f":"IF(D17=\"\",\"\",IF(A17=2022,VLOOKUP(D17,'Intervenants et coûts-j'!$C$17:$AF$47,25,FALSE),IF(A17=2023,VLOOKUP(D17,'Intervenants et coûts-j'!$C$17:$AF$47,26,FALSE),IF(A17=2024,VLOOKUP(D17,'Intervenants et coûts-j'!$C$17:$AF$47,27,FALSE),IF(A17=2025,VLOOKUP(D17,'Intervenants et coûts-j'!$C$17:$AF$47,28,FALSE),IF(A17=2026,VLOOKUP(D17,'Intervenants et coûts-j'!$C$17:$AF$47,29,FALSE),IF(A17=2027,VLOOKUP(D17,'Intervenants et coûts-j'!$C$17:$AF$47,30,FALSE))))))))","v":""},"",{"$f":"IF(E17=\"\",\"\",VLOOKUP(C17,'Coûts-indirects'!$A$4:$T$33,20,FALSE)*T17)","v":""},{"$f":"IF(D17=\"\",\"\",IF(V17=\"\",0,VLOOKUP(D17,'Frais-mission'!$B$3:$F$32,5,FALSE)*V17))","v":""},{"$f":"IF(D17=\"\",\"\",IF(W17=\"\",0,VLOOKUP(D17,'Frais-mission'!$B$3:$G$32,6,FALSE)*W17))","v":""},"","",{"$f":"IF(B17=\"\",\"\",IF(LEFT(B17,18)=\"Réunion collective\",350-SUMIF($B$6:B16,B17,$AH$6:AH16),\"\"))","v":""},"","",null,null,{"$f":"\"ListeIntervenants\"&VLOOKUP(C17,'Intervenants et coûts-j'!$B$5:$C$14,2,FALSE)","v":{"$error":"#N/A"}}]
[null,null,null,null,null,null,null,null,{"$f":"IF(D18=\"\",\"\",IF(A18=2022,VLOOKUP(D18,'Intervenants et coûts-j'!$C$17:$P$47,3,FALSE),IF(A18=2023,VLOOKUP(D18,'Intervenants et coûts-j'!$C$17:$P$47,4,FALSE),IF(A18=2024,VLOOKUP(D18,'Intervenants et coûts-j'!$C$17:$P$47,5,FALSE),IF(A18=2025,VLOOKUP(D18,'Intervenants et coûts-j'!$C$17:$P$47,6,FALSE),IF(A18=2026,VLOOKUP(D18,'Intervenants et coûts-j'!$C$17:$P$47,7,FALSE),IF(A18=2027,VLOOKUP(D18,'Intervenants et coûts-j'!$C$17:$P$47,8,FALSE))))))))","v":""},{"$f":"IF(D18=\"\",\"\",IF(A18=2022,VLOOKUP(D18,'Intervenants et coûts-j'!$C$17:$P$47,9,FALSE),IF(A18=2023,VLOOKUP(D18,'Intervenants et coûts-j'!$C$17:$P$47,10,FALSE),IF(A18=2024,VLOOKUP(D18,'Intervenants et coûts-j'!$C$17:$P$47,11,FALSE),IF(A18=2025,VLOOKUP(D18,'Intervenants et coûts-j'!$C$17:$P$47,12,FALSE),IF(A18=2026,VLOOKUP(D18,'Intervenants et coûts-j'!$C$17:$P$47,13,FALSE),IF(A18=2027,VLOOKUP(D18,'Intervenants et coûts-j'!$C$17:$P$47,14,FALSE))))))))","v":""},"",{"$f":"IF(E18=\"\",\"\",VLOOKUP(C18,'Coûts-indirects'!$A$4:$K$33,11,FALSE)*E18)","v":""},{"$f":"IF(D18=\"\",\"\",VLOOKUP(D18,'Frais-mission'!$B$3:$E$32,3,FALSE)*G18)","v":""},{"$f":"IF(D18=\"\",\"\",VLOOKUP(D18,'Frais-mission'!$B$3:$E$32,4,FALSE)*H18)","v":""},"","",{"$f":"IF(B18=\"\",\"\",IF(LEFT(B18,18)=\"Réunion collective\",350-SUMIF($B$6:B17,B18,$S$6:S17),\"\"))","v":""},"","","","","","",{"$f":"IF(D18=\"\",\"\",IF(A18=2022,VLOOKUP(D18,'Intervenants et coûts-j'!$C$17:$AF$47,19,FALSE),IF(A18=2023,VLOOKUP(D18,'Intervenants et coûts-j'!$C$17:$AF$47,20,FALSE),IF(A18=2024,VLOOKUP(D18,'Intervenants et coûts-j'!$C$17:$AF$47,21,FALSE),IF(A18=2025,VLOOKUP(D18,'Intervenants et coûts-j'!$C$17:$AF$47,22,FALSE),IF(A18=2026,VLOOKUP(D18,'Intervenants et coûts-j'!$C$17:$AF$47,23,FALSE),IF(A18=2027,VLOOKUP(D18,'Intervenants et coûts-j'!$C$17:$AF$47,24,FALSE))))))))","v":""},{"$f":"IF(D18=\"\",\"\",IF(A18=2022,VLOOKUP(D18,'Intervenants et coûts-j'!$C$17:$AF$47,25,FALSE),IF(A18=2023,VLOOKUP(D18,'Intervenants et coûts-j'!$C$17:$AF$47,26,FALSE),IF(A18=2024,VLOOKUP(D18,'Intervenants et coûts-j'!$C$17:$AF$47,27,FALSE),IF(A18=2025,VLOOKUP(D18,'Intervenants et coûts-j'!$C$17:$AF$47,28,FALSE),IF(A18=2026,VLOOKUP(D18,'Intervenants et coûts-j'!$C$17:$AF$47,29,FALSE),IF(A18=2027,VLOOKUP(D18,'Intervenants et coûts-j'!$C$17:$AF$47,30,FALSE))))))))","v":""},"",{"$f":"IF(E18=\"\",\"\",VLOOKUP(C18,'Coûts-indirects'!$A$4:$T$33,20,FALSE)*T18)","v":""},{"$f":"IF(D18=\"\",\"\",IF(V18=\"\",0,VLOOKUP(D18,'Frais-mission'!$B$3:$F$32,5,FALSE)*V18))","v":""},{"$f":"IF(D18=\"\",\"\",IF(W18=\"\",0,VLOOKUP(D18,'Frais-mission'!$B$3:$G$32,6,FALSE)*W18))","v":""},"","",{"$f":"IF(B18=\"\",\"\",IF(LEFT(B18,18)=\"Réunion collective\",350-SUMIF($B$6:B17,B18,$AH$6:AH17),\"\"))","v":""},"","",null,null,{"$f":"\"ListeIntervenants\"&VLOOKUP(C18,'Intervenants et coûts-j'!$B$5:$C$14,2,FALSE)","v":{"$error":"#N/A"}}]
[null,null,null,null,null,null,null,null,{"$f":"IF(D19=\"\",\"\",IF(A19=2022,VLOOKUP(D19,'Intervenants et coûts-j'!$C$17:$P$47,3,FALSE),IF(A19=2023,VLOOKUP(D19,'Intervenants et coûts-j'!$C$17:$P$47,4,FALSE),IF(A19=2024,VLOOKUP(D19,'Intervenants et coûts-j'!$C$17:$P$47,5,FALSE),IF(A19=2025,VLOOKUP(D19,'Intervenants et coûts-j'!$C$17:$P$47,6,FALSE),IF(A19=2026,VLOOKUP(D19,'Intervenants et coûts-j'!$C$17:$P$47,7,FALSE),IF(A19=2027,VLOOKUP(D19,'Intervenants et coûts-j'!$C$17:$P$47,8,FALSE))))))))","v":""},{"$f":"IF(D19=\"\",\"\",IF(A19=2022,VLOOKUP(D19,'Intervenants et coûts-j'!$C$17:$P$47,9,FALSE),IF(A19=2023,VLOOKUP(D19,'Intervenants et coûts-j'!$C$17:$P$47,10,FALSE),IF(A19=2024,VLOOKUP(D19,'Intervenants et coûts-j'!$C$17:$P$47,11,FALSE),IF(A19=2025,VLOOKUP(D19,'Intervenants et coûts-j'!$C$17:$P$47,12,FALSE),IF(A19=2026,VLOOKUP(D19,'Intervenants et coûts-j'!$C$17:$P$47,13,FALSE),IF(A19=2027,VLOOKUP(D19,'Intervenants et coûts-j'!$C$17:$P$47,14,FALSE))))))))","v":""},"",{"$f":"IF(E19=\"\",\"\",VLOOKUP(C19,'Coûts-indirects'!$A$4:$K$33,11,FALSE)*E19)","v":""},{"$f":"IF(D19=\"\",\"\",VLOOKUP(D19,'Frais-mission'!$B$3:$E$32,3,FALSE)*G19)","v":""},{"$f":"IF(D19=\"\",\"\",VLOOKUP(D19,'Frais-mission'!$B$3:$E$32,4,FALSE)*H19)","v":""},"","",{"$f":"IF(B19=\"\",\"\",IF(LEFT(B19,18)=\"Réunion collective\",350-SUMIF($B$6:B18,B19,$S$6:S18),\"\"))","v":""},"","","","","","",{"$f":"IF(D19=\"\",\"\",IF(A19=2022,VLOOKUP(D19,'Intervenants et coûts-j'!$C$17:$AF$47,19,FALSE),IF(A19=2023,VLOOKUP(D19,'Intervenants et coûts-j'!$C$17:$AF$47,20,FALSE),IF(A19=2024,VLOOKUP(D19,'Intervenants et coûts-j'!$C$17:$AF$47,21,FALSE),IF(A19=2025,VLOOKUP(D19,'Intervenants et coûts-j'!$C$17:$AF$47,22,FALSE),IF(A19=2026,VLOOKUP(D19,'Intervenants et coûts-j'!$C$17:$AF$47,23,FALSE),IF(A19=2027,VLOOKUP(D19,'Intervenants et coûts-j'!$C$17:$AF$47,24,FALSE))))))))","v":""},{"$f":"IF(D19=\"\",\"\",IF(A19=2022,VLOOKUP(D19,'Intervenants et coûts-j'!$C$17:$AF$47,25,FALSE),IF(A19=2023,VLOOKUP(D19,'Intervenants et coûts-j'!$C$17:$AF$47,26,FALSE),IF(A19=2024,VLOOKUP(D19,'Intervenants et coûts-j'!$C$17:$AF$47,27,FALSE),IF(A19=2025,VLOOKUP(D19,'Intervenants et coûts-j'!$C$17:$AF$47,28,FALSE),IF(A19=2026,VLOOKUP(D19,'Intervenants et coûts-j'!$C$17:$AF$47,29,FALSE),IF(A19=2027,VLOOKUP(D19,'Intervenants et coûts-j'!$C$17:$AF$47,30,FALSE))))))))","v":""},"",{"$f":"IF(E19=\"\",\"\",VLOOKUP(C19,'Coûts-indirects'!$A$4:$T$33,20,FALSE)*T19)","v":""},{"$f":"IF(D19=\"\",\"\",IF(V19=\"\",0,VLOOKUP(D19,'Frais-mission'!$B$3:$F$32,5,FALSE)*V19))","v":""},{"$f":"IF(D19=\"\",\"\",IF(W19=\"\",0,VLOOKUP(D19,'Frais-mission'!$B$3:$G$32,6,FALSE)*W19))","v":""},"","",{"$f":"IF(B19=\"\",\"\",IF(LEFT(B19,18)=\"Réunion collective\",350-SUMIF($B$6:B18,B19,$AH$6:AH18),\"\"))","v":""},"","",null,null,{"$f":"\"ListeIntervenants\"&VLOOKUP(C19,'Intervenants et coûts-j'!$B$5:$C$14,2,FALSE)","v":{"$error":"#N/A"}}]
[null,null,null,null,null,null,null,null,{"$f":"IF(D20=\"\",\"\",IF(A20=2022,VLOOKUP(D20,'Intervenants et coûts-j'!$C$17:$P$47,3,FALSE),IF(A20=2023,VLOOKUP(D20,'Intervenants et coûts-j'!$C$17:$P$47,4,FALSE),IF(A20=2024,VLOOKUP(D20,'Intervenants et coûts-j'!$C$17:$P$47,5,FALSE),IF(A20=2025,VLOOKUP(D20,'Intervenants et coûts-j'!$C$17:$P$47,6,FALSE),IF(A20=2026,VLOOKUP(D20,'Intervenants et coûts-j'!$C$17:$P$47,7,FALSE),IF(A20=2027,VLOOKUP(D20,'Intervenants et coûts-j'!$C$17:$P$47,8,FALSE))))))))","v":""},{"$f":"IF(D20=\"\",\"\",IF(A20=2022,VLOOKUP(D20,'Intervenants et coûts-j'!$C$17:$P$47,9,FALSE),IF(A20=2023,VLOOKUP(D20,'Intervenants et coûts-j'!$C$17:$P$47,10,FALSE),IF(A20=2024,VLOOKUP(D20,'Intervenants et coûts-j'!$C$17:$P$47,11,FALSE),IF(A20=2025,VLOOKUP(D20,'Intervenants et coûts-j'!$C$17:$P$47,12,FALSE),IF(A20=2026,VLOOKUP(D20,'Intervenants et coûts-j'!$C$17:$P$47,13,FALSE),IF(A20=2027,VLOOKUP(D20,'Intervenants et coûts-j'!$C$17:$P$47,14,FALSE))))))))","v":""},"",{"$f":"IF(E20=\"\",\"\",VLOOKUP(C20,'Coûts-indirects'!$A$4:$K$33,11,FALSE)*E20)","v":""},{"$f":"IF(D20=\"\",\"\",VLOOKUP(D20,'Frais-mission'!$B$3:$E$32,3,FALSE)*G20)","v":""},{"$f":"IF(D20=\"\",\"\",VLOOKUP(D20,'Frais-mission'!$B$3:$E$32,4,FALSE)*H20)","v":""},"","",{"$f":"IF(B20=\"\",\"\",IF(LEFT(B20,18)=\"Réunion collective\",350-SUMIF($B$6:B19,B20,$S$6:S19),\"\"))","v":""},"","","","","","",{"$f":"IF(D20=\"\",\"\",IF(A20=2022,VLOOKUP(D20,'Intervenants et coûts-j'!$C$17:$AF$47,19,FALSE),IF(A20=2023,VLOOKUP(D20,'Intervenants et coûts-j'!$C$17:$AF$47,20,FALSE),IF(A20=2024,VLOOKUP(D20,'Intervenants et coûts-j'!$C$17:$AF$47,21,FALSE),IF(A20=2025,VLOOKUP(D20,'Intervenants et coûts-j'!$C$17:$AF$47,22,FALSE),IF(A20=2026,VLOOKUP(D20,'Intervenants et coûts-j'!$C$17:$AF$47,23,FALSE),IF(A20=2027,VLOOKUP(D20,'Intervenants et coûts-j'!$C$17:$AF$47,24,FALSE))))))))","v":""},{"$f":"IF(D20=\"\",\"\",IF(A20=2022,VLOOKUP(D20,'Intervenants et coûts-j'!$C$17:$AF$47,25,FALSE),IF(A20=2023,VLOOKUP(D20,'Intervenants et coûts-j'!$C$17:$AF$47,26,FALSE),IF(A20=2024,VLOOKUP(D20,'Intervenants et coûts-j'!$C$17:$AF$47,27,FALSE),IF(A20=2025,VLOOKUP(D20,'Intervenants et coûts-j'!$C$17:$AF$47,28,FALSE),IF(A20=2026,VLOOKUP(D20,'Intervenants et coûts-j'!$C$17:$AF$47,29,FALSE),IF(A20=2027,VLOOKUP(D20,'Intervenants et coûts-j'!$C$17:$AF$47,30,FALSE))))))))","v":""},"",{"$f":"IF(E20=\"\",\"\",VLOOKUP(C20,'Coûts-indirects'!$A$4:$T$33,20,FALSE)*T20)","v":""},{"$f":"IF(D20=\"\",\"\",IF(V20=\"\",0,VLOOKUP(D20,'Frais-mission'!$B$3:$F$32,5,FALSE)*V20))","v":""},{"$f":"IF(D20=\"\",\"\",IF(W20=\"\",0,VLOOKUP(D20,'Frais-mission'!$B$3:$G$32,6,FALSE)*W20))","v":""},"","",{"$f":"IF(B20=\"\",\"\",IF(LEFT(B20,18)=\"Réunion collective\",350-SUMIF($B$6:B19,B20,$AH$6:AH19),\"\"))","v":""},"","",null,null,{"$f":"\"ListeIntervenants\"&VLOOKUP(C20,'Intervenants et coûts-j'!$B$5:$C$14,2,FALSE)","v":{"$error":"#N/A"}}]
[null,null,null,null,null,null,null,null,{"$f":"IF(D21=\"\",\"\",IF(A21=2022,VLOOKUP(D21,'Intervenants et coûts-j'!$C$17:$P$47,3,FALSE),IF(A21=2023,VLOOKUP(D21,'Intervenants et coûts-j'!$C$17:$P$47,4,FALSE),IF(A21=2024,VLOOKUP(D21,'Intervenants et coûts-j'!$C$17:$P$47,5,FALSE),IF(A21=2025,VLOOKUP(D21,'Intervenants et coûts-j'!$C$17:$P$47,6,FALSE),IF(A21=2026,VLOOKUP(D21,'Intervenants et coûts-j'!$C$17:$P$47,7,FALSE),IF(A21=2027,VLOOKUP(D21,'Intervenants et coûts-j'!$C$17:$P$47,8,FALSE))))))))","v":""},{"$f":"IF(D21=\"\",\"\",IF(A21=2022,VLOOKUP(D21,'Intervenants et coûts-j'!$C$17:$P$47,9,FALSE),IF(A21=2023,VLOOKUP(D21,'Intervenants et coûts-j'!$C$17:$P$47,10,FALSE),IF(A21=2024,VLOOKUP(D21,'Intervenants et coûts-j'!$C$17:$P$47,11,FALSE),IF(A21=2025,VLOOKUP(D21,'Intervenants et coûts-j'!$C$17:$P$47,12,FALSE),IF(A21=2026,VLOOKUP(D21,'Intervenants et coûts-j'!$C$17:$P$47,13,FALSE),IF(A21=2027,VLOOKUP(D21,'Intervenants et coûts-j'!$C$17:$P$47,14,FALSE))))))))","v":""},{"$f":"IF(E21=\"\",\"\",J21*E21)","v":""},{"$f":"IF(E21=\"\",\"\",VLOOKUP(C21,'Coûts-indirects'!$A$4:$K$33,11,FALSE)*E21)","v":""},{"$f":"IF(D21=\"\",\"\",VLOOKUP(D21,'Frais-mission'!$B$3:$E$32,3,FALSE)*G21)","v":""},{"$f":"IF(D21=\"\",\"\",VLOOKUP(D21,'Frais-mission'!$B$3:$E$32,4,FALSE)*H21)","v":""},"","",{"$f":"IF(B21=\"\",\"\",IF(LEFT(B21,18)=\"Réunion collective\",350-SUMIF($B$6:B20,B21,$S$6:S20),\"\"))","v":""},"","",{"$f":"IF(E21=\"\",\"\",E21)","v":""},"","","",{"$f":"IF(D21=\"\",\"\",IF(A21=2022,VLOOKUP(D21,'Intervenants et coûts-j'!$C$17:$AF$47,19,FALSE),IF(A21=2023,VLOOKUP(D21,'Intervenants et coûts-j'!$C$17:$AF$47,20,FALSE),IF(A21=2024,VLOOKUP(D21,'Intervenants et coûts-j'!$C$17:$AF$47,21,FALSE),IF(A21=2025,VLOOKUP(D21,'Intervenants et coûts-j'!$C$17:$AF$47,22,FALSE),IF(A21=2026,VLOOKUP(D21,'Intervenants et coûts-j'!$C$17:$AF$47,23,FALSE),IF(A21=2027,VLOOKUP(D21,'Intervenants et coûts-j'!$C$17:$AF$47,24,FALSE))))))))","v":""},{"$f":"IF(D21=\"\",\"\",IF(A21=2022,VLOOKUP(D21,'Intervenants et coûts-j'!$C$17:$AF$47,25,FALSE),IF(A21=2023,VLOOKUP(D21,'Intervenants et coûts-j'!$C$17:$AF$47,26,FALSE),IF(A21=2024,VLOOKUP(D21,'Intervenants et coûts-j'!$C$17:$AF$47,27,FALSE),IF(A21=2025,VLOOKUP(D21,'Intervenants et coûts-j'!$C$17:$AF$47,28,FALSE),IF(A21=2026,VLOOKUP(D21,'Intervenants et coûts-j'!$C$17:$AF$47,29,FALSE),IF(A21=2027,VLOOKUP(D21,'Intervenants et coûts-j'!$C$17:$AF$47,30,FALSE))))))))","v":""},"",{"$f":"IF(E21=\"\",\"\",VLOOKUP(C21,'Coûts-indirects'!$A$4:$T$33,20,FALSE)*T21)","v":""},{"$f":"IF(D21=\"\",\"\",IF(V21=\"\",0,VLOOKUP(D21,'Frais-mission'!$B$3:$F$32,5,FALSE)*V21))","v":""},{"$f":"IF(D21=\"\",\"\",IF(W21=\"\",0,VLOOKUP(D21,'Frais-mission'!$B$3:$G$32,6,FALSE)*W21))","v":""},"","",{"$f":"IF(B21=\"\",\"\",IF(LEFT(B21,18)=\"Réunion collective\",350-SUMIF($B$6:B20,B21,$AH$6:AH20),\"\"))","v":""},"","",null,null,{"$f":"\"ListeIntervenants\"&VLOOKUP(C21,'Intervenants et coûts-j'!$B$5:$C$14,2,FALSE)","v":{"$error":"#N/A"}}]
[null,null,null,null,null,null,null,null,{"$f":"IF(D22=\"\",\"\",IF(A22=2022,VLOOKUP(D22,'Intervenants et coûts-j'!$C$17:$P$47,3,FALSE),IF(A22=2023,VLOOKUP(D22,'Intervenants et coûts-j'!$C$17:$P$47,4,FALSE),IF(A22=2024,VLOOKUP(D22,'Intervenants et coûts-j'!$C$17:$P$47,5,FALSE),IF(A22=2025,VLOOKUP(D22,'Intervenants et coûts-j'!$C$17:$P$47,6,FALSE),IF(A22=2026,VLOOKUP(D22,'Intervenants et coûts-j'!$C$17:$P$47,7,FALSE),IF(A22=2027,VLOOKUP(D22,'Intervenants et coûts-j'!$C$17:$P$47,8,FALSE))))))))","v":""},{"$f":"IF(D22=\"\",\"\",IF(A22=2022,VLOOKUP(D22,'Intervenants et coûts-j'!$C$17:$P$47,9,FALSE),IF(A22=2023,VLOOKUP(D22,'Intervenants et coûts-j'!$C$17:$P$47,10,FALSE),IF(A22=2024,VLOOKUP(D22,'Intervenants et coûts-j'!$C$17:$P$47,11,FALSE),IF(A22=2025,VLOOKUP(D22,'Intervenants et coûts-j'!$C$17:$P$47,12,FALSE),IF(A22=2026,VLOOKUP(D22,'Intervenants et coûts-j'!$C$17:$P$47,13,FALSE),IF(A22=2027,VLOOKUP(D22,'Intervenants et coûts-j'!$C$17:$P$47,14,FALSE))))))))","v":""},{"$f":"IF(E22=\"\",\"\",J22*E22)","v":""},{"$f":"IF(E22=\"\",\"\",VLOOKUP(C22,'Coûts-indirects'!$A$4:$K$33,11,FALSE)*E22)","v":""},{"$f":"IF(D22=\"\",\"\",VLOOKUP(D22,'Frais-mission'!$B$3:$E$32,3,FALSE)*G22)","v":""},{"$f":"IF(D22=\"\",\"\",VLOOKUP(D22,'Frais-mission'!$B$3:$E$32,4,FALSE)*H22)","v":""},"","",{"$f":"IF(B22=\"\",\"\",IF(LEFT(B22,18)=\"Réunion collective\",350-SUMIF($B$6:B21,B22,$S$6:S21),\"\"))","v":""},"","","","","","",{"$f":"IF(D22=\"\",\"\",IF(A22=2022,VLOOKUP(D22,'Intervenants et coûts-j'!$C$17:$AF$47,19,FALSE),IF(A22=2023,VLOOKUP(D22,'Intervenants et coûts-j'!$C$17:$AF$47,20,FALSE),IF(A22=2024,VLOOKUP(D22,'Intervenants et coûts-j'!$C$17:$AF$47,21,FALSE),IF(A22=2025,VLOOKUP(D22,'Intervenants et coûts-j'!$C$17:$AF$47,22,FALSE),IF(A22=2026,VLOOKUP(D22,'Intervenants et coûts-j'!$C$17:$AF$47,23,FALSE),IF(A22=2027,VLOOKUP(D22,'Intervenants et coûts-j'!$C$17:$AF$47,24,FALSE))))))))","v":""},{"$f":"IF(D22=\"\",\"\",IF(A22=2022,VLOOKUP(D22,'Intervenants et coûts-j'!$C$17:$AF$47,25,FALSE),IF(A22=2023,VLOOKUP(D22,'Intervenants et coûts-j'!$C$17:$AF$47,26,FALSE),IF(A22=2024,VLOOKUP(D22,'Intervenants et coûts-j'!$C$17:$AF$47,27,FALSE),IF(A22=2025,VLOOKUP(D22,'Intervenants et coûts-j'!$C$17:$AF$47,28,FALSE),IF(A22=2026,VLOOKUP(D22,'Intervenants et coûts-j'!$C$17:$AF$47,29,FALSE),IF(A22=2027,VLOOKUP(D22,'Intervenants et coûts-j'!$C$17:$AF$47,30,FALSE))))))))","v":""},"",{"$f":"IF(E22=\"\",\"\",VLOOKUP(C22,'Coûts-indirects'!$A$4:$T$33,20,FALSE)*T22)","v":""},{"$f":"IF(D22=\"\",\"\",IF(V22=\"\",0,VLOOKUP(D22,'Frais-mission'!$B$3:$F$32,5,FALSE)*V22))","v":""},{"$f":"IF(D22=\"\",\"\",IF(W22=\"\",0,VLOOKUP(D22,'Frais-mission'!$B$3:$G$32,6,FALSE)*W22))","v":""},"","",{"$f":"IF(B22=\"\",\"\",IF(LEFT(B22,18)=\"Réunion collective\",350-SUMIF($B$6:B21,B22,$AH$6:AH21),\"\"))","v":""},"","",null,null,{"$f":"\"ListeIntervenants\"&VLOOKUP(C22,'Intervenants et coûts-j'!$B$5:$C$14,2,FALSE)","v":{"$error":"#N/A"}}]
[null,null,null,null,null,null,null,null,{"$f":"IF(D23=\"\",\"\",IF(A23=2022,VLOOKUP(D23,'Intervenants et coûts-j'!$C$17:$P$47,3,FALSE),IF(A23=2023,VLOOKUP(D23,'Intervenants et coûts-j'!$C$17:$P$47,4,FALSE),IF(A23=2024,VLOOKUP(D23,'Intervenants et coûts-j'!$C$17:$P$47,5,FALSE),IF(A23=2025,VLOOKUP(D23,'Intervenants et coûts-j'!$C$17:$P$47,6,FALSE),IF(A23=2026,VLOOKUP(D23,'Intervenants et coûts-j'!$C$17:$P$47,7,FALSE),IF(A23=2027,VLOOKUP(D23,'Intervenants et coûts-j'!$C$17:$P$47,8,FALSE))))))))","v":""},{"$f":"IF(D23=\"\",\"\",IF(A23=2022,VLOOKUP(D23,'Intervenants et coûts-j'!$C$17:$P$47,9,FALSE),IF(A23=2023,VLOOKUP(D23,'Intervenants et coûts-j'!$C$17:$P$47,10,FALSE),IF(A23=2024,VLOOKUP(D23,'Intervenants et coûts-j'!$C$17:$P$47,11,FALSE),IF(A23=2025,VLOOKUP(D23,'Intervenants et coûts-j'!$C$17:$P$47,12,FALSE),IF(A23=2026,VLOOKUP(D23,'Intervenants et coûts-j'!$C$17:$P$47,13,FALSE),IF(A23=2027,VLOOKUP(D23,'Intervenants et coûts-j'!$C$17:$P$47,14,FALSE))))))))","v":""},"",{"$f":"IF(E23=\"\",\"\",VLOOKUP(C23,'Coûts-indirects'!$A$4:$K$33,11,FALSE)*E23)","v":""},{"$f":"IF(D23=\"\",\"\",VLOOKUP(D23,'Frais-mission'!$B$3:$E$32,3,FALSE)*G23)","v":""},{"$f":"IF(D23=\"\",\"\",VLOOKUP(D23,'Frais-mission'!$B$3:$E$32,4,FALSE)*H23)","v":""},"","",{"$f":"IF(B23=\"\",\"\",IF(LEFT(B23,18)=\"Réunion collective\",350-SUMIF($B$6:B22,B23,$S$6:S22),\"\"))","v":""},"","","","","","",{"$f":"IF(D23=\"\",\"\",IF(A23=2022,VLOOKUP(D23,'Intervenants et coûts-j'!$C$17:$AF$47,19,FALSE),IF(A23=2023,VLOOKUP(D23,'Intervenants et coûts-j'!$C$17:$AF$47,20,FALSE),IF(A23=2024,VLOOKUP(D23,'Intervenants et coûts-j'!$C$17:$AF$47,21,FALSE),IF(A23=2025,VLOOKUP(D23,'Intervenants et coûts-j'!$C$17:$AF$47,22,FALSE),IF(A23=2026,VLOOKUP(D23,'Intervenants et coûts-j'!$C$17:$AF$47,23,FALSE),IF(A23=2027,VLOOKUP(D23,'Intervenants et coûts-j'!$C$17:$AF$47,24,FALSE))))))))","v":""},{"$f":"IF(D23=\"\",\"\",IF(A23=2022,VLOOKUP(D23,'Intervenants et coûts-j'!$C$17:$AF$47,25,FALSE),IF(A23=2023,VLOOKUP(D23,'Intervenants et coûts-j'!$C$17:$AF$47,26,FALSE),IF(A23=2024,VLOOKUP(D23,'Intervenants et coûts-j'!$C$17:$AF$47,27,FALSE),IF(A23=2025,VLOOKUP(D23,'Intervenants et coûts-j'!$C$17:$AF$47,28,FALSE),IF(A23=2026,VLOOKUP(D23,'Intervenants et coûts-j'!$C$17:$AF$47,29,FALSE),IF(A23=2027,VLOOKUP(D23,'Intervenants et coûts-j'!$C$17:$AF$47,30,FALSE))))))))","v":""},"",{"$f":"IF(E23=\"\",\"\",VLOOKUP(C23,'Coûts-indirects'!$A$4:$T$33,20,FALSE)*T23)","v":""},{"$f":"IF(D23=\"\",\"\",IF(V23=\"\",0,VLOOKUP(D23,'Frais-mission'!$B$3:$F$32,5,FALSE)*V23))","v":""},{"$f":"IF(D23=\"\",\"\",IF(W23=\"\",0,VLOOKUP(D23,'Frais-mission'!$B$3:$G$32,6,FALSE)*W23))","v":""},"","",{"$f":"IF(B23=\"\",\"\",IF(LEFT(B23,18)=\"Réunion collective\",350-SUMIF($B$6:B22,B23,$AH$6:AH22),\"\"))","v":""},"","",null,null,{"$f":"\"ListeIntervenants\"&VLOOKUP(C23,'Intervenants et coûts-j'!$B$5:$C$14,2,FALSE)","v":{"$error":"#N/A"}}]
[null,null,null,null,null,null,null,null,{"$f":"IF(D24=\"\",\"\",IF(A24=2022,VLOOKUP(D24,'Intervenants et coûts-j'!$C$17:$P$47,3,FALSE),IF(A24=2023,VLOOKUP(D24,'Intervenants et coûts-j'!$C$17:$P$47,4,FALSE),IF(A24=2024,VLOOKUP(D24,'Intervenants et coûts-j'!$C$17:$P$47,5,FALSE),IF(A24=2025,VLOOKUP(D24,'Intervenants et coûts-j'!$C$17:$P$47,6,FALSE),IF(A24=2026,VLOOKUP(D24,'Intervenants et coûts-j'!$C$17:$P$47,7,FALSE),IF(A24=2027,VLOOKUP(D24,'Intervenants et coûts-j'!$C$17:$P$47,8,FALSE))))))))","v":""},{"$f":"IF(D24=\"\",\"\",IF(A24=2022,VLOOKUP(D24,'Intervenants et coûts-j'!$C$17:$P$47,9,FALSE),IF(A24=2023,VLOOKUP(D24,'Intervenants et coûts-j'!$C$17:$P$47,10,FALSE),IF(A24=2024,VLOOKUP(D24,'Intervenants et coûts-j'!$C$17:$P$47,11,FALSE),IF(A24=2025,VLOOKUP(D24,'Intervenants et coûts-j'!$C$17:$P$47,12,FALSE),IF(A24=2026,VLOOKUP(D24,'Intervenants et coûts-j'!$C$17:$P$47,13,FALSE),IF(A24=2027,VLOOKUP(D24,'Intervenants et coûts-j'!$C$17:$P$47,14,FALSE))))))))","v":""},"",{"$f":"IF(E24=\"\",\"\",VLOOKUP(C24,'Coûts-indirects'!$A$4:$K$33,11,FALSE)*E24)","v":""},{"$f":"IF(D24=\"\",\"\",VLOOKUP(D24,'Frais-mission'!$B$3:$E$32,3,FALSE)*G24)","v":""},{"$f":"IF(D24=\"\",\"\",VLOOKUP(D24,'Frais-mission'!$B$3:$E$32,4,FALSE)*H24)","v":""},"","",{"$f":"IF(B24=\"\",\"\",IF(LEFT(B24,18)=\"Réunion collective\",350-SUMIF($B$6:B23,B24,$S$6:S23),\"\"))","v":""},"","","","","","",{"$f":"IF(D24=\"\",\"\",IF(A24=2022,VLOOKUP(D24,'Intervenants et coûts-j'!$C$17:$AF$47,19,FALSE),IF(A24=2023,VLOOKUP(D24,'Intervenants et coûts-j'!$C$17:$AF$47,20,FALSE),IF(A24=2024,VLOOKUP(D24,'Intervenants et coûts-j'!$C$17:$AF$47,21,FALSE),IF(A24=2025,VLOOKUP(D24,'Intervenants et coûts-j'!$C$17:$AF$47,22,FALSE),IF(A24=2026,VLOOKUP(D24,'Intervenants et coûts-j'!$C$17:$AF$47,23,FALSE),IF(A24=2027,VLOOKUP(D24,'Intervenants et coûts-j'!$C$17:$AF$47,24,FALSE))))))))","v":""},{"$f":"IF(D24=\"\",\"\",IF(A24=2022,VLOOKUP(D24,'Intervenants et coûts-j'!$C$17:$AF$47,25,FALSE),IF(A24=2023,VLOOKUP(D24,'Intervenants et coûts-j'!$C$17:$AF$47,26,FALSE),IF(A24=2024,VLOOKUP(D24,'Intervenants et coûts-j'!$C$17:$AF$47,27,FALSE),IF(A24=2025,VLOOKUP(D24,'Intervenants et coûts-j'!$C$17:$AF$47,28,FALSE),IF(A24=2026,VLOOKUP(D24,'Intervenants et coûts-j'!$C$17:$AF$47,29,FALSE),IF(A24=2027,VLOOKUP(D24,'Intervenants et coûts-j'!$C$17:$AF$47,30,FALSE))))))))","v":""},"",{"$f":"IF(E24=\"\",\"\",VLOOKUP(C24,'Coûts-indirects'!$A$4:$T$33,20,FALSE)*T24)","v":""},{"$f":"IF(D24=\"\",\"\",IF(V24=\"\",0,VLOOKUP(D24,'Frais-mission'!$B$3:$F$32,5,FALSE)*V24))","v":""},{"$f":"IF(D24=\"\",\"\",IF(W24=\"\",0,VLOOKUP(D24,'Frais-mission'!$B$3:$G$32,6,FALSE)*W24))","v":""},"","",{"$f":"IF(B24=\"\",\"\",IF(LEFT(B24,18)=\"Réunion collective\",350-SUMIF($B$6:B23,B24,$AH$6:AH23),\"\"))","v":""},"","",null,null,{"$f":"\"ListeIntervenants\"&VLOOKUP(C24,'Intervenants et coûts-j'!$B$5:$C$14,2,FALSE)","v":{"$error":"#N/A"}}]
[null,null,null,null,null,null,null,null,{"$f":"IF(D25=\"\",\"\",IF(A25=2022,VLOOKUP(D25,'Intervenants et coûts-j'!$C$17:$P$47,3,FALSE),IF(A25=2023,VLOOKUP(D25,'Intervenants et coûts-j'!$C$17:$P$47,4,FALSE),IF(A25=2024,VLOOKUP(D25,'Intervenants et coûts-j'!$C$17:$P$47,5,FALSE),IF(A25=2025,VLOOKUP(D25,'Intervenants et coûts-j'!$C$17:$P$47,6,FALSE),IF(A25=2026,VLOOKUP(D25,'Intervenants et coûts-j'!$C$17:$P$47,7,FALSE),IF(A25=2027,VLOOKUP(D25,'Intervenants et coûts-j'!$C$17:$P$47,8,FALSE))))))))","v":""},{"$f":"IF(D25=\"\",\"\",IF(A25=2022,VLOOKUP(D25,'Intervenants et coûts-j'!$C$17:$P$47,9,FALSE),IF(A25=2023,VLOOKUP(D25,'Intervenants et coûts-j'!$C$17:$P$47,10,FALSE),IF(A25=2024,VLOOKUP(D25,'Intervenants et coûts-j'!$C$17:$P$47,11,FALSE),IF(A25=2025,VLOOKUP(D25,'Intervenants et coûts-j'!$C$17:$P$47,12,FALSE),IF(A25=2026,VLOOKUP(D25,'Intervenants et coûts-j'!$C$17:$P$47,13,FALSE),IF(A25=2027,VLOOKUP(D25,'Intervenants et coûts-j'!$C$17:$P$47,14,FALSE))))))))","v":""},"",{"$f":"IF(E25=\"\",\"\",VLOOKUP(C25,'Coûts-indirects'!$A$4:$K$33,11,FALSE)*E25)","v":""},{"$f":"IF(D25=\"\",\"\",VLOOKUP(D25,'Frais-mission'!$B$3:$E$32,3,FALSE)*G25)","v":""},{"$f":"IF(D25=\"\",\"\",VLOOKUP(D25,'Frais-mission'!$B$3:$E$32,4,FALSE)*H25)","v":""},"","",{"$f":"IF(B25=\"\",\"\",IF(LEFT(B25,18)=\"Réunion collective\",350-SUMIF($B$6:B24,B25,$S$6:S24),\"\"))","v":""},"","","","","","",{"$f":"IF(D25=\"\",\"\",IF(A25=2022,VLOOKUP(D25,'Intervenants et coûts-j'!$C$17:$AF$47,19,FALSE),IF(A25=2023,VLOOKUP(D25,'Intervenants et coûts-j'!$C$17:$AF$47,20,FALSE),IF(A25=2024,VLOOKUP(D25,'Intervenants et coûts-j'!$C$17:$AF$47,21,FALSE),IF(A25=2025,VLOOKUP(D25,'Intervenants et coûts-j'!$C$17:$AF$47,22,FALSE),IF(A25=2026,VLOOKUP(D25,'Intervenants et coûts-j'!$C$17:$AF$47,23,FALSE),IF(A25=2027,VLOOKUP(D25,'Intervenants et coûts-j'!$C$17:$AF$47,24,FALSE))))))))","v":""},{"$f":"IF(D25=\"\",\"\",IF(A25=2022,VLOOKUP(D25,'Intervenants et coûts-j'!$C$17:$AF$47,25,FALSE),IF(A25=2023,VLOOKUP(D25,'Intervenants et coûts-j'!$C$17:$AF$47,26,FALSE),IF(A25=2024,VLOOKUP(D25,'Intervenants et coûts-j'!$C$17:$AF$47,27,FALSE),IF(A25=2025,VLOOKUP(D25,'Intervenants et coûts-j'!$C$17:$AF$47,28,FALSE),IF(A25=2026,VLOOKUP(D25,'Intervenants et coûts-j'!$C$17:$AF$47,29,FALSE),IF(A25=2027,VLOOKUP(D25,'Intervenants et coûts-j'!$C$17:$AF$47,30,FALSE))))))))","v":""},"",{"$f":"IF(E25=\"\",\"\",VLOOKUP(C25,'Coûts-indirects'!$A$4:$T$33,20,FALSE)*T25)","v":""},{"$f":"IF(D25=\"\",\"\",IF(V25=\"\",0,VLOOKUP(D25,'Frais-mission'!$B$3:$F$32,5,FALSE)*V25))","v":""},{"$f":"IF(D25=\"\",\"\",IF(W25=\"\",0,VLOOKUP(D25,'Frais-mission'!$B$3:$G$32,6,FALSE)*W25))","v":""},"","",{"$f":"IF(B25=\"\",\"\",IF(LEFT(B25,18)=\"Réunion collective\",350-SUMIF($B$6:B24,B25,$AH$6:AH24),\"\"))","v":""},"","",null,null,{"$f":"\"ListeIntervenants\"&VLOOKUP(C25,'Intervenants et coûts-j'!$B$5:$C$14,2,FALSE)","v":{"$error":"#N/A"}}]
[null,null,null,null,null,null,null,null,{"$f":"IF(D26=\"\",\"\",IF(A26=2022,VLOOKUP(D26,'Intervenants et coûts-j'!$C$17:$P$47,3,FALSE),IF(A26=2023,VLOOKUP(D26,'Intervenants et coûts-j'!$C$17:$P$47,4,FALSE),IF(A26=2024,VLOOKUP(D26,'Intervenants et coûts-j'!$C$17:$P$47,5,FALSE),IF(A26=2025,VLOOKUP(D26,'Intervenants et coûts-j'!$C$17:$P$47,6,FALSE),IF(A26=2026,VLOOKUP(D26,'Intervenants et coûts-j'!$C$17:$P$47,7,FALSE),IF(A26=2027,VLOOKUP(D26,'Intervenants et coûts-j'!$C$17:$P$47,8,FALSE))))))))","v":""},{"$f":"IF(D26=\"\",\"\",IF(A26=2022,VLOOKUP(D26,'Intervenants et coûts-j'!$C$17:$P$47,9,FALSE),IF(A26=2023,VLOOKUP(D26,'Intervenants et coûts-j'!$C$17:$P$47,10,FALSE),IF(A26=2024,VLOOKUP(D26,'Intervenants et coûts-j'!$C$17:$P$47,11,FALSE),IF(A26=2025,VLOOKUP(D26,'Intervenants et coûts-j'!$C$17:$P$47,12,FALSE),IF(A26=2026,VLOOKUP(D26,'Intervenants et coûts-j'!$C$17:$P$47,13,FALSE),IF(A26=2027,VLOOKUP(D26,'Intervenants et coûts-j'!$C$17:$P$47,14,FALSE))))))))","v":""},"",{"$f":"IF(E26=\"\",\"\",VLOOKUP(C26,'Coûts-indirects'!$A$4:$K$33,11,FALSE)*E26)","v":""},{"$f":"IF(D26=\"\",\"\",VLOOKUP(D26,'Frais-mission'!$B$3:$E$32,3,FALSE)*G26)","v":""},{"$f":"IF(D26=\"\",\"\",VLOOKUP(D26,'Frais-mission'!$B$3:$E$32,4,FALSE)*H26)","v":""},"","",{"$f":"IF(B26=\"\",\"\",IF(LEFT(B26,18)=\"Réunion collective\",350-SUMIF($B$6:B25,B26,$S$6:S25),\"\"))","v":""},"","","","","","",{"$f":"IF(D26=\"\",\"\",IF(A26=2022,VLOOKUP(D26,'Intervenants et coûts-j'!$C$17:$AF$47,19,FALSE),IF(A26=2023,VLOOKUP(D26,'Intervenants et coûts-j'!$C$17:$AF$47,20,FALSE),IF(A26=2024,VLOOKUP(D26,'Intervenants et coûts-j'!$C$17:$AF$47,21,FALSE),IF(A26=2025,VLOOKUP(D26,'Intervenants et coûts-j'!$C$17:$AF$47,22,FALSE),IF(A26=2026,VLOOKUP(D26,'Intervenants et coûts-j'!$C$17:$AF$47,23,FALSE),IF(A26=2027,VLOOKUP(D26,'Intervenants et coûts-j'!$C$17:$AF$47,24,FALSE))))))))","v":""},{"$f":"IF(D26=\"\",\"\",IF(A26=2022,VLOOKUP(D26,'Intervenants et coûts-j'!$C$17:$AF$47,25,FALSE),IF(A26=2023,VLOOKUP(D26,'Intervenants et coûts-j'!$C$17:$AF$47,26,FALSE),IF(A26=2024,VLOOKUP(D26,'Intervenants et coûts-j'!$C$17:$AF$47,27,FALSE),IF(A26=2025,VLOOKUP(D26,'Intervenants et coûts-j'!$C$17:$AF$47,28,FALSE),IF(A26=2026,VLOOKUP(D26,'Intervenants et coûts-j'!$C$17:$AF$47,29,FALSE),IF(A26=2027,VLOOKUP(D26,'Intervenants et coûts-j'!$C$17:$AF$47,30,FALSE))))))))","v":""},"",{"$f":"IF(E26=\"\",\"\",VLOOKUP(C26,'Coûts-indirects'!$A$4:$T$33,20,FALSE)*T26)","v":""},{"$f":"IF(D26=\"\",\"\",IF(V26=\"\",0,VLOOKUP(D26,'Frais-mission'!$B$3:$F$32,5,FALSE)*V26))","v":""},{"$f":"IF(D26=\"\",\"\",IF(W26=\"\",0,VLOOKUP(D26,'Frais-mission'!$B$3:$G$32,6,FALSE)*W26))","v":""},"","",{"$f":"IF(B26=\"\",\"\",IF(LEFT(B26,18)=\"Réunion collective\",350-SUMIF($B$6:B25,B26,$AH$6:AH25),\"\"))","v":""},"","",null,null,{"$f":"\"ListeIntervenants\"&VLOOKUP(C26,'Intervenants et coûts-j'!$B$5:$C$14,2,FALSE)","v":{"$error":"#N/A"}}]
[null,null,null,null,null,null,null,null,{"$f":"IF(D27=\"\",\"\",IF(A27=2022,VLOOKUP(D27,'Intervenants et coûts-j'!$C$17:$P$47,3,FALSE),IF(A27=2023,VLOOKUP(D27,'Intervenants et coûts-j'!$C$17:$P$47,4,FALSE),IF(A27=2024,VLOOKUP(D27,'Intervenants et coûts-j'!$C$17:$P$47,5,FALSE),IF(A27=2025,VLOOKUP(D27,'Intervenants et coûts-j'!$C$17:$P$47,6,FALSE),IF(A27=2026,VLOOKUP(D27,'Intervenants et coûts-j'!$C$17:$P$47,7,FALSE),IF(A27=2027,VLOOKUP(D27,'Intervenants et coûts-j'!$C$17:$P$47,8,FALSE))))))))","v":""},{"$f":"IF(D27=\"\",\"\",IF(A27=2022,VLOOKUP(D27,'Intervenants et coûts-j'!$C$17:$P$47,9,FALSE),IF(A27=2023,VLOOKUP(D27,'Intervenants et coûts-j'!$C$17:$P$47,10,FALSE),IF(A27=2024,VLOOKUP(D27,'Intervenants et coûts-j'!$C$17:$P$47,11,FALSE),IF(A27=2025,VLOOKUP(D27,'Intervenants et coûts-j'!$C$17:$P$47,12,FALSE),IF(A27=2026,VLOOKUP(D27,'Intervenants et coûts-j'!$C$17:$P$47,13,FALSE),IF(A27=2027,VLOOKUP(D27,'Intervenants et coûts-j'!$C$17:$P$47,14,FALSE))))))))","v":""},"",{"$f":"IF(E27=\"\",\"\",VLOOKUP(C27,'Coûts-indirects'!$A$4:$K$33,11,FALSE)*E27)","v":""},{"$f":"IF(D27=\"\",\"\",VLOOKUP(D27,'Frais-mission'!$B$3:$E$32,3,FALSE)*G27)","v":""},{"$f":"IF(D27=\"\",\"\",VLOOKUP(D27,'Frais-mission'!$B$3:$E$32,4,FALSE)*H27)","v":""},"","",{"$f":"IF(B27=\"\",\"\",IF(LEFT(B27,18)=\"Réunion collective\",350-SUMIF($B$6:B26,B27,$S$6:S26),\"\"))","v":""},"","","","","","",{"$f":"IF(D27=\"\",\"\",IF(A27=2022,VLOOKUP(D27,'Intervenants et coûts-j'!$C$17:$AF$47,19,FALSE),IF(A27=2023,VLOOKUP(D27,'Intervenants et coûts-j'!$C$17:$AF$47,20,FALSE),IF(A27=2024,VLOOKUP(D27,'Intervenants et coûts-j'!$C$17:$AF$47,21,FALSE),IF(A27=2025,VLOOKUP(D27,'Intervenants et coûts-j'!$C$17:$AF$47,22,FALSE),IF(A27=2026,VLOOKUP(D27,'Intervenants et coûts-j'!$C$17:$AF$47,23,FALSE),IF(A27=2027,VLOOKUP(D27,'Intervenants et coûts-j'!$C$17:$AF$47,24,FALSE))))))))","v":""},{"$f":"IF(D27=\"\",\"\",IF(A27=2022,VLOOKUP(D27,'Intervenants et coûts-j'!$C$17:$AF$47,25,FALSE),IF(A27=2023,VLOOKUP(D27,'Intervenants et coûts-j'!$C$17:$AF$47,26,FALSE),IF(A27=2024,VLOOKUP(D27,'Intervenants et coûts-j'!$C$17:$AF$47,27,FALSE),IF(A27=2025,VLOOKUP(D27,'Intervenants et coûts-j'!$C$17:$AF$47,28,FALSE),IF(A27=2026,VLOOKUP(D27,'Intervenants et coûts-j'!$C$17:$AF$47,29,FALSE),IF(A27=2027,VLOOKUP(D27,'Intervenants et coûts-j'!$C$17:$AF$47,30,FALSE))))))))","v":""},"",{"$f":"IF(E27=\"\",\"\",VLOOKUP(C27,'Coûts-indirects'!$A$4:$T$33,20,FALSE)*T27)","v":""},{"$f":"IF(D27=\"\",\"\",IF(V27=\"\",0,VLOOKUP(D27,'Frais-mission'!$B$3:$F$32,5,FALSE)*V27))","v":""},{"$f":"IF(D27=\"\",\"\",IF(W27=\"\",0,VLOOKUP(D27,'Frais-mission'!$B$3:$G$32,6,FALSE)*W27))","v":""},"","",{"$f":"IF(B27=\"\",\"\",IF(LEFT(B27,18)=\"Réunion collective\",350-SUMIF($B$6:B26,B27,$AH$6:AH26),\"\"))","v":""},"","",null,null,{"$f":"\"ListeIntervenants\"&VLOOKUP(C27,'Intervenants et coûts-j'!$B$5:$C$14,2,FALSE)","v":{"$error":"#N/A"}}]
[null,null,null,null,null,null,null,null,{"$f":"IF(D28=\"\",\"\",IF(A28=2022,VLOOKUP(D28,'Intervenants et coûts-j'!$C$17:$P$47,3,FALSE),IF(A28=2023,VLOOKUP(D28,'Intervenants et coûts-j'!$C$17:$P$47,4,FALSE),IF(A28=2024,VLOOKUP(D28,'Intervenants et coûts-j'!$C$17:$P$47,5,FALSE),IF(A28=2025,VLOOKUP(D28,'Intervenants et coûts-j'!$C$17:$P$47,6,FALSE),IF(A28=2026,VLOOKUP(D28,'Intervenants et coûts-j'!$C$17:$P$47,7,FALSE),IF(A28=2027,VLOOKUP(D28,'Intervenants et coûts-j'!$C$17:$P$47,8,FALSE))))))))","v":""},{"$f":"IF(D28=\"\",\"\",IF(A28=2022,VLOOKUP(D28,'Intervenants et coûts-j'!$C$17:$P$47,9,FALSE),IF(A28=2023,VLOOKUP(D28,'Intervenants et coûts-j'!$C$17:$P$47,10,FALSE),IF(A28=2024,VLOOKUP(D28,'Intervenants et coûts-j'!$C$17:$P$47,11,FALSE),IF(A28=2025,VLOOKUP(D28,'Intervenants et coûts-j'!$C$17:$P$47,12,FALSE),IF(A28=2026,VLOOKUP(D28,'Intervenants et coûts-j'!$C$17:$P$47,13,FALSE),IF(A28=2027,VLOOKUP(D28,'Intervenants et coûts-j'!$C$17:$P$47,14,FALSE))))))))","v":""},"",{"$f":"IF(E28=\"\",\"\",VLOOKUP(C28,'Coûts-indirects'!$A$4:$K$33,11,FALSE)*E28)","v":""},{"$f":"IF(D28=\"\",\"\",VLOOKUP(D28,'Frais-mission'!$B$3:$E$32,3,FALSE)*G28)","v":""},{"$f":"IF(D28=\"\",\"\",VLOOKUP(D28,'Frais-mission'!$B$3:$E$32,4,FALSE)*H28)","v":""},"","",{"$f":"IF(B28=\"\",\"\",IF(LEFT(B28,18)=\"Réunion collective\",350-SUMIF($B$6:B27,B28,$S$6:S27),\"\"))","v":""},"","","","","","",{"$f":"IF(D28=\"\",\"\",IF(A28=2022,VLOOKUP(D28,'Intervenants et coûts-j'!$C$17:$AF$47,19,FALSE),IF(A28=2023,VLOOKUP(D28,'Intervenants et coûts-j'!$C$17:$AF$47,20,FALSE),IF(A28=2024,VLOOKUP(D28,'Intervenants et coûts-j'!$C$17:$AF$47,21,FALSE),IF(A28=2025,VLOOKUP(D28,'Intervenants et coûts-j'!$C$17:$AF$47,22,FALSE),IF(A28=2026,VLOOKUP(D28,'Intervenants et coûts-j'!$C$17:$AF$47,23,FALSE),IF(A28=2027,VLOOKUP(D28,'Intervenants et coûts-j'!$C$17:$AF$47,24,FALSE))))))))","v":""},{"$f":"IF(D28=\"\",\"\",IF(A28=2022,VLOOKUP(D28,'Intervenants et coûts-j'!$C$17:$AF$47,25,FALSE),IF(A28=2023,VLOOKUP(D28,'Intervenants et coûts-j'!$C$17:$AF$47,26,FALSE),IF(A28=2024,VLOOKUP(D28,'Intervenants et coûts-j'!$C$17:$AF$47,27,FALSE),IF(A28=2025,VLOOKUP(D28,'Intervenants et coûts-j'!$C$17:$AF$47,28,FALSE),IF(A28=2026,VLOOKUP(D28,'Intervenants et coûts-j'!$C$17:$AF$47,29,FALSE),IF(A28=2027,VLOOKUP(D28,'Intervenants et coûts-j'!$C$17:$AF$47,30,FALSE))))))))","v":""},"",{"$f":"IF(E28=\"\",\"\",VLOOKUP(C28,'Coûts-indirects'!$A$4:$T$33,20,FALSE)*T28)","v":""},{"$f":"IF(D28=\"\",\"\",IF(V28=\"\",0,VLOOKUP(D28,'Frais-mission'!$B$3:$F$32,5,FALSE)*V28))","v":""},{"$f":"IF(D28=\"\",\"\",IF(W28=\"\",0,VLOOKUP(D28,'Frais-mission'!$B$3:$G$32,6,FALSE)*W28))","v":""},"","",{"$f":"IF(B28=\"\",\"\",IF(LEFT(B28,18)=\"Réunion collective\",350-SUMIF($B$6:B27,B28,$AH$6:AH27),\"\"))","v":""},"","",null,null,{"$f":"\"ListeIntervenants\"&VLOOKUP(C28,'Intervenants et coûts-j'!$B$5:$C$14,2,FALSE)","v":{"$error":"#N/A"}}]
[null,null,null,null,null,null,null,null,{"$f":"IF(D29=\"\",\"\",IF(A29=2022,VLOOKUP(D29,'Intervenants et coûts-j'!$C$17:$P$47,3,FALSE),IF(A29=2023,VLOOKUP(D29,'Intervenants et coûts-j'!$C$17:$P$47,4,FALSE),IF(A29=2024,VLOOKUP(D29,'Intervenants et coûts-j'!$C$17:$P$47,5,FALSE),IF(A29=2025,VLOOKUP(D29,'Intervenants et coûts-j'!$C$17:$P$47,6,FALSE),IF(A29=2026,VLOOKUP(D29,'Intervenants et coûts-j'!$C$17:$P$47,7,FALSE),IF(A29=2027,VLOOKUP(D29,'Intervenants et coûts-j'!$C$17:$P$47,8,FALSE))))))))","v":""},{"$f":"IF(D29=\"\",\"\",IF(A29=2022,VLOOKUP(D29,'Intervenants et coûts-j'!$C$17:$P$47,9,FALSE),IF(A29=2023,VLOOKUP(D29,'Intervenants et coûts-j'!$C$17:$P$47,10,FALSE),IF(A29=2024,VLOOKUP(D29,'Intervenants et coûts-j'!$C$17:$P$47,11,FALSE),IF(A29=2025,VLOOKUP(D29,'Intervenants et coûts-j'!$C$17:$P$47,12,FALSE),IF(A29=2026,VLOOKUP(D29,'Intervenants et coûts-j'!$C$17:$P$47,13,FALSE),IF(A29=2027,VLOOKUP(D29,'Intervenants et coûts-j'!$C$17:$P$47,14,FALSE))))))))","v":""},"",{"$f":"IF(E29=\"\",\"\",VLOOKUP(C29,'Coûts-indirects'!$A$4:$K$33,11,FALSE)*E29)","v":""},{"$f":"IF(D29=\"\",\"\",VLOOKUP(D29,'Frais-mission'!$B$3:$E$32,3,FALSE)*G29)","v":""},{"$f":"IF(D29=\"\",\"\",VLOOKUP(D29,'Frais-mission'!$B$3:$E$32,4,FALSE)*H29)","v":""},"","",{"$f":"IF(B29=\"\",\"\",IF(LEFT(B29,18)=\"Réunion collective\",350-SUMIF($B$6:B28,B29,$S$6:S28),\"\"))","v":""},"","","","","","",{"$f":"IF(D29=\"\",\"\",IF(A29=2022,VLOOKUP(D29,'Intervenants et coûts-j'!$C$17:$AF$47,19,FALSE),IF(A29=2023,VLOOKUP(D29,'Intervenants et coûts-j'!$C$17:$AF$47,20,FALSE),IF(A29=2024,VLOOKUP(D29,'Intervenants et coûts-j'!$C$17:$AF$47,21,FALSE),IF(A29=2025,VLOOKUP(D29,'Intervenants et coûts-j'!$C$17:$AF$47,22,FALSE),IF(A29=2026,VLOOKUP(D29,'Intervenants et coûts-j'!$C$17:$AF$47,23,FALSE),IF(A29=2027,VLOOKUP(D29,'Intervenants et coûts-j'!$C$17:$AF$47,24,FALSE))))))))","v":""},{"$f":"IF(D29=\"\",\"\",IF(A29=2022,VLOOKUP(D29,'Intervenants et coûts-j'!$C$17:$AF$47,25,FALSE),IF(A29=2023,VLOOKUP(D29,'Intervenants et coûts-j'!$C$17:$AF$47,26,FALSE),IF(A29=2024,VLOOKUP(D29,'Intervenants et coûts-j'!$C$17:$AF$47,27,FALSE),IF(A29=2025,VLOOKUP(D29,'Intervenants et coûts-j'!$C$17:$AF$47,28,FALSE),IF(A29=2026,VLOOKUP(D29,'Intervenants et coûts-j'!$C$17:$AF$47,29,FALSE),IF(A29=2027,VLOOKUP(D29,'Intervenants et coûts-j'!$C$17:$AF$47,30,FALSE))))))))","v":""},"",{"$f":"IF(E29=\"\",\"\",VLOOKUP(C29,'Coûts-indirects'!$A$4:$T$33,20,FALSE)*T29)","v":""},{"$f":"IF(D29=\"\",\"\",IF(V29=\"\",0,VLOOKUP(D29,'Frais-mission'!$B$3:$F$32,5,FALSE)*V29))","v":""},{"$f":"IF(D29=\"\",\"\",IF(W29=\"\",0,VLOOKUP(D29,'Frais-mission'!$B$3:$G$32,6,FALSE)*W29))","v":""},"","",{"$f":"IF(B29=\"\",\"\",IF(LEFT(B29,18)=\"Réunion collective\",350-SUMIF($B$6:B28,B29,$AH$6:AH28),\"\"))","v":""},"","",null,null,{"$f":"\"ListeIntervenants\"&VLOOKUP(C29,'Intervenants et coûts-j'!$B$5:$C$14,2,FALSE)","v":{"$error":"#N/A"}}]
[null,null,null,null,null,null,null,null,{"$f":"IF(D30=\"\",\"\",IF(A30=2022,VLOOKUP(D30,'Intervenants et coûts-j'!$C$17:$P$47,3,FALSE),IF(A30=2023,VLOOKUP(D30,'Intervenants et coûts-j'!$C$17:$P$47,4,FALSE),IF(A30=2024,VLOOKUP(D30,'Intervenants et coûts-j'!$C$17:$P$47,5,FALSE),IF(A30=2025,VLOOKUP(D30,'Intervenants et coûts-j'!$C$17:$P$47,6,FALSE),IF(A30=2026,VLOOKUP(D30,'Intervenants et coûts-j'!$C$17:$P$47,7,FALSE),IF(A30=2027,VLOOKUP(D30,'Intervenants et coûts-j'!$C$17:$P$47,8,FALSE))))))))","v":""},{"$f":"IF(D30=\"\",\"\",IF(A30=2022,VLOOKUP(D30,'Intervenants et coûts-j'!$C$17:$P$47,9,FALSE),IF(A30=2023,VLOOKUP(D30,'Intervenants et coûts-j'!$C$17:$P$47,10,FALSE),IF(A30=2024,VLOOKUP(D30,'Intervenants et coûts-j'!$C$17:$P$47,11,FALSE),IF(A30=2025,VLOOKUP(D30,'Intervenants et coûts-j'!$C$17:$P$47,12,FALSE),IF(A30=2026,VLOOKUP(D30,'Intervenants et coûts-j'!$C$17:$P$47,13,FALSE),IF(A30=2027,VLOOKUP(D30,'Intervenants et coûts-j'!$C$17:$P$47,14,FALSE))))))))","v":""},"",{"$f":"IF(E30=\"\",\"\",VLOOKUP(C30,'Coûts-indirects'!$A$4:$K$33,11,FALSE)*E30)","v":""},{"$f":"IF(D30=\"\",\"\",VLOOKUP(D30,'Frais-mission'!$B$3:$E$32,3,FALSE)*G30)","v":""},{"$f":"IF(D30=\"\",\"\",VLOOKUP(D30,'Frais-mission'!$B$3:$E$32,4,FALSE)*H30)","v":""},"","",{"$f":"IF(B30=\"\",\"\",IF(LEFT(B30,18)=\"Réunion collective\",350-SUMIF($B$6:B29,B30,$S$6:S29),\"\"))","v":""},"","","","","","",{"$f":"IF(D30=\"\",\"\",IF(A30=2022,VLOOKUP(D30,'Intervenants et coûts-j'!$C$17:$AF$47,19,FALSE),IF(A30=2023,VLOOKUP(D30,'Intervenants et coûts-j'!$C$17:$AF$47,20,FALSE),IF(A30=2024,VLOOKUP(D30,'Intervenants et coûts-j'!$C$17:$AF$47,21,FALSE),IF(A30=2025,VLOOKUP(D30,'Intervenants et coûts-j'!$C$17:$AF$47,22,FALSE),IF(A30=2026,VLOOKUP(D30,'Intervenants et coûts-j'!$C$17:$AF$47,23,FALSE),IF(A30=2027,VLOOKUP(D30,'Intervenants et coûts-j'!$C$17:$AF$47,24,FALSE))))))))","v":""},{"$f":"IF(D30=\"\",\"\",IF(A30=2022,VLOOKUP(D30,'Intervenants et coûts-j'!$C$17:$AF$47,25,FALSE),IF(A30=2023,VLOOKUP(D30,'Intervenants et coûts-j'!$C$17:$AF$47,26,FALSE),IF(A30=2024,VLOOKUP(D30,'Intervenants et coûts-j'!$C$17:$AF$47,27,FALSE),IF(A30=2025,VLOOKUP(D30,'Intervenants et coûts-j'!$C$17:$AF$47,28,FALSE),IF(A30=2026,VLOOKUP(D30,'Intervenants et coûts-j'!$C$17:$AF$47,29,FALSE),IF(A30=2027,VLOOKUP(D30,'Intervenants et coûts-j'!$C$17:$AF$47,30,FALSE))))))))","v":""},"",{"$f":"IF(E30=\"\",\"\",VLOOKUP(C30,'Coûts-indirects'!$A$4:$T$33,20,FALSE)*T30)","v":""},{"$f":"IF(D30=\"\",\"\",IF(V30=\"\",0,VLOOKUP(D30,'Frais-mission'!$B$3:$F$32,5,FALSE)*V30))","v":""},{"$f":"IF(D30=\"\",\"\",IF(W30=\"\",0,VLOOKUP(D30,'Frais-mission'!$B$3:$G$32,6,FALSE)*W30))","v":""},"","",{"$f":"IF(B30=\"\",\"\",IF(LEFT(B30,18)=\"Réunion collective\",350-SUMIF($B$6:B29,B30,$AH$6:AH29),\"\"))","v":""},"","",null,null,{"$f":"\"ListeIntervenants\"&VLOOKUP(C30,'Intervenants et coûts-j'!$B$5:$C$14,2,FALSE)","v":{"$error":"#N/A"}}]
[null,null,null,null,null,null,null,null,{"$f":"IF(D31=\"\",\"\",IF(A31=2022,VLOOKUP(D31,'Intervenants et coûts-j'!$C$17:$P$47,3,FALSE),IF(A31=2023,VLOOKUP(D31,'Intervenants et coûts-j'!$C$17:$P$47,4,FALSE),IF(A31=2024,VLOOKUP(D31,'Intervenants et coûts-j'!$C$17:$P$47,5,FALSE),IF(A31=2025,VLOOKUP(D31,'Intervenants et coûts-j'!$C$17:$P$47,6,FALSE),IF(A31=2026,VLOOKUP(D31,'Intervenants et coûts-j'!$C$17:$P$47,7,FALSE),IF(A31=2027,VLOOKUP(D31,'Intervenants et coûts-j'!$C$17:$P$47,8,FALSE))))))))","v":""},{"$f":"IF(D31=\"\",\"\",IF(A31=2022,VLOOKUP(D31,'Intervenants et coûts-j'!$C$17:$P$47,9,FALSE),IF(A31=2023,VLOOKUP(D31,'Intervenants et coûts-j'!$C$17:$P$47,10,FALSE),IF(A31=2024,VLOOKUP(D31,'Intervenants et coûts-j'!$C$17:$P$47,11,FALSE),IF(A31=2025,VLOOKUP(D31,'Intervenants et coûts-j'!$C$17:$P$47,12,FALSE),IF(A31=2026,VLOOKUP(D31,'Intervenants et coûts-j'!$C$17:$P$47,13,FALSE),IF(A31=2027,VLOOKUP(D31,'Intervenants et coûts-j'!$C$17:$P$47,14,FALSE))))))))","v":""},"",{"$f":"IF(E31=\"\",\"\",VLOOKUP(C31,'Coûts-indirects'!$A$4:$K$33,11,FALSE)*E31)","v":""},{"$f":"IF(D31=\"\",\"\",VLOOKUP(D31,'Frais-mission'!$B$3:$E$32,3,FALSE)*G31)","v":""},{"$f":"IF(D31=\"\",\"\",VLOOKUP(D31,'Frais-mission'!$B$3:$E$32,4,FALSE)*H31)","v":""},"","",{"$f":"IF(B31=\"\",\"\",IF(LEFT(B31,18)=\"Réunion collective\",350-SUMIF($B$6:B30,B31,$S$6:S30),\"\"))","v":""},"","","","","","",{"$f":"IF(D31=\"\",\"\",IF(A31=2022,VLOOKUP(D31,'Intervenants et coûts-j'!$C$17:$AF$47,19,FALSE),IF(A31=2023,VLOOKUP(D31,'Intervenants et coûts-j'!$C$17:$AF$47,20,FALSE),IF(A31=2024,VLOOKUP(D31,'Intervenants et coûts-j'!$C$17:$AF$47,21,FALSE),IF(A31=2025,VLOOKUP(D31,'Intervenants et coûts-j'!$C$17:$AF$47,22,FALSE),IF(A31=2026,VLOOKUP(D31,'Intervenants et coûts-j'!$C$17:$AF$47,23,FALSE),IF(A31=2027,VLOOKUP(D31,'Intervenants et coûts-j'!$C$17:$AF$47,24,FALSE))))))))","v":""},{"$f":"IF(D31=\"\",\"\",IF(A31=2022,VLOOKUP(D31,'Intervenants et coûts-j'!$C$17:$AF$47,25,FALSE),IF(A31=2023,VLOOKUP(D31,'Intervenants et coûts-j'!$C$17:$AF$47,26,FALSE),IF(A31=2024,VLOOKUP(D31,'Intervenants et coûts-j'!$C$17:$AF$47,27,FALSE),IF(A31=2025,VLOOKUP(D31,'Intervenants et coûts-j'!$C$17:$AF$47,28,FALSE),IF(A31=2026,VLOOKUP(D31,'Intervenants et coûts-j'!$C$17:$AF$47,29,FALSE),IF(A31=2027,VLOOKUP(D31,'Intervenants et coûts-j'!$C$17:$AF$47,30,FALSE))))))))","v":""},"",{"$f":"IF(E31=\"\",\"\",VLOOKUP(C31,'Coûts-indirects'!$A$4:$T$33,20,FALSE)*T31)","v":""},{"$f":"IF(D31=\"\",\"\",IF(V31=\"\",0,VLOOKUP(D31,'Frais-mission'!$B$3:$F$32,5,FALSE)*V31))","v":""},{"$f":"IF(D31=\"\",\"\",IF(W31=\"\",0,VLOOKUP(D31,'Frais-mission'!$B$3:$G$32,6,FALSE)*W31))","v":""},"","",{"$f":"IF(B31=\"\",\"\",IF(LEFT(B31,18)=\"Réunion collective\",350-SUMIF($B$6:B30,B31,$AH$6:AH30),\"\"))","v":""},"","",null,null,{"$f":"\"ListeIntervenants\"&VLOOKUP(C31,'Intervenants et coûts-j'!$B$5:$C$14,2,FALSE)","v":{"$error":"#N/A"}}]
[null,null,null,null,null,null,null,null,{"$f":"IF(D32=\"\",\"\",IF(A32=2022,VLOOKUP(D32,'Intervenants et coûts-j'!$C$17:$P$47,3,FALSE),IF(A32=2023,VLOOKUP(D32,'Intervenants et coûts-j'!$C$17:$P$47,4,FALSE),IF(A32=2024,VLOOKUP(D32,'Intervenants et coûts-j'!$C$17:$P$47,5,FALSE),IF(A32=2025,VLOOKUP(D32,'Intervenants et coûts-j'!$C$17:$P$47,6,FALSE),IF(A32=2026,VLOOKUP(D32,'Intervenants et coûts-j'!$C$17:$P$47,7,FALSE),IF(A32=2027,VLOOKUP(D32,'Intervenants et coûts-j'!$C$17:$P$47,8,FALSE))))))))","v":""},{"$f":"IF(D32=\"\",\"\",IF(A32=2022,VLOOKUP(D32,'Intervenants et coûts-j'!$C$17:$P$47,9,FALSE),IF(A32=2023,VLOOKUP(D32,'Intervenants et coûts-j'!$C$17:$P$47,10,FALSE),IF(A32=2024,VLOOKUP(D32,'Intervenants et coûts-j'!$C$17:$P$47,11,FALSE),IF(A32=2025,VLOOKUP(D32,'Intervenants et coûts-j'!$C$17:$P$47,12,FALSE),IF(A32=2026,VLOOKUP(D32,'Intervenants et coûts-j'!$C$17:$P$47,13,FALSE),IF(A32=2027,VLOOKUP(D32,'Intervenants et coûts-j'!$C$17:$P$47,14,FALSE))))))))","v":""},"",{"$f":"IF(E32=\"\",\"\",VLOOKUP(C32,'Coûts-indirects'!$A$4:$K$33,11,FALSE)*E32)","v":""},{"$f":"IF(D32=\"\",\"\",VLOOKUP(D32,'Frais-mission'!$B$3:$E$32,3,FALSE)*G32)","v":""},{"$f":"IF(D32=\"\",\"\",VLOOKUP(D32,'Frais-mission'!$B$3:$E$32,4,FALSE)*H32)","v":""},"","",{"$f":"IF(B32=\"\",\"\",IF(LEFT(B32,18)=\"Réunion collective\",350-SUMIF($B$6:B31,B32,$S$6:S31),\"\"))","v":""},"","","","","","",{"$f":"IF(D32=\"\",\"\",IF(A32=2022,VLOOKUP(D32,'Intervenants et coûts-j'!$C$17:$AF$47,19,FALSE),IF(A32=2023,VLOOKUP(D32,'Intervenants et coûts-j'!$C$17:$AF$47,20,FALSE),IF(A32=2024,VLOOKUP(D32,'Intervenants et coûts-j'!$C$17:$AF$47,21,FALSE),IF(A32=2025,VLOOKUP(D32,'Intervenants et coûts-j'!$C$17:$AF$47,22,FALSE),IF(A32=2026,VLOOKUP(D32,'Intervenants et coûts-j'!$C$17:$AF$47,23,FALSE),IF(A32=2027,VLOOKUP(D32,'Intervenants et coûts-j'!$C$17:$AF$47,24,FALSE))))))))","v":""},{"$f":"IF(D32=\"\",\"\",IF(A32=2022,VLOOKUP(D32,'Intervenants et coûts-j'!$C$17:$AF$47,25,FALSE),IF(A32=2023,VLOOKUP(D32,'Intervenants et coûts-j'!$C$17:$AF$47,26,FALSE),IF(A32=2024,VLOOKUP(D32,'Intervenants et coûts-j'!$C$17:$AF$47,27,FALSE),IF(A32=2025,VLOOKUP(D32,'Intervenants et coûts-j'!$C$17:$AF$47,28,FALSE),IF(A32=2026,VLOOKUP(D32,'Intervenants et coûts-j'!$C$17:$AF$47,29,FALSE),IF(A32=2027,VLOOKUP(D32,'Intervenants et coûts-j'!$C$17:$AF$47,30,FALSE))))))))","v":""},"",{"$f":"IF(E32=\"\",\"\",VLOOKUP(C32,'Coûts-indirects'!$A$4:$T$33,20,FALSE)*T32)","v":""},{"$f":"IF(D32=\"\",\"\",IF(V32=\"\",0,VLOOKUP(D32,'Frais-mission'!$B$3:$F$32,5,FALSE)*V32))","v":""},{"$f":"IF(D32=\"\",\"\",IF(W32=\"\",0,VLOOKUP(D32,'Frais-mission'!$B$3:$G$32,6,FALSE)*W32))","v":""},"","",{"$f":"IF(B32=\"\",\"\",IF(LEFT(B32,18)=\"Réunion collective\",350-SUMIF($B$6:B31,B32,$AH$6:AH31),\"\"))","v":""},"","",null,null,{"$f":"\"ListeIntervenants\"&VLOOKUP(C32,'Intervenants et coûts-j'!$B$5:$C$14,2,FALSE)","v":{"$error":"#N/A"}}]
[null,null,null,null,null,null,null,null,{"$f":"IF(D33=\"\",\"\",IF(A33=2022,VLOOKUP(D33,'Intervenants et coûts-j'!$C$17:$P$47,3,FALSE),IF(A33=2023,VLOOKUP(D33,'Intervenants et coûts-j'!$C$17:$P$47,4,FALSE),IF(A33=2024,VLOOKUP(D33,'Intervenants et coûts-j'!$C$17:$P$47,5,FALSE),IF(A33=2025,VLOOKUP(D33,'Intervenants et coûts-j'!$C$17:$P$47,6,FALSE),IF(A33=2026,VLOOKUP(D33,'Intervenants et coûts-j'!$C$17:$P$47,7,FALSE),IF(A33=2027,VLOOKUP(D33,'Intervenants et coûts-j'!$C$17:$P$47,8,FALSE))))))))","v":""},{"$f":"IF(D33=\"\",\"\",IF(A33=2022,VLOOKUP(D33,'Intervenants et coûts-j'!$C$17:$P$47,9,FALSE),IF(A33=2023,VLOOKUP(D33,'Intervenants et coûts-j'!$C$17:$P$47,10,FALSE),IF(A33=2024,VLOOKUP(D33,'Intervenants et coûts-j'!$C$17:$P$47,11,FALSE),IF(A33=2025,VLOOKUP(D33,'Intervenants et coûts-j'!$C$17:$P$47,12,FALSE),IF(A33=2026,VLOOKUP(D33,'Intervenants et coûts-j'!$C$17:$P$47,13,FALSE),IF(A33=2027,VLOOKUP(D33,'Intervenants et coûts-j'!$C$17:$P$47,14,FALSE))))))))","v":""},"",{"$f":"IF(E33=\"\",\"\",VLOOKUP(C33,'Coûts-indirects'!$A$4:$K$33,11,FALSE)*E33)","v":""},{"$f":"IF(D33=\"\",\"\",VLOOKUP(D33,'Frais-mission'!$B$3:$E$32,3,FALSE)*G33)","v":""},{"$f":"IF(D33=\"\",\"\",VLOOKUP(D33,'Frais-mission'!$B$3:$E$32,4,FALSE)*H33)","v":""},"","",{"$f":"IF(B33=\"\",\"\",IF(LEFT(B33,18)=\"Réunion collective\",350-SUMIF($B$6:B32,B33,$S$6:S32),\"\"))","v":""},"","","","","","",{"$f":"IF(D33=\"\",\"\",IF(A33=2022,VLOOKUP(D33,'Intervenants et coûts-j'!$C$17:$AF$47,19,FALSE),IF(A33=2023,VLOOKUP(D33,'Intervenants et coûts-j'!$C$17:$AF$47,20,FALSE),IF(A33=2024,VLOOKUP(D33,'Intervenants et coûts-j'!$C$17:$AF$47,21,FALSE),IF(A33=2025,VLOOKUP(D33,'Intervenants et coûts-j'!$C$17:$AF$47,22,FALSE),IF(A33=2026,VLOOKUP(D33,'Intervenants et coûts-j'!$C$17:$AF$47,23,FALSE),IF(A33=2027,VLOOKUP(D33,'Intervenants et coûts-j'!$C$17:$AF$47,24,FALSE))))))))","v":""},{"$f":"IF(D33=\"\",\"\",IF(A33=2022,VLOOKUP(D33,'Intervenants et coûts-j'!$C$17:$AF$47,25,FALSE),IF(A33=2023,VLOOKUP(D33,'Intervenants et coûts-j'!$C$17:$AF$47,26,FALSE),IF(A33=2024,VLOOKUP(D33,'Intervenants et coûts-j'!$C$17:$AF$47,27,FALSE),IF(A33=2025,VLOOKUP(D33,'Intervenants et coûts-j'!$C$17:$AF$47,28,FALSE),IF(A33=2026,VLOOKUP(D33,'Intervenants et coûts-j'!$C$17:$AF$47,29,FALSE),IF(A33=2027,VLOOKUP(D33,'Intervenants et coûts-j'!$C$17:$AF$47,30,FALSE))))))))","v":""},"",{"$f":"IF(E33=\"\",\"\",VLOOKUP(C33,'Coûts-indirects'!$A$4:$T$33,20,FALSE)*T33)","v":""},{"$f":"IF(D33=\"\",\"\",IF(V33=\"\",0,VLOOKUP(D33,'Frais-mission'!$B$3:$F$32,5,FALSE)*V33))","v":""},{"$f":"IF(D33=\"\",\"\",IF(W33=\"\",0,VLOOKUP(D33,'Frais-mission'!$B$3:$G$32,6,FALSE)*W33))","v":""},"","",{"$f":"IF(B33=\"\",\"\",IF(LEFT(B33,18)=\"Réunion collective\",350-SUMIF($B$6:B32,B33,$AH$6:AH32),\"\"))","v":""},"","",null,null,{"$f":"\"ListeIntervenants\"&VLOOKUP(C33,'Intervenants et coûts-j'!$B$5:$C$14,2,FALSE)","v":{"$error":"#N/A"}}]
[null,null,null,null,null,null,null,null,{"$f":"IF(D34=\"\",\"\",IF(A34=2022,VLOOKUP(D34,'Intervenants et coûts-j'!$C$17:$P$47,3,FALSE),IF(A34=2023,VLOOKUP(D34,'Intervenants et coûts-j'!$C$17:$P$47,4,FALSE),IF(A34=2024,VLOOKUP(D34,'Intervenants et coûts-j'!$C$17:$P$47,5,FALSE),IF(A34=2025,VLOOKUP(D34,'Intervenants et coûts-j'!$C$17:$P$47,6,FALSE),IF(A34=2026,VLOOKUP(D34,'Intervenants et coûts-j'!$C$17:$P$47,7,FALSE),IF(A34=2027,VLOOKUP(D34,'Intervenants et coûts-j'!$C$17:$P$47,8,FALSE))))))))","v":""},{"$f":"IF(D34=\"\",\"\",IF(A34=2022,VLOOKUP(D34,'Intervenants et coûts-j'!$C$17:$P$47,9,FALSE),IF(A34=2023,VLOOKUP(D34,'Intervenants et coûts-j'!$C$17:$P$47,10,FALSE),IF(A34=2024,VLOOKUP(D34,'Intervenants et coûts-j'!$C$17:$P$47,11,FALSE),IF(A34=2025,VLOOKUP(D34,'Intervenants et coûts-j'!$C$17:$P$47,12,FALSE),IF(A34=2026,VLOOKUP(D34,'Intervenants et coûts-j'!$C$17:$P$47,13,FALSE),IF(A34=2027,VLOOKUP(D34,'Intervenants et coûts-j'!$C$17:$P$47,14,FALSE))))))))","v":""},"",{"$f":"IF(E34=\"\",\"\",VLOOKUP(C34,'Coûts-indirects'!$A$4:$K$33,11,FALSE)*E34)","v":""},{"$f":"IF(D34=\"\",\"\",VLOOKUP(D34,'Frais-mission'!$B$3:$E$32,3,FALSE)*G34)","v":""},{"$f":"IF(D34=\"\",\"\",VLOOKUP(D34,'Frais-mission'!$B$3:$E$32,4,FALSE)*H34)","v":""},"","",{"$f":"IF(B34=\"\",\"\",IF(LEFT(B34,18)=\"Réunion collective\",350-SUMIF($B$6:B33,B34,$S$6:S33),\"\"))","v":""},"","","","","","",{"$f":"IF(D34=\"\",\"\",IF(A34=2022,VLOOKUP(D34,'Intervenants et coûts-j'!$C$17:$AF$47,19,FALSE),IF(A34=2023,VLOOKUP(D34,'Intervenants et coûts-j'!$C$17:$AF$47,20,FALSE),IF(A34=2024,VLOOKUP(D34,'Intervenants et coûts-j'!$C$17:$AF$47,21,FALSE),IF(A34=2025,VLOOKUP(D34,'Intervenants et coûts-j'!$C$17:$AF$47,22,FALSE),IF(A34=2026,VLOOKUP(D34,'Intervenants et coûts-j'!$C$17:$AF$47,23,FALSE),IF(A34=2027,VLOOKUP(D34,'Intervenants et coûts-j'!$C$17:$AF$47,24,FALSE))))))))","v":""},{"$f":"IF(D34=\"\",\"\",IF(A34=2022,VLOOKUP(D34,'Intervenants et coûts-j'!$C$17:$AF$47,25,FALSE),IF(A34=2023,VLOOKUP(D34,'Intervenants et coûts-j'!$C$17:$AF$47,26,FALSE),IF(A34=2024,VLOOKUP(D34,'Intervenants et coûts-j'!$C$17:$AF$47,27,FALSE),IF(A34=2025,VLOOKUP(D34,'Intervenants et coûts-j'!$C$17:$AF$47,28,FALSE),IF(A34=2026,VLOOKUP(D34,'Intervenants et coûts-j'!$C$17:$AF$47,29,FALSE),IF(A34=2027,VLOOKUP(D34,'Intervenants et coûts-j'!$C$17:$AF$47,30,FALSE))))))))","v":""},"",{"$f":"IF(E34=\"\",\"\",VLOOKUP(C34,'Coûts-indirects'!$A$4:$T$33,20,FALSE)*T34)","v":""},{"$f":"IF(D34=\"\",\"\",IF(V34=\"\",0,VLOOKUP(D34,'Frais-mission'!$B$3:$F$32,5,FALSE)*V34))","v":""},{"$f":"IF(D34=\"\",\"\",IF(W34=\"\",0,VLOOKUP(D34,'Frais-mission'!$B$3:$G$32,6,FALSE)*W34))","v":""},"","",{"$f":"IF(B34=\"\",\"\",IF(LEFT(B34,18)=\"Réunion collective\",350-SUMIF($B$6:B33,B34,$AH$6:AH33),\"\"))","v":""},"","",null,null,{"$f":"\"ListeIntervenants\"&VLOOKUP(C34,'Intervenants et coûts-j'!$B$5:$C$14,2,FALSE)","v":{"$error":"#N/A"}}]
[null,null,null,null,null,null,null,null,{"$f":"IF(D35=\"\",\"\",IF(A35=2022,VLOOKUP(D35,'Intervenants et coûts-j'!$C$17:$P$47,3,FALSE),IF(A35=2023,VLOOKUP(D35,'Intervenants et coûts-j'!$C$17:$P$47,4,FALSE),IF(A35=2024,VLOOKUP(D35,'Intervenants et coûts-j'!$C$17:$P$47,5,FALSE),IF(A35=2025,VLOOKUP(D35,'Intervenants et coûts-j'!$C$17:$P$47,6,FALSE),IF(A35=2026,VLOOKUP(D35,'Intervenants et coûts-j'!$C$17:$P$47,7,FALSE),IF(A35=2027,VLOOKUP(D35,'Intervenants et coûts-j'!$C$17:$P$47,8,FALSE))))))))","v":""},{"$f":"IF(D35=\"\",\"\",IF(A35=2022,VLOOKUP(D35,'Intervenants et coûts-j'!$C$17:$P$47,9,FALSE),IF(A35=2023,VLOOKUP(D35,'Intervenants et coûts-j'!$C$17:$P$47,10,FALSE),IF(A35=2024,VLOOKUP(D35,'Intervenants et coûts-j'!$C$17:$P$47,11,FALSE),IF(A35=2025,VLOOKUP(D35,'Intervenants et coûts-j'!$C$17:$P$47,12,FALSE),IF(A35=2026,VLOOKUP(D35,'Intervenants et coûts-j'!$C$17:$P$47,13,FALSE),IF(A35=2027,VLOOKUP(D35,'Intervenants et coûts-j'!$C$17:$P$47,14,FALSE))))))))","v":""},"",{"$f":"IF(E35=\"\",\"\",VLOOKUP(C35,'Coûts-indirects'!$A$4:$K$33,11,FALSE)*E35)","v":""},{"$f":"IF(D35=\"\",\"\",VLOOKUP(D35,'Frais-mission'!$B$3:$E$32,3,FALSE)*G35)","v":""},{"$f":"IF(D35=\"\",\"\",VLOOKUP(D35,'Frais-mission'!$B$3:$E$32,4,FALSE)*H35)","v":""},"","",{"$f":"IF(B35=\"\",\"\",IF(LEFT(B35,18)=\"Réunion collective\",350-SUMIF($B$6:B34,B35,$S$6:S34),\"\"))","v":""},"","","","","","",{"$f":"IF(D35=\"\",\"\",IF(A35=2022,VLOOKUP(D35,'Intervenants et coûts-j'!$C$17:$AF$47,19,FALSE),IF(A35=2023,VLOOKUP(D35,'Intervenants et coûts-j'!$C$17:$AF$47,20,FALSE),IF(A35=2024,VLOOKUP(D35,'Intervenants et coûts-j'!$C$17:$AF$47,21,FALSE),IF(A35=2025,VLOOKUP(D35,'Intervenants et coûts-j'!$C$17:$AF$47,22,FALSE),IF(A35=2026,VLOOKUP(D35,'Intervenants et coûts-j'!$C$17:$AF$47,23,FALSE),IF(A35=2027,VLOOKUP(D35,'Intervenants et coûts-j'!$C$17:$AF$47,24,FALSE))))))))","v":""},{"$f":"IF(D35=\"\",\"\",IF(A35=2022,VLOOKUP(D35,'Intervenants et coûts-j'!$C$17:$AF$47,25,FALSE),IF(A35=2023,VLOOKUP(D35,'Intervenants et coûts-j'!$C$17:$AF$47,26,FALSE),IF(A35=2024,VLOOKUP(D35,'Intervenants et coûts-j'!$C$17:$AF$47,27,FALSE),IF(A35=2025,VLOOKUP(D35,'Intervenants et coûts-j'!$C$17:$AF$47,28,FALSE),IF(A35=2026,VLOOKUP(D35,'Intervenants et coûts-j'!$C$17:$AF$47,29,FALSE),IF(A35=2027,VLOOKUP(D35,'Intervenants et coûts-j'!$C$17:$AF$47,30,FALSE))))))))","v":""},"",{"$f":"IF(E35=\"\",\"\",VLOOKUP(C35,'Coûts-indirects'!$A$4:$T$33,20,FALSE)*T35)","v":""},{"$f":"IF(D35=\"\",\"\",IF(V35=\"\",0,VLOOKUP(D35,'Frais-mission'!$B$3:$F$32,5,FALSE)*V35))","v":""},{"$f":"IF(D35=\"\",\"\",IF(W35=\"\",0,VLOOKUP(D35,'Frais-mission'!$B$3:$G$32,6,FALSE)*W35))","v":""},"","",{"$f":"IF(B35=\"\",\"\",IF(LEFT(B35,18)=\"Réunion collective\",350-SUMIF($B$6:B34,B35,$AH$6:AH34),\"\"))","v":""},"","",null,null,{"$f":"\"ListeIntervenants\"&VLOOKUP(C35,'Intervenants et coûts-j'!$B$5:$C$14,2,FALSE)","v":{"$error":"#N/A"}}]
[null,null,null,null,null,null,null,null,{"$f":"IF(D36=\"\",\"\",IF(A36=2022,VLOOKUP(D36,'Intervenants et coûts-j'!$C$17:$P$47,3,FALSE),IF(A36=2023,VLOOKUP(D36,'Intervenants et coûts-j'!$C$17:$P$47,4,FALSE),IF(A36=2024,VLOOKUP(D36,'Intervenants et coûts-j'!$C$17:$P$47,5,FALSE),IF(A36=2025,VLOOKUP(D36,'Intervenants et coûts-j'!$C$17:$P$47,6,FALSE),IF(A36=2026,VLOOKUP(D36,'Intervenants et coûts-j'!$C$17:$P$47,7,FALSE),IF(A36=2027,VLOOKUP(D36,'Intervenants et coûts-j'!$C$17:$P$47,8,FALSE))))))))","v":""},{"$f":"IF(D36=\"\",\"\",IF(A36=2022,VLOOKUP(D36,'Intervenants et coûts-j'!$C$17:$P$47,9,FALSE),IF(A36=2023,VLOOKUP(D36,'Intervenants et coûts-j'!$C$17:$P$47,10,FALSE),IF(A36=2024,VLOOKUP(D36,'Intervenants et coûts-j'!$C$17:$P$47,11,FALSE),IF(A36=2025,VLOOKUP(D36,'Intervenants et coûts-j'!$C$17:$P$47,12,FALSE),IF(A36=2026,VLOOKUP(D36,'Intervenants et coûts-j'!$C$17:$P$47,13,FALSE),IF(A36=2027,VLOOKUP(D36,'Intervenants et coûts-j'!$C$17:$P$47,14,FALSE))))))))","v":""},"",{"$f":"IF(E36=\"\",\"\",VLOOKUP(C36,'Coûts-indirects'!$A$4:$K$33,11,FALSE)*E36)","v":""},{"$f":"IF(D36=\"\",\"\",VLOOKUP(D36,'Frais-mission'!$B$3:$E$32,3,FALSE)*G36)","v":""},{"$f":"IF(D36=\"\",\"\",VLOOKUP(D36,'Frais-mission'!$B$3:$E$32,4,FALSE)*H36)","v":""},"","",{"$f":"IF(B36=\"\",\"\",IF(LEFT(B36,18)=\"Réunion collective\",350-SUMIF($B$6:B35,B36,$S$6:S35),\"\"))","v":""},"","","","","","",{"$f":"IF(D36=\"\",\"\",IF(A36=2022,VLOOKUP(D36,'Intervenants et coûts-j'!$C$17:$AF$47,19,FALSE),IF(A36=2023,VLOOKUP(D36,'Intervenants et coûts-j'!$C$17:$AF$47,20,FALSE),IF(A36=2024,VLOOKUP(D36,'Intervenants et coûts-j'!$C$17:$AF$47,21,FALSE),IF(A36=2025,VLOOKUP(D36,'Intervenants et coûts-j'!$C$17:$AF$47,22,FALSE),IF(A36=2026,VLOOKUP(D36,'Intervenants et coûts-j'!$C$17:$AF$47,23,FALSE),IF(A36=2027,VLOOKUP(D36,'Intervenants et coûts-j'!$C$17:$AF$47,24,FALSE))))))))","v":""},{"$f":"IF(D36=\"\",\"\",IF(A36=2022,VLOOKUP(D36,'Intervenants et coûts-j'!$C$17:$AF$47,25,FALSE),IF(A36=2023,VLOOKUP(D36,'Intervenants et coûts-j'!$C$17:$AF$47,26,FALSE),IF(A36=2024,VLOOKUP(D36,'Intervenants et coûts-j'!$C$17:$AF$47,27,FALSE),IF(A36=2025,VLOOKUP(D36,'Intervenants et coûts-j'!$C$17:$AF$47,28,FALSE),IF(A36=2026,VLOOKUP(D36,'Intervenants et coûts-j'!$C$17:$AF$47,29,FALSE),IF(A36=2027,VLOOKUP(D36,'Intervenants et coûts-j'!$C$17:$AF$47,30,FALSE))))))))","v":""},"",{"$f":"IF(E36=\"\",\"\",VLOOKUP(C36,'Coûts-indirects'!$A$4:$T$33,20,FALSE)*T36)","v":""},{"$f":"IF(D36=\"\",\"\",IF(V36=\"\",0,VLOOKUP(D36,'Frais-mission'!$B$3:$F$32,5,FALSE)*V36))","v":""},{"$f":"IF(D36=\"\",\"\",IF(W36=\"\",0,VLOOKUP(D36,'Frais-mission'!$B$3:$G$32,6,FALSE)*W36))","v":""},"","",{"$f":"IF(B36=\"\",\"\",IF(LEFT(B36,18)=\"Réunion collective\",350-SUMIF($B$6:B35,B36,$AH$6:AH35),\"\"))","v":""},"","",null,null,{"$f":"\"ListeIntervenants\"&VLOOKUP(C36,'Intervenants et coûts-j'!$B$5:$C$14,2,FALSE)","v":{"$error":"#N/A"}}]
[null,null,null,null,null,null,null,null,{"$f":"IF(D37=\"\",\"\",IF(A37=2022,VLOOKUP(D37,'Intervenants et coûts-j'!$C$17:$P$47,3,FALSE),IF(A37=2023,VLOOKUP(D37,'Intervenants et coûts-j'!$C$17:$P$47,4,FALSE),IF(A37=2024,VLOOKUP(D37,'Intervenants et coûts-j'!$C$17:$P$47,5,FALSE),IF(A37=2025,VLOOKUP(D37,'Intervenants et coûts-j'!$C$17:$P$47,6,FALSE),IF(A37=2026,VLOOKUP(D37,'Intervenants et coûts-j'!$C$17:$P$47,7,FALSE),IF(A37=2027,VLOOKUP(D37,'Intervenants et coûts-j'!$C$17:$P$47,8,FALSE))))))))","v":""},{"$f":"IF(D37=\"\",\"\",IF(A37=2022,VLOOKUP(D37,'Intervenants et coûts-j'!$C$17:$P$47,9,FALSE),IF(A37=2023,VLOOKUP(D37,'Intervenants et coûts-j'!$C$17:$P$47,10,FALSE),IF(A37=2024,VLOOKUP(D37,'Intervenants et coûts-j'!$C$17:$P$47,11,FALSE),IF(A37=2025,VLOOKUP(D37,'Intervenants et coûts-j'!$C$17:$P$47,12,FALSE),IF(A37=2026,VLOOKUP(D37,'Intervenants et coûts-j'!$C$17:$P$47,13,FALSE),IF(A37=2027,VLOOKUP(D37,'Intervenants et coûts-j'!$C$17:$P$47,14,FALSE))))))))","v":""},"",{"$f":"IF(E37=\"\",\"\",VLOOKUP(C37,'Coûts-indirects'!$A$4:$K$33,11,FALSE)*E37)","v":""},{"$f":"IF(D37=\"\",\"\",VLOOKUP(D37,'Frais-mission'!$B$3:$E$32,3,FALSE)*G37)","v":""},{"$f":"IF(D37=\"\",\"\",VLOOKUP(D37,'Frais-mission'!$B$3:$E$32,4,FALSE)*H37)","v":""},"","",{"$f":"IF(B37=\"\",\"\",IF(LEFT(B37,18)=\"Réunion collective\",350-SUMIF($B$6:B36,B37,$S$6:S36),\"\"))","v":""},"","","","","","",{"$f":"IF(D37=\"\",\"\",IF(A37=2022,VLOOKUP(D37,'Intervenants et coûts-j'!$C$17:$AF$47,19,FALSE),IF(A37=2023,VLOOKUP(D37,'Intervenants et coûts-j'!$C$17:$AF$47,20,FALSE),IF(A37=2024,VLOOKUP(D37,'Intervenants et coûts-j'!$C$17:$AF$47,21,FALSE),IF(A37=2025,VLOOKUP(D37,'Intervenants et coûts-j'!$C$17:$AF$47,22,FALSE),IF(A37=2026,VLOOKUP(D37,'Intervenants et coûts-j'!$C$17:$AF$47,23,FALSE),IF(A37=2027,VLOOKUP(D37,'Intervenants et coûts-j'!$C$17:$AF$47,24,FALSE))))))))","v":""},{"$f":"IF(D37=\"\",\"\",IF(A37=2022,VLOOKUP(D37,'Intervenants et coûts-j'!$C$17:$AF$47,25,FALSE),IF(A37=2023,VLOOKUP(D37,'Intervenants et coûts-j'!$C$17:$AF$47,26,FALSE),IF(A37=2024,VLOOKUP(D37,'Intervenants et coûts-j'!$C$17:$AF$47,27,FALSE),IF(A37=2025,VLOOKUP(D37,'Intervenants et coûts-j'!$C$17:$AF$47,28,FALSE),IF(A37=2026,VLOOKUP(D37,'Intervenants et coûts-j'!$C$17:$AF$47,29,FALSE),IF(A37=2027,VLOOKUP(D37,'Intervenants et coûts-j'!$C$17:$AF$47,30,FALSE))))))))","v":""},"",{"$f":"IF(E37=\"\",\"\",VLOOKUP(C37,'Coûts-indirects'!$A$4:$T$33,20,FALSE)*T37)","v":""},{"$f":"IF(D37=\"\",\"\",IF(V37=\"\",0,VLOOKUP(D37,'Frais-mission'!$B$3:$F$32,5,FALSE)*V37))","v":""},{"$f":"IF(D37=\"\",\"\",IF(W37=\"\",0,VLOOKUP(D37,'Frais-mission'!$B$3:$G$32,6,FALSE)*W37))","v":""},"","",{"$f":"IF(B37=\"\",\"\",IF(LEFT(B37,18)=\"Réunion collective\",350-SUMIF($B$6:B36,B37,$AH$6:AH36),\"\"))","v":""},"","",null,null,{"$f":"\"ListeIntervenants\"&VLOOKUP(C37,'Intervenants et coûts-j'!$B$5:$C$14,2,FALSE)","v":{"$error":"#N/A"}}]
[null,null,null,null,null,null,null,null,{"$f":"IF(D38=\"\",\"\",IF(A38=2022,VLOOKUP(D38,'Intervenants et coûts-j'!$C$17:$P$47,3,FALSE),IF(A38=2023,VLOOKUP(D38,'Intervenants et coûts-j'!$C$17:$P$47,4,FALSE),IF(A38=2024,VLOOKUP(D38,'Intervenants et coûts-j'!$C$17:$P$47,5,FALSE),IF(A38=2025,VLOOKUP(D38,'Intervenants et coûts-j'!$C$17:$P$47,6,FALSE),IF(A38=2026,VLOOKUP(D38,'Intervenants et coûts-j'!$C$17:$P$47,7,FALSE),IF(A38=2027,VLOOKUP(D38,'Intervenants et coûts-j'!$C$17:$P$47,8,FALSE))))))))","v":""},{"$f":"IF(D38=\"\",\"\",IF(A38=2022,VLOOKUP(D38,'Intervenants et coûts-j'!$C$17:$P$47,9,FALSE),IF(A38=2023,VLOOKUP(D38,'Intervenants et coûts-j'!$C$17:$P$47,10,FALSE),IF(A38=2024,VLOOKUP(D38,'Intervenants et coûts-j'!$C$17:$P$47,11,FALSE),IF(A38=2025,VLOOKUP(D38,'Intervenants et coûts-j'!$C$17:$P$47,12,FALSE),IF(A38=2026,VLOOKUP(D38,'Intervenants et coûts-j'!$C$17:$P$47,13,FALSE),IF(A38=2027,VLOOKUP(D38,'Intervenants et coûts-j'!$C$17:$P$47,14,FALSE))))))))","v":""},"",{"$f":"IF(E38=\"\",\"\",VLOOKUP(C38,'Coûts-indirects'!$A$4:$K$33,11,FALSE)*E38)","v":""},{"$f":"IF(D38=\"\",\"\",VLOOKUP(D38,'Frais-mission'!$B$3:$E$32,3,FALSE)*G38)","v":""},{"$f":"IF(D38=\"\",\"\",VLOOKUP(D38,'Frais-mission'!$B$3:$E$32,4,FALSE)*H38)","v":""},{"$f":"IF(K38=\"\",\"\",K38*0.15)","v":""},{"$f":"IF(F38=\"\",\"\",J38*F38*0.1)","v":""},{"$f":"IF(B38=\"\",\"\",IF(LEFT(B38,18)=\"Réunion collective\",350-SUMIF($B$6:B37,B38,$S$6:S37),\"\"))","v":""},"","","","","","",{"$f":"IF(D38=\"\",\"\",IF(A38=2022,VLOOKUP(D38,'Intervenants et coûts-j'!$C$17:$AF$47,19,FALSE),IF(A38=2023,VLOOKUP(D38,'Intervenants et coûts-j'!$C$17:$AF$47,20,FALSE),IF(A38=2024,VLOOKUP(D38,'Intervenants et coûts-j'!$C$17:$AF$47,21,FALSE),IF(A38=2025,VLOOKUP(D38,'Intervenants et coûts-j'!$C$17:$AF$47,22,FALSE),IF(A38=2026,VLOOKUP(D38,'Intervenants et coûts-j'!$C$17:$AF$47,23,FALSE),IF(A38=2027,VLOOKUP(D38,'Intervenants et coûts-j'!$C$17:$AF$47,24,FALSE))))))))","v":""},{"$f":"IF(D38=\"\",\"\",IF(A38=2022,VLOOKUP(D38,'Intervenants et coûts-j'!$C$17:$AF$47,25,FALSE),IF(A38=2023,VLOOKUP(D38,'Intervenants et coûts-j'!$C$17:$AF$47,26,FALSE),IF(A38=2024,VLOOKUP(D38,'Intervenants et coûts-j'!$C$17:$AF$47,27,FALSE),IF(A38=2025,VLOOKUP(D38,'Intervenants et coûts-j'!$C$17:$AF$47,28,FALSE),IF(A38=2026,VLOOKUP(D38,'Intervenants et coûts-j'!$C$17:$AF$47,29,FALSE),IF(A38=2027,VLOOKUP(D38,'Intervenants et coûts-j'!$C$17:$AF$47,30,FALSE))))))))","v":""},"",{"$f":"IF(E38=\"\",\"\",VLOOKUP(C38,'Coûts-indirects'!$A$4:$T$33,20,FALSE)*T38)","v":""},{"$f":"IF(D38=\"\",\"\",IF(V38=\"\",0,VLOOKUP(D38,'Frais-mission'!$B$3:$F$32,5,FALSE)*V38))","v":""},{"$f":"IF(D38=\"\",\"\",IF(W38=\"\",0,VLOOKUP(D38,'Frais-mission'!$B$3:$G$32,6,FALSE)*W38))","v":""},{"$f":"IF(Z38=\"\",\"\",Z38*0.15)","v":""},{"$f":"IF(U38=\"\",\"\",Y38*U38*0.1)","v":""},{"$f":"IF(B38=\"\",\"\",IF(LEFT(B38,18)=\"Réunion collective\",350-SUMIF($B$6:B37,B38,$AH$6:AH37),\"\"))","v":""},"","",null,null,{"$f":"\"ListeIntervenants\"&VLOOKUP(C38,'Intervenants et coûts-j'!$B$5:$C$14,2,FALSE)","v":{"$error":"#N/A"}}]
[null,null,null,null,null,null,null,null,{"$f":"IF(D39=\"\",\"\",IF(A39=2022,VLOOKUP(D39,'Intervenants et coûts-j'!$C$17:$P$47,3,FALSE),IF(A39=2023,VLOOKUP(D39,'Intervenants et coûts-j'!$C$17:$P$47,4,FALSE),IF(A39=2024,VLOOKUP(D39,'Intervenants et coûts-j'!$C$17:$P$47,5,FALSE),IF(A39=2025,VLOOKUP(D39,'Intervenants et coûts-j'!$C$17:$P$47,6,FALSE),IF(A39=2026,VLOOKUP(D39,'Intervenants et coûts-j'!$C$17:$P$47,7,FALSE),IF(A39=2027,VLOOKUP(D39,'Intervenants et coûts-j'!$C$17:$P$47,8,FALSE))))))))","v":""},{"$f":"IF(D39=\"\",\"\",IF(A39=2022,VLOOKUP(D39,'Intervenants et coûts-j'!$C$17:$P$47,9,FALSE),IF(A39=2023,VLOOKUP(D39,'Intervenants et coûts-j'!$C$17:$P$47,10,FALSE),IF(A39=2024,VLOOKUP(D39,'Intervenants et coûts-j'!$C$17:$P$47,11,FALSE),IF(A39=2025,VLOOKUP(D39,'Intervenants et coûts-j'!$C$17:$P$47,12,FALSE),IF(A39=2026,VLOOKUP(D39,'Intervenants et coûts-j'!$C$17:$P$47,13,FALSE),IF(A39=2027,VLOOKUP(D39,'Intervenants et coûts-j'!$C$17:$P$47,14,FALSE))))))))","v":""},"",{"$f":"IF(E39=\"\",\"\",VLOOKUP(C39,'Coûts-indirects'!$A$4:$K$33,11,FALSE)*E39)","v":""},{"$f":"IF(D39=\"\",\"\",VLOOKUP(D39,'Frais-mission'!$B$3:$E$32,3,FALSE)*G39)","v":""},{"$f":"IF(D39=\"\",\"\",VLOOKUP(D39,'Frais-mission'!$B$3:$E$32,4,FALSE)*H39)","v":""},"","",{"$f":"IF(B39=\"\",\"\",IF(LEFT(B39,18)=\"Réunion collective\",350-SUMIF($B$6:B38,B39,$S$6:S38),\"\"))","v":""},"","","","","","",{"$f":"IF(D39=\"\",\"\",IF(A39=2022,VLOOKUP(D39,'Intervenants et coûts-j'!$C$17:$AF$47,19,FALSE),IF(A39=2023,VLOOKUP(D39,'Intervenants et coûts-j'!$C$17:$AF$47,20,FALSE),IF(A39=2024,VLOOKUP(D39,'Intervenants et coûts-j'!$C$17:$AF$47,21,FALSE),IF(A39=2025,VLOOKUP(D39,'Intervenants et coûts-j'!$C$17:$AF$47,22,FALSE),IF(A39=2026,VLOOKUP(D39,'Intervenants et coûts-j'!$C$17:$AF$47,23,FALSE),IF(A39=2027,VLOOKUP(D39,'Intervenants et coûts-j'!$C$17:$AF$47,24,FALSE))))))))","v":""},{"$f":"IF(D39=\"\",\"\",IF(A39=2022,VLOOKUP(D39,'Intervenants et coûts-j'!$C$17:$AF$47,25,FALSE),IF(A39=2023,VLOOKUP(D39,'Intervenants et coûts-j'!$C$17:$AF$47,26,FALSE),IF(A39=2024,VLOOKUP(D39,'Intervenants et coûts-j'!$C$17:$AF$47,27,FALSE),IF(A39=2025,VLOOKUP(D39,'Intervenants et coûts-j'!$C$17:$AF$47,28,FALSE),IF(A39=2026,VLOOKUP(D39,'Intervenants et coûts-j'!$C$17:$AF$47,29,FALSE),IF(A39=2027,VLOOKUP(D39,'Intervenants et coûts-j'!$C$17:$AF$47,30,FALSE))))))))","v":""},"",{"$f":"IF(E39=\"\",\"\",VLOOKUP(C39,'Coûts-indirects'!$A$4:$T$33,20,FALSE)*T39)","v":""},{"$f":"IF(D39=\"\",\"\",IF(V39=\"\",0,VLOOKUP(D39,'Frais-mission'!$B$3:$F$32,5,FALSE)*V39))","v":""},{"$f":"IF(D39=\"\",\"\",IF(W39=\"\",0,VLOOKUP(D39,'Frais-mission'!$B$3:$G$32,6,FALSE)*W39))","v":""},"","",{"$f":"IF(B39=\"\",\"\",IF(LEFT(B39,18)=\"Réunion collective\",350-SUMIF($B$6:B38,B39,$AH$6:AH38),\"\"))","v":""},"","",null,null,{"$f":"\"ListeIntervenants\"&VLOOKUP(C39,'Intervenants et coûts-j'!$B$5:$C$14,2,FALSE)","v":{"$error":"#N/A"}}]
[null,null,null,null,null,null,null,null,{"$f":"IF(D40=\"\",\"\",IF(A40=2022,VLOOKUP(D40,'Intervenants et coûts-j'!$C$17:$P$47,3,FALSE),IF(A40=2023,VLOOKUP(D40,'Intervenants et coûts-j'!$C$17:$P$47,4,FALSE),IF(A40=2024,VLOOKUP(D40,'Intervenants et coûts-j'!$C$17:$P$47,5,FALSE),IF(A40=2025,VLOOKUP(D40,'Intervenants et coûts-j'!$C$17:$P$47,6,FALSE),IF(A40=2026,VLOOKUP(D40,'Intervenants et coûts-j'!$C$17:$P$47,7,FALSE),IF(A40=2027,VLOOKUP(D40,'Intervenants et coûts-j'!$C$17:$P$47,8,FALSE))))))))","v":""},{"$f":"IF(D40=\"\",\"\",IF(A40=2022,VLOOKUP(D40,'Intervenants et coûts-j'!$C$17:$P$47,9,FALSE),IF(A40=2023,VLOOKUP(D40,'Intervenants et coûts-j'!$C$17:$P$47,10,FALSE),IF(A40=2024,VLOOKUP(D40,'Intervenants et coûts-j'!$C$17:$P$47,11,FALSE),IF(A40=2025,VLOOKUP(D40,'Intervenants et coûts-j'!$C$17:$P$47,12,FALSE),IF(A40=2026,VLOOKUP(D40,'Intervenants et coûts-j'!$C$17:$P$47,13,FALSE),IF(A40=2027,VLOOKUP(D40,'Intervenants et coûts-j'!$C$17:$P$47,14,FALSE))))))))","v":""},"",{"$f":"IF(E40=\"\",\"\",VLOOKUP(C40,'Coûts-indirects'!$A$4:$K$33,11,FALSE)*E40)","v":""},{"$f":"IF(D40=\"\",\"\",VLOOKUP(D40,'Frais-mission'!$B$3:$E$32,3,FALSE)*G40)","v":""},{"$f":"IF(D40=\"\",\"\",VLOOKUP(D40,'Frais-mission'!$B$3:$E$32,4,FALSE)*H40)","v":""},"","",{"$f":"IF(B40=\"\",\"\",IF(LEFT(B40,18)=\"Réunion collective\",350-SUMIF($B$6:B39,B40,$S$6:S39),\"\"))","v":""},"","","","","","",{"$f":"IF(D40=\"\",\"\",IF(A40=2022,VLOOKUP(D40,'Intervenants et coûts-j'!$C$17:$AF$47,19,FALSE),IF(A40=2023,VLOOKUP(D40,'Intervenants et coûts-j'!$C$17:$AF$47,20,FALSE),IF(A40=2024,VLOOKUP(D40,'Intervenants et coûts-j'!$C$17:$AF$47,21,FALSE),IF(A40=2025,VLOOKUP(D40,'Intervenants et coûts-j'!$C$17:$AF$47,22,FALSE),IF(A40=2026,VLOOKUP(D40,'Intervenants et coûts-j'!$C$17:$AF$47,23,FALSE),IF(A40=2027,VLOOKUP(D40,'Intervenants et coûts-j'!$C$17:$AF$47,24,FALSE))))))))","v":""},{"$f":"IF(D40=\"\",\"\",IF(A40=2022,VLOOKUP(D40,'Intervenants et coûts-j'!$C$17:$AF$47,25,FALSE),IF(A40=2023,VLOOKUP(D40,'Intervenants et coûts-j'!$C$17:$AF$47,26,FALSE),IF(A40=2024,VLOOKUP(D40,'Intervenants et coûts-j'!$C$17:$AF$47,27,FALSE),IF(A40=2025,VLOOKUP(D40,'Intervenants et coûts-j'!$C$17:$AF$47,28,FALSE),IF(A40=2026,VLOOKUP(D40,'Intervenants et coûts-j'!$C$17:$AF$47,29,FALSE),IF(A40=2027,VLOOKUP(D40,'Intervenants et coûts-j'!$C$17:$AF$47,30,FALSE))))))))","v":""},"",{"$f":"IF(E40=\"\",\"\",VLOOKUP(C40,'Coûts-indirects'!$A$4:$T$33,20,FALSE)*T40)","v":""},{"$f":"IF(D40=\"\",\"\",IF(V40=\"\",0,VLOOKUP(D40,'Frais-mission'!$B$3:$F$32,5,FALSE)*V40))","v":""},{"$f":"IF(D40=\"\",\"\",IF(W40=\"\",0,VLOOKUP(D40,'Frais-mission'!$B$3:$G$32,6,FALSE)*W40))","v":""},"","",{"$f":"IF(B40=\"\",\"\",IF(LEFT(B40,18)=\"Réunion collective\",350-SUMIF($B$6:B39,B40,$AH$6:AH39),\"\"))","v":""},"","",null,null,{"$f":"\"ListeIntervenants\"&VLOOKUP(C40,'Intervenants et coûts-j'!$B$5:$C$14,2,FALSE)","v":{"$error":"#N/A"}}]
[null,null,null,null,null,null,null,null,{"$f":"IF(D41=\"\",\"\",IF(A41=2022,VLOOKUP(D41,'Intervenants et coûts-j'!$C$17:$P$47,3,FALSE),IF(A41=2023,VLOOKUP(D41,'Intervenants et coûts-j'!$C$17:$P$47,4,FALSE),IF(A41=2024,VLOOKUP(D41,'Intervenants et coûts-j'!$C$17:$P$47,5,FALSE),IF(A41=2025,VLOOKUP(D41,'Intervenants et coûts-j'!$C$17:$P$47,6,FALSE),IF(A41=2026,VLOOKUP(D41,'Intervenants et coûts-j'!$C$17:$P$47,7,FALSE),IF(A41=2027,VLOOKUP(D41,'Intervenants et coûts-j'!$C$17:$P$47,8,FALSE))))))))","v":""},{"$f":"IF(D41=\"\",\"\",IF(A41=2022,VLOOKUP(D41,'Intervenants et coûts-j'!$C$17:$P$47,9,FALSE),IF(A41=2023,VLOOKUP(D41,'Intervenants et coûts-j'!$C$17:$P$47,10,FALSE),IF(A41=2024,VLOOKUP(D41,'Intervenants et coûts-j'!$C$17:$P$47,11,FALSE),IF(A41=2025,VLOOKUP(D41,'Intervenants et coûts-j'!$C$17:$P$47,12,FALSE),IF(A41=2026,VLOOKUP(D41,'Intervenants et coûts-j'!$C$17:$P$47,13,FALSE),IF(A41=2027,VLOOKUP(D41,'Intervenants et coûts-j'!$C$17:$P$47,14,FALSE))))))))","v":""},{"$f":"IF(E41=\"\",\"\",J41*E41)","v":""},{"$f":"IF(E41=\"\",\"\",VLOOKUP(C41,'Coûts-indirects'!$A$4:$K$33,11,FALSE)*E41)","v":""},{"$f":"IF(D41=\"\",\"\",VLOOKUP(D41,'Frais-mission'!$B$3:$E$32,3,FALSE)*G41)","v":""},{"$f":"IF(D41=\"\",\"\",VLOOKUP(D41,'Frais-mission'!$B$3:$E$32,4,FALSE)*H41)","v":""},"","",{"$f":"IF(B41=\"\",\"\",IF(LEFT(B41,18)=\"Réunion collective\",350-SUMIF($B$6:B40,B41,$S$6:S40),\"\"))","v":""},"","",{"$f":"IF(E41=\"\",\"\",E41)","v":""},"","","",{"$f":"IF(D41=\"\",\"\",IF(A41=2022,VLOOKUP(D41,'Intervenants et coûts-j'!$C$17:$AF$47,19,FALSE),IF(A41=2023,VLOOKUP(D41,'Intervenants et coûts-j'!$C$17:$AF$47,20,FALSE),IF(A41=2024,VLOOKUP(D41,'Intervenants et coûts-j'!$C$17:$AF$47,21,FALSE),IF(A41=2025,VLOOKUP(D41,'Intervenants et coûts-j'!$C$17:$AF$47,22,FALSE),IF(A41=2026,VLOOKUP(D41,'Intervenants et coûts-j'!$C$17:$AF$47,23,FALSE),IF(A41=2027,VLOOKUP(D41,'Intervenants et coûts-j'!$C$17:$AF$47,24,FALSE))))))))","v":""},{"$f":"IF(D41=\"\",\"\",IF(A41=2022,VLOOKUP(D41,'Intervenants et coûts-j'!$C$17:$AF$47,25,FALSE),IF(A41=2023,VLOOKUP(D41,'Intervenants et coûts-j'!$C$17:$AF$47,26,FALSE),IF(A41=2024,VLOOKUP(D41,'Intervenants et coûts-j'!$C$17:$AF$47,27,FALSE),IF(A41=2025,VLOOKUP(D41,'Intervenants et coûts-j'!$C$17:$AF$47,28,FALSE),IF(A41=2026,VLOOKUP(D41,'Intervenants et coûts-j'!$C$17:$AF$47,29,FALSE),IF(A41=2027,VLOOKUP(D41,'Intervenants et coûts-j'!$C$17:$AF$47,30,FALSE))))))))","v":""},"",{"$f":"IF(E41=\"\",\"\",VLOOKUP(C41,'Coûts-indirects'!$A$4:$T$33,20,FALSE)*T41)","v":""},{"$f":"IF(D41=\"\",\"\",IF(V41=\"\",0,VLOOKUP(D41,'Frais-mission'!$B$3:$F$32,5,FALSE)*V41))","v":""},{"$f":"IF(D41=\"\",\"\",IF(W41=\"\",0,VLOOKUP(D41,'Frais-mission'!$B$3:$G$32,6,FALSE)*W41))","v":""},"","",{"$f":"IF(B41=\"\",\"\",IF(LEFT(B41,18)=\"Réunion collective\",350-SUMIF($B$6:B40,B41,$AH$6:AH40),\"\"))","v":""},"","",null,null,{"$f":"\"ListeIntervenants\"&VLOOKUP(C41,'Intervenants et coûts-j'!$B$5:$C$14,2,FALSE)","v":{"$error":"#N/A"}}]
[null,null,null,null,null,null,null,null,{"$f":"IF(D42=\"\",\"\",IF(A42=2022,VLOOKUP(D42,'Intervenants et coûts-j'!$C$17:$P$47,3,FALSE),IF(A42=2023,VLOOKUP(D42,'Intervenants et coûts-j'!$C$17:$P$47,4,FALSE),IF(A42=2024,VLOOKUP(D42,'Intervenants et coûts-j'!$C$17:$P$47,5,FALSE),IF(A42=2025,VLOOKUP(D42,'Intervenants et coûts-j'!$C$17:$P$47,6,FALSE),IF(A42=2026,VLOOKUP(D42,'Intervenants et coûts-j'!$C$17:$P$47,7,FALSE),IF(A42=2027,VLOOKUP(D42,'Intervenants et coûts-j'!$C$17:$P$47,8,FALSE))))))))","v":""},{"$f":"IF(D42=\"\",\"\",IF(A42=2022,VLOOKUP(D42,'Intervenants et coûts-j'!$C$17:$P$47,9,FALSE),IF(A42=2023,VLOOKUP(D42,'Intervenants et coûts-j'!$C$17:$P$47,10,FALSE),IF(A42=2024,VLOOKUP(D42,'Intervenants et coûts-j'!$C$17:$P$47,11,FALSE),IF(A42=2025,VLOOKUP(D42,'Intervenants et coûts-j'!$C$17:$P$47,12,FALSE),IF(A42=2026,VLOOKUP(D42,'Intervenants et coûts-j'!$C$17:$P$47,13,FALSE),IF(A42=2027,VLOOKUP(D42,'Intervenants et coûts-j'!$C$17:$P$47,14,FALSE))))))))","v":""},"",{"$f":"IF(E42=\"\",\"\",VLOOKUP(C42,'Coûts-indirects'!$A$4:$K$33,11,FALSE)*E42)","v":""},{"$f":"IF(D42=\"\",\"\",VLOOKUP(D42,'Frais-mission'!$B$3:$E$32,3,FALSE)*G42)","v":""},{"$f":"IF(D42=\"\",\"\",VLOOKUP(D42,'Frais-mission'!$B$3:$E$32,4,FALSE)*H42)","v":""},"","",{"$f":"IF(B42=\"\",\"\",IF(LEFT(B42,18)=\"Réunion collective\",350-SUMIF($B$6:B41,B42,$S$6:S41),\"\"))","v":""},"","","","","","",{"$f":"IF(D42=\"\",\"\",IF(A42=2022,VLOOKUP(D42,'Intervenants et coûts-j'!$C$17:$AF$47,19,FALSE),IF(A42=2023,VLOOKUP(D42,'Intervenants et coûts-j'!$C$17:$AF$47,20,FALSE),IF(A42=2024,VLOOKUP(D42,'Intervenants et coûts-j'!$C$17:$AF$47,21,FALSE),IF(A42=2025,VLOOKUP(D42,'Intervenants et coûts-j'!$C$17:$AF$47,22,FALSE),IF(A42=2026,VLOOKUP(D42,'Intervenants et coûts-j'!$C$17:$AF$47,23,FALSE),IF(A42=2027,VLOOKUP(D42,'Intervenants et coûts-j'!$C$17:$AF$47,24,FALSE))))))))","v":""},{"$f":"IF(D42=\"\",\"\",IF(A42=2022,VLOOKUP(D42,'Intervenants et coûts-j'!$C$17:$AF$47,25,FALSE),IF(A42=2023,VLOOKUP(D42,'Intervenants et coûts-j'!$C$17:$AF$47,26,FALSE),IF(A42=2024,VLOOKUP(D42,'Intervenants et coûts-j'!$C$17:$AF$47,27,FALSE),IF(A42=2025,VLOOKUP(D42,'Intervenants et coûts-j'!$C$17:$AF$47,28,FALSE),IF(A42=2026,VLOOKUP(D42,'Intervenants et coûts-j'!$C$17:$AF$47,29,FALSE),IF(A42=2027,VLOOKUP(D42,'Intervenants et coûts-j'!$C$17:$AF$47,30,FALSE))))))))","v":""},"",{"$f":"IF(E42=\"\",\"\",VLOOKUP(C42,'Coûts-indirects'!$A$4:$T$33,20,FALSE)*T42)","v":""},{"$f":"IF(D42=\"\",\"\",IF(V42=\"\",0,VLOOKUP(D42,'Frais-mission'!$B$3:$F$32,5,FALSE)*V42))","v":""},{"$f":"IF(D42=\"\",\"\",IF(W42=\"\",0,VLOOKUP(D42,'Frais-mission'!$B$3:$G$32,6,FALSE)*W42))","v":""},"","",{"$f":"IF(B42=\"\",\"\",IF(LEFT(B42,18)=\"Réunion collective\",350-SUMIF($B$6:B41,B42,$AH$6:AH41),\"\"))","v":""},"","",null,null,{"$f":"\"ListeIntervenants\"&VLOOKUP(C42,'Intervenants et coûts-j'!$B$5:$C$14,2,FALSE)","v":{"$error":"#N/A"}}]
[null,null,null,null,null,null,null,null,{"$f":"IF(D43=\"\",\"\",IF(A43=2022,VLOOKUP(D43,'Intervenants et coûts-j'!$C$17:$P$47,3,FALSE),IF(A43=2023,VLOOKUP(D43,'Intervenants et coûts-j'!$C$17:$P$47,4,FALSE),IF(A43=2024,VLOOKUP(D43,'Intervenants et coûts-j'!$C$17:$P$47,5,FALSE),IF(A43=2025,VLOOKUP(D43,'Intervenants et coûts-j'!$C$17:$P$47,6,FALSE),IF(A43=2026,VLOOKUP(D43,'Intervenants et coûts-j'!$C$17:$P$47,7,FALSE),IF(A43=2027,VLOOKUP(D43,'Intervenants et coûts-j'!$C$17:$P$47,8,FALSE))))))))","v":""},{"$f":"IF(D43=\"\",\"\",IF(A43=2022,VLOOKUP(D43,'Intervenants et coûts-j'!$C$17:$P$47,9,FALSE),IF(A43=2023,VLOOKUP(D43,'Intervenants et coûts-j'!$C$17:$P$47,10,FALSE),IF(A43=2024,VLOOKUP(D43,'Intervenants et coûts-j'!$C$17:$P$47,11,FALSE),IF(A43=2025,VLOOKUP(D43,'Intervenants et coûts-j'!$C$17:$P$47,12,FALSE),IF(A43=2026,VLOOKUP(D43,'Intervenants et coûts-j'!$C$17:$P$47,13,FALSE),IF(A43=2027,VLOOKUP(D43,'Intervenants et coûts-j'!$C$17:$P$47,14,FALSE))))))))","v":""},"",{"$f":"IF(E43=\"\",\"\",VLOOKUP(C43,'Coûts-indirects'!$A$4:$K$33,11,FALSE)*E43)","v":""},{"$f":"IF(D43=\"\",\"\",VLOOKUP(D43,'Frais-mission'!$B$3:$E$32,3,FALSE)*G43)","v":""},{"$f":"IF(D43=\"\",\"\",VLOOKUP(D43,'Frais-mission'!$B$3:$E$32,4,FALSE)*H43)","v":""},"","",{"$f":"IF(B43=\"\",\"\",IF(LEFT(B43,18)=\"Réunion collective\",350-SUMIF($B$6:B42,B43,$S$6:S42),\"\"))","v":""},"","","","","","",{"$f":"IF(D43=\"\",\"\",IF(A43=2022,VLOOKUP(D43,'Intervenants et coûts-j'!$C$17:$AF$47,19,FALSE),IF(A43=2023,VLOOKUP(D43,'Intervenants et coûts-j'!$C$17:$AF$47,20,FALSE),IF(A43=2024,VLOOKUP(D43,'Intervenants et coûts-j'!$C$17:$AF$47,21,FALSE),IF(A43=2025,VLOOKUP(D43,'Intervenants et coûts-j'!$C$17:$AF$47,22,FALSE),IF(A43=2026,VLOOKUP(D43,'Intervenants et coûts-j'!$C$17:$AF$47,23,FALSE),IF(A43=2027,VLOOKUP(D43,'Intervenants et coûts-j'!$C$17:$AF$47,24,FALSE))))))))","v":""},{"$f":"IF(D43=\"\",\"\",IF(A43=2022,VLOOKUP(D43,'Intervenants et coûts-j'!$C$17:$AF$47,25,FALSE),IF(A43=2023,VLOOKUP(D43,'Intervenants et coûts-j'!$C$17:$AF$47,26,FALSE),IF(A43=2024,VLOOKUP(D43,'Intervenants et coûts-j'!$C$17:$AF$47,27,FALSE),IF(A43=2025,VLOOKUP(D43,'Intervenants et coûts-j'!$C$17:$AF$47,28,FALSE),IF(A43=2026,VLOOKUP(D43,'Intervenants et coûts-j'!$C$17:$AF$47,29,FALSE),IF(A43=2027,VLOOKUP(D43,'Intervenants et coûts-j'!$C$17:$AF$47,30,FALSE))))))))","v":""},"",{"$f":"IF(E43=\"\",\"\",VLOOKUP(C43,'Coûts-indirects'!$A$4:$T$33,20,FALSE)*T43)","v":""},{"$f":"IF(D43=\"\",\"\",IF(V43=\"\",0,VLOOKUP(D43,'Frais-mission'!$B$3:$F$32,5,FALSE)*V43))","v":""},{"$f":"IF(D43=\"\",\"\",IF(W43=\"\",0,VLOOKUP(D43,'Frais-mission'!$B$3:$G$32,6,FALSE)*W43))","v":""},"","",{"$f":"IF(B43=\"\",\"\",IF(LEFT(B43,18)=\"Réunion collective\",350-SUMIF($B$6:B42,B43,$AH$6:AH42),\"\"))","v":""},"","",null,null,{"$f":"\"ListeIntervenants\"&VLOOKUP(C43,'Intervenants et coûts-j'!$B$5:$C$14,2,FALSE)","v":{"$error":"#N/A"}}]
[null,null,null,null,null,null,null,null,{"$f":"IF(D44=\"\",\"\",IF(A44=2022,VLOOKUP(D44,'Intervenants et coûts-j'!$C$17:$P$47,3,FALSE),IF(A44=2023,VLOOKUP(D44,'Intervenants et coûts-j'!$C$17:$P$47,4,FALSE),IF(A44=2024,VLOOKUP(D44,'Intervenants et coûts-j'!$C$17:$P$47,5,FALSE),IF(A44=2025,VLOOKUP(D44,'Intervenants et coûts-j'!$C$17:$P$47,6,FALSE),IF(A44=2026,VLOOKUP(D44,'Intervenants et coûts-j'!$C$17:$P$47,7,FALSE),IF(A44=2027,VLOOKUP(D44,'Intervenants et coûts-j'!$C$17:$P$47,8,FALSE))))))))","v":""},{"$f":"IF(D44=\"\",\"\",IF(A44=2022,VLOOKUP(D44,'Intervenants et coûts-j'!$C$17:$P$47,9,FALSE),IF(A44=2023,VLOOKUP(D44,'Intervenants et coûts-j'!$C$17:$P$47,10,FALSE),IF(A44=2024,VLOOKUP(D44,'Intervenants et coûts-j'!$C$17:$P$47,11,FALSE),IF(A44=2025,VLOOKUP(D44,'Intervenants et coûts-j'!$C$17:$P$47,12,FALSE),IF(A44=2026,VLOOKUP(D44,'Intervenants et coûts-j'!$C$17:$P$47,13,FALSE),IF(A44=2027,VLOOKUP(D44,'Intervenants et coûts-j'!$C$17:$P$47,14,FALSE))))))))","v":""},"",{"$f":"IF(E44=\"\",\"\",VLOOKUP(C44,'Coûts-indirects'!$A$4:$K$33,11,FALSE)*E44)","v":""},{"$f":"IF(D44=\"\",\"\",VLOOKUP(D44,'Frais-mission'!$B$3:$E$32,3,FALSE)*G44)","v":""},{"$f":"IF(D44=\"\",\"\",VLOOKUP(D44,'Frais-mission'!$B$3:$E$32,4,FALSE)*H44)","v":""},"","",{"$f":"IF(B44=\"\",\"\",IF(LEFT(B44,18)=\"Réunion collective\",350-SUMIF($B$6:B43,B44,$S$6:S43),\"\"))","v":""},"","","","","","",{"$f":"IF(D44=\"\",\"\",IF(A44=2022,VLOOKUP(D44,'Intervenants et coûts-j'!$C$17:$AF$47,19,FALSE),IF(A44=2023,VLOOKUP(D44,'Intervenants et coûts-j'!$C$17:$AF$47,20,FALSE),IF(A44=2024,VLOOKUP(D44,'Intervenants et coûts-j'!$C$17:$AF$47,21,FALSE),IF(A44=2025,VLOOKUP(D44,'Intervenants et coûts-j'!$C$17:$AF$47,22,FALSE),IF(A44=2026,VLOOKUP(D44,'Intervenants et coûts-j'!$C$17:$AF$47,23,FALSE),IF(A44=2027,VLOOKUP(D44,'Intervenants et coûts-j'!$C$17:$AF$47,24,FALSE))))))))","v":""},{"$f":"IF(D44=\"\",\"\",IF(A44=2022,VLOOKUP(D44,'Intervenants et coûts-j'!$C$17:$AF$47,25,FALSE),IF(A44=2023,VLOOKUP(D44,'Intervenants et coûts-j'!$C$17:$AF$47,26,FALSE),IF(A44=2024,VLOOKUP(D44,'Intervenants et coûts-j'!$C$17:$AF$47,27,FALSE),IF(A44=2025,VLOOKUP(D44,'Intervenants et coûts-j'!$C$17:$AF$47,28,FALSE),IF(A44=2026,VLOOKUP(D44,'Intervenants et coûts-j'!$C$17:$AF$47,29,FALSE),IF(A44=2027,VLOOKUP(D44,'Intervenants et coûts-j'!$C$17:$AF$47,30,FALSE))))))))","v":""},"",{"$f":"IF(E44=\"\",\"\",VLOOKUP(C44,'Coûts-indirects'!$A$4:$T$33,20,FALSE)*T44)","v":""},{"$f":"IF(D44=\"\",\"\",IF(V44=\"\",0,VLOOKUP(D44,'Frais-mission'!$B$3:$F$32,5,FALSE)*V44))","v":""},{"$f":"IF(D44=\"\",\"\",IF(W44=\"\",0,VLOOKUP(D44,'Frais-mission'!$B$3:$G$32,6,FALSE)*W44))","v":""},"","",{"$f":"IF(B44=\"\",\"\",IF(LEFT(B44,18)=\"Réunion collective\",350-SUMIF($B$6:B43,B44,$AH$6:AH43),\"\"))","v":""},"","",null,null,{"$f":"\"ListeIntervenants\"&VLOOKUP(C44,'Intervenants et coûts-j'!$B$5:$C$14,2,FALSE)","v":{"$error":"#N/A"}}]
[null,null,null,null,null,null,null,null,{"$f":"IF(D45=\"\",\"\",IF(A45=2022,VLOOKUP(D45,'Intervenants et coûts-j'!$C$17:$P$47,3,FALSE),IF(A45=2023,VLOOKUP(D45,'Intervenants et coûts-j'!$C$17:$P$47,4,FALSE),IF(A45=2024,VLOOKUP(D45,'Intervenants et coûts-j'!$C$17:$P$47,5,FALSE),IF(A45=2025,VLOOKUP(D45,'Intervenants et coûts-j'!$C$17:$P$47,6,FALSE),IF(A45=2026,VLOOKUP(D45,'Intervenants et coûts-j'!$C$17:$P$47,7,FALSE),IF(A45=2027,VLOOKUP(D45,'Intervenants et coûts-j'!$C$17:$P$47,8,FALSE))))))))","v":""},{"$f":"IF(D45=\"\",\"\",IF(A45=2022,VLOOKUP(D45,'Intervenants et coûts-j'!$C$17:$P$47,9,FALSE),IF(A45=2023,VLOOKUP(D45,'Intervenants et coûts-j'!$C$17:$P$47,10,FALSE),IF(A45=2024,VLOOKUP(D45,'Intervenants et coûts-j'!$C$17:$P$47,11,FALSE),IF(A45=2025,VLOOKUP(D45,'Intervenants et coûts-j'!$C$17:$P$47,12,FALSE),IF(A45=2026,VLOOKUP(D45,'Intervenants et coûts-j'!$C$17:$P$47,13,FALSE),IF(A45=2027,VLOOKUP(D45,'Intervenants et coûts-j'!$C$17:$P$47,14,FALSE))))))))","v":""},"",{"$f":"IF(E45=\"\",\"\",VLOOKUP(C45,'Coûts-indirects'!$A$4:$K$33,11,FALSE)*E45)","v":""},{"$f":"IF(D45=\"\",\"\",VLOOKUP(D45,'Frais-mission'!$B$3:$E$32,3,FALSE)*G45)","v":""},{"$f":"IF(D45=\"\",\"\",VLOOKUP(D45,'Frais-mission'!$B$3:$E$32,4,FALSE)*H45)","v":""},"","",{"$f":"IF(B45=\"\",\"\",IF(LEFT(B45,18)=\"Réunion collective\",350-SUMIF($B$6:B44,B45,$S$6:S44),\"\"))","v":""},"","","","","","",{"$f":"IF(D45=\"\",\"\",IF(A45=2022,VLOOKUP(D45,'Intervenants et coûts-j'!$C$17:$AF$47,19,FALSE),IF(A45=2023,VLOOKUP(D45,'Intervenants et coûts-j'!$C$17:$AF$47,20,FALSE),IF(A45=2024,VLOOKUP(D45,'Intervenants et coûts-j'!$C$17:$AF$47,21,FALSE),IF(A45=2025,VLOOKUP(D45,'Intervenants et coûts-j'!$C$17:$AF$47,22,FALSE),IF(A45=2026,VLOOKUP(D45,'Intervenants et coûts-j'!$C$17:$AF$47,23,FALSE),IF(A45=2027,VLOOKUP(D45,'Intervenants et coûts-j'!$C$17:$AF$47,24,FALSE))))))))","v":""},{"$f":"IF(D45=\"\",\"\",IF(A45=2022,VLOOKUP(D45,'Intervenants et coûts-j'!$C$17:$AF$47,25,FALSE),IF(A45=2023,VLOOKUP(D45,'Intervenants et coûts-j'!$C$17:$AF$47,26,FALSE),IF(A45=2024,VLOOKUP(D45,'Intervenants et coûts-j'!$C$17:$AF$47,27,FALSE),IF(A45=2025,VLOOKUP(D45,'Intervenants et coûts-j'!$C$17:$AF$47,28,FALSE),IF(A45=2026,VLOOKUP(D45,'Intervenants et coûts-j'!$C$17:$AF$47,29,FALSE),IF(A45=2027,VLOOKUP(D45,'Intervenants et coûts-j'!$C$17:$AF$47,30,FALSE))))))))","v":""},"",{"$f":"IF(E45=\"\",\"\",VLOOKUP(C45,'Coûts-indirects'!$A$4:$T$33,20,FALSE)*T45)","v":""},{"$f":"IF(D45=\"\",\"\",IF(V45=\"\",0,VLOOKUP(D45,'Frais-mission'!$B$3:$F$32,5,FALSE)*V45))","v":""},{"$f":"IF(D45=\"\",\"\",IF(W45=\"\",0,VLOOKUP(D45,'Frais-mission'!$B$3:$G$32,6,FALSE)*W45))","v":""},"","",{"$f":"IF(B45=\"\",\"\",IF(LEFT(B45,18)=\"Réunion collective\",350-SUMIF($B$6:B44,B45,$AH$6:AH44),\"\"))","v":""},"","",null,null,{"$f":"\"ListeIntervenants\"&VLOOKUP(C45,'Intervenants et coûts-j'!$B$5:$C$14,2,FALSE)","v":{"$error":"#N/A"}}]
[null,null,null,null,null,null,null,null,{"$f":"IF(D46=\"\",\"\",IF(A46=2022,VLOOKUP(D46,'Intervenants et coûts-j'!$C$17:$P$47,3,FALSE),IF(A46=2023,VLOOKUP(D46,'Intervenants et coûts-j'!$C$17:$P$47,4,FALSE),IF(A46=2024,VLOOKUP(D46,'Intervenants et coûts-j'!$C$17:$P$47,5,FALSE),IF(A46=2025,VLOOKUP(D46,'Intervenants et coûts-j'!$C$17:$P$47,6,FALSE),IF(A46=2026,VLOOKUP(D46,'Intervenants et coûts-j'!$C$17:$P$47,7,FALSE),IF(A46=2027,VLOOKUP(D46,'Intervenants et coûts-j'!$C$17:$P$47,8,FALSE))))))))","v":""},{"$f":"IF(D46=\"\",\"\",IF(A46=2022,VLOOKUP(D46,'Intervenants et coûts-j'!$C$17:$P$47,9,FALSE),IF(A46=2023,VLOOKUP(D46,'Intervenants et coûts-j'!$C$17:$P$47,10,FALSE),IF(A46=2024,VLOOKUP(D46,'Intervenants et coûts-j'!$C$17:$P$47,11,FALSE),IF(A46=2025,VLOOKUP(D46,'Intervenants et coûts-j'!$C$17:$P$47,12,FALSE),IF(A46=2026,VLOOKUP(D46,'Intervenants et coûts-j'!$C$17:$P$47,13,FALSE),IF(A46=2027,VLOOKUP(D46,'Intervenants et coûts-j'!$C$17:$P$47,14,FALSE))))))))","v":""},"",{"$f":"IF(E46=\"\",\"\",VLOOKUP(C46,'Coûts-indirects'!$A$4:$K$33,11,FALSE)*E46)","v":""},{"$f":"IF(D46=\"\",\"\",VLOOKUP(D46,'Frais-mission'!$B$3:$E$32,3,FALSE)*G46)","v":""},{"$f":"IF(D46=\"\",\"\",VLOOKUP(D46,'Frais-mission'!$B$3:$E$32,4,FALSE)*H46)","v":""},"","",{"$f":"IF(B46=\"\",\"\",IF(LEFT(B46,18)=\"Réunion collective\",350-SUMIF($B$6:B45,B46,$S$6:S45),\"\"))","v":""},"","","","","","",{"$f":"IF(D46=\"\",\"\",IF(A46=2022,VLOOKUP(D46,'Intervenants et coûts-j'!$C$17:$AF$47,19,FALSE),IF(A46=2023,VLOOKUP(D46,'Intervenants et coûts-j'!$C$17:$AF$47,20,FALSE),IF(A46=2024,VLOOKUP(D46,'Intervenants et coûts-j'!$C$17:$AF$47,21,FALSE),IF(A46=2025,VLOOKUP(D46,'Intervenants et coûts-j'!$C$17:$AF$47,22,FALSE),IF(A46=2026,VLOOKUP(D46,'Intervenants et coûts-j'!$C$17:$AF$47,23,FALSE),IF(A46=2027,VLOOKUP(D46,'Intervenants et coûts-j'!$C$17:$AF$47,24,FALSE))))))))","v":""},{"$f":"IF(D46=\"\",\"\",IF(A46=2022,VLOOKUP(D46,'Intervenants et coûts-j'!$C$17:$AF$47,25,FALSE),IF(A46=2023,VLOOKUP(D46,'Intervenants et coûts-j'!$C$17:$AF$47,26,FALSE),IF(A46=2024,VLOOKUP(D46,'Intervenants et coûts-j'!$C$17:$AF$47,27,FALSE),IF(A46=2025,VLOOKUP(D46,'Intervenants et coûts-j'!$C$17:$AF$47,28,FALSE),IF(A46=2026,VLOOKUP(D46,'Intervenants et coûts-j'!$C$17:$AF$47,29,FALSE),IF(A46=2027,VLOOKUP(D46,'Intervenants et coûts-j'!$C$17:$AF$47,30,FALSE))))))))","v":""},"",{"$f":"IF(E46=\"\",\"\",VLOOKUP(C46,'Coûts-indirects'!$A$4:$T$33,20,FALSE)*T46)","v":""},{"$f":"IF(D46=\"\",\"\",IF(V46=\"\",0,VLOOKUP(D46,'Frais-mission'!$B$3:$F$32,5,FALSE)*V46))","v":""},{"$f":"IF(D46=\"\",\"\",IF(W46=\"\",0,VLOOKUP(D46,'Frais-mission'!$B$3:$G$32,6,FALSE)*W46))","v":""},"","",{"$f":"IF(B46=\"\",\"\",IF(LEFT(B46,18)=\"Réunion collective\",350-SUMIF($B$6:B45,B46,$AH$6:AH45),\"\"))","v":""},"","",null,null,{"$f":"\"ListeIntervenants\"&VLOOKUP(C46,'Intervenants et coûts-j'!$B$5:$C$14,2,FALSE)","v":{"$error":"#N/A"}}]
[null,null,null,null,null,null,null,null,{"$f":"IF(D47=\"\",\"\",IF(A47=2022,VLOOKUP(D47,'Intervenants et coûts-j'!$C$17:$P$47,3,FALSE),IF(A47=2023,VLOOKUP(D47,'Intervenants et coûts-j'!$C$17:$P$47,4,FALSE),IF(A47=2024,VLOOKUP(D47,'Intervenants et coûts-j'!$C$17:$P$47,5,FALSE),IF(A47=2025,VLOOKUP(D47,'Intervenants et coûts-j'!$C$17:$P$47,6,FALSE),IF(A47=2026,VLOOKUP(D47,'Intervenants et coûts-j'!$C$17:$P$47,7,FALSE),IF(A47=2027,VLOOKUP(D47,'Intervenants et coûts-j'!$C$17:$P$47,8,FALSE))))))))","v":""},{"$f":"IF(D47=\"\",\"\",IF(A47=2022,VLOOKUP(D47,'Intervenants et coûts-j'!$C$17:$P$47,9,FALSE),IF(A47=2023,VLOOKUP(D47,'Intervenants et coûts-j'!$C$17:$P$47,10,FALSE),IF(A47=2024,VLOOKUP(D47,'Intervenants et coûts-j'!$C$17:$P$47,11,FALSE),IF(A47=2025,VLOOKUP(D47,'Intervenants et coûts-j'!$C$17:$P$47,12,FALSE),IF(A47=2026,VLOOKUP(D47,'Intervenants et coûts-j'!$C$17:$P$47,13,FALSE),IF(A47=2027,VLOOKUP(D47,'Intervenants et coûts-j'!$C$17:$P$47,14,FALSE))))))))","v":""},"",{"$f":"IF(E47=\"\",\"\",VLOOKUP(C47,'Coûts-indirects'!$A$4:$K$33,11,FALSE)*E47)","v":""},{"$f":"IF(D47=\"\",\"\",VLOOKUP(D47,'Frais-mission'!$B$3:$E$32,3,FALSE)*G47)","v":""},{"$f":"IF(D47=\"\",\"\",VLOOKUP(D47,'Frais-mission'!$B$3:$E$32,4,FALSE)*H47)","v":""},"","",{"$f":"IF(B47=\"\",\"\",IF(LEFT(B47,18)=\"Réunion collective\",350-SUMIF($B$6:B46,B47,$S$6:S46),\"\"))","v":""},"","","","","","",{"$f":"IF(D47=\"\",\"\",IF(A47=2022,VLOOKUP(D47,'Intervenants et coûts-j'!$C$17:$AF$47,19,FALSE),IF(A47=2023,VLOOKUP(D47,'Intervenants et coûts-j'!$C$17:$AF$47,20,FALSE),IF(A47=2024,VLOOKUP(D47,'Intervenants et coûts-j'!$C$17:$AF$47,21,FALSE),IF(A47=2025,VLOOKUP(D47,'Intervenants et coûts-j'!$C$17:$AF$47,22,FALSE),IF(A47=2026,VLOOKUP(D47,'Intervenants et coûts-j'!$C$17:$AF$47,23,FALSE),IF(A47=2027,VLOOKUP(D47,'Intervenants et coûts-j'!$C$17:$AF$47,24,FALSE))))))))","v":""},{"$f":"IF(D47=\"\",\"\",IF(A47=2022,VLOOKUP(D47,'Intervenants et coûts-j'!$C$17:$AF$47,25,FALSE),IF(A47=2023,VLOOKUP(D47,'Intervenants et coûts-j'!$C$17:$AF$47,26,FALSE),IF(A47=2024,VLOOKUP(D47,'Intervenants et coûts-j'!$C$17:$AF$47,27,FALSE),IF(A47=2025,VLOOKUP(D47,'Intervenants et coûts-j'!$C$17:$AF$47,28,FALSE),IF(A47=2026,VLOOKUP(D47,'Intervenants et coûts-j'!$C$17:$AF$47,29,FALSE),IF(A47=2027,VLOOKUP(D47,'Intervenants et coûts-j'!$C$17:$AF$47,30,FALSE))))))))","v":""},"",{"$f":"IF(E47=\"\",\"\",VLOOKUP(C47,'Coûts-indirects'!$A$4:$T$33,20,FALSE)*T47)","v":""},{"$f":"IF(D47=\"\",\"\",IF(V47=\"\",0,VLOOKUP(D47,'Frais-mission'!$B$3:$F$32,5,FALSE)*V47))","v":""},{"$f":"IF(D47=\"\",\"\",IF(W47=\"\",0,VLOOKUP(D47,'Frais-mission'!$B$3:$G$32,6,FALSE)*W47))","v":""},"","",{"$f":"IF(B47=\"\",\"\",IF(LEFT(B47,18)=\"Réunion collective\",350-SUMIF($B$6:B46,B47,$AH$6:AH46),\"\"))","v":""},"","",null,null,{"$f":"\"ListeIntervenants\"&VLOOKUP(C47,'Intervenants et coûts-j'!$B$5:$C$14,2,FALSE)","v":{"$error":"#N/A"}}]
[null,null,null,null,null,null,null,null,{"$f":"IF(D48=\"\",\"\",IF(A48=2022,VLOOKUP(D48,'Intervenants et coûts-j'!$C$17:$P$47,3,FALSE),IF(A48=2023,VLOOKUP(D48,'Intervenants et coûts-j'!$C$17:$P$47,4,FALSE),IF(A48=2024,VLOOKUP(D48,'Intervenants et coûts-j'!$C$17:$P$47,5,FALSE),IF(A48=2025,VLOOKUP(D48,'Intervenants et coûts-j'!$C$17:$P$47,6,FALSE),IF(A48=2026,VLOOKUP(D48,'Intervenants et coûts-j'!$C$17:$P$47,7,FALSE),IF(A48=2027,VLOOKUP(D48,'Intervenants et coûts-j'!$C$17:$P$47,8,FALSE))))))))","v":""},{"$f":"IF(D48=\"\",\"\",IF(A48=2022,VLOOKUP(D48,'Intervenants et coûts-j'!$C$17:$P$47,9,FALSE),IF(A48=2023,VLOOKUP(D48,'Intervenants et coûts-j'!$C$17:$P$47,10,FALSE),IF(A48=2024,VLOOKUP(D48,'Intervenants et coûts-j'!$C$17:$P$47,11,FALSE),IF(A48=2025,VLOOKUP(D48,'Intervenants et coûts-j'!$C$17:$P$47,12,FALSE),IF(A48=2026,VLOOKUP(D48,'Intervenants et coûts-j'!$C$17:$P$47,13,FALSE),IF(A48=2027,VLOOKUP(D48,'Intervenants et coûts-j'!$C$17:$P$47,14,FALSE))))))))","v":""},"",{"$f":"IF(E48=\"\",\"\",VLOOKUP(C48,'Coûts-indirects'!$A$4:$K$33,11,FALSE)*E48)","v":""},{"$f":"IF(D48=\"\",\"\",VLOOKUP(D48,'Frais-mission'!$B$3:$E$32,3,FALSE)*G48)","v":""},{"$f":"IF(D48=\"\",\"\",VLOOKUP(D48,'Frais-mission'!$B$3:$E$32,4,FALSE)*H48)","v":""},"","",{"$f":"IF(B48=\"\",\"\",IF(LEFT(B48,18)=\"Réunion collective\",350-SUMIF($B$6:B47,B48,$S$6:S47),\"\"))","v":""},"","","","","","",{"$f":"IF(D48=\"\",\"\",IF(A48=2022,VLOOKUP(D48,'Intervenants et coûts-j'!$C$17:$AF$47,19,FALSE),IF(A48=2023,VLOOKUP(D48,'Intervenants et coûts-j'!$C$17:$AF$47,20,FALSE),IF(A48=2024,VLOOKUP(D48,'Intervenants et coûts-j'!$C$17:$AF$47,21,FALSE),IF(A48=2025,VLOOKUP(D48,'Intervenants et coûts-j'!$C$17:$AF$47,22,FALSE),IF(A48=2026,VLOOKUP(D48,'Intervenants et coûts-j'!$C$17:$AF$47,23,FALSE),IF(A48=2027,VLOOKUP(D48,'Intervenants et coûts-j'!$C$17:$AF$47,24,FALSE))))))))","v":""},{"$f":"IF(D48=\"\",\"\",IF(A48=2022,VLOOKUP(D48,'Intervenants et coûts-j'!$C$17:$AF$47,25,FALSE),IF(A48=2023,VLOOKUP(D48,'Intervenants et coûts-j'!$C$17:$AF$47,26,FALSE),IF(A48=2024,VLOOKUP(D48,'Intervenants et coûts-j'!$C$17:$AF$47,27,FALSE),IF(A48=2025,VLOOKUP(D48,'Intervenants et coûts-j'!$C$17:$AF$47,28,FALSE),IF(A48=2026,VLOOKUP(D48,'Intervenants et coûts-j'!$C$17:$AF$47,29,FALSE),IF(A48=2027,VLOOKUP(D48,'Intervenants et coûts-j'!$C$17:$AF$47,30,FALSE))))))))","v":""},"",{"$f":"IF(E48=\"\",\"\",VLOOKUP(C48,'Coûts-indirects'!$A$4:$T$33,20,FALSE)*T48)","v":""},{"$f":"IF(D48=\"\",\"\",IF(V48=\"\",0,VLOOKUP(D48,'Frais-mission'!$B$3:$F$32,5,FALSE)*V48))","v":""},{"$f":"IF(D48=\"\",\"\",IF(W48=\"\",0,VLOOKUP(D48,'Frais-mission'!$B$3:$G$32,6,FALSE)*W48))","v":""},"","",{"$f":"IF(B48=\"\",\"\",IF(LEFT(B48,18)=\"Réunion collective\",350-SUMIF($B$6:B47,B48,$AH$6:AH47),\"\"))","v":""},"","",null,null,{"$f":"\"ListeIntervenants\"&VLOOKUP(C48,'Intervenants et coûts-j'!$B$5:$C$14,2,FALSE)","v":{"$error":"#N/A"}}]
[null,null,null,null,null,null,null,null,{"$f":"IF(D49=\"\",\"\",IF(A49=2022,VLOOKUP(D49,'Intervenants et coûts-j'!$C$17:$P$47,3,FALSE),IF(A49=2023,VLOOKUP(D49,'Intervenants et coûts-j'!$C$17:$P$47,4,FALSE),IF(A49=2024,VLOOKUP(D49,'Intervenants et coûts-j'!$C$17:$P$47,5,FALSE),IF(A49=2025,VLOOKUP(D49,'Intervenants et coûts-j'!$C$17:$P$47,6,FALSE),IF(A49=2026,VLOOKUP(D49,'Intervenants et coûts-j'!$C$17:$P$47,7,FALSE),IF(A49=2027,VLOOKUP(D49,'Intervenants et coûts-j'!$C$17:$P$47,8,FALSE))))))))","v":""},{"$f":"IF(D49=\"\",\"\",IF(A49=2022,VLOOKUP(D49,'Intervenants et coûts-j'!$C$17:$P$47,9,FALSE),IF(A49=2023,VLOOKUP(D49,'Intervenants et coûts-j'!$C$17:$P$47,10,FALSE),IF(A49=2024,VLOOKUP(D49,'Intervenants et coûts-j'!$C$17:$P$47,11,FALSE),IF(A49=2025,VLOOKUP(D49,'Intervenants et coûts-j'!$C$17:$P$47,12,FALSE),IF(A49=2026,VLOOKUP(D49,'Intervenants et coûts-j'!$C$17:$P$47,13,FALSE),IF(A49=2027,VLOOKUP(D49,'Intervenants et coûts-j'!$C$17:$P$47,14,FALSE))))))))","v":""},"",{"$f":"IF(E49=\"\",\"\",VLOOKUP(C49,'Coûts-indirects'!$A$4:$K$33,11,FALSE)*E49)","v":""},{"$f":"IF(D49=\"\",\"\",VLOOKUP(D49,'Frais-mission'!$B$3:$E$32,3,FALSE)*G49)","v":""},{"$f":"IF(D49=\"\",\"\",VLOOKUP(D49,'Frais-mission'!$B$3:$E$32,4,FALSE)*H49)","v":""},"","",{"$f":"IF(B49=\"\",\"\",IF(LEFT(B49,18)=\"Réunion collective\",350-SUMIF($B$6:B48,B49,$S$6:S48),\"\"))","v":""},"","","","","","",{"$f":"IF(D49=\"\",\"\",IF(A49=2022,VLOOKUP(D49,'Intervenants et coûts-j'!$C$17:$AF$47,19,FALSE),IF(A49=2023,VLOOKUP(D49,'Intervenants et coûts-j'!$C$17:$AF$47,20,FALSE),IF(A49=2024,VLOOKUP(D49,'Intervenants et coûts-j'!$C$17:$AF$47,21,FALSE),IF(A49=2025,VLOOKUP(D49,'Intervenants et coûts-j'!$C$17:$AF$47,22,FALSE),IF(A49=2026,VLOOKUP(D49,'Intervenants et coûts-j'!$C$17:$AF$47,23,FALSE),IF(A49=2027,VLOOKUP(D49,'Intervenants et coûts-j'!$C$17:$AF$47,24,FALSE))))))))","v":""},{"$f":"IF(D49=\"\",\"\",IF(A49=2022,VLOOKUP(D49,'Intervenants et coûts-j'!$C$17:$AF$47,25,FALSE),IF(A49=2023,VLOOKUP(D49,'Intervenants et coûts-j'!$C$17:$AF$47,26,FALSE),IF(A49=2024,VLOOKUP(D49,'Intervenants et coûts-j'!$C$17:$AF$47,27,FALSE),IF(A49=2025,VLOOKUP(D49,'Intervenants et coûts-j'!$C$17:$AF$47,28,FALSE),IF(A49=2026,VLOOKUP(D49,'Intervenants et coûts-j'!$C$17:$AF$47,29,FALSE),IF(A49=2027,VLOOKUP(D49,'Intervenants et coûts-j'!$C$17:$AF$47,30,FALSE))))))))","v":""},"",{"$f":"IF(E49=\"\",\"\",VLOOKUP(C49,'Coûts-indirects'!$A$4:$T$33,20,FALSE)*T49)","v":""},{"$f":"IF(D49=\"\",\"\",IF(V49=\"\",0,VLOOKUP(D49,'Frais-mission'!$B$3:$F$32,5,FALSE)*V49))","v":""},{"$f":"IF(D49=\"\",\"\",IF(W49=\"\",0,VLOOKUP(D49,'Frais-mission'!$B$3:$G$32,6,FALSE)*W49))","v":""},"","",{"$f":"IF(B49=\"\",\"\",IF(LEFT(B49,18)=\"Réunion collective\",350-SUMIF($B$6:B48,B49,$AH$6:AH48),\"\"))","v":""},"","",null,null,{"$f":"\"ListeIntervenants\"&VLOOKUP(C49,'Intervenants et coûts-j'!$B$5:$C$14,2,FALSE)","v":{"$error":"#N/A"}}]
[null,null,null,null,null,null,null,null,{"$f":"IF(D50=\"\",\"\",IF(A50=2022,VLOOKUP(D50,'Intervenants et coûts-j'!$C$17:$P$47,3,FALSE),IF(A50=2023,VLOOKUP(D50,'Intervenants et coûts-j'!$C$17:$P$47,4,FALSE),IF(A50=2024,VLOOKUP(D50,'Intervenants et coûts-j'!$C$17:$P$47,5,FALSE),IF(A50=2025,VLOOKUP(D50,'Intervenants et coûts-j'!$C$17:$P$47,6,FALSE),IF(A50=2026,VLOOKUP(D50,'Intervenants et coûts-j'!$C$17:$P$47,7,FALSE),IF(A50=2027,VLOOKUP(D50,'Intervenants et coûts-j'!$C$17:$P$47,8,FALSE))))))))","v":""},{"$f":"IF(D50=\"\",\"\",IF(A50=2022,VLOOKUP(D50,'Intervenants et coûts-j'!$C$17:$P$47,9,FALSE),IF(A50=2023,VLOOKUP(D50,'Intervenants et coûts-j'!$C$17:$P$47,10,FALSE),IF(A50=2024,VLOOKUP(D50,'Intervenants et coûts-j'!$C$17:$P$47,11,FALSE),IF(A50=2025,VLOOKUP(D50,'Intervenants et coûts-j'!$C$17:$P$47,12,FALSE),IF(A50=2026,VLOOKUP(D50,'Intervenants et coûts-j'!$C$17:$P$47,13,FALSE),IF(A50=2027,VLOOKUP(D50,'Intervenants et coûts-j'!$C$17:$P$47,14,FALSE))))))))","v":""},"",{"$f":"IF(E50=\"\",\"\",VLOOKUP(C50,'Coûts-indirects'!$A$4:$K$33,11,FALSE)*E50)","v":""},{"$f":"IF(D50=\"\",\"\",VLOOKUP(D50,'Frais-mission'!$B$3:$E$32,3,FALSE)*G50)","v":""},{"$f":"IF(D50=\"\",\"\",VLOOKUP(D50,'Frais-mission'!$B$3:$E$32,4,FALSE)*H50)","v":""},"","",{"$f":"IF(B50=\"\",\"\",IF(LEFT(B50,18)=\"Réunion collective\",350-SUMIF($B$6:B49,B50,$S$6:S49),\"\"))","v":""},"","","","","","",{"$f":"IF(D50=\"\",\"\",IF(A50=2022,VLOOKUP(D50,'Intervenants et coûts-j'!$C$17:$AF$47,19,FALSE),IF(A50=2023,VLOOKUP(D50,'Intervenants et coûts-j'!$C$17:$AF$47,20,FALSE),IF(A50=2024,VLOOKUP(D50,'Intervenants et coûts-j'!$C$17:$AF$47,21,FALSE),IF(A50=2025,VLOOKUP(D50,'Intervenants et coûts-j'!$C$17:$AF$47,22,FALSE),IF(A50=2026,VLOOKUP(D50,'Intervenants et coûts-j'!$C$17:$AF$47,23,FALSE),IF(A50=2027,VLOOKUP(D50,'Intervenants et coûts-j'!$C$17:$AF$47,24,FALSE))))))))","v":""},{"$f":"IF(D50=\"\",\"\",IF(A50=2022,VLOOKUP(D50,'Intervenants et coûts-j'!$C$17:$AF$47,25,FALSE),IF(A50=2023,VLOOKUP(D50,'Intervenants et coûts-j'!$C$17:$AF$47,26,FALSE),IF(A50=2024,VLOOKUP(D50,'Intervenants et coûts-j'!$C$17:$AF$47,27,FALSE),IF(A50=2025,VLOOKUP(D50,'Intervenants et coûts-j'!$C$17:$AF$47,28,FALSE),IF(A50=2026,VLOOKUP(D50,'Intervenants et coûts-j'!$C$17:$AF$47,29,FALSE),IF(A50=2027,VLOOKUP(D50,'Intervenants et coûts-j'!$C$17:$AF$47,30,FALSE))))))))","v":""},"",{"$f":"IF(E50=\"\",\"\",VLOOKUP(C50,'Coûts-indirects'!$A$4:$T$33,20,FALSE)*T50)","v":""},{"$f":"IF(D50=\"\",\"\",IF(V50=\"\",0,VLOOKUP(D50,'Frais-mission'!$B$3:$F$32,5,FALSE)*V50))","v":""},{"$f":"IF(D50=\"\",\"\",IF(W50=\"\",0,VLOOKUP(D50,'Frais-mission'!$B$3:$G$32,6,FALSE)*W50))","v":""},"","",{"$f":"IF(B50=\"\",\"\",IF(LEFT(B50,18)=\"Réunion collective\",350-SUMIF($B$6:B49,B50,$AH$6:AH49),\"\"))","v":""},"","",null,null,{"$f":"\"ListeIntervenants\"&VLOOKUP(C50,'Intervenants et coûts-j'!$B$5:$C$14,2,FALSE)","v":{"$error":"#N/A"}}]
[null,null,null,null,null,null,null,null,{"$f":"IF(D51=\"\",\"\",IF(A51=2022,VLOOKUP(D51,'Intervenants et coûts-j'!$C$17:$P$47,3,FALSE),IF(A51=2023,VLOOKUP(D51,'Intervenants et coûts-j'!$C$17:$P$47,4,FALSE),IF(A51=2024,VLOOKUP(D51,'Intervenants et coûts-j'!$C$17:$P$47,5,FALSE),IF(A51=2025,VLOOKUP(D51,'Intervenants et coûts-j'!$C$17:$P$47,6,FALSE),IF(A51=2026,VLOOKUP(D51,'Intervenants et coûts-j'!$C$17:$P$47,7,FALSE),IF(A51=2027,VLOOKUP(D51,'Intervenants et coûts-j'!$C$17:$P$47,8,FALSE))))))))","v":""},{"$f":"IF(D51=\"\",\"\",IF(A51=2022,VLOOKUP(D51,'Intervenants et coûts-j'!$C$17:$P$47,9,FALSE),IF(A51=2023,VLOOKUP(D51,'Intervenants et coûts-j'!$C$17:$P$47,10,FALSE),IF(A51=2024,VLOOKUP(D51,'Intervenants et coûts-j'!$C$17:$P$47,11,FALSE),IF(A51=2025,VLOOKUP(D51,'Intervenants et coûts-j'!$C$17:$P$47,12,FALSE),IF(A51=2026,VLOOKUP(D51,'Intervenants et coûts-j'!$C$17:$P$47,13,FALSE),IF(A51=2027,VLOOKUP(D51,'Intervenants et coûts-j'!$C$17:$P$47,14,FALSE))))))))","v":""},"",{"$f":"IF(E51=\"\",\"\",VLOOKUP(C51,'Coûts-indirects'!$A$4:$K$33,11,FALSE)*E51)","v":""},{"$f":"IF(D51=\"\",\"\",VLOOKUP(D51,'Frais-mission'!$B$3:$E$32,3,FALSE)*G51)","v":""},{"$f":"IF(D51=\"\",\"\",VLOOKUP(D51,'Frais-mission'!$B$3:$E$32,4,FALSE)*H51)","v":""},"","",{"$f":"IF(B51=\"\",\"\",IF(LEFT(B51,18)=\"Réunion collective\",350-SUMIF($B$6:B50,B51,$S$6:S50),\"\"))","v":""},"","","","","","",{"$f":"IF(D51=\"\",\"\",IF(A51=2022,VLOOKUP(D51,'Intervenants et coûts-j'!$C$17:$AF$47,19,FALSE),IF(A51=2023,VLOOKUP(D51,'Intervenants et coûts-j'!$C$17:$AF$47,20,FALSE),IF(A51=2024,VLOOKUP(D51,'Intervenants et coûts-j'!$C$17:$AF$47,21,FALSE),IF(A51=2025,VLOOKUP(D51,'Intervenants et coûts-j'!$C$17:$AF$47,22,FALSE),IF(A51=2026,VLOOKUP(D51,'Intervenants et coûts-j'!$C$17:$AF$47,23,FALSE),IF(A51=2027,VLOOKUP(D51,'Intervenants et coûts-j'!$C$17:$AF$47,24,FALSE))))))))","v":""},{"$f":"IF(D51=\"\",\"\",IF(A51=2022,VLOOKUP(D51,'Intervenants et coûts-j'!$C$17:$AF$47,25,FALSE),IF(A51=2023,VLOOKUP(D51,'Intervenants et coûts-j'!$C$17:$AF$47,26,FALSE),IF(A51=2024,VLOOKUP(D51,'Intervenants et coûts-j'!$C$17:$AF$47,27,FALSE),IF(A51=2025,VLOOKUP(D51,'Intervenants et coûts-j'!$C$17:$AF$47,28,FALSE),IF(A51=2026,VLOOKUP(D51,'Intervenants et coûts-j'!$C$17:$AF$47,29,FALSE),IF(A51=2027,VLOOKUP(D51,'Intervenants et coûts-j'!$C$17:$AF$47,30,FALSE))))))))","v":""},"",{"$f":"IF(E51=\"\",\"\",VLOOKUP(C51,'Coûts-indirects'!$A$4:$T$33,20,FALSE)*T51)","v":""},{"$f":"IF(D51=\"\",\"\",IF(V51=\"\",0,VLOOKUP(D51,'Frais-mission'!$B$3:$F$32,5,FALSE)*V51))","v":""},{"$f":"IF(D51=\"\",\"\",IF(W51=\"\",0,VLOOKUP(D51,'Frais-mission'!$B$3:$G$32,6,FALSE)*W51))","v":""},"","",{"$f":"IF(B51=\"\",\"\",IF(LEFT(B51,18)=\"Réunion collective\",350-SUMIF($B$6:B50,B51,$AH$6:AH50),\"\"))","v":""},"","",null,null,{"$f":"\"ListeIntervenants\"&VLOOKUP(C51,'Intervenants et coûts-j'!$B$5:$C$14,2,FALSE)","v":{"$error":"#N/A"}}]
[null,null,null,null,null,null,null,null,{"$f":"IF(D52=\"\",\"\",IF(A52=2022,VLOOKUP(D52,'Intervenants et coûts-j'!$C$17:$P$47,3,FALSE),IF(A52=2023,VLOOKUP(D52,'Intervenants et coûts-j'!$C$17:$P$47,4,FALSE),IF(A52=2024,VLOOKUP(D52,'Intervenants et coûts-j'!$C$17:$P$47,5,FALSE),IF(A52=2025,VLOOKUP(D52,'Intervenants et coûts-j'!$C$17:$P$47,6,FALSE),IF(A52=2026,VLOOKUP(D52,'Intervenants et coûts-j'!$C$17:$P$47,7,FALSE),IF(A52=2027,VLOOKUP(D52,'Intervenants et coûts-j'!$C$17:$P$47,8,FALSE))))))))","v":""},{"$f":"IF(D52=\"\",\"\",IF(A52=2022,VLOOKUP(D52,'Intervenants et coûts-j'!$C$17:$P$47,9,FALSE),IF(A52=2023,VLOOKUP(D52,'Intervenants et coûts-j'!$C$17:$P$47,10,FALSE),IF(A52=2024,VLOOKUP(D52,'Intervenants et coûts-j'!$C$17:$P$47,11,FALSE),IF(A52=2025,VLOOKUP(D52,'Intervenants et coûts-j'!$C$17:$P$47,12,FALSE),IF(A52=2026,VLOOKUP(D52,'Intervenants et coûts-j'!$C$17:$P$47,13,FALSE),IF(A52=2027,VLOOKUP(D52,'Intervenants et coûts-j'!$C$17:$P$47,14,FALSE))))))))","v":""},"",{"$f":"IF(E52=\"\",\"\",VLOOKUP(C52,'Coûts-indirects'!$A$4:$K$33,11,FALSE)*E52)","v":""},{"$f":"IF(D52=\"\",\"\",VLOOKUP(D52,'Frais-mission'!$B$3:$E$32,3,FALSE)*G52)","v":""},{"$f":"IF(D52=\"\",\"\",VLOOKUP(D52,'Frais-mission'!$B$3:$E$32,4,FALSE)*H52)","v":""},"","",{"$f":"IF(B52=\"\",\"\",IF(LEFT(B52,18)=\"Réunion collective\",350-SUMIF($B$6:B51,B52,$S$6:S51),\"\"))","v":""},"","","","","","",{"$f":"IF(D52=\"\",\"\",IF(A52=2022,VLOOKUP(D52,'Intervenants et coûts-j'!$C$17:$AF$47,19,FALSE),IF(A52=2023,VLOOKUP(D52,'Intervenants et coûts-j'!$C$17:$AF$47,20,FALSE),IF(A52=2024,VLOOKUP(D52,'Intervenants et coûts-j'!$C$17:$AF$47,21,FALSE),IF(A52=2025,VLOOKUP(D52,'Intervenants et coûts-j'!$C$17:$AF$47,22,FALSE),IF(A52=2026,VLOOKUP(D52,'Intervenants et coûts-j'!$C$17:$AF$47,23,FALSE),IF(A52=2027,VLOOKUP(D52,'Intervenants et coûts-j'!$C$17:$AF$47,24,FALSE))))))))","v":""},{"$f":"IF(D52=\"\",\"\",IF(A52=2022,VLOOKUP(D52,'Intervenants et coûts-j'!$C$17:$AF$47,25,FALSE),IF(A52=2023,VLOOKUP(D52,'Intervenants et coûts-j'!$C$17:$AF$47,26,FALSE),IF(A52=2024,VLOOKUP(D52,'Intervenants et coûts-j'!$C$17:$AF$47,27,FALSE),IF(A52=2025,VLOOKUP(D52,'Intervenants et coûts-j'!$C$17:$AF$47,28,FALSE),IF(A52=2026,VLOOKUP(D52,'Intervenants et coûts-j'!$C$17:$AF$47,29,FALSE),IF(A52=2027,VLOOKUP(D52,'Intervenants et coûts-j'!$C$17:$AF$47,30,FALSE))))))))","v":""},"",{"$f":"IF(E52=\"\",\"\",VLOOKUP(C52,'Coûts-indirects'!$A$4:$T$33,20,FALSE)*T52)","v":""},{"$f":"IF(D52=\"\",\"\",IF(V52=\"\",0,VLOOKUP(D52,'Frais-mission'!$B$3:$F$32,5,FALSE)*V52))","v":""},{"$f":"IF(D52=\"\",\"\",IF(W52=\"\",0,VLOOKUP(D52,'Frais-mission'!$B$3:$G$32,6,FALSE)*W52))","v":""},"","",{"$f":"IF(B52=\"\",\"\",IF(LEFT(B52,18)=\"Réunion collective\",350-SUMIF($B$6:B51,B52,$AH$6:AH51),\"\"))","v":""},"","",null,null,{"$f":"\"ListeIntervenants\"&VLOOKUP(C52,'Intervenants et coûts-j'!$B$5:$C$14,2,FALSE)","v":{"$error":"#N/A"}}]
[null,null,null,null,null,null,null,null,{"$f":"IF(D53=\"\",\"\",IF(A53=2022,VLOOKUP(D53,'Intervenants et coûts-j'!$C$17:$P$47,3,FALSE),IF(A53=2023,VLOOKUP(D53,'Intervenants et coûts-j'!$C$17:$P$47,4,FALSE),IF(A53=2024,VLOOKUP(D53,'Intervenants et coûts-j'!$C$17:$P$47,5,FALSE),IF(A53=2025,VLOOKUP(D53,'Intervenants et coûts-j'!$C$17:$P$47,6,FALSE),IF(A53=2026,VLOOKUP(D53,'Intervenants et coûts-j'!$C$17:$P$47,7,FALSE),IF(A53=2027,VLOOKUP(D53,'Intervenants et coûts-j'!$C$17:$P$47,8,FALSE))))))))","v":""},{"$f":"IF(D53=\"\",\"\",IF(A53=2022,VLOOKUP(D53,'Intervenants et coûts-j'!$C$17:$P$47,9,FALSE),IF(A53=2023,VLOOKUP(D53,'Intervenants et coûts-j'!$C$17:$P$47,10,FALSE),IF(A53=2024,VLOOKUP(D53,'Intervenants et coûts-j'!$C$17:$P$47,11,FALSE),IF(A53=2025,VLOOKUP(D53,'Intervenants et coûts-j'!$C$17:$P$47,12,FALSE),IF(A53=2026,VLOOKUP(D53,'Intervenants et coûts-j'!$C$17:$P$47,13,FALSE),IF(A53=2027,VLOOKUP(D53,'Intervenants et coûts-j'!$C$17:$P$47,14,FALSE))))))))","v":""},"",{"$f":"IF(E53=\"\",\"\",VLOOKUP(C53,'Coûts-indirects'!$A$4:$K$33,11,FALSE)*E53)","v":""},{"$f":"IF(D53=\"\",\"\",VLOOKUP(D53,'Frais-mission'!$B$3:$E$32,3,FALSE)*G53)","v":""},{"$f":"IF(D53=\"\",\"\",VLOOKUP(D53,'Frais-mission'!$B$3:$E$32,4,FALSE)*H53)","v":""},"","",{"$f":"IF(B53=\"\",\"\",IF(LEFT(B53,18)=\"Réunion collective\",350-SUMIF($B$6:B52,B53,$S$6:S52),\"\"))","v":""},"","","","","","",{"$f":"IF(D53=\"\",\"\",IF(A53=2022,VLOOKUP(D53,'Intervenants et coûts-j'!$C$17:$AF$47,19,FALSE),IF(A53=2023,VLOOKUP(D53,'Intervenants et coûts-j'!$C$17:$AF$47,20,FALSE),IF(A53=2024,VLOOKUP(D53,'Intervenants et coûts-j'!$C$17:$AF$47,21,FALSE),IF(A53=2025,VLOOKUP(D53,'Intervenants et coûts-j'!$C$17:$AF$47,22,FALSE),IF(A53=2026,VLOOKUP(D53,'Intervenants et coûts-j'!$C$17:$AF$47,23,FALSE),IF(A53=2027,VLOOKUP(D53,'Intervenants et coûts-j'!$C$17:$AF$47,24,FALSE))))))))","v":""},{"$f":"IF(D53=\"\",\"\",IF(A53=2022,VLOOKUP(D53,'Intervenants et coûts-j'!$C$17:$AF$47,25,FALSE),IF(A53=2023,VLOOKUP(D53,'Intervenants et coûts-j'!$C$17:$AF$47,26,FALSE),IF(A53=2024,VLOOKUP(D53,'Intervenants et coûts-j'!$C$17:$AF$47,27,FALSE),IF(A53=2025,VLOOKUP(D53,'Intervenants et coûts-j'!$C$17:$AF$47,28,FALSE),IF(A53=2026,VLOOKUP(D53,'Intervenants et coûts-j'!$C$17:$AF$47,29,FALSE),IF(A53=2027,VLOOKUP(D53,'Intervenants et coûts-j'!$C$17:$AF$47,30,FALSE))))))))","v":""},"",{"$f":"IF(E53=\"\",\"\",VLOOKUP(C53,'Coûts-indirects'!$A$4:$T$33,20,FALSE)*T53)","v":""},{"$f":"IF(D53=\"\",\"\",IF(V53=\"\",0,VLOOKUP(D53,'Frais-mission'!$B$3:$F$32,5,FALSE)*V53))","v":""},{"$f":"IF(D53=\"\",\"\",IF(W53=\"\",0,VLOOKUP(D53,'Frais-mission'!$B$3:$G$32,6,FALSE)*W53))","v":""},"","",{"$f":"IF(B53=\"\",\"\",IF(LEFT(B53,18)=\"Réunion collective\",350-SUMIF($B$6:B52,B53,$AH$6:AH52),\"\"))","v":""},"","",null,null,{"$f":"\"ListeIntervenants\"&VLOOKUP(C53,'Intervenants et coûts-j'!$B$5:$C$14,2,FALSE)","v":{"$error":"#N/A"}}]
[null,null,null,null,null,null,null,null,{"$f":"IF(D54=\"\",\"\",IF(A54=2022,VLOOKUP(D54,'Intervenants et coûts-j'!$C$17:$P$47,3,FALSE),IF(A54=2023,VLOOKUP(D54,'Intervenants et coûts-j'!$C$17:$P$47,4,FALSE),IF(A54=2024,VLOOKUP(D54,'Intervenants et coûts-j'!$C$17:$P$47,5,FALSE),IF(A54=2025,VLOOKUP(D54,'Intervenants et coûts-j'!$C$17:$P$47,6,FALSE),IF(A54=2026,VLOOKUP(D54,'Intervenants et coûts-j'!$C$17:$P$47,7,FALSE),IF(A54=2027,VLOOKUP(D54,'Intervenants et coûts-j'!$C$17:$P$47,8,FALSE))))))))","v":""},{"$f":"IF(D54=\"\",\"\",IF(A54=2022,VLOOKUP(D54,'Intervenants et coûts-j'!$C$17:$P$47,9,FALSE),IF(A54=2023,VLOOKUP(D54,'Intervenants et coûts-j'!$C$17:$P$47,10,FALSE),IF(A54=2024,VLOOKUP(D54,'Intervenants et coûts-j'!$C$17:$P$47,11,FALSE),IF(A54=2025,VLOOKUP(D54,'Intervenants et coûts-j'!$C$17:$P$47,12,FALSE),IF(A54=2026,VLOOKUP(D54,'Intervenants et coûts-j'!$C$17:$P$47,13,FALSE),IF(A54=2027,VLOOKUP(D54,'Intervenants et coûts-j'!$C$17:$P$47,14,FALSE))))))))","v":""},"",{"$f":"IF(E54=\"\",\"\",VLOOKUP(C54,'Coûts-indirects'!$A$4:$K$33,11,FALSE)*E54)","v":""},{"$f":"IF(D54=\"\",\"\",VLOOKUP(D54,'Frais-mission'!$B$3:$E$32,3,FALSE)*G54)","v":""},{"$f":"IF(D54=\"\",\"\",VLOOKUP(D54,'Frais-mission'!$B$3:$E$32,4,FALSE)*H54)","v":""},"","",{"$f":"IF(B54=\"\",\"\",IF(LEFT(B54,18)=\"Réunion collective\",350-SUMIF($B$6:B53,B54,$S$6:S53),\"\"))","v":""},"","","","","","",{"$f":"IF(D54=\"\",\"\",IF(A54=2022,VLOOKUP(D54,'Intervenants et coûts-j'!$C$17:$AF$47,19,FALSE),IF(A54=2023,VLOOKUP(D54,'Intervenants et coûts-j'!$C$17:$AF$47,20,FALSE),IF(A54=2024,VLOOKUP(D54,'Intervenants et coûts-j'!$C$17:$AF$47,21,FALSE),IF(A54=2025,VLOOKUP(D54,'Intervenants et coûts-j'!$C$17:$AF$47,22,FALSE),IF(A54=2026,VLOOKUP(D54,'Intervenants et coûts-j'!$C$17:$AF$47,23,FALSE),IF(A54=2027,VLOOKUP(D54,'Intervenants et coûts-j'!$C$17:$AF$47,24,FALSE))))))))","v":""},{"$f":"IF(D54=\"\",\"\",IF(A54=2022,VLOOKUP(D54,'Intervenants et coûts-j'!$C$17:$AF$47,25,FALSE),IF(A54=2023,VLOOKUP(D54,'Intervenants et coûts-j'!$C$17:$AF$47,26,FALSE),IF(A54=2024,VLOOKUP(D54,'Intervenants et coûts-j'!$C$17:$AF$47,27,FALSE),IF(A54=2025,VLOOKUP(D54,'Intervenants et coûts-j'!$C$17:$AF$47,28,FALSE),IF(A54=2026,VLOOKUP(D54,'Intervenants et coûts-j'!$C$17:$AF$47,29,FALSE),IF(A54=2027,VLOOKUP(D54,'Intervenants et coûts-j'!$C$17:$AF$47,30,FALSE))))))))","v":""},"",{"$f":"IF(E54=\"\",\"\",VLOOKUP(C54,'Coûts-indirects'!$A$4:$T$33,20,FALSE)*T54)","v":""},{"$f":"IF(D54=\"\",\"\",IF(V54=\"\",0,VLOOKUP(D54,'Frais-mission'!$B$3:$F$32,5,FALSE)*V54))","v":""},{"$f":"IF(D54=\"\",\"\",IF(W54=\"\",0,VLOOKUP(D54,'Frais-mission'!$B$3:$G$32,6,FALSE)*W54))","v":""},"","",{"$f":"IF(B54=\"\",\"\",IF(LEFT(B54,18)=\"Réunion collective\",350-SUMIF($B$6:B53,B54,$AH$6:AH53),\"\"))","v":""},"","",null,null,{"$f":"\"ListeIntervenants\"&VLOOKUP(C54,'Intervenants et coûts-j'!$B$5:$C$14,2,FALSE)","v":{"$error":"#N/A"}}]
[null,null,null,null,null,null,null,null,{"$f":"IF(D55=\"\",\"\",IF(A55=2022,VLOOKUP(D55,'Intervenants et coûts-j'!$C$17:$P$47,3,FALSE),IF(A55=2023,VLOOKUP(D55,'Intervenants et coûts-j'!$C$17:$P$47,4,FALSE),IF(A55=2024,VLOOKUP(D55,'Intervenants et coûts-j'!$C$17:$P$47,5,FALSE),IF(A55=2025,VLOOKUP(D55,'Intervenants et coûts-j'!$C$17:$P$47,6,FALSE),IF(A55=2026,VLOOKUP(D55,'Intervenants et coûts-j'!$C$17:$P$47,7,FALSE),IF(A55=2027,VLOOKUP(D55,'Intervenants et coûts-j'!$C$17:$P$47,8,FALSE))))))))","v":""},{"$f":"IF(D55=\"\",\"\",IF(A55=2022,VLOOKUP(D55,'Intervenants et coûts-j'!$C$17:$P$47,9,FALSE),IF(A55=2023,VLOOKUP(D55,'Intervenants et coûts-j'!$C$17:$P$47,10,FALSE),IF(A55=2024,VLOOKUP(D55,'Intervenants et coûts-j'!$C$17:$P$47,11,FALSE),IF(A55=2025,VLOOKUP(D55,'Intervenants et coûts-j'!$C$17:$P$47,12,FALSE),IF(A55=2026,VLOOKUP(D55,'Intervenants et coûts-j'!$C$17:$P$47,13,FALSE),IF(A55=2027,VLOOKUP(D55,'Intervenants et coûts-j'!$C$17:$P$47,14,FALSE))))))))","v":""},"",{"$f":"IF(E55=\"\",\"\",VLOOKUP(C55,'Coûts-indirects'!$A$4:$K$33,11,FALSE)*E55)","v":""},{"$f":"IF(D55=\"\",\"\",VLOOKUP(D55,'Frais-mission'!$B$3:$E$32,3,FALSE)*G55)","v":""},{"$f":"IF(D55=\"\",\"\",VLOOKUP(D55,'Frais-mission'!$B$3:$E$32,4,FALSE)*H55)","v":""},"","",{"$f":"IF(B55=\"\",\"\",IF(LEFT(B55,18)=\"Réunion collective\",350-SUMIF($B$6:B54,B55,$S$6:S54),\"\"))","v":""},"","","","","","",{"$f":"IF(D55=\"\",\"\",IF(A55=2022,VLOOKUP(D55,'Intervenants et coûts-j'!$C$17:$AF$47,19,FALSE),IF(A55=2023,VLOOKUP(D55,'Intervenants et coûts-j'!$C$17:$AF$47,20,FALSE),IF(A55=2024,VLOOKUP(D55,'Intervenants et coûts-j'!$C$17:$AF$47,21,FALSE),IF(A55=2025,VLOOKUP(D55,'Intervenants et coûts-j'!$C$17:$AF$47,22,FALSE),IF(A55=2026,VLOOKUP(D55,'Intervenants et coûts-j'!$C$17:$AF$47,23,FALSE),IF(A55=2027,VLOOKUP(D55,'Intervenants et coûts-j'!$C$17:$AF$47,24,FALSE))))))))","v":""},{"$f":"IF(D55=\"\",\"\",IF(A55=2022,VLOOKUP(D55,'Intervenants et coûts-j'!$C$17:$AF$47,25,FALSE),IF(A55=2023,VLOOKUP(D55,'Intervenants et coûts-j'!$C$17:$AF$47,26,FALSE),IF(A55=2024,VLOOKUP(D55,'Intervenants et coûts-j'!$C$17:$AF$47,27,FALSE),IF(A55=2025,VLOOKUP(D55,'Intervenants et coûts-j'!$C$17:$AF$47,28,FALSE),IF(A55=2026,VLOOKUP(D55,'Intervenants et coûts-j'!$C$17:$AF$47,29,FALSE),IF(A55=2027,VLOOKUP(D55,'Intervenants et coûts-j'!$C$17:$AF$47,30,FALSE))))))))","v":""},"",{"$f":"IF(E55=\"\",\"\",VLOOKUP(C55,'Coûts-indirects'!$A$4:$T$33,20,FALSE)*T55)","v":""},{"$f":"IF(D55=\"\",\"\",IF(V55=\"\",0,VLOOKUP(D55,'Frais-mission'!$B$3:$F$32,5,FALSE)*V55))","v":""},{"$f":"IF(D55=\"\",\"\",IF(W55=\"\",0,VLOOKUP(D55,'Frais-mission'!$B$3:$G$32,6,FALSE)*W55))","v":""},"","",{"$f":"IF(B55=\"\",\"\",IF(LEFT(B55,18)=\"Réunion collective\",350-SUMIF($B$6:B54,B55,$AH$6:AH54),\"\"))","v":""},"","",null,null,{"$f":"\"ListeIntervenants\"&VLOOKUP(C55,'Intervenants et coûts-j'!$B$5:$C$14,2,FALSE)","v":{"$error":"#N/A"}}]
[null,null,null,null,null,null,null,null,{"$f":"IF(D56=\"\",\"\",IF(A56=2022,VLOOKUP(D56,'Intervenants et coûts-j'!$C$17:$P$47,3,FALSE),IF(A56=2023,VLOOKUP(D56,'Intervenants et coûts-j'!$C$17:$P$47,4,FALSE),IF(A56=2024,VLOOKUP(D56,'Intervenants et coûts-j'!$C$17:$P$47,5,FALSE),IF(A56=2025,VLOOKUP(D56,'Intervenants et coûts-j'!$C$17:$P$47,6,FALSE),IF(A56=2026,VLOOKUP(D56,'Intervenants et coûts-j'!$C$17:$P$47,7,FALSE),IF(A56=2027,VLOOKUP(D56,'Intervenants et coûts-j'!$C$17:$P$47,8,FALSE))))))))","v":""},{"$f":"IF(D56=\"\",\"\",IF(A56=2022,VLOOKUP(D56,'Intervenants et coûts-j'!$C$17:$P$47,9,FALSE),IF(A56=2023,VLOOKUP(D56,'Intervenants et coûts-j'!$C$17:$P$47,10,FALSE),IF(A56=2024,VLOOKUP(D56,'Intervenants et coûts-j'!$C$17:$P$47,11,FALSE),IF(A56=2025,VLOOKUP(D56,'Intervenants et coûts-j'!$C$17:$P$47,12,FALSE),IF(A56=2026,VLOOKUP(D56,'Intervenants et coûts-j'!$C$17:$P$47,13,FALSE),IF(A56=2027,VLOOKUP(D56,'Intervenants et coûts-j'!$C$17:$P$47,14,FALSE))))))))","v":""},"",{"$f":"IF(E56=\"\",\"\",VLOOKUP(C56,'Coûts-indirects'!$A$4:$K$33,11,FALSE)*E56)","v":""},{"$f":"IF(D56=\"\",\"\",VLOOKUP(D56,'Frais-mission'!$B$3:$E$32,3,FALSE)*G56)","v":""},{"$f":"IF(D56=\"\",\"\",VLOOKUP(D56,'Frais-mission'!$B$3:$E$32,4,FALSE)*H56)","v":""},"","",{"$f":"IF(B56=\"\",\"\",IF(LEFT(B56,18)=\"Réunion collective\",350-SUMIF($B$6:B55,B56,$S$6:S55),\"\"))","v":""},"","","","","","",{"$f":"IF(D56=\"\",\"\",IF(A56=2022,VLOOKUP(D56,'Intervenants et coûts-j'!$C$17:$AF$47,19,FALSE),IF(A56=2023,VLOOKUP(D56,'Intervenants et coûts-j'!$C$17:$AF$47,20,FALSE),IF(A56=2024,VLOOKUP(D56,'Intervenants et coûts-j'!$C$17:$AF$47,21,FALSE),IF(A56=2025,VLOOKUP(D56,'Intervenants et coûts-j'!$C$17:$AF$47,22,FALSE),IF(A56=2026,VLOOKUP(D56,'Intervenants et coûts-j'!$C$17:$AF$47,23,FALSE),IF(A56=2027,VLOOKUP(D56,'Intervenants et coûts-j'!$C$17:$AF$47,24,FALSE))))))))","v":""},{"$f":"IF(D56=\"\",\"\",IF(A56=2022,VLOOKUP(D56,'Intervenants et coûts-j'!$C$17:$AF$47,25,FALSE),IF(A56=2023,VLOOKUP(D56,'Intervenants et coûts-j'!$C$17:$AF$47,26,FALSE),IF(A56=2024,VLOOKUP(D56,'Intervenants et coûts-j'!$C$17:$AF$47,27,FALSE),IF(A56=2025,VLOOKUP(D56,'Intervenants et coûts-j'!$C$17:$AF$47,28,FALSE),IF(A56=2026,VLOOKUP(D56,'Intervenants et coûts-j'!$C$17:$AF$47,29,FALSE),IF(A56=2027,VLOOKUP(D56,'Intervenants et coûts-j'!$C$17:$AF$47,30,FALSE))))))))","v":""},"",{"$f":"IF(E56=\"\",\"\",VLOOKUP(C56,'Coûts-indirects'!$A$4:$T$33,20,FALSE)*T56)","v":""},{"$f":"IF(D56=\"\",\"\",IF(V56=\"\",0,VLOOKUP(D56,'Frais-mission'!$B$3:$F$32,5,FALSE)*V56))","v":""},{"$f":"IF(D56=\"\",\"\",IF(W56=\"\",0,VLOOKUP(D56,'Frais-mission'!$B$3:$G$32,6,FALSE)*W56))","v":""},"","",{"$f":"IF(B56=\"\",\"\",IF(LEFT(B56,18)=\"Réunion collective\",350-SUMIF($B$6:B55,B56,$AH$6:AH55),\"\"))","v":""},"","",null,null,{"$f":"\"ListeIntervenants\"&VLOOKUP(C56,'Intervenants et coûts-j'!$B$5:$C$14,2,FALSE)","v":{"$error":"#N/A"}}]
[null,null,null,null,null,null,null,null,{"$f":"IF(D57=\"\",\"\",IF(A57=2022,VLOOKUP(D57,'Intervenants et coûts-j'!$C$17:$P$47,3,FALSE),IF(A57=2023,VLOOKUP(D57,'Intervenants et coûts-j'!$C$17:$P$47,4,FALSE),IF(A57=2024,VLOOKUP(D57,'Intervenants et coûts-j'!$C$17:$P$47,5,FALSE),IF(A57=2025,VLOOKUP(D57,'Intervenants et coûts-j'!$C$17:$P$47,6,FALSE),IF(A57=2026,VLOOKUP(D57,'Intervenants et coûts-j'!$C$17:$P$47,7,FALSE),IF(A57=2027,VLOOKUP(D57,'Intervenants et coûts-j'!$C$17:$P$47,8,FALSE))))))))","v":""},{"$f":"IF(D57=\"\",\"\",IF(A57=2022,VLOOKUP(D57,'Intervenants et coûts-j'!$C$17:$P$47,9,FALSE),IF(A57=2023,VLOOKUP(D57,'Intervenants et coûts-j'!$C$17:$P$47,10,FALSE),IF(A57=2024,VLOOKUP(D57,'Intervenants et coûts-j'!$C$17:$P$47,11,FALSE),IF(A57=2025,VLOOKUP(D57,'Intervenants et coûts-j'!$C$17:$P$47,12,FALSE),IF(A57=2026,VLOOKUP(D57,'Intervenants et coûts-j'!$C$17:$P$47,13,FALSE),IF(A57=2027,VLOOKUP(D57,'Intervenants et coûts-j'!$C$17:$P$47,14,FALSE))))))))","v":""},"",{"$f":"IF(E57=\"\",\"\",VLOOKUP(C57,'Coûts-indirects'!$A$4:$K$33,11,FALSE)*E57)","v":""},{"$f":"IF(D57=\"\",\"\",VLOOKUP(D57,'Frais-mission'!$B$3:$E$32,3,FALSE)*G57)","v":""},{"$f":"IF(D57=\"\",\"\",VLOOKUP(D57,'Frais-mission'!$B$3:$E$32,4,FALSE)*H57)","v":""},"","",{"$f":"IF(B57=\"\",\"\",IF(LEFT(B57,18)=\"Réunion collective\",350-SUMIF($B$6:B56,B57,$S$6:S56),\"\"))","v":""},"","","","","","",{"$f":"IF(D57=\"\",\"\",IF(A57=2022,VLOOKUP(D57,'Intervenants et coûts-j'!$C$17:$AF$47,19,FALSE),IF(A57=2023,VLOOKUP(D57,'Intervenants et coûts-j'!$C$17:$AF$47,20,FALSE),IF(A57=2024,VLOOKUP(D57,'Intervenants et coûts-j'!$C$17:$AF$47,21,FALSE),IF(A57=2025,VLOOKUP(D57,'Intervenants et coûts-j'!$C$17:$AF$47,22,FALSE),IF(A57=2026,VLOOKUP(D57,'Intervenants et coûts-j'!$C$17:$AF$47,23,FALSE),IF(A57=2027,VLOOKUP(D57,'Intervenants et coûts-j'!$C$17:$AF$47,24,FALSE))))))))","v":""},{"$f":"IF(D57=\"\",\"\",IF(A57=2022,VLOOKUP(D57,'Intervenants et coûts-j'!$C$17:$AF$47,25,FALSE),IF(A57=2023,VLOOKUP(D57,'Intervenants et coûts-j'!$C$17:$AF$47,26,FALSE),IF(A57=2024,VLOOKUP(D57,'Intervenants et coûts-j'!$C$17:$AF$47,27,FALSE),IF(A57=2025,VLOOKUP(D57,'Intervenants et coûts-j'!$C$17:$AF$47,28,FALSE),IF(A57=2026,VLOOKUP(D57,'Intervenants et coûts-j'!$C$17:$AF$47,29,FALSE),IF(A57=2027,VLOOKUP(D57,'Intervenants et coûts-j'!$C$17:$AF$47,30,FALSE))))))))","v":""},"",{"$f":"IF(E57=\"\",\"\",VLOOKUP(C57,'Coûts-indirects'!$A$4:$T$33,20,FALSE)*T57)","v":""},{"$f":"IF(D57=\"\",\"\",IF(V57=\"\",0,VLOOKUP(D57,'Frais-mission'!$B$3:$F$32,5,FALSE)*V57))","v":""},{"$f":"IF(D57=\"\",\"\",IF(W57=\"\",0,VLOOKUP(D57,'Frais-mission'!$B$3:$G$32,6,FALSE)*W57))","v":""},"","",{"$f":"IF(B57=\"\",\"\",IF(LEFT(B57,18)=\"Réunion collective\",350-SUMIF($B$6:B56,B57,$AH$6:AH56),\"\"))","v":""},"","",null,null,{"$f":"\"ListeIntervenants\"&VLOOKUP(C57,'Intervenants et coûts-j'!$B$5:$C$14,2,FALSE)","v":{"$error":"#N/A"}}]
[null,null,null,null,null,null,null,null,{"$f":"IF(D58=\"\",\"\",IF(A58=2022,VLOOKUP(D58,'Intervenants et coûts-j'!$C$17:$P$47,3,FALSE),IF(A58=2023,VLOOKUP(D58,'Intervenants et coûts-j'!$C$17:$P$47,4,FALSE),IF(A58=2024,VLOOKUP(D58,'Intervenants et coûts-j'!$C$17:$P$47,5,FALSE),IF(A58=2025,VLOOKUP(D58,'Intervenants et coûts-j'!$C$17:$P$47,6,FALSE),IF(A58=2026,VLOOKUP(D58,'Intervenants et coûts-j'!$C$17:$P$47,7,FALSE),IF(A58=2027,VLOOKUP(D58,'Intervenants et coûts-j'!$C$17:$P$47,8,FALSE))))))))","v":""},{"$f":"IF(D58=\"\",\"\",IF(A58=2022,VLOOKUP(D58,'Intervenants et coûts-j'!$C$17:$P$47,9,FALSE),IF(A58=2023,VLOOKUP(D58,'Intervenants et coûts-j'!$C$17:$P$47,10,FALSE),IF(A58=2024,VLOOKUP(D58,'Intervenants et coûts-j'!$C$17:$P$47,11,FALSE),IF(A58=2025,VLOOKUP(D58,'Intervenants et coûts-j'!$C$17:$P$47,12,FALSE),IF(A58=2026,VLOOKUP(D58,'Intervenants et coûts-j'!$C$17:$P$47,13,FALSE),IF(A58=2027,VLOOKUP(D58,'Intervenants et coûts-j'!$C$17:$P$47,14,FALSE))))))))","v":""},{"$f":"IF(E58=\"\",\"\",J58*E58)","v":""},{"$f":"IF(E58=\"\",\"\",VLOOKUP(C58,'Coûts-indirects'!$A$4:$K$33,11,FALSE)*E58)","v":""},{"$f":"IF(D58=\"\",\"\",VLOOKUP(D58,'Frais-mission'!$B$3:$E$32,3,FALSE)*G58)","v":""},{"$f":"IF(D58=\"\",\"\",VLOOKUP(D58,'Frais-mission'!$B$3:$E$32,4,FALSE)*H58)","v":""},{"$f":"IF(K58=\"\",\"\",K58*0.15)","v":""},{"$f":"IF(F58=\"\",\"\",J58*F58*0.1)","v":""},{"$f":"IF(B58=\"\",\"\",IF(LEFT(B58,18)=\"Réunion collective\",350-SUMIF($B$6:B57,B58,$S$6:S57),\"\"))","v":""},{"$f":"IF(O58=\"\",\"\",K58+L58+M58+N58)","v":""},{"$f":"IF(R58=\"\",\"\",MIN(Q58,K58+MIN(L58,O58)+MIN(M58+N58,P58)))","v":""},{"$f":"IF(E58=\"\",\"\",E58)","v":""},{"$f":"IF(F58=\"\",\"\",F58)","v":""},{"$f":"IF(G58=\"\",\"\",G58)","v":""},{"$f":"IF(H58=\"\",\"\",H58)","v":""},{"$f":"IF(D58=\"\",\"\",IF(A58=2022,VLOOKUP(D58,'Intervenants et coûts-j'!$C$17:$AF$47,19,FALSE),IF(A58=2023,VLOOKUP(D58,'Intervenants et coûts-j'!$C$17:$AF$47,20,FALSE),IF(A58=2024,VLOOKUP(D58,'Intervenants et coûts-j'!$C$17:$AF$47,21,FALSE),IF(A58=2025,VLOOKUP(D58,'Intervenants et coûts-j'!$C$17:$AF$47,22,FALSE),IF(A58=2026,VLOOKUP(D58,'Intervenants et coûts-j'!$C$17:$AF$47,23,FALSE),IF(A58=2027,VLOOKUP(D58,'Intervenants et coûts-j'!$C$17:$AF$47,24,FALSE))))))))","v":""},{"$f":"IF(D58=\"\",\"\",IF(A58=2022,VLOOKUP(D58,'Intervenants et coûts-j'!$C$17:$AF$47,25,FALSE),IF(A58=2023,VLOOKUP(D58,'Intervenants et coûts-j'!$C$17:$AF$47,26,FALSE),IF(A58=2024,VLOOKUP(D58,'Intervenants et coûts-j'!$C$17:$AF$47,27,FALSE),IF(A58=2025,VLOOKUP(D58,'Intervenants et coûts-j'!$C$17:$AF$47,28,FALSE),IF(A58=2026,VLOOKUP(D58,'Intervenants et coûts-j'!$C$17:$AF$47,29,FALSE),IF(A58=2027,VLOOKUP(D58,'Intervenants et coûts-j'!$C$17:$AF$47,30,FALSE))))))))","v":""},{"$f":"IF(T58=\"\",\"\",Y58*T58)","v":""},{"$f":"IF(E58=\"\",\"\",VLOOKUP(C58,'Coûts-indirects'!$A$4:$T$33,20,FALSE)*T58)","v":""},{"$f":"IF(D58=\"\",\"\",IF(V58=\"\",0,VLOOKUP(D58,'Frais-mission'!$B$3:$F$32,5,FALSE)*V58))","v":""},{"$f":"IF(D58=\"\",\"\",IF(W58=\"\",0,VLOOKUP(D58,'Frais-mission'!$B$3:$G$32,6,FALSE)*W58))","v":""},{"$f":"IF(Z58=\"\",\"\",Z58*0.15)","v":""},{"$f":"IF(U58=\"\",\"\",Y58*U58*0.1)","v":""},{"$f":"IF(B58=\"\",\"\",IF(LEFT(B58,18)=\"Réunion collective\",350-SUMIF($B$6:B57,B58,$AH$6:AH57),\"\"))","v":""},{"$f":"IF(AD58=\"\",\"\",Z58+AA58+AB58+AC58)","v":""},{"$f":"IF(AG58=\"\",\"\",MIN(AF58,Z58+MIN(AA58,AD58)+MIN(AB58+AC58,AE58)))","v":""},null,null,{"$f":"\"ListeIntervenants\"&VLOOKUP(C58,'Intervenants et coûts-j'!$B$5:$C$14,2,FALSE)","v":{"$error":"#N/A"}}]
[null,null,null,null,null,null,null,null,{"$f":"IF(D59=\"\",\"\",IF(A59=2022,VLOOKUP(D59,'Intervenants et coûts-j'!$C$17:$P$47,3,FALSE),IF(A59=2023,VLOOKUP(D59,'Intervenants et coûts-j'!$C$17:$P$47,4,FALSE),IF(A59=2024,VLOOKUP(D59,'Intervenants et coûts-j'!$C$17:$P$47,5,FALSE),IF(A59=2025,VLOOKUP(D59,'Intervenants et coûts-j'!$C$17:$P$47,6,FALSE),IF(A59=2026,VLOOKUP(D59,'Intervenants et coûts-j'!$C$17:$P$47,7,FALSE),IF(A59=2027,VLOOKUP(D59,'Intervenants et coûts-j'!$C$17:$P$47,8,FALSE))))))))","v":""},{"$f":"IF(D59=\"\",\"\",IF(A59=2022,VLOOKUP(D59,'Intervenants et coûts-j'!$C$17:$P$47,9,FALSE),IF(A59=2023,VLOOKUP(D59,'Intervenants et coûts-j'!$C$17:$P$47,10,FALSE),IF(A59=2024,VLOOKUP(D59,'Intervenants et coûts-j'!$C$17:$P$47,11,FALSE),IF(A59=2025,VLOOKUP(D59,'Intervenants et coûts-j'!$C$17:$P$47,12,FALSE),IF(A59=2026,VLOOKUP(D59,'Intervenants et coûts-j'!$C$17:$P$47,13,FALSE),IF(A59=2027,VLOOKUP(D59,'Intervenants et coûts-j'!$C$17:$P$47,14,FALSE))))))))","v":""},"",{"$f":"IF(E59=\"\",\"\",VLOOKUP(C59,'Coûts-indirects'!$A$4:$K$33,11,FALSE)*E59)","v":""},{"$f":"IF(D59=\"\",\"\",VLOOKUP(D59,'Frais-mission'!$B$3:$E$32,3,FALSE)*G59)","v":""},{"$f":"IF(D59=\"\",\"\",VLOOKUP(D59,'Frais-mission'!$B$3:$E$32,4,FALSE)*H59)","v":""},"","",{"$f":"IF(B59=\"\",\"\",IF(LEFT(B59,18)=\"Réunion collective\",350-SUMIF($B$6:B58,B59,$S$6:S58),\"\"))","v":""},"","","","","","",{"$f":"IF(D59=\"\",\"\",IF(A59=2022,VLOOKUP(D59,'Intervenants et coûts-j'!$C$17:$AF$47,19,FALSE),IF(A59=2023,VLOOKUP(D59,'Intervenants et coûts-j'!$C$17:$AF$47,20,FALSE),IF(A59=2024,VLOOKUP(D59,'Intervenants et coûts-j'!$C$17:$AF$47,21,FALSE),IF(A59=2025,VLOOKUP(D59,'Intervenants et coûts-j'!$C$17:$AF$47,22,FALSE),IF(A59=2026,VLOOKUP(D59,'Intervenants et coûts-j'!$C$17:$AF$47,23,FALSE),IF(A59=2027,VLOOKUP(D59,'Intervenants et coûts-j'!$C$17:$AF$47,24,FALSE))))))))","v":""},{"$f":"IF(D59=\"\",\"\",IF(A59=2022,VLOOKUP(D59,'Intervenants et coûts-j'!$C$17:$AF$47,25,FALSE),IF(A59=2023,VLOOKUP(D59,'Intervenants et coûts-j'!$C$17:$AF$47,26,FALSE),IF(A59=2024,VLOOKUP(D59,'Intervenants et coûts-j'!$C$17:$AF$47,27,FALSE),IF(A59=2025,VLOOKUP(D59,'Intervenants et coûts-j'!$C$17:$AF$47,28,FALSE),IF(A59=2026,VLOOKUP(D59,'Intervenants et coûts-j'!$C$17:$AF$47,29,FALSE),IF(A59=2027,VLOOKUP(D59,'Intervenants et coûts-j'!$C$17:$AF$47,30,FALSE))))))))","v":""},"",{"$f":"IF(E59=\"\",\"\",VLOOKUP(C59,'Coûts-indirects'!$A$4:$T$33,20,FALSE)*T59)","v":""},{"$f":"IF(D59=\"\",\"\",IF(V59=\"\",0,VLOOKUP(D59,'Frais-mission'!$B$3:$F$32,5,FALSE)*V59))","v":""},{"$f":"IF(D59=\"\",\"\",IF(W59=\"\",0,VLOOKUP(D59,'Frais-mission'!$B$3:$G$32,6,FALSE)*W59))","v":""},"","",{"$f":"IF(B59=\"\",\"\",IF(LEFT(B59,18)=\"Réunion collective\",350-SUMIF($B$6:B58,B59,$AH$6:AH58),\"\"))","v":""},"","",null,null,{"$f":"\"ListeIntervenants\"&VLOOKUP(C59,'Intervenants et coûts-j'!$B$5:$C$14,2,FALSE)","v":{"$error":"#N/A"}}]
[null,null,null,"Sous-total",{"$f":"SUM(E6:E59)","v":0},0,0,0,0,0,0,0,0,0,0,0,0,0,0,0,0,0,0,0,0,0,0,0,0,0,0,0,0,0]
[]
[]
["2. AUTRES FRAIS (prestation, location de salle et de matériel…) "]
["Campagne","Libellé de la dépense","Structure qui supporte la dépense (opérateur)","Prestataire ou fournisseur",null,null,null,null,null,"N° Facture",null,null,null,null,null,null,"Plafond applicable (si réunion coll.)","Montant total présenté","Montant total plafonné le cas échéant",null,null,null,null,null,"N° Facture",null,null,null,null,null,null,"Plafond applicable (si réunion coll.)","Montant total présenté","Montant total plafonné le cas échéant","Commentaires instructeur"]
[null,null,null,null,null,null,null,null,null,null,null,null,null,null,null,null,{"$f":"IF(B65=\"\",\"\",IF(LEFT(B65,18)=\"Réunion collective\",350-SUMIF($B$6:B64,B65,$S$6:S64),\"\"))","v":""},0,{"$f":"IF(R65=\"\",\"\",MIN(Q65,R65))","v":0},null,null,null,null,null,{"$f":"IF(J65=\"\",\"\",J65)","v":""},null,null,null,null,null,null,{"$f":"IF(B65=\"\",\"\",IF(LEFT(B65,18)=\"Réunion collective\",350-SUMIF($B$6:B64,B65,$AH$6:AH64),\"\"))","v":""},{"$f":"IF(R65=\"\",\"\",R65)","v":0},{"$f":"IF(AG65=\"\",\"\",MIN(AF65,AG65))","v":0}]
[null,null,null,null,null,null,null,null,null,null,null,null,null,null,null,null,{"$f":"IF(B66=\"\",\"\",IF(LEFT(B66,18)=\"Réunion collective\",350-SUMIF($B$6:B65,B66,$S$6:S65),\"\"))","v":""},0,{"$f":"IF(R66=\"\",\"\",MIN(Q66,R66))","v":0},null,null,null,null,null,"",null,null,null,null,null,null,{"$f":"IF(B66=\"\",\"\",IF(LEFT(B66,18)=\"Réunion collective\",350-SUMIF($B$6:B65,B66,$AH$6:AH65),\"\"))","v":""},{"$f":"IF(R66=\"\",\"\",R66)","v":0},{"$f":"IF(AG66=\"\",\"\",MIN(AF66,AG66))","v":0}]
[null,null,null,null,null,null,null,null,null,null,null,null,null,null,null,null,{"$f":"IF(B67=\"\",\"\",IF(LEFT(B67,18)=\"Réunion collective\",350-SUMIF($B$6:B66,B67,$S$6:S66),\"\"))","v":""},0,0,null,null,null,null,null,"",null,null,null,null,null,null,{"$f":"IF(B67=\"\",\"\",IF(LEFT(B67,18)=\"Réunion collective\",350-SUMIF($B$6:B66,B67,$AH$6:AH66),\"\"))","v":""},0,0]
[null,null,null,null,null,null,null,null,null,null,null,null,null,null,null,null,{"$f":"IF(B68=\"\",\"\",IF(LEFT(B68,18)=\"Réunion collective\",350-SUMIF($B$6:B67,B68,$S$6:S67),\"\"))","v":""},0,0,null,null,null,null,null,"",null,null,null,null,null,null,{"$f":"IF(B68=\"\",\"\",IF(LEFT(B68,18)=\"Réunion collective\",350-SUMIF($B$6:B67,B68,$AH$6:AH67),\"\"))","v":""},0,0]
[null,null,null,null,null,null,null,null,null,null,null,null,null,null,null,null,{"$f":"IF(B69=\"\",\"\",IF(LEFT(B69,18)=\"Réunion collective\",350-SUMIF($B$6:B68,B69,$S$6:S68),\"\"))","v":""},0,0,null,null,null,null,null,"",null,null,null,null,null,null,{"$f":"IF(B69=\"\",\"\",IF(LEFT(B69,18)=\"Réunion collective\",350-SUMIF($B$6:B68,B69,$AH$6:AH68),\"\"))","v":""},0,0]
[null,null,null,null,null,null,null,null,null,null,null,null,null,null,null,null,{"$f":"IF(B70=\"\",\"\",IF(LEFT(B70,18)=\"Réunion collective\",350-SUMIF($B$6:B69,B70,$S$6:S69),\"\"))","v":""},0,0,null,null,null,null,null,"",null,null,null,null,null,null,{"$f":"IF(B70=\"\",\"\",IF(LEFT(B70,18)=\"Réunion collective\",350-SUMIF($B$6:B69,B70,$AH$6:AH69),\"\"))","v":""},0,0]
[null,null,null,null,null,null,null,null,null,null,null,null,null,null,null,null,{"$f":"IF(B71=\"\",\"\",IF(LEFT(B71,18)=\"Réunion collective\",350-SUMIF($B$6:B70,B71,$S$6:S70),\"\"))","v":""},0,0,null,null,null,null,null,"",null,null,null,null,null,null,{"$f":"IF(B71=\"\",\"\",IF(LEFT(B71,18)=\"Réunion collective\",350-SUMIF($B$6:B70,B71,$AH$6:AH70),\"\"))","v":""},0,0]
[null,null,null,null,null,null,null,null,null,null,null,null,null,null,null,null,{"$f":"IF(B72=\"\",\"\",IF(LEFT(B72,18)=\"Réunion collective\",350-SUMIF($B$6:B71,B72,$S$6:S71),\"\"))","v":""},0,0,null,null,null,null,null,"",null,null,null,null,null,null,{"$f":"IF(B72=\"\",\"\",IF(LEFT(B72,18)=\"Réunion collective\",350-SUMIF($B$6:B71,B72,$AH$6:AH71),\"\"))","v":""},0,0]
[null,null,null,null,null,null,null,null,"Sous-total",null,null,null,null,null,null,null,null,{"$f":"SUM(R65:R72)","v":0},{"$f":"SUM(S65:S72)","v":0},null,null,null,null,"Sous-total",null,null,null,null,null,null,null,null,{"$f":"SUM(AG65:AG72)","v":0},{"$f":"SUM(AH65:AH72)","v":0}]
[]
[]
[null,null,null,null,"Montants présentés par structure",null,null,null,null,null,null,null,null,null,null,null,null,null,null,"Montants retenus par structure"]
[null,null,"Postes de dépenses",null,{"$f":"Référentiel!M3","v":0},{"$f":"Référentiel!M4","v":"-"},{"$f":"Référentiel!M5","v":"-"},{"$f":"Référentiel!M6","v":"-"},{"$f":"Référentiel!M7","v":"-"},{"$f":"Référentiel!M8","v":"-"},{"$f":"Référentiel!M9","v":"-"},{"$f":"Référentiel!M10","v":"-"},{"$f":"Référentiel!M11","v":"-"},{"$f":"Référentiel!M12","v":"-"},"TOTAL",null,null,null,null,{"$f":"E77","v":0},{"$f":"F77","v":"-"},"-","-","-","-","-","-","-","-","TOTAL"]
[null,null,"Frais de personnel",null,{"$f":"SUMIF($C$6:$C$59,E77,$K$6:$K$59)","v":0},0,0,0,0,0,0,0,0,0,{"$f":"SUM(E78:N78)","v":0},null,null,null,null,{"$f":"SUMIF($C$6:$C$59,T77,$Z$6:$Z$59)","v":0},0,0,0,0,0,0,0,0,0,{"$f":"SUM(T78:AC78)","v":0}]
[null,null,"Coûts indirects",null,{"$f":"SUMIF($C$6:$C$59,E77,$L$6:$L$59)","v":0},0,0,0,0,0,0,0,0,0,{"$f":"SUM(E79:N79)","v":0},null,null,null,null,{"$f":"SUMIF($C$6:$C$59,T77,$AA$6:$AA$59)","v":0},0,0,0,0,0,0,0,0,0,{"$f":"SUM(T79:AC79)","v":0}]
[null,null,"Frais de déplacement de restauration et d'hébergement",null,{"$f":"SUMIF($C$6:$C$59,E77,$M$6:$M$59)+SUMIF($C$6:$C$59,E77,$N$6:$N$59)","v":0},0,0,0,0,0,0,0,0,0,0,null,null,null,null,{"$f":"SUMIF($C$6:$C$59,T77,$AB$6:$AB$59)+SUMIF($C$6:$C$59,T77,$AC$6:$AC$59)","v":0},0,0,0,0,0,0,0,0,0,0]
[null,null,"Autres frais",null,{"$f":"SUMIF($C$65:$C$72,E77,$R$65:$R$72)","v":0},0,0,0,0,0,0,0,0,0,0,null,null,null,null,{"$f":"SUMIF($C$65:$C$72,T77,$AG$65:$AG$72)","v":0},{"$f":"SUMIF($C$65:$C$72,U77,$AG$65:$AG$72)","v":0},0,0,0,0,0,0,0,0,0]
[null,null,"Total volet 2",null,{"$f":"SUM(E78:E81)","v":0},{"$f":"SUM(F78:F81)","v":0},0,0,0,0,0,0,0,0,0,null,null,null,null,{"$f":"SUM(T78:T81)","v":0},{"$f":"SUM(U78:U81)","v":0},0,0,0,0,0,0,0,0,0]
[null,null,"Total volet 2 (plafonné le cas échéant)",null,{"$f":"SUMIF($C$6:$C$59,E77,$S$6:$S$59)+SUMIF($C$65:$C$72,E77,$S$65:$S$72)","v":0},0,0,0,0,0,0,0,0,0,0,null,null,null,null,{"$f":"SUMIF($C$6:$C$59,T77,$AH$6:$AH$59)+SUMIF($C$65:$C$72,T77,$AH$65:$AH$72)","v":0},0,0,0,0,0,0,0,0,0,0]
[]
[]
[]
[null,"Certifié exact et sincère, le (date) :","………………………………………………………………………………………………………………………….."]
[null,"Nom, prénom du représentant de la structure :","………………………………………………………………………………………………………………………….."]
[null,"Qualité :","………………………………………………………………………………………………………………………….."]
[null,"Cachet et signature :"]
[]
[]
[]
[]
[]
[]
[]
[]
["Demandeur :",null,{"$f":"Identification!E23","v":0}]
["SIRET :",null,{"$f":"Identification!E25","v":0}]

{"sheet":"Dép. volet 3-Diag.","index":8,"n_rows":84,"n_cols":47,"rows_kept":84,"cut":false,"hidden":false,"merged":[[67,25,67,26],[68,25,68,26],[69,25,69,26],[41,41,58,41],[41,42,58,42],[64,25,64,26],[65,25,65,26],[66,25,66,26],[56,23,58,23],[62,6,62,16],[62,25,62,26],[62,27,62,37],[63,25,63,26],[41,23,55,23],[5,41,22,41],[5,42,22,42],[20,23,22,23],[23,23,37,23],[23,41,40,41],[23,42,40,42],[38,23,40,23],[5,23,19,23],[2,27,2,42],[3,27,3,30],[3,31,3,33],[3,35,3,36],[3,37,3,38],[3,39,3,42],[2,6,2,21],[3,18,3,21],[3,16,3,17],[3,6,3,9],[3,10,3,12],[3,14,3,15],[5,22,22,22],[23,22,40,22],[41,22,58,22],[5,1,22,1],[56,2,58,2],[41,2,55,2],[41,21,58,21],[67,4,67,5],[68,4,68,5],[69,4,69,5],[5,20,22,20],[64,4,64,5],[65,4,65,5],[66,4,66,5],[0,0,0,21],[23,0,40,0],[5,0,22,0],[63,4,63,5],[5,21,22,21],[5,2,19,2],[20,2,22,2],[23,20,40,20],[23,21,40,21],[41,0,58,0],[41,20,58,20],[23,1,40,1],[23,2,37,2],[62,4,62,5],[38,2,40,2],[41,1,58,1]]}
["Dépenses réalisées - Volet 3 - REALISATION DES DIAGNOSTICS D’EXPLOITATION ET PLANS DE GESTION"]
[]
[null,null,null,null,null,null,"Dépenses réalisées présentées",null,null,null,null,null,null,null,null,null,null,null,null,null,null,null,null,null,null,null,null,"Dépenses réalisées présentées"]
["1 - REALISATION DES DIAGNOSTICS ",null,null,null,null,null,"Réalisation",null,null,null,"Frais de personnel",null,null,"Structure","Frais de mission",null,"Plafonds spécif. applicables",null,"TOTAL",null,null,null,null,null,null,null,null,"Réalisation",null,null,null,"Frais de personnel",null,null,"Structure","Frais de mission",null,"Plafonds spécif. applicables",null,"TOTAL"]
["Catégorie","Nb total de diag. réalisés","Modalité de réalisation","Année","Structure intervenant","Intervenant","Nbre de jours consacrés à l'action","Dont Nbre de jours en déplacement","Nbre km déplacement","Nb repas déplacement","Coût salarial journalier (€)","Coût salarial journalier plafonné(€)","Frais de personnel présentés (€)","Frais de structure présentés","Frais de déplacement présenté","Frais de repas présentés","Plafond frais de structures","Plafond frais de mission","Montant réalisé présenté","Montant total plafonné le cas échéant","Plafond global applicable","Montant total présenté après plafonnement","Nb total de diag. réalisés campagne 2023","Modalité de réalisation","Année","Structure intervenant","Intervenant","Nbre de jours consacrés à l'action","Dont Nbre de jours en déplacement","Nbre km déplacement","Nb repas déplacement","Coût salarial journalier (€)","Coût salarial journalier plafonné(€)","Frais de personnel présentés (€)","Frais de structure présentés","Frais de déplacement présenté","Frais de repas présentés","Plafond frais de structures","Plafond frais de mission","Montant réalisé présenté","Montant total plafonné le cas échéant","Plafond global applicable","Montant total présenté après plafonnement"]
["Diagnostics plafonnés à 500€ :\nDiagnostic mono-enjeu Pastoralisme individuel\nou\nenjeux Filières (Grandes cultures, polyculture-élevage, riz)",null,"Réalisation par l'opérateur et/ou ses partenaires :",null,null,null,null,null,null,null,{"$f":"IF(F6=\"\",\"\",IF(D6=2022,VLOOKUP(F6,'Intervenants et coûts-j'!$C$17:$P$47,3,FALSE),IF(D6=2023,VLOOKUP(F6,'Intervenants et coûts-j'!$C$17:$P$47,4,FALSE),IF(D6=2024,VLOOKUP(F6,'Intervenants et coûts-j'!$C$17:$P$47,5,FALSE),IF(D6=2025,VLOOKUP(F6,'Intervenants et coûts-j'!$C$17:$P$47,6,FALSE),IF(D6=2026,VLOOKUP(F6,'Intervenants et coûts-j'!$C$17:$P$47,7,FALSE),IF(D6=2027,VLOOKUP(F6,'Intervenants et coûts-j'!$C$17:$P$47,8,FALSE))))))))","v":""},{"$f":"IF(F6=\"\",\"\",IF(D6=2022,VLOOKUP(F6,'Intervenants et coûts-j'!$C$17:$P$47,9,FALSE),IF(D6=2023,VLOOKUP(F6,'Intervenants et coûts-j'!$C$17:$P$47,10,FALSE),IF(D6=2024,VLOOKUP(F6,'Intervenants et coûts-j'!$C$17:$P$47,11,FALSE),IF(D6=2025,VLOOKUP(F6,'Intervenants et coûts-j'!$C$17:$P$47,12,FALSE),IF(D6=2026,VLOOKUP(F6,'Intervenants et coûts-j'!$C$17:$P$47,13,FALSE),IF(D6=2027,VLOOKUP(F6,'Intervenants et coûts-j'!$C$17:$P$47,14,FALSE))))))))","v":""},{"$f":"IF(G6=\"\",\"\",L6*G6)","v":""},{"$f":"IF(G6=\"\",\"\",VLOOKUP(E6,'Coûts-indirects'!$A$4:$K$33,11,FALSE)*G6)","v":""},{"$f":"IF(F6=\"\",\"\",VLOOKUP(F6,'Frais-mission'!$B$3:$E$32,3,FALSE)*I6)","v":""},{"$f":"IF(F6=\"\",\"\",VLOOKUP(F6,'Frais-mission'!$B$3:$E$32,4,FALSE)*J6)","v":""},{"$f":"IF(M6=\"\",\"\",M6*0.15)","v":""},{"$f":"IF(H6=\"\",\"\",L6*H6*0.1)","v":""},{"$f":"IF(P6=\"\",\"\",M6+N6+O6+P6)","v":""},{"$f":"IF(S6=\"\",\"\",MIN(S6,M6+MIN(N6,Q6)+MIN(O6+P6,R6)))","v":""},{"$f":"B6*500","v":0},{"$f":"MIN(U6,SUM(T6:T23))","v":0},{"$f":"IF(B6=\"\",0,B6)","v":0},"Réalisation par l'opérateur et/ou ses partenaires :",{"$f":"IF(D6=\"\",\"\",D6)","v":""},{"$f":"IF(E6=\"\",\"\",E6)","v":""},"","",{"$f":"IF(H6=\"\",0,H6)","v":0},{"$f":"IF(I6=\"\",0,I6)","v":0},{"$f":"IF(J6=\"\",0,J6)","v":0},{"$f":"IF(F6=\"\",\"\",IF(D6=2022,VLOOKUP(F6,'Intervenants et coûts-j'!$C$17:$AF$47,19,FALSE),IF(D6=2023,VLOOKUP(F6,'Intervenants et coûts-j'!$C$17:$AF$47,20,FALSE),IF(D6=2024,VLOOKUP(F6,'Intervenants et coûts-j'!$C$17:$AF$47,21,FALSE),IF(D6=2025,VLOOKUP(F6,'Intervenants et coûts-j'!$C$17:$AF$47,22,FALSE),IF(D6=2026,VLOOKUP(F6,'Intervenants et coûts-j'!$C$17:$AF$47,23,FALSE),IF(D6=2027,VLOOKUP(F6,'Intervenants et coûts-j'!$C$17:$AF$47,24,FALSE))))))))","v":""},{"$f":"IF(F6=\"\",\"\",IF(D6=2022,VLOOKUP(F6,'Intervenants et coûts-j'!$C$17:$AF$47,25,FALSE),IF(D6=2023,VLOOKUP(F6,'Intervenants et coûts-j'!$C$17:$AF$47,26,FALSE),IF(D6=2024,VLOOKUP(F6,'Intervenants et coûts-j'!$C$17:$AF$47,27,FALSE),IF(D6=2025,VLOOKUP(F6,'Intervenants et coûts-j'!$C$17:$AF$47,28,FALSE),IF(D6=2026,VLOOKUP(F6,'Intervenants et coûts-j'!$C$17:$AF$47,29,FALSE),IF(D6=2027,VLOOKUP(F6,'Intervenants et coûts-j'!$C$17:$AF$47,30,FALSE))))))))","v":""},{"$f":"IF(AB6=\"\",\"\",AG6*AB6)","v":""},{"$f":"IF(AB6=\"\",\"\",VLOOKUP(Z6,'Coûts-indirects'!$A$4:$T$33,20,FALSE)*AB6)","v":""},{"$f":"IF(AA6=\"\",\"\",VLOOKUP(AA6,'Frais-mission'!$B$3:$F$32,5,FALSE)*AD6)","v":""},{"$f":"IF(AA6=\"\",\"\",VLOOKUP(AA6,'Frais-mission'!$B$3:$G$34,6,FALSE)*AE6)","v":""},{"$f":"IF(AH6=\"\",\"\",AH6*0.15)","v":""},{"$f":"IF(AC6=0,\"\",AG6*AC6*0.1)","v":""},{"$f":"IF(AK6=\"\",\"\",AH6+AI6+AJ6+AK6)","v":""},{"$f":"IF(AN6=\"\",\"\",MIN(AN6,AH6+MIN(AI6,AL6)+MIN(AJ6+AK6,AM6)))","v":""},{"$f":"W6*500","v":0},{"$f":"MIN(AP6,SUM(AO6:AO23))","v":0},null,{"$f":"\"ListeIntervenants\"&VLOOKUP(E6,'Intervenants et coûts-j'!$B$5:$C$14,2,FALSE)","v":{"$error":"#N/A"}},{"$f":"IF(SUM($T$6:$T$23)=0,0,(T6*$V$6/SUM($T$6:$T$23)))","v":0},{"$f":"IF(SUM($AO$6:$AO$23)=0,0,(AO6*$AQ$6/SUM($AO$6:$AO$23)))","v":0}]
[null,null,null,null,null,null,null,null,null,null,{"$f":"IF(F7=\"\",\"\",IF(D7=2022,VLOOKUP(F7,'Intervenants et coûts-j'!$C$17:$P$47,3,FALSE),IF(D7=2023,VLOOKUP(F7,'Intervenants et coûts-j'!$C$17:$P$47,4,FALSE),IF(D7=2024,VLOOKUP(F7,'Intervenants et coûts-j'!$C$17:$P$47,5,FALSE),IF(D7=2025,VLOOKUP(F7,'Intervenants et coûts-j'!$C$17:$P$47,6,FALSE),IF(D7=2026,VLOOKUP(F7,'Intervenants et coûts-j'!$C$17:$P$47,7,FALSE),IF(D7=2027,VLOOKUP(F7,'Intervenants et coûts-j'!$C$17:$P$47,8,FALSE))))))))","v":""},{"$f":"IF(F7=\"\",\"\",IF(D7=2022,VLOOKUP(F7,'Intervenants et coûts-j'!$C$17:$P$47,9,FALSE),IF(D7=2023,VLOOKUP(F7,'Intervenants et coûts-j'!$C$17:$P$47,10,FALSE),IF(D7=2024,VLOOKUP(F7,'Intervenants et coûts-j'!$C$17:$P$47,11,FALSE),IF(D7=2025,VLOOKUP(F7,'Intervenants et coûts-j'!$C$17:$P$47,12,FALSE),IF(D7=2026,VLOOKUP(F7,'Intervenants et coûts-j'!$C$17:$P$47,13,FALSE),IF(D7=2027,VLOOKUP(F7,'Intervenants et coûts-j'!$C$17:$P$47,14,FALSE))))))))","v":""},{"$f":"IF(G7=\"\",\"\",L7*G7)","v":""},{"$f":"IF(G7=\"\",\"\",VLOOKUP(E7,'Coûts-indirects'!$A$4:$K$33,11,FALSE)*G7)","v":""},{"$f":"IF(F7=\"\",\"\",VLOOKUP(F7,'Frais-mission'!$B$3:$E$32,3,FALSE)*I7)","v":""},{"$f":"IF(F7=\"\",\"\",VLOOKUP(F7,'Frais-mission'!$B$3:$E$32,4,FALSE)*J7)","v":""},{"$f":"IF(M7=\"\",\"\",M7*0.15)","v":""},{"$f":"IF(H7=\"\",\"\",L7*H7*0.1)","v":""},{"$f":"IF(P7=\"\",\"\",M7+N7+O7+P7)","v":""},{"$f":"IF(S7=\"\",\"\",MIN(S7,M7+MIN(N7,Q7)+MIN(O7+P7,R7)))","v":""},null,null,{"$f":"IF(B7=\"\",\"\",B7)","v":""},null,"","","","",{"$f":"IF(H7=\"\",0,H7)","v":0},0,0,{"$f":"IF(F7=\"\",\"\",IF(D7=2022,VLOOKUP(F7,'Intervenants et coûts-j'!$C$17:$AF$47,19,FALSE),IF(D7=2023,VLOOKUP(F7,'Intervenants et coûts-j'!$C$17:$AF$47,20,FALSE),IF(D7=2024,VLOOKUP(F7,'Intervenants et coûts-j'!$C$17:$AF$47,21,FALSE),IF(D7=2025,VLOOKUP(F7,'Intervenants et coûts-j'!$C$17:$AF$47,22,FALSE),IF(D7=2026,VLOOKUP(F7,'Intervenants et coûts-j'!$C$17:$AF$47,23,FALSE),IF(D7=2027,VLOOKUP(F7,'Intervenants et coûts-j'!$C$17:$AF$47,24,FALSE))))))))","v":""},{"$f":"IF(F7=\"\",\"\",IF(D7=2022,VLOOKUP(F7,'Intervenants et coûts-j'!$C$17:$AF$47,25,FALSE),IF(D7=2023,VLOOKUP(F7,'Intervenants et coûts-j'!$C$17:$AF$47,26,FALSE),IF(D7=2024,VLOOKUP(F7,'Intervenants et coûts-j'!$C$17:$AF$47,27,FALSE),IF(D7=2025,VLOOKUP(F7,'Intervenants et coûts-j'!$C$17:$AF$47,28,FALSE),IF(D7=2026,VLOOKUP(F7,'Intervenants et coûts-j'!$C$17:$AF$47,29,FALSE),IF(D7=2027,VLOOKUP(F7,'Intervenants et coûts-j'!$C$17:$AF$47,30,FALSE))))))))","v":""},"",{"$f":"IF(AB7=\"\",\"\",VLOOKUP(Z7,'Coûts-indirects'!$A$4:$T$33,20,FALSE)*AB7)","v":""},{"$f":"IF(AA7=\"\",\"\",VLOOKUP(AA7,'Frais-mission'!$B$3:$F$32,5,FALSE)*AD7)","v":""},{"$f":"IF(AA7=\"\",\"\",VLOOKUP(AA7,'Frais-mission'!$B$3:$G$34,6,FALSE)*AE7)","v":""},"",{"$f":"IF(AC7=0,\"\",AG7*AC7*0.1)","v":""},{"$f":"IF(AK7=\"\",\"\",AH7+AI7+AJ7+AK7)","v":""},{"$f":"IF(AN7=\"\",\"\",MIN(AN7,AH7+MIN(AI7,AL7)+MIN(AJ7+AK7,AM7)))","v":""},null,null,null,{"$f":"\"ListeIntervenants\"&VLOOKUP(E7,'Intervenants et coûts-j'!$B$5:$C$14,2,FALSE)","v":{"$error":"#N/A"}},0,0]
[null,null,null,null,null,null,null,null,null,null,{"$f":"IF(F8=\"\",\"\",IF(D8=2022,VLOOKUP(F8,'Intervenants et coûts-j'!$C$17:$P$47,3,FALSE),IF(D8=2023,VLOOKUP(F8,'Intervenants et coûts-j'!$C$17:$P$47,4,FALSE),IF(D8=2024,VLOOKUP(F8,'Intervenants et coûts-j'!$C$17:$P$47,5,FALSE),IF(D8=2025,VLOOKUP(F8,'Intervenants et coûts-j'!$C$17:$P$47,6,FALSE),IF(D8=2026,VLOOKUP(F8,'Intervenants et coûts-j'!$C$17:$P$47,7,FALSE),IF(D8=2027,VLOOKUP(F8,'Intervenants et coûts-j'!$C$17:$P$47,8,FALSE))))))))","v":""},{"$f":"IF(F8=\"\",\"\",IF(D8=2022,VLOOKUP(F8,'Intervenants et coûts-j'!$C$17:$P$47,9,FALSE),IF(D8=2023,VLOOKUP(F8,'Intervenants et coûts-j'!$C$17:$P$47,10,FALSE),IF(D8=2024,VLOOKUP(F8,'Intervenants et coûts-j'!$C$17:$P$47,11,FALSE),IF(D8=2025,VLOOKUP(F8,'Intervenants et coûts-j'!$C$17:$P$47,12,FALSE),IF(D8=2026,VLOOKUP(F8,'Intervenants et coûts-j'!$C$17:$P$47,13,FALSE),IF(D8=2027,VLOOKUP(F8,'Intervenants et coûts-j'!$C$17:$P$47,14,FALSE))))))))","v":""},"",{"$f":"IF(G8=\"\",\"\",VLOOKUP(E8,'Coûts-indirects'!$A$4:$K$33,11,FALSE)*G8)","v":""},{"$f":"IF(F8=\"\",\"\",VLOOKUP(F8,'Frais-mission'!$B$3:$E$32,3,FALSE)*I8)","v":""},{"$f":"IF(F8=\"\",\"\",VLOOKUP(F8,'Frais-mission'!$B$3:$E$32,4,FALSE)*J8)","v":""},"","","","",null,null,"",null,"","","","",0,0,0,{"$f":"IF(F8=\"\",\"\",IF(D8=2022,VLOOKUP(F8,'Intervenants et coûts-j'!$C$17:$AF$47,19,FALSE),IF(D8=2023,VLOOKUP(F8,'Intervenants et coûts-j'!$C$17:$AF$47,20,FALSE),IF(D8=2024,VLOOKUP(F8,'Intervenants et coûts-j'!$C$17:$AF$47,21,FALSE),IF(D8=2025,VLOOKUP(F8,'Intervenants et coûts-j'!$C$17:$AF$47,22,FALSE),IF(D8=2026,VLOOKUP(F8,'Intervenants et coûts-j'!$C$17:$AF$47,23,FALSE),IF(D8=2027,VLOOKUP(F8,'Intervenants et coûts-j'!$C$17:$AF$47,24,FALSE))))))))","v":""},{"$f":"IF(F8=\"\",\"\",IF(D8=2022,VLOOKUP(F8,'Intervenants et coûts-j'!$C$17:$AF$47,25,FALSE),IF(D8=2023,VLOOKUP(F8,'Intervenants et coûts-j'!$C$17:$AF$47,26,FALSE),IF(D8=2024,VLOOKUP(F8,'Intervenants et coûts-j'!$C$17:$AF$47,27,FALSE),IF(D8=2025,VLOOKUP(F8,'Intervenants et coûts-j'!$C$17:$AF$47,28,FALSE),IF(D8=2026,VLOOKUP(F8,'Intervenants et coûts-j'!$C$17:$AF$47,29,FALSE),IF(D8=2027,VLOOKUP(F8,'Intervenants et coûts-j'!$C$17:$AF$47,30,FALSE))))))))","v":""},"",{"$f":"IF(AB8=\"\",\"\",VLOOKUP(Z8,'Coûts-indirects'!$A$4:$T$33,20,FALSE)*AB8)","v":""},{"$f":"IF(AA8=\"\",\"\",VLOOKUP(AA8,'Frais-mission'!$B$3:$F$32,5,FALSE)*AD8)","v":""},{"$f":"IF(AA8=\"\",\"\",VLOOKUP(AA8,'Frais-mission'!$B$3:$G$34,6,FALSE)*AE8)","v":""},"","","","",null,null,null,{"$f":"\"ListeIntervenants\"&VLOOKUP(E8,'Intervenants et coûts-j'!$B$5:$C$14,2,FALSE)","v":{"$error":"#N/A"}},0,0]
[null,null,null,null,null,null,null,null,null,null,{"$f":"IF(F9=\"\",\"\",IF(D9=2022,VLOOKUP(F9,'Intervenants et coûts-j'!$C$17:$P$47,3,FALSE),IF(D9=2023,VLOOKUP(F9,'Intervenants et coûts-j'!$C$17:$P$47,4,FALSE),IF(D9=2024,VLOOKUP(F9,'Intervenants et coûts-j'!$C$17:$P$47,5,FALSE),IF(D9=2025,VLOOKUP(F9,'Intervenants et coûts-j'!$C$17:$P$47,6,FALSE),IF(D9=2026,VLOOKUP(F9,'Intervenants et coûts-j'!$C$17:$P$47,7,FALSE),IF(D9=2027,VLOOKUP(F9,'Intervenants et coûts-j'!$C$17:$P$47,8,FALSE))))))))","v":""},{"$f":"IF(F9=\"\",\"\",IF(D9=2022,VLOOKUP(F9,'Intervenants et coûts-j'!$C$17:$P$47,9,FALSE),IF(D9=2023,VLOOKUP(F9,'Intervenants et coûts-j'!$C$17:$P$47,10,FALSE),IF(D9=2024,VLOOKUP(F9,'Intervenants et coûts-j'!$C$17:$P$47,11,FALSE),IF(D9=2025,VLOOKUP(F9,'Intervenants et coûts-j'!$C$17:$P$47,12,FALSE),IF(D9=2026,VLOOKUP(F9,'Intervenants et coûts-j'!$C$17:$P$47,13,FALSE),IF(D9=2027,VLOOKUP(F9,'Intervenants et coûts-j'!$C$17:$P$47,14,FALSE))))))))","v":""},"",{"$f":"IF(G9=\"\",\"\",VLOOKUP(E9,'Coûts-indirects'!$A$4:$K$33,11,FALSE)*G9)","v":""},{"$f":"IF(F9=\"\",\"\",VLOOKUP(F9,'Frais-mission'!$B$3:$E$32,3,FALSE)*I9)","v":""},{"$f":"IF(F9=\"\",\"\",VLOOKUP(F9,'Frais-mission'!$B$3:$E$32,4,FALSE)*J9)","v":""},"","","","",null,null,"",null,"","","","",0,0,0,{"$f":"IF(F9=\"\",\"\",IF(D9=2022,VLOOKUP(F9,'Intervenants et coûts-j'!$C$17:$AF$47,19,FALSE),IF(D9=2023,VLOOKUP(F9,'Intervenants et coûts-j'!$C$17:$AF$47,20,FALSE),IF(D9=2024,VLOOKUP(F9,'Intervenants et coûts-j'!$C$17:$AF$47,21,FALSE),IF(D9=2025,VLOOKUP(F9,'Intervenants et coûts-j'!$C$17:$AF$47,22,FALSE),IF(D9=2026,VLOOKUP(F9,'Intervenants et coûts-j'!$C$17:$AF$47,23,FALSE),IF(D9=2027,VLOOKUP(F9,'Intervenants et coûts-j'!$C$17:$AF$47,24,FALSE))))))))","v":""},{"$f":"IF(F9=\"\",\"\",IF(D9=2022,VLOOKUP(F9,'Intervenants et coûts-j'!$C$17:$AF$47,25,FALSE),IF(D9=2023,VLOOKUP(F9,'Intervenants et coûts-j'!$C$17:$AF$47,26,FALSE),IF(D9=2024,VLOOKUP(F9,'Intervenants et coûts-j'!$C$17:$AF$47,27,FALSE),IF(D9=2025,VLOOKUP(F9,'Intervenants et coûts-j'!$C$17:$AF$47,28,FALSE),IF(D9=2026,VLOOKUP(F9,'Intervenants et coûts-j'!$C$17:$AF$47,29,FALSE),IF(D9=2027,VLOOKUP(F9,'Intervenants et coûts-j'!$C$17:$AF$47,30,FALSE))))))))","v":""},{"$f":"IF(AB9=\"\",\"\",AG9*AB9)","v":""},{"$f":"IF(AB9=\"\",\"\",VLOOKUP(Z9,'Coûts-indirects'!$A$4:$T$33,20,FALSE)*AB9)","v":""},{"$f":"IF(AA9=\"\",\"\",VLOOKUP(AA9,'Frais-mission'!$B$3:$F$32,5,FALSE)*AD9)","v":""},{"$f":"IF(AA9=\"\",\"\",VLOOKUP(AA9,'Frais-mission'!$B$3:$G$34,6,FALSE)*AE9)","v":""},{"$f":"IF(AH9=\"\",\"\",AH9*0.15)","v":""},"","","",null,null,null,{"$f":"\"ListeIntervenants\"&VLOOKUP(E9,'Intervenants et coûts-j'!$B$5:$C$14,2,FALSE)","v":{"$error":"#N/A"}},0,0]
[null,null,null,null,null,null,null,null,null,null,{"$f":"IF(F10=\"\",\"\",IF(D10=2022,VLOOKUP(F10,'Intervenants et coûts-j'!$C$17:$P$47,3,FALSE),IF(D10=2023,VLOOKUP(F10,'Intervenants et coûts-j'!$C$17:$P$47,4,FALSE),IF(D10=2024,VLOOKUP(F10,'Intervenants et coûts-j'!$C$17:$P$47,5,FALSE),IF(D10=2025,VLOOKUP(F10,'Intervenants et coûts-j'!$C$17:$P$47,6,FALSE),IF(D10=2026,VLOOKUP(F10,'Intervenants et coûts-j'!$C$17:$P$47,7,FALSE),IF(D10=2027,VLOOKUP(F10,'Intervenants et coûts-j'!$C$17:$P$47,8,FALSE))))))))","v":""},{"$f":"IF(F10=\"\",\"\",IF(D10=2022,VLOOKUP(F10,'Intervenants et coûts-j'!$C$17:$P$47,9,FALSE),IF(D10=2023,VLOOKUP(F10,'Intervenants et coûts-j'!$C$17:$P$47,10,FALSE),IF(D10=2024,VLOOKUP(F10,'Intervenants et coûts-j'!$C$17:$P$47,11,FALSE),IF(D10=2025,VLOOKUP(F10,'Intervenants et coûts-j'!$C$17:$P$47,12,FALSE),IF(D10=2026,VLOOKUP(F10,'Intervenants et coûts-j'!$C$17:$P$47,13,FALSE),IF(D10=2027,VLOOKUP(F10,'Intervenants et coûts-j'!$C$17:$P$47,14,FALSE))))))))","v":""},"",{"$f":"IF(G10=\"\",\"\",VLOOKUP(E10,'Coûts-indirects'!$A$4:$K$33,11,FALSE)*G10)","v":""},{"$f":"IF(F10=\"\",\"\",VLOOKUP(F10,'Frais-mission'!$B$3:$E$32,3,FALSE)*I10)","v":""},{"$f":"IF(F10=\"\",\"\",VLOOKUP(F10,'Frais-mission'!$B$3:$E$32,4,FALSE)*J10)","v":""},"","","","",null,null,"",null,"","","",{"$f":"IF(G10=\"\",\"\",G10)","v":""},0,0,0,{"$f":"IF(F10=\"\",\"\",IF(D10=2022,VLOOKUP(F10,'Intervenants et coûts-j'!$C$17:$AF$47,19,FALSE),IF(D10=2023,VLOOKUP(F10,'Intervenants et coûts-j'!$C$17:$AF$47,20,FALSE),IF(D10=2024,VLOOKUP(F10,'Intervenants et coûts-j'!$C$17:$AF$47,21,FALSE),IF(D10=2025,VLOOKUP(F10,'Intervenants et coûts-j'!$C$17:$AF$47,22,FALSE),IF(D10=2026,VLOOKUP(F10,'Intervenants et coûts-j'!$C$17:$AF$47,23,FALSE),IF(D10=2027,VLOOKUP(F10,'Intervenants et coûts-j'!$C$17:$AF$47,24,FALSE))))))))","v":""},{"$f":"IF(F10=\"\",\"\",IF(D10=2022,VLOOKUP(F10,'Intervenants et coûts-j'!$C$17:$AF$47,25,FALSE),IF(D10=2023,VLOOKUP(F10,'Intervenants et coûts-j'!$C$17:$AF$47,26,FALSE),IF(D10=2024,VLOOKUP(F10,'Intervenants et coûts-j'!$C$17:$AF$47,27,FALSE),IF(D10=2025,VLOOKUP(F10,'Intervenants et coûts-j'!$C$17:$AF$47,28,FALSE),IF(D10=2026,VLOOKUP(F10,'Intervenants et coûts-j'!$C$17:$AF$47,29,FALSE),IF(D10=2027,VLOOKUP(F10,'Intervenants et coûts-j'!$C$17:$AF$47,30,FALSE))))))))","v":""},"",{"$f":"IF(AB10=\"\",\"\",VLOOKUP(Z10,'Coûts-indirects'!$A$4:$T$33,20,FALSE)*AB10)","v":""},{"$f":"IF(AA10=\"\",\"\",VLOOKUP(AA10,'Frais-mission'!$B$3:$F$32,5,FALSE)*AD10)","v":""},{"$f":"IF(AA10=\"\",\"\",VLOOKUP(AA10,'Frais-mission'!$B$3:$G$34,6,FALSE)*AE10)","v":""},"","","","",null,null,null,{"$f":"\"ListeIntervenants\"&VLOOKUP(E10,'Intervenants et coûts-j'!$B$5:$C$14,2,FALSE)","v":{"$error":"#N/A"}},0,0]
[null,null,null,null,null,null,null,null,null,null,{"$f":"IF(F11=\"\",\"\",IF(D11=2022,VLOOKUP(F11,'Intervenants et coûts-j'!$C$17:$P$47,3,FALSE),IF(D11=2023,VLOOKUP(F11,'Intervenants et coûts-j'!$C$17:$P$47,4,FALSE),IF(D11=2024,VLOOKUP(F11,'Intervenants et coûts-j'!$C$17:$P$47,5,FALSE),IF(D11=2025,VLOOKUP(F11,'Intervenants et coûts-j'!$C$17:$P$47,6,FALSE),IF(D11=2026,VLOOKUP(F11,'Intervenants et coûts-j'!$C$17:$P$47,7,FALSE),IF(D11=2027,VLOOKUP(F11,'Intervenants et coûts-j'!$C$17:$P$47,8,FALSE))))))))","v":""},{"$f":"IF(F11=\"\",\"\",IF(D11=2022,VLOOKUP(F11,'Intervenants et coûts-j'!$C$17:$P$47,9,FALSE),IF(D11=2023,VLOOKUP(F11,'Intervenants et coûts-j'!$C$17:$P$47,10,FALSE),IF(D11=2024,VLOOKUP(F11,'Intervenants et coûts-j'!$C$17:$P$47,11,FALSE),IF(D11=2025,VLOOKUP(F11,'Intervenants et coûts-j'!$C$17:$P$47,12,FALSE),IF(D11=2026,VLOOKUP(F11,'Intervenants et coûts-j'!$C$17:$P$47,13,FALSE),IF(D11=2027,VLOOKUP(F11,'Intervenants et coûts-j'!$C$17:$P$47,14,FALSE))))))))","v":""},"",{"$f":"IF(G11=\"\",\"\",VLOOKUP(E11,'Coûts-indirects'!$A$4:$K$33,11,FALSE)*G11)","v":""},{"$f":"IF(F11=\"\",\"\",VLOOKUP(F11,'Frais-mission'!$B$3:$E$32,3,FALSE)*I11)","v":""},{"$f":"IF(F11=\"\",\"\",VLOOKUP(F11,'Frais-mission'!$B$3:$E$32,4,FALSE)*J11)","v":""},"","",{"$f":"IF(P11=\"\",\"\",M11+N11+O11+P11)","v":""},{"$f":"IF(S11=\"\",\"\",MIN(S11,M11+MIN(N11,Q11)+MIN(O11+P11,R11)))","v":""},null,null,null,null,{"$f":"IF(D11=\"\",\"\",D11)","v":""},{"$f":"IF(E11=\"\",\"\",E11)","v":""},{"$f":"IF(F11=\"\",\"\",F11)","v":""},"",0,0,0,{"$f":"IF(F11=\"\",\"\",IF(D11=2022,VLOOKUP(F11,'Intervenants et coûts-j'!$C$17:$AF$47,19,FALSE),IF(D11=2023,VLOOKUP(F11,'Intervenants et coûts-j'!$C$17:$AF$47,20,FALSE),IF(D11=2024,VLOOKUP(F11,'Intervenants et coûts-j'!$C$17:$AF$47,21,FALSE),IF(D11=2025,VLOOKUP(F11,'Intervenants et coûts-j'!$C$17:$AF$47,22,FALSE),IF(D11=2026,VLOOKUP(F11,'Intervenants et coûts-j'!$C$17:$AF$47,23,FALSE),IF(D11=2027,VLOOKUP(F11,'Intervenants et coûts-j'!$C$17:$AF$47,24,FALSE))))))))","v":""},{"$f":"IF(F11=\"\",\"\",IF(D11=2022,VLOOKUP(F11,'Intervenants et coûts-j'!$C$17:$AF$47,25,FALSE),IF(D11=2023,VLOOKUP(F11,'Intervenants et coûts-j'!$C$17:$AF$47,26,FALSE),IF(D11=2024,VLOOKUP(F11,'Intervenants et coûts-j'!$C$17:$AF$47,27,FALSE),IF(D11=2025,VLOOKUP(F11,'Intervenants et coûts-j'!$C$17:$AF$47,28,FALSE),IF(D11=2026,VLOOKUP(F11,'Intervenants et coûts-j'!$C$17:$AF$47,29,FALSE),IF(D11=2027,VLOOKUP(F11,'Intervenants et coûts-j'!$C$17:$AF$47,30,FALSE))))))))","v":""},"",{"$f":"IF(AB11=\"\",\"\",VLOOKUP(Z11,'Coûts-indirects'!$A$4:$T$33,20,FALSE)*AB11)","v":""},{"$f":"IF(AA11=\"\",\"\",VLOOKUP(AA11,'Frais-mission'!$B$3:$F$32,5,FALSE)*AD11)","v":""},{"$f":"IF(AA11=\"\",\"\",VLOOKUP(AA11,'Frais-mission'!$B$3:$G$34,6,FALSE)*AE11)","v":""},"","",{"$f":"IF(AK11=\"\",\"\",AH11+AI11+AJ11+AK11)","v":""},{"$f":"IF(AN11=\"\",\"\",MIN(AN11,AH11+MIN(AI11,AL11)+MIN(AJ11+AK11,AM11)))","v":""},null,null,null,{"$f":"\"ListeIntervenants\"&VLOOKUP(E11,'Intervenants et coûts-j'!$B$5:$C$14,2,FALSE)","v":{"$error":"#N/A"}},0,0]
[null,null,null,null,null,null,null,null,null,null,{"$f":"IF(F12=\"\",\"\",IF(D12=2022,VLOOKUP(F12,'Intervenants et coûts-j'!$C$17:$P$47,3,FALSE),IF(D12=2023,VLOOKUP(F12,'Intervenants et coûts-j'!$C$17:$P$47,4,FALSE),IF(D12=2024,VLOOKUP(F12,'Intervenants et coûts-j'!$C$17:$P$47,5,FALSE),IF(D12=2025,VLOOKUP(F12,'Intervenants et coûts-j'!$C$17:$P$47,6,FALSE),IF(D12=2026,VLOOKUP(F12,'Intervenants et coûts-j'!$C$17:$P$47,7,FALSE),IF(D12=2027,VLOOKUP(F12,'Intervenants et coûts-j'!$C$17:$P$47,8,FALSE))))))))","v":""},{"$f":"IF(F12=\"\",\"\",IF(D12=2022,VLOOKUP(F12,'Intervenants et coûts-j'!$C$17:$P$47,9,FALSE),IF(D12=2023,VLOOKUP(F12,'Intervenants et coûts-j'!$C$17:$P$47,10,FALSE),IF(D12=2024,VLOOKUP(F12,'Intervenants et coûts-j'!$C$17:$P$47,11,FALSE),IF(D12=2025,VLOOKUP(F12,'Intervenants et coûts-j'!$C$17:$P$47,12,FALSE),IF(D12=2026,VLOOKUP(F12,'Intervenants et coûts-j'!$C$17:$P$47,13,FALSE),IF(D12=2027,VLOOKUP(F12,'Intervenants et coûts-j'!$C$17:$P$47,14,FALSE))))))))","v":""},"",{"$f":"IF(G12=\"\",\"\",VLOOKUP(E12,'Coûts-indirects'!$A$4:$K$33,11,FALSE)*G12)","v":""},{"$f":"IF(F12=\"\",\"\",VLOOKUP(F12,'Frais-mission'!$B$3:$E$32,3,FALSE)*I12)","v":""},{"$f":"IF(F12=\"\",\"\",VLOOKUP(F12,'Frais-mission'!$B$3:$E$32,4,FALSE)*J12)","v":""},"","","","",null,null,null,null,"","","","",0,0,0,{"$f":"IF(F12=\"\",\"\",IF(D12=2022,VLOOKUP(F12,'Intervenants et coûts-j'!$C$17:$AF$47,19,FALSE),IF(D12=2023,VLOOKUP(F12,'Intervenants et coûts-j'!$C$17:$AF$47,20,FALSE),IF(D12=2024,VLOOKUP(F12,'Intervenants et coûts-j'!$C$17:$AF$47,21,FALSE),IF(D12=2025,VLOOKUP(F12,'Intervenants et coûts-j'!$C$17:$AF$47,22,FALSE),IF(D12=2026,VLOOKUP(F12,'Intervenants et coûts-j'!$C$17:$AF$47,23,FALSE),IF(D12=2027,VLOOKUP(F12,'Intervenants et coûts-j'!$C$17:$AF$47,24,FALSE))))))))","v":""},{"$f":"IF(F12=\"\",\"\",IF(D12=2022,VLOOKUP(F12,'Intervenants et coûts-j'!$C$17:$AF$47,25,FALSE),IF(D12=2023,VLOOKUP(F12,'Intervenants et coûts-j'!$C$17:$AF$47,26,FALSE),IF(D12=2024,VLOOKUP(F12,'Intervenants et coûts-j'!$C$17:$AF$47,27,FALSE),IF(D12=2025,VLOOKUP(F12,'Intervenants et coûts-j'!$C$17:$AF$47,28,FALSE),IF(D12=2026,VLOOKUP(F12,'Intervenants et coûts-j'!$C$17:$AF$47,29,FALSE),IF(D12=2027,VLOOKUP(F12,'Intervenants et coûts-j'!$C$17:$AF$47,30,FALSE))))))))","v":""},"",{"$f":"IF(AB12=\"\",\"\",VLOOKUP(Z12,'Coûts-indirects'!$A$4:$T$33,20,FALSE)*AB12)","v":""},{"$f":"IF(AA12=\"\",\"\",VLOOKUP(AA12,'Frais-mission'!$B$3:$F$32,5,FALSE)*AD12)","v":""},{"$f":"IF(AA12=\"\",\"\",VLOOKUP(AA12,'Frais-mission'!$B$3:$G$34,6,FALSE)*AE12)","v":""},"","","","",null,null,null,{"$f":"\"ListeIntervenants\"&VLOOKUP(E12,'Intervenants et coûts-j'!$B$5:$C$14,2,FALSE)","v":{"$error":"#N/A"}},0,0]
[null,null,null,null,null,null,null,null,null,null,{"$f":"IF(F13=\"\",\"\",IF(D13=2022,VLOOKUP(F13,'Intervenants et coûts-j'!$C$17:$P$47,3,FALSE),IF(D13=2023,VLOOKUP(F13,'Intervenants et coûts-j'!$C$17:$P$47,4,FALSE),IF(D13=2024,VLOOKUP(F13,'Intervenants et coûts-j'!$C$17:$P$47,5,FALSE),IF(D13=2025,VLOOKUP(F13,'Intervenants et coûts-j'!$C$17:$P$47,6,FALSE),IF(D13=2026,VLOOKUP(F13,'Intervenants et coûts-j'!$C$17:$P$47,7,FALSE),IF(D13=2027,VLOOKUP(F13,'Intervenants et coûts-j'!$C$17:$P$47,8,FALSE))))))))","v":""},{"$f":"IF(F13=\"\",\"\",IF(D13=2022,VLOOKUP(F13,'Intervenants et coûts-j'!$C$17:$P$47,9,FALSE),IF(D13=2023,VLOOKUP(F13,'Intervenants et coûts-j'!$C$17:$P$47,10,FALSE),IF(D13=2024,VLOOKUP(F13,'Intervenants et coûts-j'!$C$17:$P$47,11,FALSE),IF(D13=2025,VLOOKUP(F13,'Intervenants et coûts-j'!$C$17:$P$47,12,FALSE),IF(D13=2026,VLOOKUP(F13,'Intervenants et coûts-j'!$C$17:$P$47,13,FALSE),IF(D13=2027,VLOOKUP(F13,'Intervenants et coûts-j'!$C$17:$P$47,14,FALSE))))))))","v":""},"",{"$f":"IF(G13=\"\",\"\",VLOOKUP(E13,'Coûts-indirects'!$A$4:$K$33,11,FALSE)*G13)","v":""},{"$f":"IF(F13=\"\",\"\",VLOOKUP(F13,'Frais-mission'!$B$3:$E$32,3,FALSE)*I13)","v":""},{"$f":"IF(F13=\"\",\"\",VLOOKUP(F13,'Frais-mission'!$B$3:$E$32,4,FALSE)*J13)","v":""},"","","","",null,null,"",null,"","","","",0,0,0,{"$f":"IF(F13=\"\",\"\",IF(D13=2022,VLOOKUP(F13,'Intervenants et coûts-j'!$C$17:$AF$47,19,FALSE),IF(D13=2023,VLOOKUP(F13,'Intervenants et coûts-j'!$C$17:$AF$47,20,FALSE),IF(D13=2024,VLOOKUP(F13,'Intervenants et coûts-j'!$C$17:$AF$47,21,FALSE),IF(D13=2025,VLOOKUP(F13,'Intervenants et coûts-j'!$C$17:$AF$47,22,FALSE),IF(D13=2026,VLOOKUP(F13,'Intervenants et coûts-j'!$C$17:$AF$47,23,FALSE),IF(D13=2027,VLOOKUP(F13,'Intervenants et coûts-j'!$C$17:$AF$47,24,FALSE))))))))","v":""},{"$f":"IF(F13=\"\",\"\",IF(D13=2022,VLOOKUP(F13,'Intervenants et coûts-j'!$C$17:$AF$47,25,FALSE),IF(D13=2023,VLOOKUP(F13,'Intervenants et coûts-j'!$C$17:$AF$47,26,FALSE),IF(D13=2024,VLOOKUP(F13,'Intervenants et coûts-j'!$C$17:$AF$47,27,FALSE),IF(D13=2025,VLOOKUP(F13,'Intervenants et coûts-j'!$C$17:$AF$47,28,FALSE),IF(D13=2026,VLOOKUP(F13,'Intervenants et coûts-j'!$C$17:$AF$47,29,FALSE),IF(D13=2027,VLOOKUP(F13,'Intervenants et coûts-j'!$C$17:$AF$47,30,FALSE))))))))","v":""},"",{"$f":"IF(AB13=\"\",\"\",VLOOKUP(Z13,'Coûts-indirects'!$A$4:$T$33,20,FALSE)*AB13)","v":""},{"$f":"IF(AA13=\"\",\"\",VLOOKUP(AA13,'Frais-mission'!$B$3:$F$32,5,FALSE)*AD13)","v":""},{"$f":"IF(AA13=\"\",\"\",VLOOKUP(AA13,'Frais-mission'!$B$3:$G$34,6,FALSE)*AE13)","v":""},"","","","",null,null,null,{"$f":"\"ListeIntervenants\"&VLOOKUP(E13,'Intervenants et coûts-j'!$B$5:$C$14,2,FALSE)","v":{"$error":"#N/A"}},0,0]
[null,null,null,null,null,null,null,null,null,null,{"$f":"IF(F14=\"\",\"\",IF(D14=2022,VLOOKUP(F14,'Intervenants et coûts-j'!$C$17:$P$47,3,FALSE),IF(D14=2023,VLOOKUP(F14,'Intervenants et coûts-j'!$C$17:$P$47,4,FALSE),IF(D14=2024,VLOOKUP(F14,'Intervenants et coûts-j'!$C$17:$P$47,5,FALSE),IF(D14=2025,VLOOKUP(F14,'Intervenants et coûts-j'!$C$17:$P$47,6,FALSE),IF(D14=2026,VLOOKUP(F14,'Intervenants et coûts-j'!$C$17:$P$47,7,FALSE),IF(D14=2027,VLOOKUP(F14,'Intervenants et coûts-j'!$C$17:$P$47,8,FALSE))))))))","v":""},{"$f":"IF(F14=\"\",\"\",IF(D14=2022,VLOOKUP(F14,'Intervenants et coûts-j'!$C$17:$P$47,9,FALSE),IF(D14=2023,VLOOKUP(F14,'Intervenants et coûts-j'!$C$17:$P$47,10,FALSE),IF(D14=2024,VLOOKUP(F14,'Intervenants et coûts-j'!$C$17:$P$47,11,FALSE),IF(D14=2025,VLOOKUP(F14,'Intervenants et coûts-j'!$C$17:$P$47,12,FALSE),IF(D14=2026,VLOOKUP(F14,'Intervenants et coûts-j'!$C$17:$P$47,13,FALSE),IF(D14=2027,VLOOKUP(F14,'Intervenants et coûts-j'!$C$17:$P$47,14,FALSE))))))))","v":""},"",{"$f":"IF(G14=\"\",\"\",VLOOKUP(E14,'Coûts-indirects'!$A$4:$K$33,11,FALSE)*G14)","v":""},{"$f":"IF(F14=\"\",\"\",VLOOKUP(F14,'Frais-mission'!$B$3:$E$32,3,FALSE)*I14)","v":""},{"$f":"IF(F14=\"\",\"\",VLOOKUP(F14,'Frais-mission'!$B$3:$E$32,4,FALSE)*J14)","v":""},"","","","",null,null,null,null,"","","","",0,0,0,{"$f":"IF(F14=\"\",\"\",IF(D14=2022,VLOOKUP(F14,'Intervenants et coûts-j'!$C$17:$AF$47,19,FALSE),IF(D14=2023,VLOOKUP(F14,'Intervenants et coûts-j'!$C$17:$AF$47,20,FALSE),IF(D14=2024,VLOOKUP(F14,'Intervenants et coûts-j'!$C$17:$AF$47,21,FALSE),IF(D14=2025,VLOOKUP(F14,'Intervenants et coûts-j'!$C$17:$AF$47,22,FALSE),IF(D14=2026,VLOOKUP(F14,'Intervenants et coûts-j'!$C$17:$AF$47,23,FALSE),IF(D14=2027,VLOOKUP(F14,'Intervenants et coûts-j'!$C$17:$AF$47,24,FALSE))))))))","v":""},{"$f":"IF(F14=\"\",\"\",IF(D14=2022,VLOOKUP(F14,'Intervenants et coûts-j'!$C$17:$AF$47,25,FALSE),IF(D14=2023,VLOOKUP(F14,'Intervenants et coûts-j'!$C$17:$AF$47,26,FALSE),IF(D14=2024,VLOOKUP(F14,'Intervenants et coûts-j'!$C$17:$AF$47,27,FALSE),IF(D14=2025,VLOOKUP(F14,'Intervenants et coûts-j'!$C$17:$AF$47,28,FALSE),IF(D14=2026,VLOOKUP(F14,'Intervenants et coûts-j'!$C$17:$AF$47,29,FALSE),IF(D14=2027,VLOOKUP(F14,'Intervenants et coûts-j'!$C$17:$AF$47,30,FALSE))))))))","v":""},"",{"$f":"IF(AB14=\"\",\"\",VLOOKUP(Z14,'Coûts-indirects'!$A$4:$T$33,20,FALSE)*AB14)","v":""},{"$f":"IF(AA14=\"\",\"\",VLOOKUP(AA14,'Frais-mission'!$B$3:$F$32,5,FALSE)*AD14)","v":""},{"$f":"IF(AA14=\"\",\"\",VLOOKUP(AA14,'Frais-mission'!$B$3:$G$34,6,FALSE)*AE14)","v":""},"","","","",null,null,null,{"$f":"\"ListeIntervenants\"&VLOOKUP(E14,'Intervenants et coûts-j'!$B$5:$C$14,2,FALSE)","v":{"$error":"#N/A"}},0,0]
[null,null,null,null,null,null,null,null,null,null,{"$f":"IF(F15=\"\",\"\",IF(D15=2022,VLOOKUP(F15,'Intervenants et coûts-j'!$C$17:$P$47,3,FALSE),IF(D15=2023,VLOOKUP(F15,'Intervenants et coûts-j'!$C$17:$P$47,4,FALSE),IF(D15=2024,VLOOKUP(F15,'Intervenants et coûts-j'!$C$17:$P$47,5,FALSE),IF(D15=2025,VLOOKUP(F15,'Intervenants et coûts-j'!$C$17:$P$47,6,FALSE),IF(D15=2026,VLOOKUP(F15,'Intervenants et coûts-j'!$C$17:$P$47,7,FALSE),IF(D15=2027,VLOOKUP(F15,'Intervenants et coûts-j'!$C$17:$P$47,8,FALSE))))))))","v":""},{"$f":"IF(F15=\"\",\"\",IF(D15=2022,VLOOKUP(F15,'Intervenants et coûts-j'!$C$17:$P$47,9,FALSE),IF(D15=2023,VLOOKUP(F15,'Intervenants et coûts-j'!$C$17:$P$47,10,FALSE),IF(D15=2024,VLOOKUP(F15,'Intervenants et coûts-j'!$C$17:$P$47,11,FALSE),IF(D15=2025,VLOOKUP(F15,'Intervenants et coûts-j'!$C$17:$P$47,12,FALSE),IF(D15=2026,VLOOKUP(F15,'Intervenants et coûts-j'!$C$17:$P$47,13,FALSE),IF(D15=2027,VLOOKUP(F15,'Intervenants et coûts-j'!$C$17:$P$47,14,FALSE))))))))","v":""},"",{"$f":"IF(G15=\"\",\"\",VLOOKUP(E15,'Coûts-indirects'!$A$4:$K$33,11,FALSE)*G15)","v":""},{"$f":"IF(F15=\"\",\"\",VLOOKUP(F15,'Frais-mission'!$B$3:$E$32,3,FALSE)*I15)","v":""},{"$f":"IF(F15=\"\",\"\",VLOOKUP(F15,'Frais-mission'!$B$3:$E$32,4,FALSE)*J15)","v":""},"","","","",null,null,null,null,"","","","",0,0,0,{"$f":"IF(F15=\"\",\"\",IF(D15=2022,VLOOKUP(F15,'Intervenants et coûts-j'!$C$17:$AF$47,19,FALSE),IF(D15=2023,VLOOKUP(F15,'Intervenants et coûts-j'!$C$17:$AF$47,20,FALSE),IF(D15=2024,VLOOKUP(F15,'Intervenants et coûts-j'!$C$17:$AF$47,21,FALSE),IF(D15=2025,VLOOKUP(F15,'Intervenants et coûts-j'!$C$17:$AF$47,22,FALSE),IF(D15=2026,VLOOKUP(F15,'Intervenants et coûts-j'!$C$17:$AF$47,23,FALSE),IF(D15=2027,VLOOKUP(F15,'Intervenants et coûts-j'!$C$17:$AF$47,24,FALSE))))))))","v":""},{"$f":"IF(F15=\"\",\"\",IF(D15=2022,VLOOKUP(F15,'Intervenants et coûts-j'!$C$17:$AF$47,25,FALSE),IF(D15=2023,VLOOKUP(F15,'Intervenants et coûts-j'!$C$17:$AF$47,26,FALSE),IF(D15=2024,VLOOKUP(F15,'Intervenants et coûts-j'!$C$17:$AF$47,27,FALSE),IF(D15=2025,VLOOKUP(F15,'Intervenants et coûts-j'!$C$17:$AF$47,28,FALSE),IF(D15=2026,VLOOKUP(F15,'Intervenants et coûts-j'!$C$17:$AF$47,29,FALSE),IF(D15=2027,VLOOKUP(F15,'Intervenants et coûts-j'!$C$17:$AF$47,30,FALSE))))))))","v":""},"",{"$f":"IF(AB15=\"\",\"\",VLOOKUP(Z15,'Coûts-indirects'!$A$4:$T$33,20,FALSE)*AB15)","v":""},{"$f":"IF(AA15=\"\",\"\",VLOOKUP(AA15,'Frais-mission'!$B$3:$F$32,5,FALSE)*AD15)","v":""},{"$f":"IF(AA15=\"\",\"\",VLOOKUP(AA15,'Frais-mission'!$B$3:$G$34,6,FALSE)*AE15)","v":""},"","","","",null,null,null,{"$f":"\"ListeIntervenants\"&VLOOKUP(E15,'Intervenants et coûts-j'!$B$5:$C$14,2,FALSE)","v":{"$error":"#N/A"}},0,0]
[null,null,null,null,null,null,null,null,null,null,{"$f":"IF(F16=\"\",\"\",IF(D16=2022,VLOOKUP(F16,'Intervenants et coûts-j'!$C$17:$P$47,3,FALSE),IF(D16=2023,VLOOKUP(F16,'Intervenants et coûts-j'!$C$17:$P$47,4,FALSE),IF(D16=2024,VLOOKUP(F16,'Intervenants et coûts-j'!$C$17:$P$47,5,FALSE),IF(D16=2025,VLOOKUP(F16,'Intervenants et coûts-j'!$C$17:$P$47,6,FALSE),IF(D16=2026,VLOOKUP(F16,'Intervenants et coûts-j'!$C$17:$P$47,7,FALSE),IF(D16=2027,VLOOKUP(F16,'Intervenants et coûts-j'!$C$17:$P$47,8,FALSE))))))))","v":""},{"$f":"IF(F16=\"\",\"\",IF(D16=2022,VLOOKUP(F16,'Intervenants et coûts-j'!$C$17:$P$47,9,FALSE),IF(D16=2023,VLOOKUP(F16,'Intervenants et coûts-j'!$C$17:$P$47,10,FALSE),IF(D16=2024,VLOOKUP(F16,'Intervenants et coûts-j'!$C$17:$P$47,11,FALSE),IF(D16=2025,VLOOKUP(F16,'Intervenants et coûts-j'!$C$17:$P$47,12,FALSE),IF(D16=2026,VLOOKUP(F16,'Intervenants et coûts-j'!$C$17:$P$47,13,FALSE),IF(D16=2027,VLOOKUP(F16,'Intervenants et coûts-j'!$C$17:$P$47,14,FALSE))))))))","v":""},"",{"$f":"IF(G16=\"\",\"\",VLOOKUP(E16,'Coûts-indirects'!$A$4:$K$33,11,FALSE)*G16)","v":""},{"$f":"IF(F16=\"\",\"\",VLOOKUP(F16,'Frais-mission'!$B$3:$E$32,3,FALSE)*I16)","v":""},{"$f":"IF(F16=\"\",\"\",VLOOKUP(F16,'Frais-mission'!$B$3:$E$32,4,FALSE)*J16)","v":""},"","","","",null,null,null,null,"","","","",0,0,0,{"$f":"IF(F16=\"\",\"\",IF(D16=2022,VLOOKUP(F16,'Intervenants et coûts-j'!$C$17:$AF$47,19,FALSE),IF(D16=2023,VLOOKUP(F16,'Intervenants et coûts-j'!$C$17:$AF$47,20,FALSE),IF(D16=2024,VLOOKUP(F16,'Intervenants et coûts-j'!$C$17:$AF$47,21,FALSE),IF(D16=2025,VLOOKUP(F16,'Intervenants et coûts-j'!$C$17:$AF$47,22,FALSE),IF(D16=2026,VLOOKUP(F16,'Intervenants et coûts-j'!$C$17:$AF$47,23,FALSE),IF(D16=2027,VLOOKUP(F16,'Intervenants et coûts-j'!$C$17:$AF$47,24,FALSE))))))))","v":""},{"$f":"IF(F16=\"\",\"\",IF(D16=2022,VLOOKUP(F16,'Intervenants et coûts-j'!$C$17:$AF$47,25,FALSE),IF(D16=2023,VLOOKUP(F16,'Intervenants et coûts-j'!$C$17:$AF$47,26,FALSE),IF(D16=2024,VLOOKUP(F16,'Intervenants et coûts-j'!$C$17:$AF$47,27,FALSE),IF(D16=2025,VLOOKUP(F16,'Intervenants et coûts-j'!$C$17:$AF$47,28,FALSE),IF(D16=2026,VLOOKUP(F16,'Intervenants et coûts-j'!$C$17:$AF$47,29,FALSE),IF(D16=2027,VLOOKUP(F16,'Intervenants et coûts-j'!$C$17:$AF$47,30,FALSE))))))))","v":""},"",{"$f":"IF(AB16=\"\",\"\",VLOOKUP(Z16,'Coûts-indirects'!$A$4:$T$33,20,FALSE)*AB16)","v":""},{"$f":"IF(AA16=\"\",\"\",VLOOKUP(AA16,'Frais-mission'!$B$3:$F$32,5,FALSE)*AD16)","v":""},{"$f":"IF(AA16=\"\",\"\",VLOOKUP(AA16,'Frais-mission'!$B$3:$G$34,6,FALSE)*AE16)","v":""},"","","","",null,null,null,{"$f":"\"ListeIntervenants\"&VLOOKUP(E16,'Intervenants et coûts-j'!$B$5:$C$14,2,FALSE)","v":{"$error":"#N/A"}},0,0]
[null,null,null,null,null,null,null,null,null,null,{"$f":"IF(F17=\"\",\"\",IF(D17=2022,VLOOKUP(F17,'Intervenants et coûts-j'!$C$17:$P$47,3,FALSE),IF(D17=2023,VLOOKUP(F17,'Intervenants et coûts-j'!$C$17:$P$47,4,FALSE),IF(D17=2024,VLOOKUP(F17,'Intervenants et coûts-j'!$C$17:$P$47,5,FALSE),IF(D17=2025,VLOOKUP(F17,'Intervenants et coûts-j'!$C$17:$P$47,6,FALSE),IF(D17=2026,VLOOKUP(F17,'Intervenants et coûts-j'!$C$17:$P$47,7,FALSE),IF(D17=2027,VLOOKUP(F17,'Intervenants et coûts-j'!$C$17:$P$47,8,FALSE))))))))","v":""},{"$f":"IF(F17=\"\",\"\",IF(D17=2022,VLOOKUP(F17,'Intervenants et coûts-j'!$C$17:$P$47,9,FALSE),IF(D17=2023,VLOOKUP(F17,'Intervenants et coûts-j'!$C$17:$P$47,10,FALSE),IF(D17=2024,VLOOKUP(F17,'Intervenants et coûts-j'!$C$17:$P$47,11,FALSE),IF(D17=2025,VLOOKUP(F17,'Intervenants et coûts-j'!$C$17:$P$47,12,FALSE),IF(D17=2026,VLOOKUP(F17,'Intervenants et coûts-j'!$C$17:$P$47,13,FALSE),IF(D17=2027,VLOOKUP(F17,'Intervenants et coûts-j'!$C$17:$P$47,14,FALSE))))))))","v":""},{"$f":"IF(G17=\"\",\"\",L17*G17)","v":""},{"$f":"IF(G17=\"\",\"\",VLOOKUP(E17,'Coûts-indirects'!$A$4:$K$33,11,FALSE)*G17)","v":""},{"$f":"IF(F17=\"\",\"\",VLOOKUP(F17,'Frais-mission'!$B$3:$E$32,3,FALSE)*I17)","v":""},{"$f":"IF(F17=\"\",\"\",VLOOKUP(F17,'Frais-mission'!$B$3:$E$32,4,FALSE)*J17)","v":""},{"$f":"IF(M17=\"\",\"\",M17*0.15)","v":""},{"$f":"IF(H17=\"\",\"\",L17*H17*0.1)","v":""},{"$f":"IF(P17=\"\",\"\",M17+N17+O17+P17)","v":""},{"$f":"IF(S17=\"\",\"\",MIN(S17,M17+MIN(N17,Q17)+MIN(O17+P17,R17)))","v":""},null,null,null,null,"",{"$f":"IF(E17=\"\",\"\",E17)","v":""},{"$f":"IF(F17=\"\",\"\",F17)","v":""},{"$f":"IF(G17=\"\",\"\",G17)","v":""},{"$f":"IF(H17=\"\",0,H17)","v":0},{"$f":"IF(I17=\"\",0,I17)","v":0},{"$f":"IF(J17=\"\",0,J17)","v":0},{"$f":"IF(F17=\"\",\"\",IF(D17=2022,VLOOKUP(F17,'Intervenants et coûts-j'!$C$17:$AF$47,19,FALSE),IF(D17=2023,VLOOKUP(F17,'Intervenants et coûts-j'!$C$17:$AF$47,20,FALSE),IF(D17=2024,VLOOKUP(F17,'Intervenants et coûts-j'!$C$17:$AF$47,21,FALSE),IF(D17=2025,VLOOKUP(F17,'Intervenants et coûts-j'!$C$17:$AF$47,22,FALSE),IF(D17=2026,VLOOKUP(F17,'Intervenants et coûts-j'!$C$17:$AF$47,23,FALSE),IF(D17=2027,VLOOKUP(F17,'Intervenants et coûts-j'!$C$17:$AF$47,24,FALSE))))))))","v":""},{"$f":"IF(F17=\"\",\"\",IF(D17=2022,VLOOKUP(F17,'Intervenants et coûts-j'!$C$17:$AF$47,25,FALSE),IF(D17=2023,VLOOKUP(F17,'Intervenants et coûts-j'!$C$17:$AF$47,26,FALSE),IF(D17=2024,VLOOKUP(F17,'Intervenants et coûts-j'!$C$17:$AF$47,27,FALSE),IF(D17=2025,VLOOKUP(F17,'Intervenants et coûts-j'!$C$17:$AF$47,28,FALSE),IF(D17=2026,VLOOKUP(F17,'Intervenants et coûts-j'!$C$17:$AF$47,29,FALSE),IF(D17=2027,VLOOKUP(F17,'Intervenants et coûts-j'!$C$17:$AF$47,30,FALSE))))))))","v":""},{"$f":"IF(AB17=\"\",\"\",AG17*AB17)","v":""},{"$f":"IF(AB17=\"\",\"\",VLOOKUP(Z17,'Coûts-indirects'!$A$4:$T$33,20,FALSE)*AB17)","v":""},{"$f":"IF(AA17=\"\",\"\",VLOOKUP(AA17,'Frais-mission'!$B$3:$F$32,5,FALSE)*AD17)","v":""},{"$f":"IF(AA17=\"\",\"\",VLOOKUP(AA17,'Frais-mission'!$B$3:$G$34,6,FALSE)*AE17)","v":""},{"$f":"IF(AH17=\"\",\"\",AH17*0.15)","v":""},{"$f":"IF(AC17=0,\"\",AG17*AC17*0.1)","v":""},{"$f":"IF(AK17=\"\",\"\",AH17+AI17+AJ17+AK17)","v":""},{"$f":"IF(AN17=\"\",\"\",MIN(AN17,AH17+MIN(AI17,AL17)+MIN(AJ17+AK17,AM17)))","v":""},null,null,null,{"$f":"\"ListeIntervenants\"&VLOOKUP(E17,'Intervenants et coûts-j'!$B$5:$C$14,2,FALSE)","v":{"$error":"#N/A"}},0,0]
[null,null,null,null,null,null,null,null,null,null,{"$f":"IF(F18=\"\",\"\",IF(D18=2022,VLOOKUP(F18,'Intervenants et coûts-j'!$C$17:$P$47,3,FALSE),IF(D18=2023,VLOOKUP(F18,'Intervenants et coûts-j'!$C$17:$P$47,4,FALSE),IF(D18=2024,VLOOKUP(F18,'Intervenants et coûts-j'!$C$17:$P$47,5,FALSE),IF(D18=2025,VLOOKUP(F18,'Intervenants et coûts-j'!$C$17:$P$47,6,FALSE),IF(D18=2026,VLOOKUP(F18,'Intervenants et coûts-j'!$C$17:$P$47,7,FALSE),IF(D18=2027,VLOOKUP(F18,'Intervenants et coûts-j'!$C$17:$P$47,8,FALSE))))))))","v":""},{"$f":"IF(F18=\"\",\"\",IF(D18=2022,VLOOKUP(F18,'Intervenants et coûts-j'!$C$17:$P$47,9,FALSE),IF(D18=2023,VLOOKUP(F18,'Intervenants et coûts-j'!$C$17:$P$47,10,FALSE),IF(D18=2024,VLOOKUP(F18,'Intervenants et coûts-j'!$C$17:$P$47,11,FALSE),IF(D18=2025,VLOOKUP(F18,'Intervenants et coûts-j'!$C$17:$P$47,12,FALSE),IF(D18=2026,VLOOKUP(F18,'Intervenants et coûts-j'!$C$17:$P$47,13,FALSE),IF(D18=2027,VLOOKUP(F18,'Intervenants et coûts-j'!$C$17:$P$47,14,FALSE))))))))","v":""},"",{"$f":"IF(G18=\"\",\"\",VLOOKUP(E18,'Coûts-indirects'!$A$4:$K$33,11,FALSE)*G18)","v":""},{"$f":"IF(F18=\"\",\"\",VLOOKUP(F18,'Frais-mission'!$B$3:$E$32,3,FALSE)*I18)","v":""},{"$f":"IF(F18=\"\",\"\",VLOOKUP(F18,'Frais-mission'!$B$3:$E$32,4,FALSE)*J18)","v":""},"","","","",null,null,null,null,"","","","",0,0,0,{"$f":"IF(F18=\"\",\"\",IF(D18=2022,VLOOKUP(F18,'Intervenants et coûts-j'!$C$17:$AF$47,19,FALSE),IF(D18=2023,VLOOKUP(F18,'Intervenants et coûts-j'!$C$17:$AF$47,20,FALSE),IF(D18=2024,VLOOKUP(F18,'Intervenants et coûts-j'!$C$17:$AF$47,21,FALSE),IF(D18=2025,VLOOKUP(F18,'Intervenants et coûts-j'!$C$17:$AF$47,22,FALSE),IF(D18=2026,VLOOKUP(F18,'Intervenants et coûts-j'!$C$17:$AF$47,23,FALSE),IF(D18=2027,VLOOKUP(F18,'Intervenants et coûts-j'!$C$17:$AF$47,24,FALSE))))))))","v":""},{"$f":"IF(F18=\"\",\"\",IF(D18=2022,VLOOKUP(F18,'Intervenants et coûts-j'!$C$17:$AF$47,25,FALSE),IF(D18=2023,VLOOKUP(F18,'Intervenants et coûts-j'!$C$17:$AF$47,26,FALSE),IF(D18=2024,VLOOKUP(F18,'Intervenants et coûts-j'!$C$17:$AF$47,27,FALSE),IF(D18=2025,VLOOKUP(F18,'Intervenants et coûts-j'!$C$17:$AF$47,28,FALSE),IF(D18=2026,VLOOKUP(F18,'Intervenants et coûts-j'!$C$17:$AF$47,29,FALSE),IF(D18=2027,VLOOKUP(F18,'Intervenants et coûts-j'!$C$17:$AF$47,30,FALSE))))))))","v":""},"",{"$f":"IF(AB18=\"\",\"\",VLOOKUP(Z18,'Coûts-indirects'!$A$4:$T$33,20,FALSE)*AB18)","v":""},{"$f":"IF(AA18=\"\",\"\",VLOOKUP(AA18,'Frais-mission'!$B$3:$F$32,5,FALSE)*AD18)","v":""},{"$f":"IF(AA18=\"\",\"\",VLOOKUP(AA18,'Frais-mission'!$B$3:$G$34,6,FALSE)*AE18)","v":""},"","","","",null,null,null,{"$f":"\"ListeIntervenants\"&VLOOKUP(E18,'Intervenants et coûts-j'!$B$5:$C$14,2,FALSE)","v":{"$error":"#N/A"}},0,0]
[null,null,null,null,null,null,null,null,null,null,{"$f":"IF(F19=\"\",\"\",IF(D19=2022,VLOOKUP(F19,'Intervenants et coûts-j'!$C$17:$P$47,3,FALSE),IF(D19=2023,VLOOKUP(F19,'Intervenants et coûts-j'!$C$17:$P$47,4,FALSE),IF(D19=2024,VLOOKUP(F19,'Intervenants et coûts-j'!$C$17:$P$47,5,FALSE),IF(D19=2025,VLOOKUP(F19,'Intervenants et coûts-j'!$C$17:$P$47,6,FALSE),IF(D19=2026,VLOOKUP(F19,'Intervenants et coûts-j'!$C$17:$P$47,7,FALSE),IF(D19=2027,VLOOKUP(F19,'Intervenants et coûts-j'!$C$17:$P$47,8,FALSE))))))))","v":""},{"$f":"IF(F19=\"\",\"\",IF(D19=2022,VLOOKUP(F19,'Intervenants et coûts-j'!$C$17:$P$47,9,FALSE),IF(D19=2023,VLOOKUP(F19,'Intervenants et coûts-j'!$C$17:$P$47,10,FALSE),IF(D19=2024,VLOOKUP(F19,'Intervenants et coûts-j'!$C$17:$P$47,11,FALSE),IF(D19=2025,VLOOKUP(F19,'Intervenants et coûts-j'!$C$17:$P$47,12,FALSE),IF(D19=2026,VLOOKUP(F19,'Intervenants et coûts-j'!$C$17:$P$47,13,FALSE),IF(D19=2027,VLOOKUP(F19,'Intervenants et coûts-j'!$C$17:$P$47,14,FALSE))))))))","v":""},"",{"$f":"IF(G19=\"\",\"\",VLOOKUP(E19,'Coûts-indirects'!$A$4:$K$33,11,FALSE)*G19)","v":""},{"$f":"IF(F19=\"\",\"\",VLOOKUP(F19,'Frais-mission'!$B$3:$E$32,3,FALSE)*I19)","v":""},{"$f":"IF(F19=\"\",\"\",VLOOKUP(F19,'Frais-mission'!$B$3:$E$32,4,FALSE)*J19)","v":""},"","","","",null,null,null,null,"","","",{"$f":"IF(G19=\"\",\"\",G19)","v":""},{"$f":"IF(H19=\"\",0,H19)","v":0},{"$f":"IF(I19=\"\",0,I19)","v":0},{"$f":"IF(J19=\"\",0,J19)","v":0},{"$f":"IF(F19=\"\",\"\",IF(D19=2022,VLOOKUP(F19,'Intervenants et coûts-j'!$C$17:$AF$47,19,FALSE),IF(D19=2023,VLOOKUP(F19,'Intervenants et coûts-j'!$C$17:$AF$47,20,FALSE),IF(D19=2024,VLOOKUP(F19,'Intervenants et coûts-j'!$C$17:$AF$47,21,FALSE),IF(D19=2025,VLOOKUP(F19,'Intervenants et coûts-j'!$C$17:$AF$47,22,FALSE),IF(D19=2026,VLOOKUP(F19,'Intervenants et coûts-j'!$C$17:$AF$47,23,FALSE),IF(D19=2027,VLOOKUP(F19,'Intervenants et coûts-j'!$C$17:$AF$47,24,FALSE))))))))","v":""},{"$f":"IF(F19=\"\",\"\",IF(D19=2022,VLOOKUP(F19,'Intervenants et coûts-j'!$C$17:$AF$47,25,FALSE),IF(D19=2023,VLOOKUP(F19,'Intervenants et coûts-j'!$C$17:$AF$47,26,FALSE),IF(D19=2024,VLOOKUP(F19,'Intervenants et coûts-j'!$C$17:$AF$47,27,FALSE),IF(D19=2025,VLOOKUP(F19,'Intervenants et coûts-j'!$C$17:$AF$47,28,FALSE),IF(D19=2026,VLOOKUP(F19,'Intervenants et coûts-j'!$C$17:$AF$47,29,FALSE),IF(D19=2027,VLOOKUP(F19,'Intervenants et coûts-j'!$C$17:$AF$47,30,FALSE))))))))","v":""},{"$f":"IF(AB19=\"\",\"\",AG19*AB19)","v":""},{"$f":"IF(AB19=\"\",\"\",VLOOKUP(Z19,'Coûts-indirects'!$A$4:$T$33,20,FALSE)*AB19)","v":""},{"$f":"IF(AA19=\"\",\"\",VLOOKUP(AA19,'Frais-mission'!$B$3:$F$32,5,FALSE)*AD19)","v":""},{"$f":"IF(AA19=\"\",\"\",VLOOKUP(AA19,'Frais-mission'!$B$3:$G$34,6,FALSE)*AE19)","v":""},{"$f":"IF(AH19=\"\",\"\",AH19*0.15)","v":""},{"$f":"IF(AC19=0,\"\",AG19*AC19*0.1)","v":""},{"$f":"IF(AK19=\"\",\"\",AH19+AI19+AJ19+AK19)","v":""},{"$f":"IF(AN19=\"\",\"\",MIN(AN19,AH19+MIN(AI19,AL19)+MIN(AJ19+AK19,AM19)))","v":""},null,null,null,{"$f":"\"ListeIntervenants\"&VLOOKUP(E19,'Intervenants et coûts-j'!$B$5:$C$14,2,FALSE)","v":{"$error":"#N/A"}},0,0]
[null,null,null,null,null,null,null,null,null,null,{"$f":"IF(F20=\"\",\"\",IF(D20=2022,VLOOKUP(F20,'Intervenants et coûts-j'!$C$17:$P$47,3,FALSE),IF(D20=2023,VLOOKUP(F20,'Intervenants et coûts-j'!$C$17:$P$47,4,FALSE),IF(D20=2024,VLOOKUP(F20,'Intervenants et coûts-j'!$C$17:$P$47,5,FALSE),IF(D20=2025,VLOOKUP(F20,'Intervenants et coûts-j'!$C$17:$P$47,6,FALSE),IF(D20=2026,VLOOKUP(F20,'Intervenants et coûts-j'!$C$17:$P$47,7,FALSE),IF(D20=2027,VLOOKUP(F20,'Intervenants et coûts-j'!$C$17:$P$47,8,FALSE))))))))","v":""},{"$f":"IF(F20=\"\",\"\",IF(D20=2022,VLOOKUP(F20,'Intervenants et coûts-j'!$C$17:$P$47,9,FALSE),IF(D20=2023,VLOOKUP(F20,'Intervenants et coûts-j'!$C$17:$P$47,10,FALSE),IF(D20=2024,VLOOKUP(F20,'Intervenants et coûts-j'!$C$17:$P$47,11,FALSE),IF(D20=2025,VLOOKUP(F20,'Intervenants et coûts-j'!$C$17:$P$47,12,FALSE),IF(D20=2026,VLOOKUP(F20,'Intervenants et coûts-j'!$C$17:$P$47,13,FALSE),IF(D20=2027,VLOOKUP(F20,'Intervenants et coûts-j'!$C$17:$P$47,14,FALSE))))))))","v":""},"",{"$f":"IF(G20=\"\",\"\",VLOOKUP(E20,'Coûts-indirects'!$A$4:$K$33,11,FALSE)*G20)","v":""},{"$f":"IF(F20=\"\",\"\",VLOOKUP(F20,'Frais-mission'!$B$3:$E$32,3,FALSE)*I20)","v":""},{"$f":"IF(F20=\"\",\"\",VLOOKUP(F20,'Frais-mission'!$B$3:$E$32,4,FALSE)*J20)","v":""},"","","","",null,null,null,null,"","","","",0,0,0,{"$f":"IF(F20=\"\",\"\",IF(D20=2022,VLOOKUP(F20,'Intervenants et coûts-j'!$C$17:$AF$47,19,FALSE),IF(D20=2023,VLOOKUP(F20,'Intervenants et coûts-j'!$C$17:$AF$47,20,FALSE),IF(D20=2024,VLOOKUP(F20,'Intervenants et coûts-j'!$C$17:$AF$47,21,FALSE),IF(D20=2025,VLOOKUP(F20,'Intervenants et coûts-j'!$C$17:$AF$47,22,FALSE),IF(D20=2026,VLOOKUP(F20,'Intervenants et coûts-j'!$C$17:$AF$47,23,FALSE),IF(D20=2027,VLOOKUP(F20,'Intervenants et coûts-j'!$C$17:$AF$47,24,FALSE))))))))","v":""},{"$f":"IF(F20=\"\",\"\",IF(D20=2022,VLOOKUP(F20,'Intervenants et coûts-j'!$C$17:$AF$47,25,FALSE),IF(D20=2023,VLOOKUP(F20,'Intervenants et coûts-j'!$C$17:$AF$47,26,FALSE),IF(D20=2024,VLOOKUP(F20,'Intervenants et coûts-j'!$C$17:$AF$47,27,FALSE),IF(D20=2025,VLOOKUP(F20,'Intervenants et coûts-j'!$C$17:$AF$47,28,FALSE),IF(D20=2026,VLOOKUP(F20,'Intervenants et coûts-j'!$C$17:$AF$47,29,FALSE),IF(D20=2027,VLOOKUP(F20,'Intervenants et coûts-j'!$C$17:$AF$47,30,FALSE))))))))","v":""},"",{"$f":"IF(AB20=\"\",\"\",VLOOKUP(Z20,'Coûts-indirects'!$A$4:$T$33,20,FALSE)*AB20)","v":""},{"$f":"IF(AA20=\"\",\"\",VLOOKUP(AA20,'Frais-mission'!$B$3:$F$32,5,FALSE)*AD20)","v":""},{"$f":"IF(AA20=\"\",\"\",VLOOKUP(AA20,'Frais-mission'!$B$3:$G$34,6,FALSE)*AE20)","v":""},"","","","",null,null,null,{"$f":"\"ListeIntervenants\"&VLOOKUP(E20,'Intervenants et coûts-j'!$B$5:$C$14,2,FALSE)","v":{"$error":"#N/A"}},0,0]
[null,null,"Réalisation par un prestataire :",null,null,null,null,null,null,null,null,null,null,null,null,null,null,null,0,{"$f":"S21","v":0},null,null,"","Réalisation par un prestataire :",null,{"$f":"IF(E21=\"\",\"\",E21)","v":""},{"$f":"IF(F21=\"\",\"\",F21)","v":""},{"$f":"IF(G21=\"\",\"\",G21)","v":""},null,null,null,null,null,null,null,null,null,null,null,{"$f":"IF(S21=\"\",0,S21)","v":0},{"$f":"AN21","v":0},null,null,null,{"$f":"\"ListeIntervenants\"&VLOOKUP(E21,'Intervenants et coûts-j'!$B$5:$C$14,2,FALSE)","v":{"$error":"#N/A"}},0,0]
[null,null,null,null,null,null,null,null,null,null,null,null,null,null,null,null,null,null,0,{"$f":"S22","v":0},null,null,"",null,null,"","","",null,null,null,null,null,null,null,null,null,null,null,{"$f":"IF(S22=\"\",0,S22)","v":0},{"$f":"AN22","v":0},null,null,null,{"$f":"\"ListeIntervenants\"&VLOOKUP(E22,'Intervenants et coûts-j'!$B$5:$C$14,2,FALSE)","v":{"$error":"#N/A"}},0,0]
[null,null,null,null,null,null,null,null,null,null,null,null,null,null,null,null,null,null,0,0,null,null,"",null,null,"","","",null,null,null,null,null,null,null,null,null,null,null,{"$f":"IF(S23=\"\",0,S23)","v":0},0,null,null,null,{"$f":"\"ListeIntervenants\"&VLOOKUP(E23,'Intervenants et coûts-j'!$B$5:$C$14,2,FALSE)","v":{"$error":"#N/A"}},0,0]
["Diagnostics plafonnés à 800€ :\nDiagnostic mono-enjeux PNA/PRA, DFCI ou pastoralisme collectif\nou \nDiagnostic avec multi-enjeux MASA (enjeux Biodiversité hors Natura 2000, enjeux Pastoralisme ou enjeux Filières)\nou \nDiagnostic avec multi-enjeux combinant l’enjeu Natura 2000 + enjeux Pastoralisme ou Filière, avec part des surfaces engagées en Natura 2000 inférieure à à 40% de totalité des surfaces engagées.",null,"Réalisation par l'opérateur et/ou ses partenaires :",null,null,null,null,null,null,null,{"$f":"IF(F24=\"\",\"\",IF(D24=2022,VLOOKUP(F24,'Intervenants et coûts-j'!$C$17:$P$47,3,FALSE),IF(D24=2023,VLOOKUP(F24,'Intervenants et coûts-j'!$C$17:$P$47,4,FALSE),IF(D24=2024,VLOOKUP(F24,'Intervenants et coûts-j'!$C$17:$P$47,5,FALSE),IF(D24=2025,VLOOKUP(F24,'Intervenants et coûts-j'!$C$17:$P$47,6,FALSE),IF(D24=2026,VLOOKUP(F24,'Intervenants et coûts-j'!$C$17:$P$47,7,FALSE),IF(D24=2027,VLOOKUP(F24,'Intervenants et coûts-j'!$C$17:$P$47,8,FALSE))))))))","v":""},{"$f":"IF(F24=\"\",\"\",IF(D24=2022,VLOOKUP(F24,'Intervenants et coûts-j'!$C$17:$P$47,9,FALSE),IF(D24=2023,VLOOKUP(F24,'Intervenants et coûts-j'!$C$17:$P$47,10,FALSE),IF(D24=2024,VLOOKUP(F24,'Intervenants et coûts-j'!$C$17:$P$47,11,FALSE),IF(D24=2025,VLOOKUP(F24,'Intervenants et coûts-j'!$C$17:$P$47,12,FALSE),IF(D24=2026,VLOOKUP(F24,'Intervenants et coûts-j'!$C$17:$P$47,13,FALSE),IF(D24=2027,VLOOKUP(F24,'Intervenants et coûts-j'!$C$17:$P$47,14,FALSE))))))))","v":""},{"$f":"IF(G24=\"\",\"\",L24*G24)","v":""},{"$f":"IF(G24=\"\",\"\",VLOOKUP(E24,'Coûts-indirects'!$A$4:$K$33,11,FALSE)*G24)","v":""},{"$f":"IF(F24=\"\",\"\",VLOOKUP(F24,'Frais-mission'!$B$3:$E$32,3,FALSE)*I24)","v":""},{"$f":"IF(F24=\"\",\"\",VLOOKUP(F24,'Frais-mission'!$B$3:$E$32,4,FALSE)*J24)","v":""},{"$f":"IF(M24=\"\",\"\",M24*0.15)","v":""},{"$f":"IF(H24=\"\",\"\",L24*H24*0.1)","v":""},{"$f":"IF(P24=\"\",\"\",M24+N24+O24+P24)","v":""},{"$f":"IF(S24=\"\",\"\",MIN(S24,M24+MIN(N24,Q24)+MIN(O24+P24,R24)))","v":""},{"$f":"B24*800","v":0},{"$f":"MIN(U24,SUM(T24:T41))","v":0},{"$f":"IF(B24=\"\",0,B24)","v":0},"Réalisation par l'opérateur et/ou ses partenaires :",{"$f":"IF(D24=\"\",\"\",D24)","v":""},"","","",{"$f":"IF(H24=\"\",0,H24)","v":0},{"$f":"IF(I24=\"\",0,I24)","v":0},{"$f":"IF(J24=\"\",0,J24)","v":0},{"$f":"IF(F24=\"\",\"\",IF(D24=2022,VLOOKUP(F24,'Intervenants et coûts-j'!$C$17:$AF$47,19,FALSE),IF(D24=2023,VLOOKUP(F24,'Intervenants et coûts-j'!$C$17:$AF$47,20,FALSE),IF(D24=2024,VLOOKUP(F24,'Intervenants et coûts-j'!$C$17:$AF$47,21,FALSE),IF(D24=2025,VLOOKUP(F24,'Intervenants et coûts-j'!$C$17:$AF$47,22,FALSE),IF(D24=2026,VLOOKUP(F24,'Intervenants et coûts-j'!$C$17:$AF$47,23,FALSE),IF(D24=2027,VLOOKUP(F24,'Intervenants et coûts-j'!$C$17:$AF$47,24,FALSE))))))))","v":""},{"$f":"IF(F24=\"\",\"\",IF(D24=2022,VLOOKUP(F24,'Intervenants et coûts-j'!$C$17:$AF$47,25,FALSE),IF(D24=2023,VLOOKUP(F24,'Intervenants et coûts-j'!$C$17:$AF$47,26,FALSE),IF(D24=2024,VLOOKUP(F24,'Intervenants et coûts-j'!$C$17:$AF$47,27,FALSE),IF(D24=2025,VLOOKUP(F24,'Intervenants et coûts-j'!$C$17:$AF$47,28,FALSE),IF(D24=2026,VLOOKUP(F24,'Intervenants et coûts-j'!$C$17:$AF$47,29,FALSE),IF(D24=2027,VLOOKUP(F24,'Intervenants et coûts-j'!$C$17:$AF$47,30,FALSE))))))))","v":""},{"$f":"IF(AB24=\"\",\"\",AG24*AB24)","v":""},{"$f":"IF(AB24=\"\",\"\",VLOOKUP(Z24,'Coûts-indirects'!$A$4:$T$33,20,FALSE)*AB24)","v":""},{"$f":"IF(AA24=\"\",\"\",VLOOKUP(AA24,'Frais-mission'!$B$3:$F$32,5,FALSE)*AD24)","v":""},{"$f":"IF(AA24=\"\",\"\",VLOOKUP(AA24,'Frais-mission'!$B$3:$G$34,6,FALSE)*AE24)","v":""},{"$f":"IF(AH24=\"\",\"\",AH24*0.15)","v":""},{"$f":"IF(AC24=0,\"\",AG24*AC24*0.1)","v":""},{"$f":"IF(AK24=\"\",\"\",AH24+AI24+AJ24+AK24)","v":""},{"$f":"IF(AN24=\"\",\"\",MIN(AN24,AH24+MIN(AI24,AL24)+MIN(AJ24+AK24,AM24)))","v":""},{"$f":"W24*800","v":0},{"$f":"MIN(AP24,SUM(AO24:AO41))","v":0},null,{"$f":"\"ListeIntervenants\"&VLOOKUP(E24,'Intervenants et coûts-j'!$B$5:$C$14,2,FALSE)","v":{"$error":"#N/A"}},{"$f":"IF(SUM($T$24:$T$41)=0,0,(T24*$V$24/SUM($T$24:$T$41)))","v":0},{"$f":"IF(SUM($AO$24:$AO$41)=0,0,(AO24*$AQ$24/SUM($AO$24:$AO$41)))","v":0}]
[null,null,null,null,null,null,null,null,null,null,{"$f":"IF(F25=\"\",\"\",IF(D25=2022,VLOOKUP(F25,'Intervenants et coûts-j'!$C$17:$P$47,3,FALSE),IF(D25=2023,VLOOKUP(F25,'Intervenants et coûts-j'!$C$17:$P$47,4,FALSE),IF(D25=2024,VLOOKUP(F25,'Intervenants et coûts-j'!$C$17:$P$47,5,FALSE),IF(D25=2025,VLOOKUP(F25,'Intervenants et coûts-j'!$C$17:$P$47,6,FALSE),IF(D25=2026,VLOOKUP(F25,'Intervenants et coûts-j'!$C$17:$P$47,7,FALSE),IF(D25=2027,VLOOKUP(F25,'Intervenants et coûts-j'!$C$17:$P$47,8,FALSE))))))))","v":""},{"$f":"IF(F25=\"\",\"\",IF(D25=2022,VLOOKUP(F25,'Intervenants et coûts-j'!$C$17:$P$47,9,FALSE),IF(D25=2023,VLOOKUP(F25,'Intervenants et coûts-j'!$C$17:$P$47,10,FALSE),IF(D25=2024,VLOOKUP(F25,'Intervenants et coûts-j'!$C$17:$P$47,11,FALSE),IF(D25=2025,VLOOKUP(F25,'Intervenants et coûts-j'!$C$17:$P$47,12,FALSE),IF(D25=2026,VLOOKUP(F25,'Intervenants et coûts-j'!$C$17:$P$47,13,FALSE),IF(D25=2027,VLOOKUP(F25,'Intervenants et coûts-j'!$C$17:$P$47,14,FALSE))))))))","v":""},{"$f":"IF(G25=\"\",\"\",L25*G25)","v":""},{"$f":"IF(G25=\"\",\"\",VLOOKUP(E25,'Coûts-indirects'!$A$4:$K$33,11,FALSE)*G25)","v":""},{"$f":"IF(F25=\"\",\"\",VLOOKUP(F25,'Frais-mission'!$B$3:$E$32,3,FALSE)*I25)","v":""},{"$f":"IF(F25=\"\",\"\",VLOOKUP(F25,'Frais-mission'!$B$3:$E$32,4,FALSE)*J25)","v":""},{"$f":"IF(M25=\"\",\"\",M25*0.15)","v":""},{"$f":"IF(H25=\"\",\"\",L25*H25*0.1)","v":""},"","",null,null,{"$f":"IF(B25=\"\",\"\",B25)","v":""},null,"","","","",0,0,0,{"$f":"IF(F25=\"\",\"\",IF(D25=2022,VLOOKUP(F25,'Intervenants et coûts-j'!$C$17:$AF$47,19,FALSE),IF(D25=2023,VLOOKUP(F25,'Intervenants et coûts-j'!$C$17:$AF$47,20,FALSE),IF(D25=2024,VLOOKUP(F25,'Intervenants et coûts-j'!$C$17:$AF$47,21,FALSE),IF(D25=2025,VLOOKUP(F25,'Intervenants et coûts-j'!$C$17:$AF$47,22,FALSE),IF(D25=2026,VLOOKUP(F25,'Intervenants et coûts-j'!$C$17:$AF$47,23,FALSE),IF(D25=2027,VLOOKUP(F25,'Intervenants et coûts-j'!$C$17:$AF$47,24,FALSE))))))))","v":""},{"$f":"IF(F25=\"\",\"\",IF(D25=2022,VLOOKUP(F25,'Intervenants et coûts-j'!$C$17:$AF$47,25,FALSE),IF(D25=2023,VLOOKUP(F25,'Intervenants et coûts-j'!$C$17:$AF$47,26,FALSE),IF(D25=2024,VLOOKUP(F25,'Intervenants et coûts-j'!$C$17:$AF$47,27,FALSE),IF(D25=2025,VLOOKUP(F25,'Intervenants et coûts-j'!$C$17:$AF$47,28,FALSE),IF(D25=2026,VLOOKUP(F25,'Intervenants et coûts-j'!$C$17:$AF$47,29,FALSE),IF(D25=2027,VLOOKUP(F25,'Intervenants et coûts-j'!$C$17:$AF$47,30,FALSE))))))))","v":""},"",{"$f":"IF(AB25=\"\",\"\",VLOOKUP(Z25,'Coûts-indirects'!$A$4:$T$33,20,FALSE)*AB25)","v":""},{"$f":"IF(AA25=\"\",\"\",VLOOKUP(AA25,'Frais-mission'!$B$3:$F$32,5,FALSE)*AD25)","v":""},{"$f":"IF(AA25=\"\",\"\",VLOOKUP(AA25,'Frais-mission'!$B$3:$G$34,6,FALSE)*AE25)","v":""},"",{"$f":"IF(AC25=0,\"\",AG25*AC25*0.1)","v":""},"","",null,null,null,{"$f":"\"ListeIntervenants\"&VLOOKUP(E25,'Intervenants et coûts-j'!$B$5:$C$14,2,FALSE)","v":{"$error":"#N/A"}},0,0]
[null,null,null,null,null,null,null,null,null,null,{"$f":"IF(F26=\"\",\"\",IF(D26=2022,VLOOKUP(F26,'Intervenants et coûts-j'!$C$17:$P$47,3,FALSE),IF(D26=2023,VLOOKUP(F26,'Intervenants et coûts-j'!$C$17:$P$47,4,FALSE),IF(D26=2024,VLOOKUP(F26,'Intervenants et coûts-j'!$C$17:$P$47,5,FALSE),IF(D26=2025,VLOOKUP(F26,'Intervenants et coûts-j'!$C$17:$P$47,6,FALSE),IF(D26=2026,VLOOKUP(F26,'Intervenants et coûts-j'!$C$17:$P$47,7,FALSE),IF(D26=2027,VLOOKUP(F26,'Intervenants et coûts-j'!$C$17:$P$47,8,FALSE))))))))","v":""},{"$f":"IF(F26=\"\",\"\",IF(D26=2022,VLOOKUP(F26,'Intervenants et coûts-j'!$C$17:$P$47,9,FALSE),IF(D26=2023,VLOOKUP(F26,'Intervenants et coûts-j'!$C$17:$P$47,10,FALSE),IF(D26=2024,VLOOKUP(F26,'Intervenants et coûts-j'!$C$17:$P$47,11,FALSE),IF(D26=2025,VLOOKUP(F26,'Intervenants et coûts-j'!$C$17:$P$47,12,FALSE),IF(D26=2026,VLOOKUP(F26,'Intervenants et coûts-j'!$C$17:$P$47,13,FALSE),IF(D26=2027,VLOOKUP(F26,'Intervenants et coûts-j'!$C$17:$P$47,14,FALSE))))))))","v":""},"",{"$f":"IF(G26=\"\",\"\",VLOOKUP(E26,'Coûts-indirects'!$A$4:$K$33,11,FALSE)*G26)","v":""},{"$f":"IF(F26=\"\",\"\",VLOOKUP(F26,'Frais-mission'!$B$3:$E$32,3,FALSE)*I26)","v":""},{"$f":"IF(F26=\"\",\"\",VLOOKUP(F26,'Frais-mission'!$B$3:$E$32,4,FALSE)*J26)","v":""},"","","","",null,null,"",null,"","","","",0,0,0,{"$f":"IF(F26=\"\",\"\",IF(D26=2022,VLOOKUP(F26,'Intervenants et coûts-j'!$C$17:$AF$47,19,FALSE),IF(D26=2023,VLOOKUP(F26,'Intervenants et coûts-j'!$C$17:$AF$47,20,FALSE),IF(D26=2024,VLOOKUP(F26,'Intervenants et coûts-j'!$C$17:$AF$47,21,FALSE),IF(D26=2025,VLOOKUP(F26,'Intervenants et coûts-j'!$C$17:$AF$47,22,FALSE),IF(D26=2026,VLOOKUP(F26,'Intervenants et coûts-j'!$C$17:$AF$47,23,FALSE),IF(D26=2027,VLOOKUP(F26,'Intervenants et coûts-j'!$C$17:$AF$47,24,FALSE))))))))","v":""},{"$f":"IF(F26=\"\",\"\",IF(D26=2022,VLOOKUP(F26,'Intervenants et coûts-j'!$C$17:$AF$47,25,FALSE),IF(D26=2023,VLOOKUP(F26,'Intervenants et coûts-j'!$C$17:$AF$47,26,FALSE),IF(D26=2024,VLOOKUP(F26,'Intervenants et coûts-j'!$C$17:$AF$47,27,FALSE),IF(D26=2025,VLOOKUP(F26,'Intervenants et coûts-j'!$C$17:$AF$47,28,FALSE),IF(D26=2026,VLOOKUP(F26,'Intervenants et coûts-j'!$C$17:$AF$47,29,FALSE),IF(D26=2027,VLOOKUP(F26,'Intervenants et coûts-j'!$C$17:$AF$47,30,FALSE))))))))","v":""},"",{"$f":"IF(AB26=\"\",\"\",VLOOKUP(Z26,'Coûts-indirects'!$A$4:$T$33,20,FALSE)*AB26)","v":""},{"$f":"IF(AA26=\"\",\"\",VLOOKUP(AA26,'Frais-mission'!$B$3:$F$32,5,FALSE)*AD26)","v":""},{"$f":"IF(AA26=\"\",\"\",VLOOKUP(AA26,'Frais-mission'!$B$3:$G$34,6,FALSE)*AE26)","v":""},"","","","",null,null,null,{"$f":"\"ListeIntervenants\"&VLOOKUP(E26,'Intervenants et coûts-j'!$B$5:$C$14,2,FALSE)","v":{"$error":"#N/A"}},0,0]
[null,null,null,null,null,null,null,null,null,null,{"$f":"IF(F27=\"\",\"\",IF(D27=2022,VLOOKUP(F27,'Intervenants et coûts-j'!$C$17:$P$47,3,FALSE),IF(D27=2023,VLOOKUP(F27,'Intervenants et coûts-j'!$C$17:$P$47,4,FALSE),IF(D27=2024,VLOOKUP(F27,'Intervenants et coûts-j'!$C$17:$P$47,5,FALSE),IF(D27=2025,VLOOKUP(F27,'Intervenants et coûts-j'!$C$17:$P$47,6,FALSE),IF(D27=2026,VLOOKUP(F27,'Intervenants et coûts-j'!$C$17:$P$47,7,FALSE),IF(D27=2027,VLOOKUP(F27,'Intervenants et coûts-j'!$C$17:$P$47,8,FALSE))))))))","v":""},{"$f":"IF(F27=\"\",\"\",IF(D27=2022,VLOOKUP(F27,'Intervenants et coûts-j'!$C$17:$P$47,9,FALSE),IF(D27=2023,VLOOKUP(F27,'Intervenants et coûts-j'!$C$17:$P$47,10,FALSE),IF(D27=2024,VLOOKUP(F27,'Intervenants et coûts-j'!$C$17:$P$47,11,FALSE),IF(D27=2025,VLOOKUP(F27,'Intervenants et coûts-j'!$C$17:$P$47,12,FALSE),IF(D27=2026,VLOOKUP(F27,'Intervenants et coûts-j'!$C$17:$P$47,13,FALSE),IF(D27=2027,VLOOKUP(F27,'Intervenants et coûts-j'!$C$17:$P$47,14,FALSE))))))))","v":""},"",{"$f":"IF(G27=\"\",\"\",VLOOKUP(E27,'Coûts-indirects'!$A$4:$K$33,11,FALSE)*G27)","v":""},{"$f":"IF(F27=\"\",\"\",VLOOKUP(F27,'Frais-mission'!$B$3:$E$32,3,FALSE)*I27)","v":""},{"$f":"IF(F27=\"\",\"\",VLOOKUP(F27,'Frais-mission'!$B$3:$E$32,4,FALSE)*J27)","v":""},"","","","",null,null,"",null,"","","","",0,0,0,{"$f":"IF(F27=\"\",\"\",IF(D27=2022,VLOOKUP(F27,'Intervenants et coûts-j'!$C$17:$AF$47,19,FALSE),IF(D27=2023,VLOOKUP(F27,'Intervenants et coûts-j'!$C$17:$AF$47,20,FALSE),IF(D27=2024,VLOOKUP(F27,'Intervenants et coûts-j'!$C$17:$AF$47,21,FALSE),IF(D27=2025,VLOOKUP(F27,'Intervenants et coûts-j'!$C$17:$AF$47,22,FALSE),IF(D27=2026,VLOOKUP(F27,'Intervenants et coûts-j'!$C$17:$AF$47,23,FALSE),IF(D27=2027,VLOOKUP(F27,'Intervenants et coûts-j'!$C$17:$AF$47,24,FALSE))))))))","v":""},{"$f":"IF(F27=\"\",\"\",IF(D27=2022,VLOOKUP(F27,'Intervenants et coûts-j'!$C$17:$AF$47,25,FALSE),IF(D27=2023,VLOOKUP(F27,'Intervenants et coûts-j'!$C$17:$AF$47,26,FALSE),IF(D27=2024,VLOOKUP(F27,'Intervenants et coûts-j'!$C$17:$AF$47,27,FALSE),IF(D27=2025,VLOOKUP(F27,'Intervenants et coûts-j'!$C$17:$AF$47,28,FALSE),IF(D27=2026,VLOOKUP(F27,'Intervenants et coûts-j'!$C$17:$AF$47,29,FALSE),IF(D27=2027,VLOOKUP(F27,'Intervenants et coûts-j'!$C$17:$AF$47,30,FALSE))))))))","v":""},"",{"$f":"IF(AB27=\"\",\"\",VLOOKUP(Z27,'Coûts-indirects'!$A$4:$T$33,20,FALSE)*AB27)","v":""},{"$f":"IF(AA27=\"\",\"\",VLOOKUP(AA27,'Frais-mission'!$B$3:$F$32,5,FALSE)*AD27)","v":""},{"$f":"IF(AA27=\"\",\"\",VLOOKUP(AA27,'Frais-mission'!$B$3:$G$34,6,FALSE)*AE27)","v":""},"","","","",null,null,null,{"$f":"\"ListeIntervenants\"&VLOOKUP(E27,'Intervenants et coûts-j'!$B$5:$C$14,2,FALSE)","v":{"$error":"#N/A"}},0,0]
[null,null,null,null,null,null,null,null,null,null,{"$f":"IF(F28=\"\",\"\",IF(D28=2022,VLOOKUP(F28,'Intervenants et coûts-j'!$C$17:$P$47,3,FALSE),IF(D28=2023,VLOOKUP(F28,'Intervenants et coûts-j'!$C$17:$P$47,4,FALSE),IF(D28=2024,VLOOKUP(F28,'Intervenants et coûts-j'!$C$17:$P$47,5,FALSE),IF(D28=2025,VLOOKUP(F28,'Intervenants et coûts-j'!$C$17:$P$47,6,FALSE),IF(D28=2026,VLOOKUP(F28,'Intervenants et coûts-j'!$C$17:$P$47,7,FALSE),IF(D28=2027,VLOOKUP(F28,'Intervenants et coûts-j'!$C$17:$P$47,8,FALSE))))))))","v":""},{"$f":"IF(F28=\"\",\"\",IF(D28=2022,VLOOKUP(F28,'Intervenants et coûts-j'!$C$17:$P$47,9,FALSE),IF(D28=2023,VLOOKUP(F28,'Intervenants et coûts-j'!$C$17:$P$47,10,FALSE),IF(D28=2024,VLOOKUP(F28,'Intervenants et coûts-j'!$C$17:$P$47,11,FALSE),IF(D28=2025,VLOOKUP(F28,'Intervenants et coûts-j'!$C$17:$P$47,12,FALSE),IF(D28=2026,VLOOKUP(F28,'Intervenants et coûts-j'!$C$17:$P$47,13,FALSE),IF(D28=2027,VLOOKUP(F28,'Intervenants et coûts-j'!$C$17:$P$47,14,FALSE))))))))","v":""},"",{"$f":"IF(G28=\"\",\"\",VLOOKUP(E28,'Coûts-indirects'!$A$4:$K$33,11,FALSE)*G28)","v":""},{"$f":"IF(F28=\"\",\"\",VLOOKUP(F28,'Frais-mission'!$B$3:$E$32,3,FALSE)*I28)","v":""},{"$f":"IF(F28=\"\",\"\",VLOOKUP(F28,'Frais-mission'!$B$3:$E$32,4,FALSE)*J28)","v":""},"","","","",null,null,"",null,"","","",{"$f":"IF(G28=\"\",\"\",G28)","v":""},0,0,0,{"$f":"IF(F28=\"\",\"\",IF(D28=2022,VLOOKUP(F28,'Intervenants et coûts-j'!$C$17:$AF$47,19,FALSE),IF(D28=2023,VLOOKUP(F28,'Intervenants et coûts-j'!$C$17:$AF$47,20,FALSE),IF(D28=2024,VLOOKUP(F28,'Intervenants et coûts-j'!$C$17:$AF$47,21,FALSE),IF(D28=2025,VLOOKUP(F28,'Intervenants et coûts-j'!$C$17:$AF$47,22,FALSE),IF(D28=2026,VLOOKUP(F28,'Intervenants et coûts-j'!$C$17:$AF$47,23,FALSE),IF(D28=2027,VLOOKUP(F28,'Intervenants et coûts-j'!$C$17:$AF$47,24,FALSE))))))))","v":""},{"$f":"IF(F28=\"\",\"\",IF(D28=2022,VLOOKUP(F28,'Intervenants et coûts-j'!$C$17:$AF$47,25,FALSE),IF(D28=2023,VLOOKUP(F28,'Intervenants et coûts-j'!$C$17:$AF$47,26,FALSE),IF(D28=2024,VLOOKUP(F28,'Intervenants et coûts-j'!$C$17:$AF$47,27,FALSE),IF(D28=2025,VLOOKUP(F28,'Intervenants et coûts-j'!$C$17:$AF$47,28,FALSE),IF(D28=2026,VLOOKUP(F28,'Intervenants et coûts-j'!$C$17:$AF$47,29,FALSE),IF(D28=2027,VLOOKUP(F28,'Intervenants et coûts-j'!$C$17:$AF$47,30,FALSE))))))))","v":""},"",{"$f":"IF(AB28=\"\",\"\",VLOOKUP(Z28,'Coûts-indirects'!$A$4:$T$33,20,FALSE)*AB28)","v":""},{"$f":"IF(AA28=\"\",\"\",VLOOKUP(AA28,'Frais-mission'!$B$3:$F$32,5,FALSE)*AD28)","v":""},{"$f":"IF(AA28=\"\",\"\",VLOOKUP(AA28,'Frais-mission'!$B$3:$G$34,6,FALSE)*AE28)","v":""},"","","","",null,null,null,{"$f":"\"ListeIntervenants\"&VLOOKUP(E28,'Intervenants et coûts-j'!$B$5:$C$14,2,FALSE)","v":{"$error":"#N/A"}},0,0]
[null,null,null,null,null,null,null,null,null,null,{"$f":"IF(F29=\"\",\"\",IF(D29=2022,VLOOKUP(F29,'Intervenants et coûts-j'!$C$17:$P$47,3,FALSE),IF(D29=2023,VLOOKUP(F29,'Intervenants et coûts-j'!$C$17:$P$47,4,FALSE),IF(D29=2024,VLOOKUP(F29,'Intervenants et coûts-j'!$C$17:$P$47,5,FALSE),IF(D29=2025,VLOOKUP(F29,'Intervenants et coûts-j'!$C$17:$P$47,6,FALSE),IF(D29=2026,VLOOKUP(F29,'Intervenants et coûts-j'!$C$17:$P$47,7,FALSE),IF(D29=2027,VLOOKUP(F29,'Intervenants et coûts-j'!$C$17:$P$47,8,FALSE))))))))","v":""},{"$f":"IF(F29=\"\",\"\",IF(D29=2022,VLOOKUP(F29,'Intervenants et coûts-j'!$C$17:$P$47,9,FALSE),IF(D29=2023,VLOOKUP(F29,'Intervenants et coûts-j'!$C$17:$P$47,10,FALSE),IF(D29=2024,VLOOKUP(F29,'Intervenants et coûts-j'!$C$17:$P$47,11,FALSE),IF(D29=2025,VLOOKUP(F29,'Intervenants et coûts-j'!$C$17:$P$47,12,FALSE),IF(D29=2026,VLOOKUP(F29,'Intervenants et coûts-j'!$C$17:$P$47,13,FALSE),IF(D29=2027,VLOOKUP(F29,'Intervenants et coûts-j'!$C$17:$P$47,14,FALSE))))))))","v":""},"",{"$f":"IF(G29=\"\",\"\",VLOOKUP(E29,'Coûts-indirects'!$A$4:$K$33,11,FALSE)*G29)","v":""},{"$f":"IF(F29=\"\",\"\",VLOOKUP(F29,'Frais-mission'!$B$3:$E$32,3,FALSE)*I29)","v":""},{"$f":"IF(F29=\"\",\"\",VLOOKUP(F29,'Frais-mission'!$B$3:$E$32,4,FALSE)*J29)","v":""},"","","","",null,null,null,null,"","","","",0,0,0,{"$f":"IF(F29=\"\",\"\",IF(D29=2022,VLOOKUP(F29,'Intervenants et coûts-j'!$C$17:$AF$47,19,FALSE),IF(D29=2023,VLOOKUP(F29,'Intervenants et coûts-j'!$C$17:$AF$47,20,FALSE),IF(D29=2024,VLOOKUP(F29,'Intervenants et coûts-j'!$C$17:$AF$47,21,FALSE),IF(D29=2025,VLOOKUP(F29,'Intervenants et coûts-j'!$C$17:$AF$47,22,FALSE),IF(D29=2026,VLOOKUP(F29,'Intervenants et coûts-j'!$C$17:$AF$47,23,FALSE),IF(D29=2027,VLOOKUP(F29,'Intervenants et coûts-j'!$C$17:$AF$47,24,FALSE))))))))","v":""},{"$f":"IF(F29=\"\",\"\",IF(D29=2022,VLOOKUP(F29,'Intervenants et coûts-j'!$C$17:$AF$47,25,FALSE),IF(D29=2023,VLOOKUP(F29,'Intervenants et coûts-j'!$C$17:$AF$47,26,FALSE),IF(D29=2024,VLOOKUP(F29,'Intervenants et coûts-j'!$C$17:$AF$47,27,FALSE),IF(D29=2025,VLOOKUP(F29,'Intervenants et coûts-j'!$C$17:$AF$47,28,FALSE),IF(D29=2026,VLOOKUP(F29,'Intervenants et coûts-j'!$C$17:$AF$47,29,FALSE),IF(D29=2027,VLOOKUP(F29,'Intervenants et coûts-j'!$C$17:$AF$47,30,FALSE))))))))","v":""},"",{"$f":"IF(AB29=\"\",\"\",VLOOKUP(Z29,'Coûts-indirects'!$A$4:$T$33,20,FALSE)*AB29)","v":""},{"$f":"IF(AA29=\"\",\"\",VLOOKUP(AA29,'Frais-mission'!$B$3:$F$32,5,FALSE)*AD29)","v":""},{"$f":"IF(AA29=\"\",\"\",VLOOKUP(AA29,'Frais-mission'!$B$3:$G$34,6,FALSE)*AE29)","v":""},"","",{"$f":"IF(AK29=\"\",\"\",AH29+AI29+AJ29+AK29)","v":""},"",null,null,null,{"$f":"\"ListeIntervenants\"&VLOOKUP(E29,'Intervenants et coûts-j'!$B$5:$C$14,2,FALSE)","v":{"$error":"#N/A"}},0,0]
[null,null,null,null,null,null,null,null,null,null,{"$f":"IF(F30=\"\",\"\",IF(D30=2022,VLOOKUP(F30,'Intervenants et coûts-j'!$C$17:$P$47,3,FALSE),IF(D30=2023,VLOOKUP(F30,'Intervenants et coûts-j'!$C$17:$P$47,4,FALSE),IF(D30=2024,VLOOKUP(F30,'Intervenants et coûts-j'!$C$17:$P$47,5,FALSE),IF(D30=2025,VLOOKUP(F30,'Intervenants et coûts-j'!$C$17:$P$47,6,FALSE),IF(D30=2026,VLOOKUP(F30,'Intervenants et coûts-j'!$C$17:$P$47,7,FALSE),IF(D30=2027,VLOOKUP(F30,'Intervenants et coûts-j'!$C$17:$P$47,8,FALSE))))))))","v":""},{"$f":"IF(F30=\"\",\"\",IF(D30=2022,VLOOKUP(F30,'Intervenants et coûts-j'!$C$17:$P$47,9,FALSE),IF(D30=2023,VLOOKUP(F30,'Intervenants et coûts-j'!$C$17:$P$47,10,FALSE),IF(D30=2024,VLOOKUP(F30,'Intervenants et coûts-j'!$C$17:$P$47,11,FALSE),IF(D30=2025,VLOOKUP(F30,'Intervenants et coûts-j'!$C$17:$P$47,12,FALSE),IF(D30=2026,VLOOKUP(F30,'Intervenants et coûts-j'!$C$17:$P$47,13,FALSE),IF(D30=2027,VLOOKUP(F30,'Intervenants et coûts-j'!$C$17:$P$47,14,FALSE))))))))","v":""},"",{"$f":"IF(G30=\"\",\"\",VLOOKUP(E30,'Coûts-indirects'!$A$4:$K$33,11,FALSE)*G30)","v":""},{"$f":"IF(F30=\"\",\"\",VLOOKUP(F30,'Frais-mission'!$B$3:$E$32,3,FALSE)*I30)","v":""},{"$f":"IF(F30=\"\",\"\",VLOOKUP(F30,'Frais-mission'!$B$3:$E$32,4,FALSE)*J30)","v":""},"","","","",null,null,null,null,"","","","",0,0,0,{"$f":"IF(F30=\"\",\"\",IF(D30=2022,VLOOKUP(F30,'Intervenants et coûts-j'!$C$17:$AF$47,19,FALSE),IF(D30=2023,VLOOKUP(F30,'Intervenants et coûts-j'!$C$17:$AF$47,20,FALSE),IF(D30=2024,VLOOKUP(F30,'Intervenants et coûts-j'!$C$17:$AF$47,21,FALSE),IF(D30=2025,VLOOKUP(F30,'Intervenants et coûts-j'!$C$17:$AF$47,22,FALSE),IF(D30=2026,VLOOKUP(F30,'Intervenants et coûts-j'!$C$17:$AF$47,23,FALSE),IF(D30=2027,VLOOKUP(F30,'Intervenants et coûts-j'!$C$17:$AF$47,24,FALSE))))))))","v":""},{"$f":"IF(F30=\"\",\"\",IF(D30=2022,VLOOKUP(F30,'Intervenants et coûts-j'!$C$17:$AF$47,25,FALSE),IF(D30=2023,VLOOKUP(F30,'Intervenants et coûts-j'!$C$17:$AF$47,26,FALSE),IF(D30=2024,VLOOKUP(F30,'Intervenants et coûts-j'!$C$17:$AF$47,27,FALSE),IF(D30=2025,VLOOKUP(F30,'Intervenants et coûts-j'!$C$17:$AF$47,28,FALSE),IF(D30=2026,VLOOKUP(F30,'Intervenants et coûts-j'!$C$17:$AF$47,29,FALSE),IF(D30=2027,VLOOKUP(F30,'Intervenants et coûts-j'!$C$17:$AF$47,30,FALSE))))))))","v":""},"",{"$f":"IF(AB30=\"\",\"\",VLOOKUP(Z30,'Coûts-indirects'!$A$4:$T$33,20,FALSE)*AB30)","v":""},{"$f":"IF(AA30=\"\",\"\",VLOOKUP(AA30,'Frais-mission'!$B$3:$F$32,5,FALSE)*AD30)","v":""},{"$f":"IF(AA30=\"\",\"\",VLOOKUP(AA30,'Frais-mission'!$B$3:$G$34,6,FALSE)*AE30)","v":""},"","","","",null,null,null,{"$f":"\"ListeIntervenants\"&VLOOKUP(E30,'Intervenants et coûts-j'!$B$5:$C$14,2,FALSE)","v":{"$error":"#N/A"}},0,0]
[null,null,null,null,null,null,null,null,null,null,{"$f":"IF(F31=\"\",\"\",IF(D31=2022,VLOOKUP(F31,'Intervenants et coûts-j'!$C$17:$P$47,3,FALSE),IF(D31=2023,VLOOKUP(F31,'Intervenants et coûts-j'!$C$17:$P$47,4,FALSE),IF(D31=2024,VLOOKUP(F31,'Intervenants et coûts-j'!$C$17:$P$47,5,FALSE),IF(D31=2025,VLOOKUP(F31,'Intervenants et coûts-j'!$C$17:$P$47,6,FALSE),IF(D31=2026,VLOOKUP(F31,'Intervenants et coûts-j'!$C$17:$P$47,7,FALSE),IF(D31=2027,VLOOKUP(F31,'Intervenants et coûts-j'!$C$17:$P$47,8,FALSE))))))))","v":""},{"$f":"IF(F31=\"\",\"\",IF(D31=2022,VLOOKUP(F31,'Intervenants et coûts-j'!$C$17:$P$47,9,FALSE),IF(D31=2023,VLOOKUP(F31,'Intervenants et coûts-j'!$C$17:$P$47,10,FALSE),IF(D31=2024,VLOOKUP(F31,'Intervenants et coûts-j'!$C$17:$P$47,11,FALSE),IF(D31=2025,VLOOKUP(F31,'Intervenants et coûts-j'!$C$17:$P$47,12,FALSE),IF(D31=2026,VLOOKUP(F31,'Intervenants et coûts-j'!$C$17:$P$47,13,FALSE),IF(D31=2027,VLOOKUP(F31,'Intervenants et coûts-j'!$C$17:$P$47,14,FALSE))))))))","v":""},"",{"$f":"IF(G31=\"\",\"\",VLOOKUP(E31,'Coûts-indirects'!$A$4:$K$33,11,FALSE)*G31)","v":""},{"$f":"IF(F31=\"\",\"\",VLOOKUP(F31,'Frais-mission'!$B$3:$E$32,3,FALSE)*I31)","v":""},{"$f":"IF(F31=\"\",\"\",VLOOKUP(F31,'Frais-mission'!$B$3:$E$32,4,FALSE)*J31)","v":""},"","","","",null,null,null,null,"","","","",0,0,0,{"$f":"IF(F31=\"\",\"\",IF(D31=2022,VLOOKUP(F31,'Intervenants et coûts-j'!$C$17:$AF$47,19,FALSE),IF(D31=2023,VLOOKUP(F31,'Intervenants et coûts-j'!$C$17:$AF$47,20,FALSE),IF(D31=2024,VLOOKUP(F31,'Intervenants et coûts-j'!$C$17:$AF$47,21,FALSE),IF(D31=2025,VLOOKUP(F31,'Intervenants et coûts-j'!$C$17:$AF$47,22,FALSE),IF(D31=2026,VLOOKUP(F31,'Intervenants et coûts-j'!$C$17:$AF$47,23,FALSE),IF(D31=2027,VLOOKUP(F31,'Intervenants et coûts-j'!$C$17:$AF$47,24,FALSE))))))))","v":""},{"$f":"IF(F31=\"\",\"\",IF(D31=2022,VLOOKUP(F31,'Intervenants et coûts-j'!$C$17:$AF$47,25,FALSE),IF(D31=2023,VLOOKUP(F31,'Intervenants et coûts-j'!$C$17:$AF$47,26,FALSE),IF(D31=2024,VLOOKUP(F31,'Intervenants et coûts-j'!$C$17:$AF$47,27,FALSE),IF(D31=2025,VLOOKUP(F31,'Intervenants et coûts-j'!$C$17:$AF$47,28,FALSE),IF(D31=2026,VLOOKUP(F31,'Intervenants et coûts-j'!$C$17:$AF$47,29,FALSE),IF(D31=2027,VLOOKUP(F31,'Intervenants et coûts-j'!$C$17:$AF$47,30,FALSE))))))))","v":""},"",{"$f":"IF(AB31=\"\",\"\",VLOOKUP(Z31,'Coûts-indirects'!$A$4:$T$33,20,FALSE)*AB31)","v":""},{"$f":"IF(AA31=\"\",\"\",VLOOKUP(AA31,'Frais-mission'!$B$3:$F$32,5,FALSE)*AD31)","v":""},{"$f":"IF(AA31=\"\",\"\",VLOOKUP(AA31,'Frais-mission'!$B$3:$G$34,6,FALSE)*AE31)","v":""},"","","","",null,null,null,{"$f":"\"ListeIntervenants\"&VLOOKUP(E31,'Intervenants et coûts-j'!$B$5:$C$14,2,FALSE)","v":{"$error":"#N/A"}},0,0]
[null,null,null,null,null,null,null,null,null,null,{"$f":"IF(F32=\"\",\"\",IF(D32=2022,VLOOKUP(F32,'Intervenants et coûts-j'!$C$17:$P$47,3,FALSE),IF(D32=2023,VLOOKUP(F32,'Intervenants et coûts-j'!$C$17:$P$47,4,FALSE),IF(D32=2024,VLOOKUP(F32,'Intervenants et coûts-j'!$C$17:$P$47,5,FALSE),IF(D32=2025,VLOOKUP(F32,'Intervenants et coûts-j'!$C$17:$P$47,6,FALSE),IF(D32=2026,VLOOKUP(F32,'Intervenants et coûts-j'!$C$17:$P$47,7,FALSE),IF(D32=2027,VLOOKUP(F32,'Intervenants et coûts-j'!$C$17:$P$47,8,FALSE))))))))","v":""},{"$f":"IF(F32=\"\",\"\",IF(D32=2022,VLOOKUP(F32,'Intervenants et coûts-j'!$C$17:$P$47,9,FALSE),IF(D32=2023,VLOOKUP(F32,'Intervenants et coûts-j'!$C$17:$P$47,10,FALSE),IF(D32=2024,VLOOKUP(F32,'Intervenants et coûts-j'!$C$17:$P$47,11,FALSE),IF(D32=2025,VLOOKUP(F32,'Intervenants et coûts-j'!$C$17:$P$47,12,FALSE),IF(D32=2026,VLOOKUP(F32,'Intervenants et coûts-j'!$C$17:$P$47,13,FALSE),IF(D32=2027,VLOOKUP(F32,'Intervenants et coûts-j'!$C$17:$P$47,14,FALSE))))))))","v":""},"",{"$f":"IF(G32=\"\",\"\",VLOOKUP(E32,'Coûts-indirects'!$A$4:$K$33,11,FALSE)*G32)","v":""},{"$f":"IF(F32=\"\",\"\",VLOOKUP(F32,'Frais-mission'!$B$3:$E$32,3,FALSE)*I32)","v":""},{"$f":"IF(F32=\"\",\"\",VLOOKUP(F32,'Frais-mission'!$B$3:$E$32,4,FALSE)*J32)","v":""},"","","","",null,null,null,null,"","","","",0,0,0,{"$f":"IF(F32=\"\",\"\",IF(D32=2022,VLOOKUP(F32,'Intervenants et coûts-j'!$C$17:$AF$47,19,FALSE),IF(D32=2023,VLOOKUP(F32,'Intervenants et coûts-j'!$C$17:$AF$47,20,FALSE),IF(D32=2024,VLOOKUP(F32,'Intervenants et coûts-j'!$C$17:$AF$47,21,FALSE),IF(D32=2025,VLOOKUP(F32,'Intervenants et coûts-j'!$C$17:$AF$47,22,FALSE),IF(D32=2026,VLOOKUP(F32,'Intervenants et coûts-j'!$C$17:$AF$47,23,FALSE),IF(D32=2027,VLOOKUP(F32,'Intervenants et coûts-j'!$C$17:$AF$47,24,FALSE))))))))","v":""},{"$f":"IF(F32=\"\",\"\",IF(D32=2022,VLOOKUP(F32,'Intervenants et coûts-j'!$C$17:$AF$47,25,FALSE),IF(D32=2023,VLOOKUP(F32,'Intervenants et coûts-j'!$C$17:$AF$47,26,FALSE),IF(D32=2024,VLOOKUP(F32,'Intervenants et coûts-j'!$C$17:$AF$47,27,FALSE),IF(D32=2025,VLOOKUP(F32,'Intervenants et coûts-j'!$C$17:$AF$47,28,FALSE),IF(D32=2026,VLOOKUP(F32,'Intervenants et coûts-j'!$C$17:$AF$47,29,FALSE),IF(D32=2027,VLOOKUP(F32,'Intervenants et coûts-j'!$C$17:$AF$47,30,FALSE))))))))","v":""},"",{"$f":"IF(AB32=\"\",\"\",VLOOKUP(Z32,'Coûts-indirects'!$A$4:$T$33,20,FALSE)*AB32)","v":""},{"$f":"IF(AA32=\"\",\"\",VLOOKUP(AA32,'Frais-mission'!$B$3:$F$32,5,FALSE)*AD32)","v":""},{"$f":"IF(AA32=\"\",\"\",VLOOKUP(AA32,'Frais-mission'!$B$3:$G$34,6,FALSE)*AE32)","v":""},"","","","",null,null,null,{"$f":"\"ListeIntervenants\"&VLOOKUP(E32,'Intervenants et coûts-j'!$B$5:$C$14,2,FALSE)","v":{"$error":"#N/A"}},0,0]
[null,null,null,null,null,null,null,null,null,null,{"$f":"IF(F33=\"\",\"\",IF(D33=2022,VLOOKUP(F33,'Intervenants et coûts-j'!$C$17:$P$47,3,FALSE),IF(D33=2023,VLOOKUP(F33,'Intervenants et coûts-j'!$C$17:$P$47,4,FALSE),IF(D33=2024,VLOOKUP(F33,'Intervenants et coûts-j'!$C$17:$P$47,5,FALSE),IF(D33=2025,VLOOKUP(F33,'Intervenants et coûts-j'!$C$17:$P$47,6,FALSE),IF(D33=2026,VLOOKUP(F33,'Intervenants et coûts-j'!$C$17:$P$47,7,FALSE),IF(D33=2027,VLOOKUP(F33,'Intervenants et coûts-j'!$C$17:$P$47,8,FALSE))))))))","v":""},{"$f":"IF(F33=\"\",\"\",IF(D33=2022,VLOOKUP(F33,'Intervenants et coûts-j'!$C$17:$P$47,9,FALSE),IF(D33=2023,VLOOKUP(F33,'Intervenants et coûts-j'!$C$17:$P$47,10,FALSE),IF(D33=2024,VLOOKUP(F33,'Intervenants et coûts-j'!$C$17:$P$47,11,FALSE),IF(D33=2025,VLOOKUP(F33,'Intervenants et coûts-j'!$C$17:$P$47,12,FALSE),IF(D33=2026,VLOOKUP(F33,'Intervenants et coûts-j'!$C$17:$P$47,13,FALSE),IF(D33=2027,VLOOKUP(F33,'Intervenants et coûts-j'!$C$17:$P$47,14,FALSE))))))))","v":""},"",{"$f":"IF(G33=\"\",\"\",VLOOKUP(E33,'Coûts-indirects'!$A$4:$K$33,11,FALSE)*G33)","v":""},{"$f":"IF(F33=\"\",\"\",VLOOKUP(F33,'Frais-mission'!$B$3:$E$32,3,FALSE)*I33)","v":""},{"$f":"IF(F33=\"\",\"\",VLOOKUP(F33,'Frais-mission'!$B$3:$E$32,4,FALSE)*J33)","v":""},"","","","",null,null,null,null,"","","","",0,0,0,{"$f":"IF(F33=\"\",\"\",IF(D33=2022,VLOOKUP(F33,'Intervenants et coûts-j'!$C$17:$AF$47,19,FALSE),IF(D33=2023,VLOOKUP(F33,'Intervenants et coûts-j'!$C$17:$AF$47,20,FALSE),IF(D33=2024,VLOOKUP(F33,'Intervenants et coûts-j'!$C$17:$AF$47,21,FALSE),IF(D33=2025,VLOOKUP(F33,'Intervenants et coûts-j'!$C$17:$AF$47,22,FALSE),IF(D33=2026,VLOOKUP(F33,'Intervenants et coûts-j'!$C$17:$AF$47,23,FALSE),IF(D33=2027,VLOOKUP(F33,'Intervenants et coûts-j'!$C$17:$AF$47,24,FALSE))))))))","v":""},{"$f":"IF(F33=\"\",\"\",IF(D33=2022,VLOOKUP(F33,'Intervenants et coûts-j'!$C$17:$AF$47,25,FALSE),IF(D33=2023,VLOOKUP(F33,'Intervenants et coûts-j'!$C$17:$AF$47,26,FALSE),IF(D33=2024,VLOOKUP(F33,'Intervenants et coûts-j'!$C$17:$AF$47,27,FALSE),IF(D33=2025,VLOOKUP(F33,'Intervenants et coûts-j'!$C$17:$AF$47,28,FALSE),IF(D33=2026,VLOOKUP(F33,'Intervenants et coûts-j'!$C$17:$AF$47,29,FALSE),IF(D33=2027,VLOOKUP(F33,'Intervenants et coûts-j'!$C$17:$AF$47,30,FALSE))))))))","v":""},"",{"$f":"IF(AB33=\"\",\"\",VLOOKUP(Z33,'Coûts-indirects'!$A$4:$T$33,20,FALSE)*AB33)","v":""},{"$f":"IF(AA33=\"\",\"\",VLOOKUP(AA33,'Frais-mission'!$B$3:$F$32,5,FALSE)*AD33)","v":""},{"$f":"IF(AA33=\"\",\"\",VLOOKUP(AA33,'Frais-mission'!$B$3:$G$34,6,FALSE)*AE33)","v":""},"","","","",null,null,null,{"$f":"\"ListeIntervenants\"&VLOOKUP(E33,'Intervenants et coûts-j'!$B$5:$C$14,2,FALSE)","v":{"$error":"#N/A"}},0,0]
[null,null,null,null,null,null,null,null,null,null,{"$f":"IF(F34=\"\",\"\",IF(D34=2022,VLOOKUP(F34,'Intervenants et coûts-j'!$C$17:$P$47,3,FALSE),IF(D34=2023,VLOOKUP(F34,'Intervenants et coûts-j'!$C$17:$P$47,4,FALSE),IF(D34=2024,VLOOKUP(F34,'Intervenants et coûts-j'!$C$17:$P$47,5,FALSE),IF(D34=2025,VLOOKUP(F34,'Intervenants et coûts-j'!$C$17:$P$47,6,FALSE),IF(D34=2026,VLOOKUP(F34,'Intervenants et coûts-j'!$C$17:$P$47,7,FALSE),IF(D34=2027,VLOOKUP(F34,'Intervenants et coûts-j'!$C$17:$P$47,8,FALSE))))))))","v":""},{"$f":"IF(F34=\"\",\"\",IF(D34=2022,VLOOKUP(F34,'Intervenants et coûts-j'!$C$17:$P$47,9,FALSE),IF(D34=2023,VLOOKUP(F34,'Intervenants et coûts-j'!$C$17:$P$47,10,FALSE),IF(D34=2024,VLOOKUP(F34,'Intervenants et coûts-j'!$C$17:$P$47,11,FALSE),IF(D34=2025,VLOOKUP(F34,'Intervenants et coûts-j'!$C$17:$P$47,12,FALSE),IF(D34=2026,VLOOKUP(F34,'Intervenants et coûts-j'!$C$17:$P$47,13,FALSE),IF(D34=2027,VLOOKUP(F34,'Intervenants et coûts-j'!$C$17:$P$47,14,FALSE))))))))","v":""},"",{"$f":"IF(G34=\"\",\"\",VLOOKUP(E34,'Coûts-indirects'!$A$4:$K$33,11,FALSE)*G34)","v":""},{"$f":"IF(F34=\"\",\"\",VLOOKUP(F34,'Frais-mission'!$B$3:$E$32,3,FALSE)*I34)","v":""},{"$f":"IF(F34=\"\",\"\",VLOOKUP(F34,'Frais-mission'!$B$3:$E$32,4,FALSE)*J34)","v":""},"","","","",null,null,"",null,"","","","",0,0,0,{"$f":"IF(F34=\"\",\"\",IF(D34=2022,VLOOKUP(F34,'Intervenants et coûts-j'!$C$17:$AF$47,19,FALSE),IF(D34=2023,VLOOKUP(F34,'Intervenants et coûts-j'!$C$17:$AF$47,20,FALSE),IF(D34=2024,VLOOKUP(F34,'Intervenants et coûts-j'!$C$17:$AF$47,21,FALSE),IF(D34=2025,VLOOKUP(F34,'Intervenants et coûts-j'!$C$17:$AF$47,22,FALSE),IF(D34=2026,VLOOKUP(F34,'Intervenants et coûts-j'!$C$17:$AF$47,23,FALSE),IF(D34=2027,VLOOKUP(F34,'Intervenants et coûts-j'!$C$17:$AF$47,24,FALSE))))))))","v":""},{"$f":"IF(F34=\"\",\"\",IF(D34=2022,VLOOKUP(F34,'Intervenants et coûts-j'!$C$17:$AF$47,25,FALSE),IF(D34=2023,VLOOKUP(F34,'Intervenants et coûts-j'!$C$17:$AF$47,26,FALSE),IF(D34=2024,VLOOKUP(F34,'Intervenants et coûts-j'!$C$17:$AF$47,27,FALSE),IF(D34=2025,VLOOKUP(F34,'Intervenants et coûts-j'!$C$17:$AF$47,28,FALSE),IF(D34=2026,VLOOKUP(F34,'Intervenants et coûts-j'!$C$17:$AF$47,29,FALSE),IF(D34=2027,VLOOKUP(F34,'Intervenants et coûts-j'!$C$17:$AF$47,30,FALSE))))))))","v":""},"",{"$f":"IF(AB34=\"\",\"\",VLOOKUP(Z34,'Coûts-indirects'!$A$4:$T$33,20,FALSE)*AB34)","v":""},{"$f":"IF(AA34=\"\",\"\",VLOOKUP(AA34,'Frais-mission'!$B$3:$F$32,5,FALSE)*AD34)","v":""},{"$f":"IF(AA34=\"\",\"\",VLOOKUP(AA34,'Frais-mission'!$B$3:$G$34,6,FALSE)*AE34)","v":""},"","","","",null,null,null,{"$f":"\"ListeIntervenants\"&VLOOKUP(E34,'Intervenants et coûts-j'!$B$5:$C$14,2,FALSE)","v":{"$error":"#N/A"}},0,0]
[null,null,null,null,null,null,null,null,null,null,{"$f":"IF(F35=\"\",\"\",IF(D35=2022,VLOOKUP(F35,'Intervenants et coûts-j'!$C$17:$P$47,3,FALSE),IF(D35=2023,VLOOKUP(F35,'Intervenants et coûts-j'!$C$17:$P$47,4,FALSE),IF(D35=2024,VLOOKUP(F35,'Intervenants et coûts-j'!$C$17:$P$47,5,FALSE),IF(D35=2025,VLOOKUP(F35,'Intervenants et coûts-j'!$C$17:$P$47,6,FALSE),IF(D35=2026,VLOOKUP(F35,'Intervenants et coûts-j'!$C$17:$P$47,7,FALSE),IF(D35=2027,VLOOKUP(F35,'Intervenants et coûts-j'!$C$17:$P$47,8,FALSE))))))))","v":""},{"$f":"IF(F35=\"\",\"\",IF(D35=2022,VLOOKUP(F35,'Intervenants et coûts-j'!$C$17:$P$47,9,FALSE),IF(D35=2023,VLOOKUP(F35,'Intervenants et coûts-j'!$C$17:$P$47,10,FALSE),IF(D35=2024,VLOOKUP(F35,'Intervenants et coûts-j'!$C$17:$P$47,11,FALSE),IF(D35=2025,VLOOKUP(F35,'Intervenants et coûts-j'!$C$17:$P$47,12,FALSE),IF(D35=2026,VLOOKUP(F35,'Intervenants et coûts-j'!$C$17:$P$47,13,FALSE),IF(D35=2027,VLOOKUP(F35,'Intervenants et coûts-j'!$C$17:$P$47,14,FALSE))))))))","v":""},{"$f":"IF(G35=\"\",\"\",L35*G35)","v":""},{"$f":"IF(G35=\"\",\"\",VLOOKUP(E35,'Coûts-indirects'!$A$4:$K$33,11,FALSE)*G35)","v":""},{"$f":"IF(F35=\"\",\"\",VLOOKUP(F35,'Frais-mission'!$B$3:$E$32,3,FALSE)*I35)","v":""},{"$f":"IF(F35=\"\",\"\",VLOOKUP(F35,'Frais-mission'!$B$3:$E$32,4,FALSE)*J35)","v":""},{"$f":"IF(M35=\"\",\"\",M35*0.15)","v":""},{"$f":"IF(H35=\"\",\"\",L35*H35*0.1)","v":""},{"$f":"IF(P35=\"\",\"\",M35+N35+O35+P35)","v":""},{"$f":"IF(S35=\"\",\"\",MIN(S35,M35+MIN(N35,Q35)+MIN(O35+P35,R35)))","v":""},null,null,null,null,"",{"$f":"IF(E35=\"\",\"\",E35)","v":""},{"$f":"IF(F35=\"\",\"\",F35)","v":""},{"$f":"IF(G35=\"\",\"\",G35)","v":""},{"$f":"IF(H35=\"\",0,H35)","v":0},{"$f":"IF(I35=\"\",0,I35)","v":0},{"$f":"IF(J35=\"\",0,J35)","v":0},{"$f":"IF(F35=\"\",\"\",IF(D35=2022,VLOOKUP(F35,'Intervenants et coûts-j'!$C$17:$AF$47,19,FALSE),IF(D35=2023,VLOOKUP(F35,'Intervenants et coûts-j'!$C$17:$AF$47,20,FALSE),IF(D35=2024,VLOOKUP(F35,'Intervenants et coûts-j'!$C$17:$AF$47,21,FALSE),IF(D35=2025,VLOOKUP(F35,'Intervenants et coûts-j'!$C$17:$AF$47,22,FALSE),IF(D35=2026,VLOOKUP(F35,'Intervenants et coûts-j'!$C$17:$AF$47,23,FALSE),IF(D35=2027,VLOOKUP(F35,'Intervenants et coûts-j'!$C$17:$AF$47,24,FALSE))))))))","v":""},{"$f":"IF(F35=\"\",\"\",IF(D35=2022,VLOOKUP(F35,'Intervenants et coûts-j'!$C$17:$AF$47,25,FALSE),IF(D35=2023,VLOOKUP(F35,'Intervenants et coûts-j'!$C$17:$AF$47,26,FALSE),IF(D35=2024,VLOOKUP(F35,'Intervenants et coûts-j'!$C$17:$AF$47,27,FALSE),IF(D35=2025,VLOOKUP(F35,'Intervenants et coûts-j'!$C$17:$AF$47,28,FALSE),IF(D35=2026,VLOOKUP(F35,'Intervenants et coûts-j'!$C$17:$AF$47,29,FALSE),IF(D35=2027,VLOOKUP(F35,'Intervenants et coûts-j'!$C$17:$AF$47,30,FALSE))))))))","v":""},{"$f":"IF(AB35=\"\",\"\",AG35*AB35)","v":""},{"$f":"IF(AB35=\"\",\"\",VLOOKUP(Z35,'Coûts-indirects'!$A$4:$T$33,20,FALSE)*AB35)","v":""},{"$f":"IF(AA35=\"\",\"\",VLOOKUP(AA35,'Frais-mission'!$B$3:$F$32,5,FALSE)*AD35)","v":""},{"$f":"IF(AA35=\"\",\"\",VLOOKUP(AA35,'Frais-mission'!$B$3:$G$34,6,FALSE)*AE35)","v":""},{"$f":"IF(AH35=\"\",\"\",AH35*0.15)","v":""},{"$f":"IF(AC35=0,\"\",AG35*AC35*0.1)","v":""},{"$f":"IF(AK35=\"\",\"\",AH35+AI35+AJ35+AK35)","v":""},{"$f":"IF(AN35=\"\",\"\",MIN(AN35,AH35+MIN(AI35,AL35)+MIN(AJ35+AK35,AM35)))","v":""},null,null,null,{"$f":"\"ListeIntervenants\"&VLOOKUP(E35,'Intervenants et coûts-j'!$B$5:$C$14,2,FALSE)","v":{"$error":"#N/A"}},0,0]
[null,null,null,null,null,null,null,null,null,null,{"$f":"IF(F36=\"\",\"\",IF(D36=2022,VLOOKUP(F36,'Intervenants et coûts-j'!$C$17:$P$47,3,FALSE),IF(D36=2023,VLOOKUP(F36,'Intervenants et coûts-j'!$C$17:$P$47,4,FALSE),IF(D36=2024,VLOOKUP(F36,'Intervenants et coûts-j'!$C$17:$P$47,5,FALSE),IF(D36=2025,VLOOKUP(F36,'Intervenants et coûts-j'!$C$17:$P$47,6,FALSE),IF(D36=2026,VLOOKUP(F36,'Intervenants et coûts-j'!$C$17:$P$47,7,FALSE),IF(D36=2027,VLOOKUP(F36,'Intervenants et coûts-j'!$C$17:$P$47,8,FALSE))))))))","v":""},{"$f":"IF(F36=\"\",\"\",IF(D36=2022,VLOOKUP(F36,'Intervenants et coûts-j'!$C$17:$P$47,9,FALSE),IF(D36=2023,VLOOKUP(F36,'Intervenants et coûts-j'!$C$17:$P$47,10,FALSE),IF(D36=2024,VLOOKUP(F36,'Intervenants et coûts-j'!$C$17:$P$47,11,FALSE),IF(D36=2025,VLOOKUP(F36,'Intervenants et coûts-j'!$C$17:$P$47,12,FALSE),IF(D36=2026,VLOOKUP(F36,'Intervenants et coûts-j'!$C$17:$P$47,13,FALSE),IF(D36=2027,VLOOKUP(F36,'Intervenants et coûts-j'!$C$17:$P$47,14,FALSE))))))))","v":""},"",{"$f":"IF(G36=\"\",\"\",VLOOKUP(E36,'Coûts-indirects'!$A$4:$K$33,11,FALSE)*G36)","v":""},{"$f":"IF(F36=\"\",\"\",VLOOKUP(F36,'Frais-mission'!$B$3:$E$32,3,FALSE)*I36)","v":""},{"$f":"IF(F36=\"\",\"\",VLOOKUP(F36,'Frais-mission'!$B$3:$E$32,4,FALSE)*J36)","v":""},"","","","",null,null,null,null,"","","","",0,0,0,{"$f":"IF(F36=\"\",\"\",IF(D36=2022,VLOOKUP(F36,'Intervenants et coûts-j'!$C$17:$AF$47,19,FALSE),IF(D36=2023,VLOOKUP(F36,'Intervenants et coûts-j'!$C$17:$AF$47,20,FALSE),IF(D36=2024,VLOOKUP(F36,'Intervenants et coûts-j'!$C$17:$AF$47,21,FALSE),IF(D36=2025,VLOOKUP(F36,'Intervenants et coûts-j'!$C$17:$AF$47,22,FALSE),IF(D36=2026,VLOOKUP(F36,'Intervenants et coûts-j'!$C$17:$AF$47,23,FALSE),IF(D36=2027,VLOOKUP(F36,'Intervenants et coûts-j'!$C$17:$AF$47,24,FALSE))))))))","v":""},{"$f":"IF(F36=\"\",\"\",IF(D36=2022,VLOOKUP(F36,'Intervenants et coûts-j'!$C$17:$AF$47,25,FALSE),IF(D36=2023,VLOOKUP(F36,'Intervenants et coûts-j'!$C$17:$AF$47,26,FALSE),IF(D36=2024,VLOOKUP(F36,'Intervenants et coûts-j'!$C$17:$AF$47,27,FALSE),IF(D36=2025,VLOOKUP(F36,'Intervenants et coûts-j'!$C$17:$AF$47,28,FALSE),IF(D36=2026,VLOOKUP(F36,'Intervenants et coûts-j'!$C$17:$AF$47,29,FALSE),IF(D36=2027,VLOOKUP(F36,'Intervenants et coûts-j'!$C$17:$AF$47,30,FALSE))))))))","v":""},"",{"$f":"IF(AB36=\"\",\"\",VLOOKUP(Z36,'Coûts-indirects'!$A$4:$T$33,20,FALSE)*AB36)","v":""},{"$f":"IF(AA36=\"\",\"\",VLOOKUP(AA36,'Frais-mission'!$B$3:$F$32,5,FALSE)*AD36)","v":""},{"$f":"IF(AA36=\"\",\"\",VLOOKUP(AA36,'Frais-mission'!$B$3:$G$34,6,FALSE)*AE36)","v":""},"","","","",null,null,null,{"$f":"\"ListeIntervenants\"&VLOOKUP(E36,'Intervenants et coûts-j'!$B$5:$C$14,2,FALSE)","v":{"$error":"#N/A"}},0,0]
[null,null,null,null,null,null,null,null,null,null,{"$f":"IF(F37=\"\",\"\",IF(D37=2022,VLOOKUP(F37,'Intervenants et coûts-j'!$C$17:$P$47,3,FALSE),IF(D37=2023,VLOOKUP(F37,'Intervenants et coûts-j'!$C$17:$P$47,4,FALSE),IF(D37=2024,VLOOKUP(F37,'Intervenants et coûts-j'!$C$17:$P$47,5,FALSE),IF(D37=2025,VLOOKUP(F37,'Intervenants et coûts-j'!$C$17:$P$47,6,FALSE),IF(D37=2026,VLOOKUP(F37,'Intervenants et coûts-j'!$C$17:$P$47,7,FALSE),IF(D37=2027,VLOOKUP(F37,'Intervenants et coûts-j'!$C$17:$P$47,8,FALSE))))))))","v":""},{"$f":"IF(F37=\"\",\"\",IF(D37=2022,VLOOKUP(F37,'Intervenants et coûts-j'!$C$17:$P$47,9,FALSE),IF(D37=2023,VLOOKUP(F37,'Intervenants et coûts-j'!$C$17:$P$47,10,FALSE),IF(D37=2024,VLOOKUP(F37,'Intervenants et coûts-j'!$C$17:$P$47,11,FALSE),IF(D37=2025,VLOOKUP(F37,'Intervenants et coûts-j'!$C$17:$P$47,12,FALSE),IF(D37=2026,VLOOKUP(F37,'Intervenants et coûts-j'!$C$17:$P$47,13,FALSE),IF(D37=2027,VLOOKUP(F37,'Intervenants et coûts-j'!$C$17:$P$47,14,FALSE))))))))","v":""},"",{"$f":"IF(G37=\"\",\"\",VLOOKUP(E37,'Coûts-indirects'!$A$4:$K$33,11,FALSE)*G37)","v":""},{"$f":"IF(F37=\"\",\"\",VLOOKUP(F37,'Frais-mission'!$B$3:$E$32,3,FALSE)*I37)","v":""},{"$f":"IF(F37=\"\",\"\",VLOOKUP(F37,'Frais-mission'!$B$3:$E$32,4,FALSE)*J37)","v":""},"","","","",null,null,null,null,"","","",{"$f":"IF(G37=\"\",\"\",G37)","v":""},{"$f":"IF(H37=\"\",0,H37)","v":0},{"$f":"IF(I37=\"\",0,I37)","v":0},{"$f":"IF(J37=\"\",0,J37)","v":0},{"$f":"IF(F37=\"\",\"\",IF(D37=2022,VLOOKUP(F37,'Intervenants et coûts-j'!$C$17:$AF$47,19,FALSE),IF(D37=2023,VLOOKUP(F37,'Intervenants et coûts-j'!$C$17:$AF$47,20,FALSE),IF(D37=2024,VLOOKUP(F37,'Intervenants et coûts-j'!$C$17:$AF$47,21,FALSE),IF(D37=2025,VLOOKUP(F37,'Intervenants et coûts-j'!$C$17:$AF$47,22,FALSE),IF(D37=2026,VLOOKUP(F37,'Intervenants et coûts-j'!$C$17:$AF$47,23,FALSE),IF(D37=2027,VLOOKUP(F37,'Intervenants et coûts-j'!$C$17:$AF$47,24,FALSE))))))))","v":""},{"$f":"IF(F37=\"\",\"\",IF(D37=2022,VLOOKUP(F37,'Intervenants et coûts-j'!$C$17:$AF$47,25,FALSE),IF(D37=2023,VLOOKUP(F37,'Intervenants et coûts-j'!$C$17:$AF$47,26,FALSE),IF(D37=2024,VLOOKUP(F37,'Intervenants et coûts-j'!$C$17:$AF$47,27,FALSE),IF(D37=2025,VLOOKUP(F37,'Intervenants et coûts-j'!$C$17:$AF$47,28,FALSE),IF(D37=2026,VLOOKUP(F37,'Intervenants et coûts-j'!$C$17:$AF$47,29,FALSE),IF(D37=2027,VLOOKUP(F37,'Intervenants et coûts-j'!$C$17:$AF$47,30,FALSE))))))))","v":""},{"$f":"IF(AB37=\"\",\"\",AG37*AB37)","v":""},{"$f":"IF(AB37=\"\",\"\",VLOOKUP(Z37,'Coûts-indirects'!$A$4:$T$33,20,FALSE)*AB37)","v":""},{"$f":"IF(AA37=\"\",\"\",VLOOKUP(AA37,'Frais-mission'!$B$3:$F$32,5,FALSE)*AD37)","v":""},{"$f":"IF(AA37=\"\",\"\",VLOOKUP(AA37,'Frais-mission'!$B$3:$G$34,6,FALSE)*AE37)","v":""},{"$f":"IF(AH37=\"\",\"\",AH37*0.15)","v":""},{"$f":"IF(AC37=0,\"\",AG37*AC37*0.1)","v":""},{"$f":"IF(AK37=\"\",\"\",AH37+AI37+AJ37+AK37)","v":""},{"$f":"IF(AN37=\"\",\"\",MIN(AN37,AH37+MIN(AI37,AL37)+MIN(AJ37+AK37,AM37)))","v":""},null,null,null,{"$f":"\"ListeIntervenants\"&VLOOKUP(E37,'Intervenants et coûts-j'!$B$5:$C$14,2,FALSE)","v":{"$error":"#N/A"}},0,0]
[null,null,null,null,null,null,null,null,null,null,{"$f":"IF(F38=\"\",\"\",IF(D38=2022,VLOOKUP(F38,'Intervenants et coûts-j'!$C$17:$P$47,3,FALSE),IF(D38=2023,VLOOKUP(F38,'Intervenants et coûts-j'!$C$17:$P$47,4,FALSE),IF(D38=2024,VLOOKUP(F38,'Intervenants et coûts-j'!$C$17:$P$47,5,FALSE),IF(D38=2025,VLOOKUP(F38,'Intervenants et coûts-j'!$C$17:$P$47,6,FALSE),IF(D38=2026,VLOOKUP(F38,'Intervenants et coûts-j'!$C$17:$P$47,7,FALSE),IF(D38=2027,VLOOKUP(F38,'Intervenants et coûts-j'!$C$17:$P$47,8,FALSE))))))))","v":""},{"$f":"IF(F38=\"\",\"\",IF(D38=2022,VLOOKUP(F38,'Intervenants et coûts-j'!$C$17:$P$47,9,FALSE),IF(D38=2023,VLOOKUP(F38,'Intervenants et coûts-j'!$C$17:$P$47,10,FALSE),IF(D38=2024,VLOOKUP(F38,'Intervenants et coûts-j'!$C$17:$P$47,11,FALSE),IF(D38=2025,VLOOKUP(F38,'Intervenants et coûts-j'!$C$17:$P$47,12,FALSE),IF(D38=2026,VLOOKUP(F38,'Intervenants et coûts-j'!$C$17:$P$47,13,FALSE),IF(D38=2027,VLOOKUP(F38,'Intervenants et coûts-j'!$C$17:$P$47,14,FALSE))))))))","v":""},"",{"$f":"IF(G38=\"\",\"\",VLOOKUP(E38,'Coûts-indirects'!$A$4:$K$33,11,FALSE)*G38)","v":""},{"$f":"IF(F38=\"\",\"\",VLOOKUP(F38,'Frais-mission'!$B$3:$E$32,3,FALSE)*I38)","v":""},{"$f":"IF(F38=\"\",\"\",VLOOKUP(F38,'Frais-mission'!$B$3:$E$32,4,FALSE)*J38)","v":""},"","","","",null,null,null,null,"","","","",0,0,0,{"$f":"IF(F38=\"\",\"\",IF(D38=2022,VLOOKUP(F38,'Intervenants et coûts-j'!$C$17:$AF$47,19,FALSE),IF(D38=2023,VLOOKUP(F38,'Intervenants et coûts-j'!$C$17:$AF$47,20,FALSE),IF(D38=2024,VLOOKUP(F38,'Intervenants et coûts-j'!$C$17:$AF$47,21,FALSE),IF(D38=2025,VLOOKUP(F38,'Intervenants et coûts-j'!$C$17:$AF$47,22,FALSE),IF(D38=2026,VLOOKUP(F38,'Intervenants et coûts-j'!$C$17:$AF$47,23,FALSE),IF(D38=2027,VLOOKUP(F38,'Intervenants et coûts-j'!$C$17:$AF$47,24,FALSE))))))))","v":""},{"$f":"IF(F38=\"\",\"\",IF(D38=2022,VLOOKUP(F38,'Intervenants et coûts-j'!$C$17:$AF$47,25,FALSE),IF(D38=2023,VLOOKUP(F38,'Intervenants et coûts-j'!$C$17:$AF$47,26,FALSE),IF(D38=2024,VLOOKUP(F38,'Intervenants et coûts-j'!$C$17:$AF$47,27,FALSE),IF(D38=2025,VLOOKUP(F38,'Intervenants et coûts-j'!$C$17:$AF$47,28,FALSE),IF(D38=2026,VLOOKUP(F38,'Intervenants et coûts-j'!$C$17:$AF$47,29,FALSE),IF(D38=2027,VLOOKUP(F38,'Intervenants et coûts-j'!$C$17:$AF$47,30,FALSE))))))))","v":""},"",{"$f":"IF(AB38=\"\",\"\",VLOOKUP(Z38,'Coûts-indirects'!$A$4:$T$33,20,FALSE)*AB38)","v":""},{"$f":"IF(AA38=\"\",\"\",VLOOKUP(AA38,'Frais-mission'!$B$3:$F$32,5,FALSE)*AD38)","v":""},{"$f":"IF(AA38=\"\",\"\",VLOOKUP(AA38,'Frais-mission'!$B$3:$G$34,6,FALSE)*AE38)","v":""},"","","","",null,null,null,{"$f":"\"ListeIntervenants\"&VLOOKUP(E38,'Intervenants et coûts-j'!$B$5:$C$14,2,FALSE)","v":{"$error":"#N/A"}},0,0]
[null,null,"Réalisation par un prestataire :",null,null,null,null,null,null,null,null,null,null,null,null,null,null,null,0,{"$f":"S39","v":0},null,null,"","Réalisation par un prestataire :",null,"","","",null,null,null,null,null,null,null,null,null,null,null,{"$f":"IF(S39=\"\",0,S39)","v":0},{"$f":"AN39","v":0},null,null,null,{"$f":"\"ListeIntervenants\"&VLOOKUP(E39,'Intervenants et coûts-j'!$B$5:$C$14,2,FALSE)","v":{"$error":"#N/A"}},0,0]
[null,null,null,null,null,null,null,null,null,null,null,null,null,null,null,null,null,null,0,0,null,null,"",null,null,"","","",null,null,null,null,null,null,null,null,null,null,null,{"$f":"IF(S40=\"\",0,S40)","v":0},0,null,null,null,{"$f":"\"ListeIntervenants\"&VLOOKUP(E40,'Intervenants et coûts-j'!$B$5:$C$14,2,FALSE)","v":{"$error":"#N/A"}},0,0]
[null,null,null,null,null,null,null,null,null,null,null,null,null,null,null,null,null,null,0,0,null,null,"",null,null,"","","",null,null,null,null,null,null,null,null,null,null,null,{"$f":"IF(S41=\"\",0,S41)","v":0},0,null,null,null,{"$f":"\"ListeIntervenants\"&VLOOKUP(E41,'Intervenants et coûts-j'!$B$5:$C$14,2,FALSE)","v":{"$error":"#N/A"}},0,0]
["Diagnostics plafonnés à 1000€ :\nDiagnostic associé à un plan de gestion",null,"Réalisation par l'opérateur et/ou ses partenaires :",null,null,null,null,null,null,null,{"$f":"IF(F42=\"\",\"\",IF(D42=2022,VLOOKUP(F42,'Intervenants et coûts-j'!$C$17:$P$47,3,FALSE),IF(D42=2023,VLOOKUP(F42,'Intervenants et coûts-j'!$C$17:$P$47,4,FALSE),IF(D42=2024,VLOOKUP(F42,'Intervenants et coûts-j'!$C$17:$P$47,5,FALSE),IF(D42=2025,VLOOKUP(F42,'Intervenants et coûts-j'!$C$17:$P$47,6,FALSE),IF(D42=2026,VLOOKUP(F42,'Intervenants et coûts-j'!$C$17:$P$47,7,FALSE),IF(D42=2027,VLOOKUP(F42,'Intervenants et coûts-j'!$C$17:$P$47,8,FALSE))))))))","v":""},{"$f":"IF(F42=\"\",\"\",IF(D42=2022,VLOOKUP(F42,'Intervenants et coûts-j'!$C$17:$P$47,9,FALSE),IF(D42=2023,VLOOKUP(F42,'Intervenants et coûts-j'!$C$17:$P$47,10,FALSE),IF(D42=2024,VLOOKUP(F42,'Intervenants et coûts-j'!$C$17:$P$47,11,FALSE),IF(D42=2025,VLOOKUP(F42,'Intervenants et coûts-j'!$C$17:$P$47,12,FALSE),IF(D42=2026,VLOOKUP(F42,'Intervenants et coûts-j'!$C$17:$P$47,13,FALSE),IF(D42=2027,VLOOKUP(F42,'Intervenants et coûts-j'!$C$17:$P$47,14,FALSE))))))))","v":""},{"$f":"IF(G42=\"\",\"\",L42*G42)","v":""},{"$f":"IF(G42=\"\",\"\",VLOOKUP(E42,'Coûts-indirects'!$A$4:$K$33,11,FALSE)*G42)","v":""},{"$f":"IF(F42=\"\",\"\",VLOOKUP(F42,'Frais-mission'!$B$3:$E$32,3,FALSE)*I42)","v":""},{"$f":"IF(F42=\"\",\"\",VLOOKUP(F42,'Frais-mission'!$B$3:$E$32,4,FALSE)*J42)","v":""},{"$f":"IF(M42=\"\",\"\",M42*0.15)","v":""},{"$f":"IF(H42=\"\",\"\",L42*H42*0.1)","v":""},{"$f":"IF(P42=\"\",\"\",M42+N42+O42+P42)","v":""},{"$f":"IF(S42=\"\",\"\",MIN(S42,M42+MIN(N42,Q42)+MIN(O42+P42,R42)))","v":""},{"$f":"B42*1000","v":0},{"$f":"MIN(U42,SUM(T42:T59))","v":0},{"$f":"IF(B42=\"\",0,B42)","v":0},"Réalisation par l'opérateur et/ou ses partenaires :",{"$f":"IF(D42=\"\",\"\",D42)","v":""},"",{"$f":"IF(F42=\"\",\"\",F42)","v":""},"",{"$f":"IF(H42=\"\",0,H42)","v":0},{"$f":"IF(I42=\"\",0,I42)","v":0},{"$f":"IF(J42=\"\",0,J42)","v":0},{"$f":"IF(F42=\"\",\"\",IF(D42=2022,VLOOKUP(F42,'Intervenants et coûts-j'!$C$17:$AF$47,19,FALSE),IF(D42=2023,VLOOKUP(F42,'Intervenants et coûts-j'!$C$17:$AF$47,20,FALSE),IF(D42=2024,VLOOKUP(F42,'Intervenants et coûts-j'!$C$17:$AF$47,21,FALSE),IF(D42=2025,VLOOKUP(F42,'Intervenants et coûts-j'!$C$17:$AF$47,22,FALSE),IF(D42=2026,VLOOKUP(F42,'Intervenants et coûts-j'!$C$17:$AF$47,23,FALSE),IF(D42=2027,VLOOKUP(F42,'Intervenants et coûts-j'!$C$17:$AF$47,24,FALSE))))))))","v":""},{"$f":"IF(F42=\"\",\"\",IF(D42=2022,VLOOKUP(F42,'Intervenants et coûts-j'!$C$17:$AF$47,25,FALSE),IF(D42=2023,VLOOKUP(F42,'Intervenants et coûts-j'!$C$17:$AF$47,26,FALSE),IF(D42=2024,VLOOKUP(F42,'Intervenants et coûts-j'!$C$17:$AF$47,27,FALSE),IF(D42=2025,VLOOKUP(F42,'Intervenants et coûts-j'!$C$17:$AF$47,28,FALSE),IF(D42=2026,VLOOKUP(F42,'Intervenants et coûts-j'!$C$17:$AF$47,29,FALSE),IF(D42=2027,VLOOKUP(F42,'Intervenants et coûts-j'!$C$17:$AF$47,30,FALSE))))))))","v":""},{"$f":"IF(AB42=\"\",\"\",AG42*AB42)","v":""},{"$f":"IF(AB42=\"\",\"\",VLOOKUP(Z42,'Coûts-indirects'!$A$4:$T$33,20,FALSE)*AB42)","v":""},{"$f":"IF(AA42=\"\",\"\",VLOOKUP(AA42,'Frais-mission'!$B$3:$F$32,5,FALSE)*AD42)","v":""},{"$f":"IF(AA42=\"\",\"\",VLOOKUP(AA42,'Frais-mission'!$B$3:$G$34,6,FALSE)*AE42)","v":""},{"$f":"IF(AH42=\"\",\"\",AH42*0.15)","v":""},{"$f":"IF(AC42=0,\"\",AG42*AC42*0.1)","v":""},{"$f":"IF(AK42=\"\",\"\",AH42+AI42+AJ42+AK42)","v":""},{"$f":"IF(AN42=\"\",\"\",MIN(AN42,AH42+MIN(AI42,AL42)+MIN(AJ42+AK42,AM42)))","v":""},{"$f":"W42*1000","v":0},{"$f":"MIN(AP42,SUM(AO42:AO59))","v":0},null,{"$f":"\"ListeIntervenants\"&VLOOKUP(E42,'Intervenants et coûts-j'!$B$5:$C$14,2,FALSE)","v":{"$error":"#N/A"}},{"$f":"IF(SUM($T$42:$T$59)=0,0,(T42*$V$42/SUM($T$42:$T$59)))","v":0},{"$f":"IF(SUM($AO$42:$AO$59)=0,0,(AO42*$AQ$42/SUM($AO$42:$AO$59)))","v":0}]
[null,null,null,null,null,null,null,null,null,null,{"$f":"IF(F43=\"\",\"\",IF(D43=2022,VLOOKUP(F43,'Intervenants et coûts-j'!$C$17:$P$47,3,FALSE),IF(D43=2023,VLOOKUP(F43,'Intervenants et coûts-j'!$C$17:$P$47,4,FALSE),IF(D43=2024,VLOOKUP(F43,'Intervenants et coûts-j'!$C$17:$P$47,5,FALSE),IF(D43=2025,VLOOKUP(F43,'Intervenants et coûts-j'!$C$17:$P$47,6,FALSE),IF(D43=2026,VLOOKUP(F43,'Intervenants et coûts-j'!$C$17:$P$47,7,FALSE),IF(D43=2027,VLOOKUP(F43,'Intervenants et coûts-j'!$C$17:$P$47,8,FALSE))))))))","v":""},{"$f":"IF(F43=\"\",\"\",IF(D43=2022,VLOOKUP(F43,'Intervenants et coûts-j'!$C$17:$P$47,9,FALSE),IF(D43=2023,VLOOKUP(F43,'Intervenants et coûts-j'!$C$17:$P$47,10,FALSE),IF(D43=2024,VLOOKUP(F43,'Intervenants et coûts-j'!$C$17:$P$47,11,FALSE),IF(D43=2025,VLOOKUP(F43,'Intervenants et coûts-j'!$C$17:$P$47,12,FALSE),IF(D43=2026,VLOOKUP(F43,'Intervenants et coûts-j'!$C$17:$P$47,13,FALSE),IF(D43=2027,VLOOKUP(F43,'Intervenants et coûts-j'!$C$17:$P$47,14,FALSE))))))))","v":""},"",{"$f":"IF(G43=\"\",\"\",VLOOKUP(E43,'Coûts-indirects'!$A$4:$K$33,11,FALSE)*G43)","v":""},{"$f":"IF(F43=\"\",\"\",VLOOKUP(F43,'Frais-mission'!$B$3:$E$32,3,FALSE)*I43)","v":""},{"$f":"IF(F43=\"\",\"\",VLOOKUP(F43,'Frais-mission'!$B$3:$E$32,4,FALSE)*J43)","v":""},"","","","",null,null,{"$f":"IF(B43=\"\",\"\",B43)","v":""},null,"","",{"$f":"IF(F43=\"\",\"\",F43)","v":""},"",0,0,0,{"$f":"IF(F43=\"\",\"\",IF(D43=2022,VLOOKUP(F43,'Intervenants et coûts-j'!$C$17:$AF$47,19,FALSE),IF(D43=2023,VLOOKUP(F43,'Intervenants et coûts-j'!$C$17:$AF$47,20,FALSE),IF(D43=2024,VLOOKUP(F43,'Intervenants et coûts-j'!$C$17:$AF$47,21,FALSE),IF(D43=2025,VLOOKUP(F43,'Intervenants et coûts-j'!$C$17:$AF$47,22,FALSE),IF(D43=2026,VLOOKUP(F43,'Intervenants et coûts-j'!$C$17:$AF$47,23,FALSE),IF(D43=2027,VLOOKUP(F43,'Intervenants et coûts-j'!$C$17:$AF$47,24,FALSE))))))))","v":""},{"$f":"IF(F43=\"\",\"\",IF(D43=2022,VLOOKUP(F43,'Intervenants et coûts-j'!$C$17:$AF$47,25,FALSE),IF(D43=2023,VLOOKUP(F43,'Intervenants et coûts-j'!$C$17:$AF$47,26,FALSE),IF(D43=2024,VLOOKUP(F43,'Intervenants et coûts-j'!$C$17:$AF$47,27,FALSE),IF(D43=2025,VLOOKUP(F43,'Intervenants et coûts-j'!$C$17:$AF$47,28,FALSE),IF(D43=2026,VLOOKUP(F43,'Intervenants et coûts-j'!$C$17:$AF$47,29,FALSE),IF(D43=2027,VLOOKUP(F43,'Intervenants et coûts-j'!$C$17:$AF$47,30,FALSE))))))))","v":""},"",{"$f":"IF(AB43=\"\",\"\",VLOOKUP(Z43,'Coûts-indirects'!$A$4:$T$33,20,FALSE)*AB43)","v":""},{"$f":"IF(AA43=\"\",\"\",VLOOKUP(AA43,'Frais-mission'!$B$3:$F$32,5,FALSE)*AD43)","v":""},{"$f":"IF(AA43=\"\",\"\",VLOOKUP(AA43,'Frais-mission'!$B$3:$G$34,6,FALSE)*AE43)","v":""},"",{"$f":"IF(AC43=0,\"\",AG43*AC43*0.1)","v":""},"","",null,null,null,{"$f":"\"ListeIntervenants\"&VLOOKUP(E43,'Intervenants et coûts-j'!$B$5:$C$14,2,FALSE)","v":{"$error":"#N/A"}},0,0]
[null,null,null,null,null,null,null,null,null,null,{"$f":"IF(F44=\"\",\"\",IF(D44=2022,VLOOKUP(F44,'Intervenants et coûts-j'!$C$17:$P$47,3,FALSE),IF(D44=2023,VLOOKUP(F44,'Intervenants et coûts-j'!$C$17:$P$47,4,FALSE),IF(D44=2024,VLOOKUP(F44,'Intervenants et coûts-j'!$C$17:$P$47,5,FALSE),IF(D44=2025,VLOOKUP(F44,'Intervenants et coûts-j'!$C$17:$P$47,6,FALSE),IF(D44=2026,VLOOKUP(F44,'Intervenants et coûts-j'!$C$17:$P$47,7,FALSE),IF(D44=2027,VLOOKUP(F44,'Intervenants et coûts-j'!$C$17:$P$47,8,FALSE))))))))","v":""},{"$f":"IF(F44=\"\",\"\",IF(D44=2022,VLOOKUP(F44,'Intervenants et coûts-j'!$C$17:$P$47,9,FALSE),IF(D44=2023,VLOOKUP(F44,'Intervenants et coûts-j'!$C$17:$P$47,10,FALSE),IF(D44=2024,VLOOKUP(F44,'Intervenants et coûts-j'!$C$17:$P$47,11,FALSE),IF(D44=2025,VLOOKUP(F44,'Intervenants et coûts-j'!$C$17:$P$47,12,FALSE),IF(D44=2026,VLOOKUP(F44,'Intervenants et coûts-j'!$C$17:$P$47,13,FALSE),IF(D44=2027,VLOOKUP(F44,'Intervenants et coûts-j'!$C$17:$P$47,14,FALSE))))))))","v":""},"",{"$f":"IF(G44=\"\",\"\",VLOOKUP(E44,'Coûts-indirects'!$A$4:$K$33,11,FALSE)*G44)","v":""},{"$f":"IF(F44=\"\",\"\",VLOOKUP(F44,'Frais-mission'!$B$3:$E$32,3,FALSE)*I44)","v":""},{"$f":"IF(F44=\"\",\"\",VLOOKUP(F44,'Frais-mission'!$B$3:$E$32,4,FALSE)*J44)","v":""},"","","","",null,null,"",null,"","","","",0,0,0,{"$f":"IF(F44=\"\",\"\",IF(D44=2022,VLOOKUP(F44,'Intervenants et coûts-j'!$C$17:$AF$47,19,FALSE),IF(D44=2023,VLOOKUP(F44,'Intervenants et coûts-j'!$C$17:$AF$47,20,FALSE),IF(D44=2024,VLOOKUP(F44,'Intervenants et coûts-j'!$C$17:$AF$47,21,FALSE),IF(D44=2025,VLOOKUP(F44,'Intervenants et coûts-j'!$C$17:$AF$47,22,FALSE),IF(D44=2026,VLOOKUP(F44,'Intervenants et coûts-j'!$C$17:$AF$47,23,FALSE),IF(D44=2027,VLOOKUP(F44,'Intervenants et coûts-j'!$C$17:$AF$47,24,FALSE))))))))","v":""},{"$f":"IF(F44=\"\",\"\",IF(D44=2022,VLOOKUP(F44,'Intervenants et coûts-j'!$C$17:$AF$47,25,FALSE),IF(D44=2023,VLOOKUP(F44,'Intervenants et coûts-j'!$C$17:$AF$47,26,FALSE),IF(D44=2024,VLOOKUP(F44,'Intervenants et coûts-j'!$C$17:$AF$47,27,FALSE),IF(D44=2025,VLOOKUP(F44,'Intervenants et coûts-j'!$C$17:$AF$47,28,FALSE),IF(D44=2026,VLOOKUP(F44,'Intervenants et coûts-j'!$C$17:$AF$47,29,FALSE),IF(D44=2027,VLOOKUP(F44,'Intervenants et coûts-j'!$C$17:$AF$47,30,FALSE))))))))","v":""},"",{"$f":"IF(AB44=\"\",\"\",VLOOKUP(Z44,'Coûts-indirects'!$A$4:$T$33,20,FALSE)*AB44)","v":""},{"$f":"IF(AA44=\"\",\"\",VLOOKUP(AA44,'Frais-mission'!$B$3:$F$32,5,FALSE)*AD44)","v":""},{"$f":"IF(AA44=\"\",\"\",VLOOKUP(AA44,'Frais-mission'!$B$3:$G$34,6,FALSE)*AE44)","v":""},"","","","",null,null,null,{"$f":"\"ListeIntervenants\"&VLOOKUP(E44,'Intervenants et coûts-j'!$B$5:$C$14,2,FALSE)","v":{"$error":"#N/A"}},0,0]
[null,null,null,null,null,null,null,null,null,null,{"$f":"IF(F45=\"\",\"\",IF(D45=2022,VLOOKUP(F45,'Intervenants et coûts-j'!$C$17:$P$47,3,FALSE),IF(D45=2023,VLOOKUP(F45,'Intervenants et coûts-j'!$C$17:$P$47,4,FALSE),IF(D45=2024,VLOOKUP(F45,'Intervenants et coûts-j'!$C$17:$P$47,5,FALSE),IF(D45=2025,VLOOKUP(F45,'Intervenants et coûts-j'!$C$17:$P$47,6,FALSE),IF(D45=2026,VLOOKUP(F45,'Intervenants et coûts-j'!$C$17:$P$47,7,FALSE),IF(D45=2027,VLOOKUP(F45,'Intervenants et coûts-j'!$C$17:$P$47,8,FALSE))))))))","v":""},{"$f":"IF(F45=\"\",\"\",IF(D45=2022,VLOOKUP(F45,'Intervenants et coûts-j'!$C$17:$P$47,9,FALSE),IF(D45=2023,VLOOKUP(F45,'Intervenants et coûts-j'!$C$17:$P$47,10,FALSE),IF(D45=2024,VLOOKUP(F45,'Intervenants et coûts-j'!$C$17:$P$47,11,FALSE),IF(D45=2025,VLOOKUP(F45,'Intervenants et coûts-j'!$C$17:$P$47,12,FALSE),IF(D45=2026,VLOOKUP(F45,'Intervenants et coûts-j'!$C$17:$P$47,13,FALSE),IF(D45=2027,VLOOKUP(F45,'Intervenants et coûts-j'!$C$17:$P$47,14,FALSE))))))))","v":""},"",{"$f":"IF(G45=\"\",\"\",VLOOKUP(E45,'Coûts-indirects'!$A$4:$K$33,11,FALSE)*G45)","v":""},{"$f":"IF(F45=\"\",\"\",VLOOKUP(F45,'Frais-mission'!$B$3:$E$32,3,FALSE)*I45)","v":""},{"$f":"IF(F45=\"\",\"\",VLOOKUP(F45,'Frais-mission'!$B$3:$E$32,4,FALSE)*J45)","v":""},"","","","",null,null,"",null,"","","","",0,0,0,{"$f":"IF(F45=\"\",\"\",IF(D45=2022,VLOOKUP(F45,'Intervenants et coûts-j'!$C$17:$AF$47,19,FALSE),IF(D45=2023,VLOOKUP(F45,'Intervenants et coûts-j'!$C$17:$AF$47,20,FALSE),IF(D45=2024,VLOOKUP(F45,'Intervenants et coûts-j'!$C$17:$AF$47,21,FALSE),IF(D45=2025,VLOOKUP(F45,'Intervenants et coûts-j'!$C$17:$AF$47,22,FALSE),IF(D45=2026,VLOOKUP(F45,'Intervenants et coûts-j'!$C$17:$AF$47,23,FALSE),IF(D45=2027,VLOOKUP(F45,'Intervenants et coûts-j'!$C$17:$AF$47,24,FALSE))))))))","v":""},{"$f":"IF(F45=\"\",\"\",IF(D45=2022,VLOOKUP(F45,'Intervenants et coûts-j'!$C$17:$AF$47,25,FALSE),IF(D45=2023,VLOOKUP(F45,'Intervenants et coûts-j'!$C$17:$AF$47,26,FALSE),IF(D45=2024,VLOOKUP(F45,'Intervenants et coûts-j'!$C$17:$AF$47,27,FALSE),IF(D45=2025,VLOOKUP(F45,'Intervenants et coûts-j'!$C$17:$AF$47,28,FALSE),IF(D45=2026,VLOOKUP(F45,'Intervenants et coûts-j'!$C$17:$AF$47,29,FALSE),IF(D45=2027,VLOOKUP(F45,'Intervenants et coûts-j'!$C$17:$AF$47,30,FALSE))))))))","v":""},"",{"$f":"IF(AB45=\"\",\"\",VLOOKUP(Z45,'Coûts-indirects'!$A$4:$T$33,20,FALSE)*AB45)","v":""},{"$f":"IF(AA45=\"\",\"\",VLOOKUP(AA45,'Frais-mission'!$B$3:$F$32,5,FALSE)*AD45)","v":""},{"$f":"IF(AA45=\"\",\"\",VLOOKUP(AA45,'Frais-mission'!$B$3:$G$34,6,FALSE)*AE45)","v":""},"","","","",null,null,null,{"$f":"\"ListeIntervenants\"&VLOOKUP(E45,'Intervenants et coûts-j'!$B$5:$C$14,2,FALSE)","v":{"$error":"#N/A"}},0,0]
[null,null,null,null,null,null,null,null,null,null,{"$f":"IF(F46=\"\",\"\",IF(D46=2022,VLOOKUP(F46,'Intervenants et coûts-j'!$C$17:$P$47,3,FALSE),IF(D46=2023,VLOOKUP(F46,'Intervenants et coûts-j'!$C$17:$P$47,4,FALSE),IF(D46=2024,VLOOKUP(F46,'Intervenants et coûts-j'!$C$17:$P$47,5,FALSE),IF(D46=2025,VLOOKUP(F46,'Intervenants et coûts-j'!$C$17:$P$47,6,FALSE),IF(D46=2026,VLOOKUP(F46,'Intervenants et coûts-j'!$C$17:$P$47,7,FALSE),IF(D46=2027,VLOOKUP(F46,'Intervenants et coûts-j'!$C$17:$P$47,8,FALSE))))))))","v":""},{"$f":"IF(F46=\"\",\"\",IF(D46=2022,VLOOKUP(F46,'Intervenants et coûts-j'!$C$17:$P$47,9,FALSE),IF(D46=2023,VLOOKUP(F46,'Intervenants et coûts-j'!$C$17:$P$47,10,FALSE),IF(D46=2024,VLOOKUP(F46,'Intervenants et coûts-j'!$C$17:$P$47,11,FALSE),IF(D46=2025,VLOOKUP(F46,'Intervenants et coûts-j'!$C$17:$P$47,12,FALSE),IF(D46=2026,VLOOKUP(F46,'Intervenants et coûts-j'!$C$17:$P$47,13,FALSE),IF(D46=2027,VLOOKUP(F46,'Intervenants et coûts-j'!$C$17:$P$47,14,FALSE))))))))","v":""},"",{"$f":"IF(G46=\"\",\"\",VLOOKUP(E46,'Coûts-indirects'!$A$4:$K$33,11,FALSE)*G46)","v":""},{"$f":"IF(F46=\"\",\"\",VLOOKUP(F46,'Frais-mission'!$B$3:$E$32,3,FALSE)*I46)","v":""},{"$f":"IF(F46=\"\",\"\",VLOOKUP(F46,'Frais-mission'!$B$3:$E$32,4,FALSE)*J46)","v":""},"","","","",null,null,"",null,"","","","",0,0,0,{"$f":"IF(F46=\"\",\"\",IF(D46=2022,VLOOKUP(F46,'Intervenants et coûts-j'!$C$17:$AF$47,19,FALSE),IF(D46=2023,VLOOKUP(F46,'Intervenants et coûts-j'!$C$17:$AF$47,20,FALSE),IF(D46=2024,VLOOKUP(F46,'Intervenants et coûts-j'!$C$17:$AF$47,21,FALSE),IF(D46=2025,VLOOKUP(F46,'Intervenants et coûts-j'!$C$17:$AF$47,22,FALSE),IF(D46=2026,VLOOKUP(F46,'Intervenants et coûts-j'!$C$17:$AF$47,23,FALSE),IF(D46=2027,VLOOKUP(F46,'Intervenants et coûts-j'!$C$17:$AF$47,24,FALSE))))))))","v":""},{"$f":"IF(F46=\"\",\"\",IF(D46=2022,VLOOKUP(F46,'Intervenants et coûts-j'!$C$17:$AF$47,25,FALSE),IF(D46=2023,VLOOKUP(F46,'Intervenants et coûts-j'!$C$17:$AF$47,26,FALSE),IF(D46=2024,VLOOKUP(F46,'Intervenants et coûts-j'!$C$17:$AF$47,27,FALSE),IF(D46=2025,VLOOKUP(F46,'Intervenants et coûts-j'!$C$17:$AF$47,28,FALSE),IF(D46=2026,VLOOKUP(F46,'Intervenants et coûts-j'!$C$17:$AF$47,29,FALSE),IF(D46=2027,VLOOKUP(F46,'Intervenants et coûts-j'!$C$17:$AF$47,30,FALSE))))))))","v":""},"",{"$f":"IF(AB46=\"\",\"\",VLOOKUP(Z46,'Coûts-indirects'!$A$4:$T$33,20,FALSE)*AB46)","v":""},{"$f":"IF(AA46=\"\",\"\",VLOOKUP(AA46,'Frais-mission'!$B$3:$F$32,5,FALSE)*AD46)","v":""},{"$f":"IF(AA46=\"\",\"\",VLOOKUP(AA46,'Frais-mission'!$B$3:$G$34,6,FALSE)*AE46)","v":""},"","","","",null,null,null,{"$f":"\"ListeIntervenants\"&VLOOKUP(E46,'Intervenants et coûts-j'!$B$5:$C$14,2,FALSE)","v":{"$error":"#N/A"}},0,0]
[null,null,null,null,null,null,null,null,null,null,{"$f":"IF(F47=\"\",\"\",IF(D47=2022,VLOOKUP(F47,'Intervenants et coûts-j'!$C$17:$P$47,3,FALSE),IF(D47=2023,VLOOKUP(F47,'Intervenants et coûts-j'!$C$17:$P$47,4,FALSE),IF(D47=2024,VLOOKUP(F47,'Intervenants et coûts-j'!$C$17:$P$47,5,FALSE),IF(D47=2025,VLOOKUP(F47,'Intervenants et coûts-j'!$C$17:$P$47,6,FALSE),IF(D47=2026,VLOOKUP(F47,'Intervenants et coûts-j'!$C$17:$P$47,7,FALSE),IF(D47=2027,VLOOKUP(F47,'Intervenants et coûts-j'!$C$17:$P$47,8,FALSE))))))))","v":""},{"$f":"IF(F47=\"\",\"\",IF(D47=2022,VLOOKUP(F47,'Intervenants et coûts-j'!$C$17:$P$47,9,FALSE),IF(D47=2023,VLOOKUP(F47,'Intervenants et coûts-j'!$C$17:$P$47,10,FALSE),IF(D47=2024,VLOOKUP(F47,'Intervenants et coûts-j'!$C$17:$P$47,11,FALSE),IF(D47=2025,VLOOKUP(F47,'Intervenants et coûts-j'!$C$17:$P$47,12,FALSE),IF(D47=2026,VLOOKUP(F47,'Intervenants et coûts-j'!$C$17:$P$47,13,FALSE),IF(D47=2027,VLOOKUP(F47,'Intervenants et coûts-j'!$C$17:$P$47,14,FALSE))))))))","v":""},{"$f":"IF(G47=\"\",\"\",L47*G47)","v":""},{"$f":"IF(G47=\"\",\"\",VLOOKUP(E47,'Coûts-indirects'!$A$4:$K$33,11,FALSE)*G47)","v":""},{"$f":"IF(F47=\"\",\"\",VLOOKUP(F47,'Frais-mission'!$B$3:$E$32,3,FALSE)*I47)","v":""},{"$f":"IF(F47=\"\",\"\",VLOOKUP(F47,'Frais-mission'!$B$3:$E$32,4,FALSE)*J47)","v":""},{"$f":"IF(M47=\"\",\"\",M47*0.15)","v":""},{"$f":"IF(H47=\"\",\"\",L47*H47*0.1)","v":""},{"$f":"IF(P47=\"\",\"\",M47+N47+O47+P47)","v":""},{"$f":"IF(S47=\"\",\"\",MIN(S47,M47+MIN(N47,Q47)+MIN(O47+P47,R47)))","v":""},null,null,null,null,"","","",{"$f":"IF(G47=\"\",\"\",G47)","v":""},0,0,0,{"$f":"IF(F47=\"\",\"\",IF(D47=2022,VLOOKUP(F47,'Intervenants et coûts-j'!$C$17:$AF$47,19,FALSE),IF(D47=2023,VLOOKUP(F47,'Intervenants et coûts-j'!$C$17:$AF$47,20,FALSE),IF(D47=2024,VLOOKUP(F47,'Intervenants et coûts-j'!$C$17:$AF$47,21,FALSE),IF(D47=2025,VLOOKUP(F47,'Intervenants et coûts-j'!$C$17:$AF$47,22,FALSE),IF(D47=2026,VLOOKUP(F47,'Intervenants et coûts-j'!$C$17:$AF$47,23,FALSE),IF(D47=2027,VLOOKUP(F47,'Intervenants et coûts-j'!$C$17:$AF$47,24,FALSE))))))))","v":""},{"$f":"IF(F47=\"\",\"\",IF(D47=2022,VLOOKUP(F47,'Intervenants et coûts-j'!$C$17:$AF$47,25,FALSE),IF(D47=2023,VLOOKUP(F47,'Intervenants et coûts-j'!$C$17:$AF$47,26,FALSE),IF(D47=2024,VLOOKUP(F47,'Intervenants et coûts-j'!$C$17:$AF$47,27,FALSE),IF(D47=2025,VLOOKUP(F47,'Intervenants et coûts-j'!$C$17:$AF$47,28,FALSE),IF(D47=2026,VLOOKUP(F47,'Intervenants et coûts-j'!$C$17:$AF$47,29,FALSE),IF(D47=2027,VLOOKUP(F47,'Intervenants et coûts-j'!$C$17:$AF$47,30,FALSE))))))))","v":""},"",{"$f":"IF(AB47=\"\",\"\",VLOOKUP(Z47,'Coûts-indirects'!$A$4:$T$33,20,FALSE)*AB47)","v":""},{"$f":"IF(AA47=\"\",\"\",VLOOKUP(AA47,'Frais-mission'!$B$3:$F$32,5,FALSE)*AD47)","v":""},{"$f":"IF(AA47=\"\",\"\",VLOOKUP(AA47,'Frais-mission'!$B$3:$G$34,6,FALSE)*AE47)","v":""},"","","","",null,null,null,{"$f":"\"ListeIntervenants\"&VLOOKUP(E47,'Intervenants et coûts-j'!$B$5:$C$14,2,FALSE)","v":{"$error":"#N/A"}},0,0]
[null,null,null,null,null,null,null,null,null,null,{"$f":"IF(F48=\"\",\"\",IF(D48=2022,VLOOKUP(F48,'Intervenants et coûts-j'!$C$17:$P$47,3,FALSE),IF(D48=2023,VLOOKUP(F48,'Intervenants et coûts-j'!$C$17:$P$47,4,FALSE),IF(D48=2024,VLOOKUP(F48,'Intervenants et coûts-j'!$C$17:$P$47,5,FALSE),IF(D48=2025,VLOOKUP(F48,'Intervenants et coûts-j'!$C$17:$P$47,6,FALSE),IF(D48=2026,VLOOKUP(F48,'Intervenants et coûts-j'!$C$17:$P$47,7,FALSE),IF(D48=2027,VLOOKUP(F48,'Intervenants et coûts-j'!$C$17:$P$47,8,FALSE))))))))","v":""},{"$f":"IF(F48=\"\",\"\",IF(D48=2022,VLOOKUP(F48,'Intervenants et coûts-j'!$C$17:$P$47,9,FALSE),IF(D48=2023,VLOOKUP(F48,'Intervenants et coûts-j'!$C$17:$P$47,10,FALSE),IF(D48=2024,VLOOKUP(F48,'Intervenants et coûts-j'!$C$17:$P$47,11,FALSE),IF(D48=2025,VLOOKUP(F48,'Intervenants et coûts-j'!$C$17:$P$47,12,FALSE),IF(D48=2026,VLOOKUP(F48,'Intervenants et coûts-j'!$C$17:$P$47,13,FALSE),IF(D48=2027,VLOOKUP(F48,'Intervenants et coûts-j'!$C$17:$P$47,14,FALSE))))))))","v":""},"",{"$f":"IF(G48=\"\",\"\",VLOOKUP(E48,'Coûts-indirects'!$A$4:$K$33,11,FALSE)*G48)","v":""},{"$f":"IF(F48=\"\",\"\",VLOOKUP(F48,'Frais-mission'!$B$3:$E$32,3,FALSE)*I48)","v":""},{"$f":"IF(F48=\"\",\"\",VLOOKUP(F48,'Frais-mission'!$B$3:$E$32,4,FALSE)*J48)","v":""},"","","","",null,null,null,null,"","","","",0,0,0,{"$f":"IF(F48=\"\",\"\",IF(D48=2022,VLOOKUP(F48,'Intervenants et coûts-j'!$C$17:$AF$47,19,FALSE),IF(D48=2023,VLOOKUP(F48,'Intervenants et coûts-j'!$C$17:$AF$47,20,FALSE),IF(D48=2024,VLOOKUP(F48,'Intervenants et coûts-j'!$C$17:$AF$47,21,FALSE),IF(D48=2025,VLOOKUP(F48,'Intervenants et coûts-j'!$C$17:$AF$47,22,FALSE),IF(D48=2026,VLOOKUP(F48,'Intervenants et coûts-j'!$C$17:$AF$47,23,FALSE),IF(D48=2027,VLOOKUP(F48,'Intervenants et coûts-j'!$C$17:$AF$47,24,FALSE))))))))","v":""},{"$f":"IF(F48=\"\",\"\",IF(D48=2022,VLOOKUP(F48,'Intervenants et coûts-j'!$C$17:$AF$47,25,FALSE),IF(D48=2023,VLOOKUP(F48,'Intervenants et coûts-j'!$C$17:$AF$47,26,FALSE),IF(D48=2024,VLOOKUP(F48,'Intervenants et coûts-j'!$C$17:$AF$47,27,FALSE),IF(D48=2025,VLOOKUP(F48,'Intervenants et coûts-j'!$C$17:$AF$47,28,FALSE),IF(D48=2026,VLOOKUP(F48,'Intervenants et coûts-j'!$C$17:$AF$47,29,FALSE),IF(D48=2027,VLOOKUP(F48,'Intervenants et coûts-j'!$C$17:$AF$47,30,FALSE))))))))","v":""},"",{"$f":"IF(AB48=\"\",\"\",VLOOKUP(Z48,'Coûts-indirects'!$A$4:$T$33,20,FALSE)*AB48)","v":""},{"$f":"IF(AA48=\"\",\"\",VLOOKUP(AA48,'Frais-mission'!$B$3:$F$32,5,FALSE)*AD48)","v":""},{"$f":"IF(AA48=\"\",\"\",VLOOKUP(AA48,'Frais-mission'!$B$3:$G$34,6,FALSE)*AE48)","v":""},"","","","",null,null,null,{"$f":"\"ListeIntervenants\"&VLOOKUP(E48,'Intervenants et coûts-j'!$B$5:$C$14,2,FALSE)","v":{"$error":"#N/A"}},0,0]
[null,null,null,null,null,null,null,null,null,null,{"$f":"IF(F49=\"\",\"\",IF(D49=2022,VLOOKUP(F49,'Intervenants et coûts-j'!$C$17:$P$47,3,FALSE),IF(D49=2023,VLOOKUP(F49,'Intervenants et coûts-j'!$C$17:$P$47,4,FALSE),IF(D49=2024,VLOOKUP(F49,'Intervenants et coûts-j'!$C$17:$P$47,5,FALSE),IF(D49=2025,VLOOKUP(F49,'Intervenants et coûts-j'!$C$17:$P$47,6,FALSE),IF(D49=2026,VLOOKUP(F49,'Intervenants et coûts-j'!$C$17:$P$47,7,FALSE),IF(D49=2027,VLOOKUP(F49,'Intervenants et coûts-j'!$C$17:$P$47,8,FALSE))))))))","v":""},{"$f":"IF(F49=\"\",\"\",IF(D49=2022,VLOOKUP(F49,'Intervenants et coûts-j'!$C$17:$P$47,9,FALSE),IF(D49=2023,VLOOKUP(F49,'Intervenants et coûts-j'!$C$17:$P$47,10,FALSE),IF(D49=2024,VLOOKUP(F49,'Intervenants et coûts-j'!$C$17:$P$47,11,FALSE),IF(D49=2025,VLOOKUP(F49,'Intervenants et coûts-j'!$C$17:$P$47,12,FALSE),IF(D49=2026,VLOOKUP(F49,'Intervenants et coûts-j'!$C$17:$P$47,13,FALSE),IF(D49=2027,VLOOKUP(F49,'Intervenants et coûts-j'!$C$17:$P$47,14,FALSE))))))))","v":""},"",{"$f":"IF(G49=\"\",\"\",VLOOKUP(E49,'Coûts-indirects'!$A$4:$K$33,11,FALSE)*G49)","v":""},{"$f":"IF(F49=\"\",\"\",VLOOKUP(F49,'Frais-mission'!$B$3:$E$32,3,FALSE)*I49)","v":""},{"$f":"IF(F49=\"\",\"\",VLOOKUP(F49,'Frais-mission'!$B$3:$E$32,4,FALSE)*J49)","v":""},"","","","",null,null,null,null,"","","","",0,0,0,{"$f":"IF(F49=\"\",\"\",IF(D49=2022,VLOOKUP(F49,'Intervenants et coûts-j'!$C$17:$AF$47,19,FALSE),IF(D49=2023,VLOOKUP(F49,'Intervenants et coûts-j'!$C$17:$AF$47,20,FALSE),IF(D49=2024,VLOOKUP(F49,'Intervenants et coûts-j'!$C$17:$AF$47,21,FALSE),IF(D49=2025,VLOOKUP(F49,'Intervenants et coûts-j'!$C$17:$AF$47,22,FALSE),IF(D49=2026,VLOOKUP(F49,'Intervenants et coûts-j'!$C$17:$AF$47,23,FALSE),IF(D49=2027,VLOOKUP(F49,'Intervenants et coûts-j'!$C$17:$AF$47,24,FALSE))))))))","v":""},{"$f":"IF(F49=\"\",\"\",IF(D49=2022,VLOOKUP(F49,'Intervenants et coûts-j'!$C$17:$AF$47,25,FALSE),IF(D49=2023,VLOOKUP(F49,'Intervenants et coûts-j'!$C$17:$AF$47,26,FALSE),IF(D49=2024,VLOOKUP(F49,'Intervenants et coûts-j'!$C$17:$AF$47,27,FALSE),IF(D49=2025,VLOOKUP(F49,'Intervenants et coûts-j'!$C$17:$AF$47,28,FALSE),IF(D49=2026,VLOOKUP(F49,'Intervenants et coûts-j'!$C$17:$AF$47,29,FALSE),IF(D49=2027,VLOOKUP(F49,'Intervenants et coûts-j'!$C$17:$AF$47,30,FALSE))))))))","v":""},"",{"$f":"IF(AB49=\"\",\"\",VLOOKUP(Z49,'Coûts-indirects'!$A$4:$T$33,20,FALSE)*AB49)","v":""},{"$f":"IF(AA49=\"\",\"\",VLOOKUP(AA49,'Frais-mission'!$B$3:$F$32,5,FALSE)*AD49)","v":""},{"$f":"IF(AA49=\"\",\"\",VLOOKUP(AA49,'Frais-mission'!$B$3:$G$34,6,FALSE)*AE49)","v":""},"","","","",null,null,null,{"$f":"\"ListeIntervenants\"&VLOOKUP(E49,'Intervenants et coûts-j'!$B$5:$C$14,2,FALSE)","v":{"$error":"#N/A"}},0,0]
[null,null,null,null,null,null,null,null,null,null,{"$f":"IF(F50=\"\",\"\",IF(D50=2022,VLOOKUP(F50,'Intervenants et coûts-j'!$C$17:$P$47,3,FALSE),IF(D50=2023,VLOOKUP(F50,'Intervenants et coûts-j'!$C$17:$P$47,4,FALSE),IF(D50=2024,VLOOKUP(F50,'Intervenants et coûts-j'!$C$17:$P$47,5,FALSE),IF(D50=2025,VLOOKUP(F50,'Intervenants et coûts-j'!$C$17:$P$47,6,FALSE),IF(D50=2026,VLOOKUP(F50,'Intervenants et coûts-j'!$C$17:$P$47,7,FALSE),IF(D50=2027,VLOOKUP(F50,'Intervenants et coûts-j'!$C$17:$P$47,8,FALSE))))))))","v":""},{"$f":"IF(F50=\"\",\"\",IF(D50=2022,VLOOKUP(F50,'Intervenants et coûts-j'!$C$17:$P$47,9,FALSE),IF(D50=2023,VLOOKUP(F50,'Intervenants et coûts-j'!$C$17:$P$47,10,FALSE),IF(D50=2024,VLOOKUP(F50,'Intervenants et coûts-j'!$C$17:$P$47,11,FALSE),IF(D50=2025,VLOOKUP(F50,'Intervenants et coûts-j'!$C$17:$P$47,12,FALSE),IF(D50=2026,VLOOKUP(F50,'Intervenants et coûts-j'!$C$17:$P$47,13,FALSE),IF(D50=2027,VLOOKUP(F50,'Intervenants et coûts-j'!$C$17:$P$47,14,FALSE))))))))","v":""},"",{"$f":"IF(G50=\"\",\"\",VLOOKUP(E50,'Coûts-indirects'!$A$4:$K$33,11,FALSE)*G50)","v":""},{"$f":"IF(F50=\"\",\"\",VLOOKUP(F50,'Frais-mission'!$B$3:$E$32,3,FALSE)*I50)","v":""},{"$f":"IF(F50=\"\",\"\",VLOOKUP(F50,'Frais-mission'!$B$3:$E$32,4,FALSE)*J50)","v":""},"","","","",null,null,null,null,"","","","",0,0,0,{"$f":"IF(F50=\"\",\"\",IF(D50=2022,VLOOKUP(F50,'Intervenants et coûts-j'!$C$17:$AF$47,19,FALSE),IF(D50=2023,VLOOKUP(F50,'Intervenants et coûts-j'!$C$17:$AF$47,20,FALSE),IF(D50=2024,VLOOKUP(F50,'Intervenants et coûts-j'!$C$17:$AF$47,21,FALSE),IF(D50=2025,VLOOKUP(F50,'Intervenants et coûts-j'!$C$17:$AF$47,22,FALSE),IF(D50=2026,VLOOKUP(F50,'Intervenants et coûts-j'!$C$17:$AF$47,23,FALSE),IF(D50=2027,VLOOKUP(F50,'Intervenants et coûts-j'!$C$17:$AF$47,24,FALSE))))))))","v":""},{"$f":"IF(F50=\"\",\"\",IF(D50=2022,VLOOKUP(F50,'Intervenants et coûts-j'!$C$17:$AF$47,25,FALSE),IF(D50=2023,VLOOKUP(F50,'Intervenants et coûts-j'!$C$17:$AF$47,26,FALSE),IF(D50=2024,VLOOKUP(F50,'Intervenants et coûts-j'!$C$17:$AF$47,27,FALSE),IF(D50=2025,VLOOKUP(F50,'Intervenants et coûts-j'!$C$17:$AF$47,28,FALSE),IF(D50=2026,VLOOKUP(F50,'Intervenants et coûts-j'!$C$17:$AF$47,29,FALSE),IF(D50=2027,VLOOKUP(F50,'Intervenants et coûts-j'!$C$17:$AF$47,30,FALSE))))))))","v":""},"",{"$f":"IF(AB50=\"\",\"\",VLOOKUP(Z50,'Coûts-indirects'!$A$4:$T$33,20,FALSE)*AB50)","v":""},{"$f":"IF(AA50=\"\",\"\",VLOOKUP(AA50,'Frais-mission'!$B$3:$F$32,5,FALSE)*AD50)","v":""},{"$f":"IF(AA50=\"\",\"\",VLOOKUP(AA50,'Frais-mission'!$B$3:$G$34,6,FALSE)*AE50)","v":""},"","","","",null,null,null,{"$f":"\"ListeIntervenants\"&VLOOKUP(E50,'Intervenants et coûts-j'!$B$5:$C$14,2,FALSE)","v":{"$error":"#N/A"}},0,0]
[null,null,null,null,null,null,null,null,null,null,{"$f":"IF(F51=\"\",\"\",IF(D51=2022,VLOOKUP(F51,'Intervenants et coûts-j'!$C$17:$P$47,3,FALSE),IF(D51=2023,VLOOKUP(F51,'Intervenants et coûts-j'!$C$17:$P$47,4,FALSE),IF(D51=2024,VLOOKUP(F51,'Intervenants et coûts-j'!$C$17:$P$47,5,FALSE),IF(D51=2025,VLOOKUP(F51,'Intervenants et coûts-j'!$C$17:$P$47,6,FALSE),IF(D51=2026,VLOOKUP(F51,'Intervenants et coûts-j'!$C$17:$P$47,7,FALSE),IF(D51=2027,VLOOKUP(F51,'Intervenants et coûts-j'!$C$17:$P$47,8,FALSE))))))))","v":""},{"$f":"IF(F51=\"\",\"\",IF(D51=2022,VLOOKUP(F51,'Intervenants et coûts-j'!$C$17:$P$47,9,FALSE),IF(D51=2023,VLOOKUP(F51,'Intervenants et coûts-j'!$C$17:$P$47,10,FALSE),IF(D51=2024,VLOOKUP(F51,'Intervenants et coûts-j'!$C$17:$P$47,11,FALSE),IF(D51=2025,VLOOKUP(F51,'Intervenants et coûts-j'!$C$17:$P$47,12,FALSE),IF(D51=2026,VLOOKUP(F51,'Intervenants et coûts-j'!$C$17:$P$47,13,FALSE),IF(D51=2027,VLOOKUP(F51,'Intervenants et coûts-j'!$C$17:$P$47,14,FALSE))))))))","v":""},"",{"$f":"IF(G51=\"\",\"\",VLOOKUP(E51,'Coûts-indirects'!$A$4:$K$33,11,FALSE)*G51)","v":""},{"$f":"IF(F51=\"\",\"\",VLOOKUP(F51,'Frais-mission'!$B$3:$E$32,3,FALSE)*I51)","v":""},{"$f":"IF(F51=\"\",\"\",VLOOKUP(F51,'Frais-mission'!$B$3:$E$32,4,FALSE)*J51)","v":""},"","","","",null,null,null,null,"","","","",0,0,0,{"$f":"IF(F51=\"\",\"\",IF(D51=2022,VLOOKUP(F51,'Intervenants et coûts-j'!$C$17:$AF$47,19,FALSE),IF(D51=2023,VLOOKUP(F51,'Intervenants et coûts-j'!$C$17:$AF$47,20,FALSE),IF(D51=2024,VLOOKUP(F51,'Intervenants et coûts-j'!$C$17:$AF$47,21,FALSE),IF(D51=2025,VLOOKUP(F51,'Intervenants et coûts-j'!$C$17:$AF$47,22,FALSE),IF(D51=2026,VLOOKUP(F51,'Intervenants et coûts-j'!$C$17:$AF$47,23,FALSE),IF(D51=2027,VLOOKUP(F51,'Intervenants et coûts-j'!$C$17:$AF$47,24,FALSE))))))))","v":""},{"$f":"IF(F51=\"\",\"\",IF(D51=2022,VLOOKUP(F51,'Intervenants et coûts-j'!$C$17:$AF$47,25,FALSE),IF(D51=2023,VLOOKUP(F51,'Intervenants et coûts-j'!$C$17:$AF$47,26,FALSE),IF(D51=2024,VLOOKUP(F51,'Intervenants et coûts-j'!$C$17:$AF$47,27,FALSE),IF(D51=2025,VLOOKUP(F51,'Intervenants et coûts-j'!$C$17:$AF$47,28,FALSE),IF(D51=2026,VLOOKUP(F51,'Intervenants et coûts-j'!$C$17:$AF$47,29,FALSE),IF(D51=2027,VLOOKUP(F51,'Intervenants et coûts-j'!$C$17:$AF$47,30,FALSE))))))))","v":""},"",{"$f":"IF(AB51=\"\",\"\",VLOOKUP(Z51,'Coûts-indirects'!$A$4:$T$33,20,FALSE)*AB51)","v":""},{"$f":"IF(AA51=\"\",\"\",VLOOKUP(AA51,'Frais-mission'!$B$3:$F$32,5,FALSE)*AD51)","v":""},{"$f":"IF(AA51=\"\",\"\",VLOOKUP(AA51,'Frais-mission'!$B$3:$G$34,6,FALSE)*AE51)","v":""},"","","","",null,null,null,{"$f":"\"ListeIntervenants\"&VLOOKUP(E51,'Intervenants et coûts-j'!$B$5:$C$14,2,FALSE)","v":{"$error":"#N/A"}},0,0]
[null,null,null,null,null,null,null,null,null,null,{"$f":"IF(F52=\"\",\"\",IF(D52=2022,VLOOKUP(F52,'Intervenants et coûts-j'!$C$17:$P$47,3,FALSE),IF(D52=2023,VLOOKUP(F52,'Intervenants et coûts-j'!$C$17:$P$47,4,FALSE),IF(D52=2024,VLOOKUP(F52,'Intervenants et coûts-j'!$C$17:$P$47,5,FALSE),IF(D52=2025,VLOOKUP(F52,'Intervenants et coûts-j'!$C$17:$P$47,6,FALSE),IF(D52=2026,VLOOKUP(F52,'Intervenants et coûts-j'!$C$17:$P$47,7,FALSE),IF(D52=2027,VLOOKUP(F52,'Intervenants et coûts-j'!$C$17:$P$47,8,FALSE))))))))","v":""},{"$f":"IF(F52=\"\",\"\",IF(D52=2022,VLOOKUP(F52,'Intervenants et coûts-j'!$C$17:$P$47,9,FALSE),IF(D52=2023,VLOOKUP(F52,'Intervenants et coûts-j'!$C$17:$P$47,10,FALSE),IF(D52=2024,VLOOKUP(F52,'Intervenants et coûts-j'!$C$17:$P$47,11,FALSE),IF(D52=2025,VLOOKUP(F52,'Intervenants et coûts-j'!$C$17:$P$47,12,FALSE),IF(D52=2026,VLOOKUP(F52,'Intervenants et coûts-j'!$C$17:$P$47,13,FALSE),IF(D52=2027,VLOOKUP(F52,'Intervenants et coûts-j'!$C$17:$P$47,14,FALSE))))))))","v":""},"",{"$f":"IF(G52=\"\",\"\",VLOOKUP(E52,'Coûts-indirects'!$A$4:$K$33,11,FALSE)*G52)","v":""},{"$f":"IF(F52=\"\",\"\",VLOOKUP(F52,'Frais-mission'!$B$3:$E$32,3,FALSE)*I52)","v":""},{"$f":"IF(F52=\"\",\"\",VLOOKUP(F52,'Frais-mission'!$B$3:$E$32,4,FALSE)*J52)","v":""},"","","","",null,null,"",null,"","","","",0,0,0,{"$f":"IF(F52=\"\",\"\",IF(D52=2022,VLOOKUP(F52,'Intervenants et coûts-j'!$C$17:$AF$47,19,FALSE),IF(D52=2023,VLOOKUP(F52,'Intervenants et coûts-j'!$C$17:$AF$47,20,FALSE),IF(D52=2024,VLOOKUP(F52,'Intervenants et coûts-j'!$C$17:$AF$47,21,FALSE),IF(D52=2025,VLOOKUP(F52,'Intervenants et coûts-j'!$C$17:$AF$47,22,FALSE),IF(D52=2026,VLOOKUP(F52,'Intervenants et coûts-j'!$C$17:$AF$47,23,FALSE),IF(D52=2027,VLOOKUP(F52,'Intervenants et coûts-j'!$C$17:$AF$47,24,FALSE))))))))","v":""},{"$f":"IF(F52=\"\",\"\",IF(D52=2022,VLOOKUP(F52,'Intervenants et coûts-j'!$C$17:$AF$47,25,FALSE),IF(D52=2023,VLOOKUP(F52,'Intervenants et coûts-j'!$C$17:$AF$47,26,FALSE),IF(D52=2024,VLOOKUP(F52,'Intervenants et coûts-j'!$C$17:$AF$47,27,FALSE),IF(D52=2025,VLOOKUP(F52,'Intervenants et coûts-j'!$C$17:$AF$47,28,FALSE),IF(D52=2026,VLOOKUP(F52,'Intervenants et coûts-j'!$C$17:$AF$47,29,FALSE),IF(D52=2027,VLOOKUP(F52,'Intervenants et coûts-j'!$C$17:$AF$47,30,FALSE))))))))","v":""},"",{"$f":"IF(AB52=\"\",\"\",VLOOKUP(Z52,'Coûts-indirects'!$A$4:$T$33,20,FALSE)*AB52)","v":""},{"$f":"IF(AA52=\"\",\"\",VLOOKUP(AA52,'Frais-mission'!$B$3:$F$32,5,FALSE)*AD52)","v":""},{"$f":"IF(AA52=\"\",\"\",VLOOKUP(AA52,'Frais-mission'!$B$3:$G$34,6,FALSE)*AE52)","v":""},"","",{"$f":"IF(AK52=\"\",\"\",AH52+AI52+AJ52+AK52)","v":""},{"$f":"IF(AN52=\"\",\"\",MIN(AN52,AH52+MIN(AI52,AL52)+MIN(AJ52+AK52,AM52)))","v":""},null,null,null,{"$f":"\"ListeIntervenants\"&VLOOKUP(E52,'Intervenants et coûts-j'!$B$5:$C$14,2,FALSE)","v":{"$error":"#N/A"}},0,0]
[null,null,null,null,null,null,null,null,null,null,{"$f":"IF(F53=\"\",\"\",IF(D53=2022,VLOOKUP(F53,'Intervenants et coûts-j'!$C$17:$P$47,3,FALSE),IF(D53=2023,VLOOKUP(F53,'Intervenants et coûts-j'!$C$17:$P$47,4,FALSE),IF(D53=2024,VLOOKUP(F53,'Intervenants et coûts-j'!$C$17:$P$47,5,FALSE),IF(D53=2025,VLOOKUP(F53,'Intervenants et coûts-j'!$C$17:$P$47,6,FALSE),IF(D53=2026,VLOOKUP(F53,'Intervenants et coûts-j'!$C$17:$P$47,7,FALSE),IF(D53=2027,VLOOKUP(F53,'Intervenants et coûts-j'!$C$17:$P$47,8,FALSE))))))))","v":""},{"$f":"IF(F53=\"\",\"\",IF(D53=2022,VLOOKUP(F53,'Intervenants et coûts-j'!$C$17:$P$47,9,FALSE),IF(D53=2023,VLOOKUP(F53,'Intervenants et coûts-j'!$C$17:$P$47,10,FALSE),IF(D53=2024,VLOOKUP(F53,'Intervenants et coûts-j'!$C$17:$P$47,11,FALSE),IF(D53=2025,VLOOKUP(F53,'Intervenants et coûts-j'!$C$17:$P$47,12,FALSE),IF(D53=2026,VLOOKUP(F53,'Intervenants et coûts-j'!$C$17:$P$47,13,FALSE),IF(D53=2027,VLOOKUP(F53,'Intervenants et coûts-j'!$C$17:$P$47,14,FALSE))))))))","v":""},{"$f":"IF(G53=\"\",\"\",L53*G53)","v":""},{"$f":"IF(G53=\"\",\"\",VLOOKUP(E53,'Coûts-indirects'!$A$4:$K$33,11,FALSE)*G53)","v":""},{"$f":"IF(F53=\"\",\"\",VLOOKUP(F53,'Frais-mission'!$B$3:$E$32,3,FALSE)*I53)","v":""},{"$f":"IF(F53=\"\",\"\",VLOOKUP(F53,'Frais-mission'!$B$3:$E$32,4,FALSE)*J53)","v":""},{"$f":"IF(M53=\"\",\"\",M53*0.15)","v":""},{"$f":"IF(H53=\"\",\"\",L53*H53*0.1)","v":""},{"$f":"IF(P53=\"\",\"\",M53+N53+O53+P53)","v":""},{"$f":"IF(S53=\"\",\"\",MIN(S53,M53+MIN(N53,Q53)+MIN(O53+P53,R53)))","v":""},null,null,null,null,"",{"$f":"IF(E53=\"\",\"\",E53)","v":""},{"$f":"IF(F53=\"\",\"\",F53)","v":""},{"$f":"IF(G53=\"\",\"\",G53)","v":""},{"$f":"IF(H53=\"\",0,H53)","v":0},{"$f":"IF(I53=\"\",0,I53)","v":0},{"$f":"IF(J53=\"\",0,J53)","v":0},{"$f":"IF(F53=\"\",\"\",IF(D53=2022,VLOOKUP(F53,'Intervenants et coûts-j'!$C$17:$AF$47,19,FALSE),IF(D53=2023,VLOOKUP(F53,'Intervenants et coûts-j'!$C$17:$AF$47,20,FALSE),IF(D53=2024,VLOOKUP(F53,'Intervenants et coûts-j'!$C$17:$AF$47,21,FALSE),IF(D53=2025,VLOOKUP(F53,'Intervenants et coûts-j'!$C$17:$AF$47,22,FALSE),IF(D53=2026,VLOOKUP(F53,'Intervenants et coûts-j'!$C$17:$AF$47,23,FALSE),IF(D53=2027,VLOOKUP(F53,'Intervenants et coûts-j'!$C$17:$AF$47,24,FALSE))))))))","v":""},{"$f":"IF(F53=\"\",\"\",IF(D53=2022,VLOOKUP(F53,'Intervenants et coûts-j'!$C$17:$AF$47,25,FALSE),IF(D53=2023,VLOOKUP(F53,'Intervenants et coûts-j'!$C$17:$AF$47,26,FALSE),IF(D53=2024,VLOOKUP(F53,'Intervenants et coûts-j'!$C$17:$AF$47,27,FALSE),IF(D53=2025,VLOOKUP(F53,'Intervenants et coûts-j'!$C$17:$AF$47,28,FALSE),IF(D53=2026,VLOOKUP(F53,'Intervenants et coûts-j'!$C$17:$AF$47,29,FALSE),IF(D53=2027,VLOOKUP(F53,'Intervenants et coûts-j'!$C$17:$AF$47,30,FALSE))))))))","v":""},{"$f":"IF(AB53=\"\",\"\",AG53*AB53)","v":""},{"$f":"IF(AB53=\"\",\"\",VLOOKUP(Z53,'Coûts-indirects'!$A$4:$T$33,20,FALSE)*AB53)","v":""},{"$f":"IF(AA53=\"\",\"\",VLOOKUP(AA53,'Frais-mission'!$B$3:$F$32,5,FALSE)*AD53)","v":""},{"$f":"IF(AA53=\"\",\"\",VLOOKUP(AA53,'Frais-mission'!$B$3:$G$34,6,FALSE)*AE53)","v":""},{"$f":"IF(AH53=\"\",\"\",AH53*0.15)","v":""},{"$f":"IF(AC53=0,\"\",AG53*AC53*0.1)","v":""},{"$f":"IF(AK53=\"\",\"\",AH53+AI53+AJ53+AK53)","v":""},{"$f":"IF(AN53=\"\",\"\",MIN(AN53,AH53+MIN(AI53,AL53)+MIN(AJ53+AK53,AM53)))","v":""},null,null,null,{"$f":"\"ListeIntervenants\"&VLOOKUP(E53,'Intervenants et coûts-j'!$B$5:$C$14,2,FALSE)","v":{"$error":"#N/A"}},0,0]
[null,null,null,null,null,null,null,null,null,null,{"$f":"IF(F54=\"\",\"\",IF(D54=2022,VLOOKUP(F54,'Intervenants et coûts-j'!$C$17:$P$47,3,FALSE),IF(D54=2023,VLOOKUP(F54,'Intervenants et coûts-j'!$C$17:$P$47,4,FALSE),IF(D54=2024,VLOOKUP(F54,'Intervenants et coûts-j'!$C$17:$P$47,5,FALSE),IF(D54=2025,VLOOKUP(F54,'Intervenants et coûts-j'!$C$17:$P$47,6,FALSE),IF(D54=2026,VLOOKUP(F54,'Intervenants et coûts-j'!$C$17:$P$47,7,FALSE),IF(D54=2027,VLOOKUP(F54,'Intervenants et coûts-j'!$C$17:$P$47,8,FALSE))))))))","v":""},{"$f":"IF(F54=\"\",\"\",IF(D54=2022,VLOOKUP(F54,'Intervenants et coûts-j'!$C$17:$P$47,9,FALSE),IF(D54=2023,VLOOKUP(F54,'Intervenants et coûts-j'!$C$17:$P$47,10,FALSE),IF(D54=2024,VLOOKUP(F54,'Intervenants et coûts-j'!$C$17:$P$47,11,FALSE),IF(D54=2025,VLOOKUP(F54,'Intervenants et coûts-j'!$C$17:$P$47,12,FALSE),IF(D54=2026,VLOOKUP(F54,'Intervenants et coûts-j'!$C$17:$P$47,13,FALSE),IF(D54=2027,VLOOKUP(F54,'Intervenants et coûts-j'!$C$17:$P$47,14,FALSE))))))))","v":""},"",{"$f":"IF(G54=\"\",\"\",VLOOKUP(E54,'Coûts-indirects'!$A$4:$K$33,11,FALSE)*G54)","v":""},{"$f":"IF(F54=\"\",\"\",VLOOKUP(F54,'Frais-mission'!$B$3:$E$32,3,FALSE)*I54)","v":""},{"$f":"IF(F54=\"\",\"\",VLOOKUP(F54,'Frais-mission'!$B$3:$E$32,4,FALSE)*J54)","v":""},"","","","",null,null,null,null,"","","","",0,0,0,{"$f":"IF(F54=\"\",\"\",IF(D54=2022,VLOOKUP(F54,'Intervenants et coûts-j'!$C$17:$AF$47,19,FALSE),IF(D54=2023,VLOOKUP(F54,'Intervenants et coûts-j'!$C$17:$AF$47,20,FALSE),IF(D54=2024,VLOOKUP(F54,'Intervenants et coûts-j'!$C$17:$AF$47,21,FALSE),IF(D54=2025,VLOOKUP(F54,'Intervenants et coûts-j'!$C$17:$AF$47,22,FALSE),IF(D54=2026,VLOOKUP(F54,'Intervenants et coûts-j'!$C$17:$AF$47,23,FALSE),IF(D54=2027,VLOOKUP(F54,'Intervenants et coûts-j'!$C$17:$AF$47,24,FALSE))))))))","v":""},{"$f":"IF(F54=\"\",\"\",IF(D54=2022,VLOOKUP(F54,'Intervenants et coûts-j'!$C$17:$AF$47,25,FALSE),IF(D54=2023,VLOOKUP(F54,'Intervenants et coûts-j'!$C$17:$AF$47,26,FALSE),IF(D54=2024,VLOOKUP(F54,'Intervenants et coûts-j'!$C$17:$AF$47,27,FALSE),IF(D54=2025,VLOOKUP(F54,'Intervenants et coûts-j'!$C$17:$AF$47,28,FALSE),IF(D54=2026,VLOOKUP(F54,'Intervenants et coûts-j'!$C$17:$AF$47,29,FALSE),IF(D54=2027,VLOOKUP(F54,'Intervenants et coûts-j'!$C$17:$AF$47,30,FALSE))))))))","v":""},"",{"$f":"IF(AB54=\"\",\"\",VLOOKUP(Z54,'Coûts-indirects'!$A$4:$T$33,20,FALSE)*AB54)","v":""},{"$f":"IF(AA54=\"\",\"\",VLOOKUP(AA54,'Frais-mission'!$B$3:$F$32,5,FALSE)*AD54)","v":""},{"$f":"IF(AA54=\"\",\"\",VLOOKUP(AA54,'Frais-mission'!$B$3:$G$34,6,FALSE)*AE54)","v":""},"","","","",null,null,null,{"$f":"\"ListeIntervenants\"&VLOOKUP(E54,'Intervenants et coûts-j'!$B$5:$C$14,2,FALSE)","v":{"$error":"#N/A"}},0,0]
[null,null,null,null,null,null,null,null,null,null,{"$f":"IF(F55=\"\",\"\",IF(D55=2022,VLOOKUP(F55,'Intervenants et coûts-j'!$C$17:$P$47,3,FALSE),IF(D55=2023,VLOOKUP(F55,'Intervenants et coûts-j'!$C$17:$P$47,4,FALSE),IF(D55=2024,VLOOKUP(F55,'Intervenants et coûts-j'!$C$17:$P$47,5,FALSE),IF(D55=2025,VLOOKUP(F55,'Intervenants et coûts-j'!$C$17:$P$47,6,FALSE),IF(D55=2026,VLOOKUP(F55,'Intervenants et coûts-j'!$C$17:$P$47,7,FALSE),IF(D55=2027,VLOOKUP(F55,'Intervenants et coûts-j'!$C$17:$P$47,8,FALSE))))))))","v":""},{"$f":"IF(F55=\"\",\"\",IF(D55=2022,VLOOKUP(F55,'Intervenants et coûts-j'!$C$17:$P$47,9,FALSE),IF(D55=2023,VLOOKUP(F55,'Intervenants et coûts-j'!$C$17:$P$47,10,FALSE),IF(D55=2024,VLOOKUP(F55,'Intervenants et coûts-j'!$C$17:$P$47,11,FALSE),IF(D55=2025,VLOOKUP(F55,'Intervenants et coûts-j'!$C$17:$P$47,12,FALSE),IF(D55=2026,VLOOKUP(F55,'Intervenants et coûts-j'!$C$17:$P$47,13,FALSE),IF(D55=2027,VLOOKUP(F55,'Intervenants et coûts-j'!$C$17:$P$47,14,FALSE))))))))","v":""},"",{"$f":"IF(G55=\"\",\"\",VLOOKUP(E55,'Coûts-indirects'!$A$4:$K$33,11,FALSE)*G55)","v":""},{"$f":"IF(F55=\"\",\"\",VLOOKUP(F55,'Frais-mission'!$B$3:$E$32,3,FALSE)*I55)","v":""},{"$f":"IF(F55=\"\",\"\",VLOOKUP(F55,'Frais-mission'!$B$3:$E$32,4,FALSE)*J55)","v":""},"","","","",null,null,null,null,"","","",{"$f":"IF(G55=\"\",\"\",G55)","v":""},{"$f":"IF(H55=\"\",0,H55)","v":0},{"$f":"IF(I55=\"\",0,I55)","v":0},{"$f":"IF(J55=\"\",0,J55)","v":0},{"$f":"IF(F55=\"\",\"\",IF(D55=2022,VLOOKUP(F55,'Intervenants et coûts-j'!$C$17:$AF$47,19,FALSE),IF(D55=2023,VLOOKUP(F55,'Intervenants et coûts-j'!$C$17:$AF$47,20,FALSE),IF(D55=2024,VLOOKUP(F55,'Intervenants et coûts-j'!$C$17:$AF$47,21,FALSE),IF(D55=2025,VLOOKUP(F55,'Intervenants et coûts-j'!$C$17:$AF$47,22,FALSE),IF(D55=2026,VLOOKUP(F55,'Intervenants et coûts-j'!$C$17:$AF$47,23,FALSE),IF(D55=2027,VLOOKUP(F55,'Intervenants et coûts-j'!$C$17:$AF$47,24,FALSE))))))))","v":""},{"$f":"IF(F55=\"\",\"\",IF(D55=2022,VLOOKUP(F55,'Intervenants et coûts-j'!$C$17:$AF$47,25,FALSE),IF(D55=2023,VLOOKUP(F55,'Intervenants et coûts-j'!$C$17:$AF$47,26,FALSE),IF(D55=2024,VLOOKUP(F55,'Intervenants et coûts-j'!$C$17:$AF$47,27,FALSE),IF(D55=2025,VLOOKUP(F55,'Intervenants et coûts-j'!$C$17:$AF$47,28,FALSE),IF(D55=2026,VLOOKUP(F55,'Intervenants et coûts-j'!$C$17:$AF$47,29,FALSE),IF(D55=2027,VLOOKUP(F55,'Intervenants et coûts-j'!$C$17:$AF$47,30,FALSE))))))))","v":""},{"$f":"IF(AB55=\"\",\"\",AG55*AB55)","v":""},{"$f":"IF(AB55=\"\",\"\",VLOOKUP(Z55,'Coûts-indirects'!$A$4:$T$33,20,FALSE)*AB55)","v":""},{"$f":"IF(AA55=\"\",\"\",VLOOKUP(AA55,'Frais-mission'!$B$3:$F$32,5,FALSE)*AD55)","v":""},{"$f":"IF(AA55=\"\",\"\",VLOOKUP(AA55,'Frais-mission'!$B$3:$G$34,6,FALSE)*AE55)","v":""},{"$f":"IF(AH55=\"\",\"\",AH55*0.15)","v":""},{"$f":"IF(AC55=0,\"\",AG55*AC55*0.1)","v":""},{"$f":"IF(AK55=\"\",\"\",AH55+AI55+AJ55+AK55)","v":""},{"$f":"IF(AN55=\"\",\"\",MIN(AN55,AH55+MIN(AI55,AL55)+MIN(AJ55+AK55,AM55)))","v":""},null,null,null,{"$f":"\"ListeIntervenants\"&VLOOKUP(E55,'Intervenants et coûts-j'!$B$5:$C$14,2,FALSE)","v":{"$error":"#N/A"}},0,0]
[null,null,null,null,null,null,null,null,null,null,{"$f":"IF(F56=\"\",\"\",IF(D56=2022,VLOOKUP(F56,'Intervenants et coûts-j'!$C$17:$P$47,3,FALSE),IF(D56=2023,VLOOKUP(F56,'Intervenants et coûts-j'!$C$17:$P$47,4,FALSE),IF(D56=2024,VLOOKUP(F56,'Intervenants et coûts-j'!$C$17:$P$47,5,FALSE),IF(D56=2025,VLOOKUP(F56,'Intervenants et coûts-j'!$C$17:$P$47,6,FALSE),IF(D56=2026,VLOOKUP(F56,'Intervenants et coûts-j'!$C$17:$P$47,7,FALSE),IF(D56=2027,VLOOKUP(F56,'Intervenants et coûts-j'!$C$17:$P$47,8,FALSE))))))))","v":""},{"$f":"IF(F56=\"\",\"\",IF(D56=2022,VLOOKUP(F56,'Intervenants et coûts-j'!$C$17:$P$47,9,FALSE),IF(D56=2023,VLOOKUP(F56,'Intervenants et coûts-j'!$C$17:$P$47,10,FALSE),IF(D56=2024,VLOOKUP(F56,'Intervenants et coûts-j'!$C$17:$P$47,11,FALSE),IF(D56=2025,VLOOKUP(F56,'Intervenants et coûts-j'!$C$17:$P$47,12,FALSE),IF(D56=2026,VLOOKUP(F56,'Intervenants et coûts-j'!$C$17:$P$47,13,FALSE),IF(D56=2027,VLOOKUP(F56,'Intervenants et coûts-j'!$C$17:$P$47,14,FALSE))))))))","v":""},"",{"$f":"IF(G56=\"\",\"\",VLOOKUP(E56,'Coûts-indirects'!$A$4:$K$33,11,FALSE)*G56)","v":""},{"$f":"IF(F56=\"\",\"\",VLOOKUP(F56,'Frais-mission'!$B$3:$E$32,3,FALSE)*I56)","v":""},{"$f":"IF(F56=\"\",\"\",VLOOKUP(F56,'Frais-mission'!$B$3:$E$32,4,FALSE)*J56)","v":""},"","","","",null,null,null,null,"","","","",0,0,0,{"$f":"IF(F56=\"\",\"\",IF(D56=2022,VLOOKUP(F56,'Intervenants et coûts-j'!$C$17:$AF$47,19,FALSE),IF(D56=2023,VLOOKUP(F56,'Intervenants et coûts-j'!$C$17:$AF$47,20,FALSE),IF(D56=2024,VLOOKUP(F56,'Intervenants et coûts-j'!$C$17:$AF$47,21,FALSE),IF(D56=2025,VLOOKUP(F56,'Intervenants et coûts-j'!$C$17:$AF$47,22,FALSE),IF(D56=2026,VLOOKUP(F56,'Intervenants et coûts-j'!$C$17:$AF$47,23,FALSE),IF(D56=2027,VLOOKUP(F56,'Intervenants et coûts-j'!$C$17:$AF$47,24,FALSE))))))))","v":""},{"$f":"IF(F56=\"\",\"\",IF(D56=2022,VLOOKUP(F56,'Intervenants et coûts-j'!$C$17:$AF$47,25,FALSE),IF(D56=2023,VLOOKUP(F56,'Intervenants et coûts-j'!$C$17:$AF$47,26,FALSE),IF(D56=2024,VLOOKUP(F56,'Intervenants et coûts-j'!$C$17:$AF$47,27,FALSE),IF(D56=2025,VLOOKUP(F56,'Intervenants et coûts-j'!$C$17:$AF$47,28,FALSE),IF(D56=2026,VLOOKUP(F56,'Intervenants et coûts-j'!$C$17:$AF$47,29,FALSE),IF(D56=2027,VLOOKUP(F56,'Intervenants et coûts-j'!$C$17:$AF$47,30,FALSE))))))))","v":""},"",{"$f":"IF(AB56=\"\",\"\",VLOOKUP(Z56,'Coûts-indirects'!$A$4:$T$33,20,FALSE)*AB56)","v":""},{"$f":"IF(AA56=\"\",\"\",VLOOKUP(AA56,'Frais-mission'!$B$3:$F$32,5,FALSE)*AD56)","v":""},{"$f":"IF(AA56=\"\",\"\",VLOOKUP(AA56,'Frais-mission'!$B$3:$G$34,6,FALSE)*AE56)","v":""},"","","","",null,null,null,{"$f":"\"ListeIntervenants\"&VLOOKUP(E56,'Intervenants et coûts-j'!$B$5:$C$14,2,FALSE)","v":{"$error":"#N/A"}},0,0]
[null,null,"Réalisation par un prestataire :",null,null,null,null,null,null,null,null,null,null,null,null,null,null,null,0,{"$f":"S57","v":0},null,null,"","Réalisation par un prestataire :",null,"","","",null,null,null,null,null,null,null,null,null,null,null,{"$f":"IF(S57=\"\",0,S57)","v":0},{"$f":"AN57","v":0},null,null,null,{"$f":"\"ListeIntervenants\"&VLOOKUP(E57,'Intervenants et coûts-j'!$B$5:$C$14,2,FALSE)","v":{"$error":"#N/A"}},0,0]
[null,null,null,null,null,null,null,null,null,null,null,null,null,null,null,null,null,null,0,0,null,null,"",null,null,"","","",null,null,null,null,null,null,null,null,null,null,null,{"$f":"IF(S58=\"\",0,S58)","v":0},0,null,null,null,{"$f":"\"ListeIntervenants\"&VLOOKUP(E58,'Intervenants et coûts-j'!$B$5:$C$14,2,FALSE)","v":{"$error":"#N/A"}},0,0]
[null,null,null,null,null,null,null,null,null,null,null,null,null,null,null,null,null,null,0,0,null,null,"",null,null,"","","",null,null,null,null,null,null,null,null,null,null,null,{"$f":"IF(S59=\"\",0,S59)","v":0},0,null,null,null,{"$f":"\"ListeIntervenants\"&VLOOKUP(E59,'Intervenants et coûts-j'!$B$5:$C$14,2,FALSE)","v":{"$error":"#N/A"}},0,0]
["Sous-total volet 3",null,null,null,{"$f":"SUM(E6:E59)","v":0},"-",null,null,null,null,null,null,null,null,"-",null,null,null,{"$f":"SUM(S6:S59)","v":0},{"$f":"SUM(T6:T59)","v":0},"-",{"$f":"SUM(V6:V59)","v":0},null,null,null,{"$f":"SUM(Z6:Z59)","v":0},"-",null,null,null,null,null,null,null,null,"-",null,null,null,{"$f":"SUM(AN6:AN59)","v":0},{"$f":"SUM(AO6:AO59)","v":0},"-",{"$f":"SUM(AQ6:AQ59)","v":0}]
[]
[]
[null,null,null,null,null,null,"Montants présentés par structure",null,null,null,null,null,null,null,null,null,null,null,null,null,null,null,null,null,null,null,null,"Montants retenus par structure"]
[null,null,null,null,"Postes de dépenses",null,{"$f":"Référentiel!M3","v":0},{"$f":"Référentiel!M4","v":"-"},{"$f":"Référentiel!M5","v":"-"},{"$f":"Référentiel!M6","v":"-"},{"$f":"Référentiel!M7","v":"-"},{"$f":"Référentiel!M8","v":"-"},{"$f":"Référentiel!M9","v":"-"},{"$f":"Référentiel!M10","v":"-"},{"$f":"Référentiel!M11","v":"-"},{"$f":"Référentiel!M12","v":"-"},"TOTAL",null,null,null,null,null,null,null,null,"Postes de dépenses",null,{"$f":"G64","v":0},"-","-","-","-","-","-","-","-","-","TOTAL"]
[null,null,null,null,"Frais de personnel",null,{"$f":"SUMIF($E$6:$E$59,G64,$M$6:$M$59)","v":0},0,0,0,0,0,0,0,0,0,{"$f":"SUM(G65:P65)","v":0},null,null,null,null,null,null,null,null,"Frais de personnel",null,{"$f":"SUMIF($Z$6:$Z$59,AB64,$AH$6:$AH$59)","v":0},{"$f":"SUMIF($E$6:$E$59,AC64,$M$6:$M$59)","v":0},0,0,0,0,0,0,0,0,{"$f":"SUM(AB65:AK65)","v":0}]
[null,null,null,null,"Coûts indirects",null,{"$f":"SUMIF($E$6:$E$59,G64,$N$6:$N$59)","v":0},0,0,0,0,0,0,0,0,0,{"$f":"SUM(G66:P66)","v":0},null,null,null,null,null,null,null,null,"Coûts indirects",null,{"$f":"SUMIF($Z$6:$Z$59,AB64,$AI$6:$AI$59)","v":0},{"$f":"SUMIF($E$6:$E$59,AC64,$N$6:$N$59)","v":0},0,0,0,0,0,0,0,0,{"$f":"SUM(AB66:AK66)","v":0}]
[null,null,null,null,"Frais de déplacement de restauration et d'hébergement",null,{"$f":"SUMIF($E$6:$E$59,G64,$O$6:$O$59)+SUMIF($E$6:$E$59,G64,$P$6:$P$59)","v":0},0,0,0,0,0,0,0,0,0,0,null,null,null,null,null,null,null,null,"Frais de déplacement de restauration et d'hébergement",null,{"$f":"SUMIF($Z$6:$Z$59,AB64,$AJ$6:$AJ$59)+SUMIF($Z$6:$Z$59,AB64,$AK$6:$AK$59)","v":0},0,0,0,0,0,0,0,0,0,0]
[null,null,null,null,"Autres frais",null,{"$f":"SUM(T21:T23,T39:T41,T57:T59)","v":0},0,0,0,0,0,0,0,0,0,0,null,null,null,null,null,null,null,null,"Autres frais",null,{"$f":"SUM(AO21:AO23,AO39:AO41,AO57:AO59)","v":0},0,0,0,0,0,0,0,0,0,0]
[null,null,null,null,"Total volet 3",null,{"$f":"SUM(G65:G68)","v":0},{"$f":"SUM(H65:H68)","v":0},0,0,0,0,0,0,0,0,{"$f":"SUM(G69:P69)","v":0},null,null,null,null,null,null,null,null,"Total volet 3",null,{"$f":"SUM(AB65:AB68)","v":0},{"$f":"SUM(AC65:AC68)","v":0},{"$f":"SUM(AD65:AD68)","v":0},{"$f":"SUM(AE65:AE68)","v":0},{"$f":"SUM(AF65:AF68)","v":0},{"$f":"SUM(AG65:AG68)","v":0},{"$f":"SUM(AH65:AH68)","v":0},{"$f":"SUM(AI65:AI68)","v":0},{"$f":"SUM(AJ65:AJ68)","v":0},{"$f":"SUM(AK65:AK68)","v":0},{"$f":"SUM(AB69:AK69)","v":0}]
[null,null,null,null,"Total volet 3 (plafonné le cas échéant)",null,{"$f":"SUMIF($E$6:$E$20,G64,$AT$6:$AT$20)+SUM($AT$21:$AT$23)+SUMIF($E$24:$E$38,G64,$AT$24:$AT$38)+SUM($AT$39:$AT$41)+SUMIF($E$42:$E$56,G64,$AT$42:$AT$56)+SUM($AT$57:$AT$59)","v":0},{"$f":"SUMIF($E$6:$E$20,H64,$AT$6:$AT$20)+SUMIF($E$24:$E$38,H64,$AT$24:$AT$38)+SUMIF($E$42:$E$56,H64,$AT$42:$AT$56)","v":0},0,0,0,0,0,0,0,0,0,null,null,null,null,null,null,null,null,"Total volet 3 (plafonné le cas échéant)",null,{"$f":"SUMIF($Z$6:$Z$20,AB64,$AU$6:$AU$20)+SUM($AU$21:$AU$23)+SUMIF($Z$24:$Z$38,AB64,$AU$24:$AU$38)+SUM($AU$39:$AU$41)+SUMIF($Z$42:$Z$56,AB64,$AU$42:$AU$56)+SUM($AU$57:$AU$59)","v":0},{"$f":"SUMIF($Z$6:$Z$20,AC64,$AU$6:$AU$20)+SUMIF($Z$24:$Z$38,AC64,$AU$24:$AU$38)+SUMIF($Z$42:$Z$56,AC64,$AU$42:$AU$56)","v":0},0,0,0,0,0,0,0,0,0]
[]
[]
["Certifié exact et sincère, le (date) :","………………………………………………………………………………………………………………………….."]
["Nom, prénom du représentant de la structure :","………………………………………………………………………………………………………………………….."]
["Qualité :","………………………………………………………………………………………………………………………….."]
["Cachet et signature :"]
[]
[]
[]
[]
[]
[]
["Demandeur :",{"$f":"Identification!E23","v":0}]
["SIRET :",{"$f":"Identification!E25","v":0}]

{"sheet":"Dép. volet 4-Form.","index":9,"n_rows":53,"n_cols":49,"rows_kept":53,"cut":false,"hidden":false,"merged":[[36,25,36,26],[37,25,37,26],[38,25,38,26],[4,22,10,22],[4,23,10,23],[11,22,27,22],[11,23,23,23],[24,23,27,23],[32,25,32,26],[33,25,33,26],[34,25,34,26],[35,25,35,26],[4,41,10,41],[4,42,10,42],[11,41,27,41],[11,42,27,42],[31,25,31,26],[31,27,31,37],[2,27,2,30],[2,31,2,33],[2,35,2,36],[2,37,2,38],[2,39,2,42],[2,6,2,9],[2,10,2,12],[2,14,2,15],[2,16,2,17],[2,18,2,21],[4,0,10,0],[4,1,10,1],[11,2,23,2],[24,2,27,2],[4,2,10,2],[11,0,27,0],[11,1,27,1],[52,1,52,5],[51,1,51,5],[0,0,0,21],[38,4,38,5],[33,4,33,5],[34,4,34,5],[35,4,35,5],[36,4,36,5],[4,20,10,20],[4,21,10,21],[31,4,31,5],[31,6,31,16],[37,4,37,5],[11,20,27,20],[11,21,27,21],[32,4,32,5]]}
["Dépenses réalisées - Volet 4 - Formations"]
[]
["1 - REALISATION DES FORMATIONS ",null,null,null,null,null,"Réalisation",null,null,null,"Frais de personnel",null,null,"Structure","Frais de mission",null,"Plafonds spécif. applicables",null,"TOTAL",null,null,null,null,null,null,null,null,"Réalisation",null,null,null,"Frais de personnel",null,null,"Structure","Frais de mission",null,"Plafonds spécif. applicables",null,"TOTAL"]
["Action","Nb de bénéficiaires formés","Modalité de réalisation","Année","Structure intervenant","Intervenant","Nbre de jours consacrés à l'action","Dont Nbre de jours en déplacement","Nbre km déplacement","Nb repas déplacement","Coût salarial journalier (€)","Coût salarial journalier plafonné(€)","Frais de personnel présentés (€)","Frais de structure présentés","Frais de déplacement présenté","Frais de repas présentés","Plafond frais de structures","Plafond frais de mission","Montant réalisé présenté","Montant total plafonné le cas échéant","Plafond global applicable","Montant total présenté après plafonnement","Nb de bénéficiaires formés","Modalité de réalisation","Année","Structure intervenant","Intervenant","Nbre de jours consacrés à l'action","Dont Nbre de jours en déplacement","Nbre km déplacement","Nb repas déplacement","Coût salarial journalier (€)","Coût salarial journalier plafonné(€)","Frais de personnel présentés (€)","Frais de structure présentés","Frais de déplacement présenté","Frais de repas présentés","Plafond frais de structures","Plafond frais de mission","Montant réalisé présenté","Montant total plafonné le cas échéant","Plafond global applicable","Montant total présenté après plafonnement"]
["Préparation et suivi des formations\n(plafonnement à 3 jours maximum si le nombre total de bénéficiaires formés pour le PAEC est inférieur ou égal à 15\nou\nplafonnement à 5 jours maximum si le nombre total de bénéficiaires formés est supérieur à 15","-","Actions de préparation réalisées par l'opérateur et/ou ses partenaires",null,null,null,null,null,null,null,{"$f":"IF(F5=\"\",\"\",IF(D5=2022,VLOOKUP(F5,'Intervenants et coûts-j'!$C$17:$P$47,3,FALSE),IF(D5=2023,VLOOKUP(F5,'Intervenants et coûts-j'!$C$17:$P$47,4,FALSE),IF(D5=2024,VLOOKUP(F5,'Intervenants et coûts-j'!$C$17:$P$47,5,FALSE),IF(D5=2025,VLOOKUP(F5,'Intervenants et coûts-j'!$C$17:$P$47,6,FALSE),IF(D5=2026,VLOOKUP(F5,'Intervenants et coûts-j'!$C$17:$P$47,7,FALSE),IF(D5=2027,VLOOKUP(F5,'Intervenants et coûts-j'!$C$17:$P$47,8,FALSE))))))))","v":""},{"$f":"IF(F5=\"\",\"\",IF(D5=2022,VLOOKUP(F5,'Intervenants et coûts-j'!$C$17:$P$47,9,FALSE),IF(D5=2023,VLOOKUP(F5,'Intervenants et coûts-j'!$C$17:$P$47,10,FALSE),IF(D5=2024,VLOOKUP(F5,'Intervenants et coûts-j'!$C$17:$P$47,11,FALSE),IF(D5=2025,VLOOKUP(F5,'Intervenants et coûts-j'!$C$17:$P$47,12,FALSE),IF(D5=2026,VLOOKUP(F5,'Intervenants et coûts-j'!$C$17:$P$47,13,FALSE),IF(D5=2027,VLOOKUP(F5,'Intervenants et coûts-j'!$C$17:$P$47,14,FALSE))))))))","v":""},{"$f":"IF(G5=\"\",\"\",L5*G5)","v":""},{"$f":"IF(G5=\"\",\"\",VLOOKUP(E5,'Coûts-indirects'!$A$4:$K$33,11,FALSE)*G5)","v":""},{"$f":"IF(F5=\"\",\"\",VLOOKUP(F5,'Frais-mission'!$B$3:$E$32,3,FALSE)*I5)","v":""},{"$f":"IF(F5=\"\",\"\",VLOOKUP(F5,'Frais-mission'!$B$3:$E$32,4,FALSE)*J5)","v":""},{"$f":"IF(M5=\"\",\"\",M5*0.15)","v":""},{"$f":"IF(H5=\"\",\"\",L5*H5*0.1)","v":""},{"$f":"IF(P5=\"\",\"\",M5+N5+O5+P5)","v":""},{"$f":"IF(S5=\"\",\"\",MIN(S5,M5+MIN(N5,Q5)+MIN(O5+P5,R5)))","v":""},"Selon nombre de bénéficiaires formés",{"$f":"SUM(T5:T11)","v":0},"-","Actions de préparation réalisées par l'opérateur et/ou ses partenaires",{"$f":"IF(D5=\"\",\"\",D5)","v":""},{"$f":"IF(E5=\"\",\"\",E5)","v":""},{"$f":"IF(F5=\"\",\"\",F5)","v":""},{"$f":"IF(G5=\"\",\"\",G5)","v":""},{"$f":"IF(H5=\"\",\"\",H5)","v":""},{"$f":"IF(I5=\"\",\"\",I5)","v":""},{"$f":"IF(J5=\"\",\"\",J5)","v":""},{"$f":"IF(F5=\"\",\"\",IF(D5=2022,VLOOKUP(F5,'Intervenants et coûts-j'!$C$17:$AF$47,19,FALSE),IF(D5=2023,VLOOKUP(F5,'Intervenants et coûts-j'!$C$17:$AF$47,20,FALSE),IF(D5=2024,VLOOKUP(F5,'Intervenants et coûts-j'!$C$17:$AF$47,21,FALSE),IF(D5=2025,VLOOKUP(F5,'Intervenants et coûts-j'!$C$17:$AF$47,22,FALSE),IF(D5=2026,VLOOKUP(F5,'Intervenants et coûts-j'!$C$17:$AF$47,23,FALSE),IF(D5=2027,VLOOKUP(F5,'Intervenants et coûts-j'!$C$17:$AF$47,24,FALSE))))))))","v":""},{"$f":"IF(F5=\"\",\"\",IF(D5=2022,VLOOKUP(F5,'Intervenants et coûts-j'!$C$17:$AF$47,25,FALSE),IF(D5=2023,VLOOKUP(F5,'Intervenants et coûts-j'!$C$17:$AF$47,26,FALSE),IF(D5=2024,VLOOKUP(F5,'Intervenants et coûts-j'!$C$17:$AF$47,27,FALSE),IF(D5=2025,VLOOKUP(F5,'Intervenants et coûts-j'!$C$17:$AF$47,28,FALSE),IF(D5=2026,VLOOKUP(F5,'Intervenants et coûts-j'!$C$17:$AF$47,29,FALSE),IF(D5=2027,VLOOKUP(F5,'Intervenants et coûts-j'!$C$17:$AF$47,30,FALSE))))))))","v":""},{"$f":"IF(AB5=\"\",\"\",AG5*AB5)","v":""},{"$f":"IF(AB5=\"\",\"\",VLOOKUP(Z5,'Coûts-indirects'!$A$4:$T$33,20,FALSE)*AB5)","v":""},{"$f":"IF(AA5=\"\",\"\",IF(AD5=\"\",0,VLOOKUP(AA5,'Frais-mission'!$B$3:$F$32,5,FALSE)*AD5))","v":""},{"$f":"IF(AA5=\"\",\"\",IF(AE5=\"\",0,VLOOKUP(AA5,'Frais-mission'!$B$3:$G$32,6,FALSE)*AE5))","v":""},{"$f":"IF(AH5=\"\",\"\",AH5*0.15)","v":""},{"$f":"IF(AC5=\"\",\"\",AG5*AC5*0.1)","v":""},{"$f":"IF(AK5=\"\",\"\",AH5+AI5+AJ5+AK5)","v":""},{"$f":"IF(AN5=\"\",\"\",MIN(AN5,AH5+MIN(AI5,AL5)+MIN(AJ5+AK5,AM5)))","v":""},"Selon nombre de bénéficiaires formés",{"$f":"SUM(AO5:AO11)","v":0},null,null,null,{"$f":"\"ListeIntervenants\"&VLOOKUP(E5,'Intervenants et coûts-j'!$B$5:$C$14,2,FALSE)","v":{"$error":"#N/A"}},{"$f":"T5","v":""},{"$f":"AO5","v":""}]
[null,null,null,null,null,null,null,null,null,null,{"$f":"IF(F6=\"\",\"\",IF(D6=2022,VLOOKUP(F6,'Intervenants et coûts-j'!$C$17:$P$47,3,FALSE),IF(D6=2023,VLOOKUP(F6,'Intervenants et coûts-j'!$C$17:$P$47,4,FALSE),IF(D6=2024,VLOOKUP(F6,'Intervenants et coûts-j'!$C$17:$P$47,5,FALSE),IF(D6=2025,VLOOKUP(F6,'Intervenants et coûts-j'!$C$17:$P$47,6,FALSE),IF(D6=2026,VLOOKUP(F6,'Intervenants et coûts-j'!$C$17:$P$47,7,FALSE),IF(D6=2027,VLOOKUP(F6,'Intervenants et coûts-j'!$C$17:$P$47,8,FALSE))))))))","v":""},{"$f":"IF(F6=\"\",\"\",IF(D6=2022,VLOOKUP(F6,'Intervenants et coûts-j'!$C$17:$P$47,9,FALSE),IF(D6=2023,VLOOKUP(F6,'Intervenants et coûts-j'!$C$17:$P$47,10,FALSE),IF(D6=2024,VLOOKUP(F6,'Intervenants et coûts-j'!$C$17:$P$47,11,FALSE),IF(D6=2025,VLOOKUP(F6,'Intervenants et coûts-j'!$C$17:$P$47,12,FALSE),IF(D6=2026,VLOOKUP(F6,'Intervenants et coûts-j'!$C$17:$P$47,13,FALSE),IF(D6=2027,VLOOKUP(F6,'Intervenants et coûts-j'!$C$17:$P$47,14,FALSE))))))))","v":""},{"$f":"IF(G6=\"\",\"\",L6*G6)","v":""},{"$f":"IF(G6=\"\",\"\",VLOOKUP(E6,'Coûts-indirects'!$A$4:$K$33,11,FALSE)*G6)","v":""},{"$f":"IF(F6=\"\",\"\",VLOOKUP(F6,'Frais-mission'!$B$3:$E$32,3,FALSE)*I6)","v":""},{"$f":"IF(F6=\"\",\"\",VLOOKUP(F6,'Frais-mission'!$B$3:$E$32,4,FALSE)*J6)","v":""},{"$f":"IF(M6=\"\",\"\",M6*0.15)","v":""},{"$f":"IF(H6=\"\",\"\",L6*H6*0.1)","v":""},{"$f":"IF(P6=\"\",\"\",M6+N6+O6+P6)","v":""},{"$f":"IF(S6=\"\",\"\",MIN(S6,M6+MIN(N6,Q6)+MIN(O6+P6,R6)))","v":""},null,null,null,null,{"$f":"IF(D6=\"\",\"\",D6)","v":""},"","",{"$f":"IF(G6=\"\",\"\",G6)","v":""},"","","",{"$f":"IF(F6=\"\",\"\",IF(D6=2022,VLOOKUP(F6,'Intervenants et coûts-j'!$C$17:$AF$47,19,FALSE),IF(D6=2023,VLOOKUP(F6,'Intervenants et coûts-j'!$C$17:$AF$47,20,FALSE),IF(D6=2024,VLOOKUP(F6,'Intervenants et coûts-j'!$C$17:$AF$47,21,FALSE),IF(D6=2025,VLOOKUP(F6,'Intervenants et coûts-j'!$C$17:$AF$47,22,FALSE),IF(D6=2026,VLOOKUP(F6,'Intervenants et coûts-j'!$C$17:$AF$47,23,FALSE),IF(D6=2027,VLOOKUP(F6,'Intervenants et coûts-j'!$C$17:$AF$47,24,FALSE))))))))","v":""},{"$f":"IF(F6=\"\",\"\",IF(D6=2022,VLOOKUP(F6,'Intervenants et coûts-j'!$C$17:$AF$47,25,FALSE),IF(D6=2023,VLOOKUP(F6,'Intervenants et coûts-j'!$C$17:$AF$47,26,FALSE),IF(D6=2024,VLOOKUP(F6,'Intervenants et coûts-j'!$C$17:$AF$47,27,FALSE),IF(D6=2025,VLOOKUP(F6,'Intervenants et coûts-j'!$C$17:$AF$47,28,FALSE),IF(D6=2026,VLOOKUP(F6,'Intervenants et coûts-j'!$C$17:$AF$47,29,FALSE),IF(D6=2027,VLOOKUP(F6,'Intervenants et coûts-j'!$C$17:$AF$47,30,FALSE))))))))","v":""},{"$f":"IF(AB6=\"\",\"\",AG6*AB6)","v":""},{"$f":"IF(AB6=\"\",\"\",VLOOKUP(Z6,'Coûts-indirects'!$A$4:$T$33,20,FALSE)*AB6)","v":""},{"$f":"IF(AA6=\"\",\"\",IF(AD6=\"\",0,VLOOKUP(AA6,'Frais-mission'!$B$3:$F$32,5,FALSE)*AD6))","v":""},{"$f":"IF(AA6=\"\",\"\",IF(AE6=\"\",0,VLOOKUP(AA6,'Frais-mission'!$B$3:$G$32,6,FALSE)*AE6))","v":""},"","",{"$f":"IF(AK6=\"\",\"\",AH6+AI6+AJ6+AK6)","v":""},{"$f":"IF(AN6=\"\",\"\",MIN(AN6,AH6+MIN(AI6,AL6)+MIN(AJ6+AK6,AM6)))","v":""},null,null,null,null,null,{"$f":"\"ListeIntervenants\"&VLOOKUP(E6,'Intervenants et coûts-j'!$B$5:$C$14,2,FALSE)","v":{"$error":"#N/A"}},"",{"$f":"AO6","v":""}]
[null,null,null,null,null,null,null,null,null,null,{"$f":"IF(F7=\"\",\"\",IF(D7=2022,VLOOKUP(F7,'Intervenants et coûts-j'!$C$17:$P$47,3,FALSE),IF(D7=2023,VLOOKUP(F7,'Intervenants et coûts-j'!$C$17:$P$47,4,FALSE),IF(D7=2024,VLOOKUP(F7,'Intervenants et coûts-j'!$C$17:$P$47,5,FALSE),IF(D7=2025,VLOOKUP(F7,'Intervenants et coûts-j'!$C$17:$P$47,6,FALSE),IF(D7=2026,VLOOKUP(F7,'Intervenants et coûts-j'!$C$17:$P$47,7,FALSE),IF(D7=2027,VLOOKUP(F7,'Intervenants et coûts-j'!$C$17:$P$47,8,FALSE))))))))","v":""},{"$f":"IF(F7=\"\",\"\",IF(D7=2022,VLOOKUP(F7,'Intervenants et coûts-j'!$C$17:$P$47,9,FALSE),IF(D7=2023,VLOOKUP(F7,'Intervenants et coûts-j'!$C$17:$P$47,10,FALSE),IF(D7=2024,VLOOKUP(F7,'Intervenants et coûts-j'!$C$17:$P$47,11,FALSE),IF(D7=2025,VLOOKUP(F7,'Intervenants et coûts-j'!$C$17:$P$47,12,FALSE),IF(D7=2026,VLOOKUP(F7,'Intervenants et coûts-j'!$C$17:$P$47,13,FALSE),IF(D7=2027,VLOOKUP(F7,'Intervenants et coûts-j'!$C$17:$P$47,14,FALSE))))))))","v":""},"",{"$f":"IF(G7=\"\",\"\",VLOOKUP(E7,'Coûts-indirects'!$A$4:$K$33,11,FALSE)*G7)","v":""},{"$f":"IF(F7=\"\",\"\",VLOOKUP(F7,'Frais-mission'!$B$3:$E$32,3,FALSE)*I7)","v":""},{"$f":"IF(F7=\"\",\"\",VLOOKUP(F7,'Frais-mission'!$B$3:$E$32,4,FALSE)*J7)","v":""},"","","","",null,null,null,null,"","","","","","","",{"$f":"IF(F7=\"\",\"\",IF(D7=2022,VLOOKUP(F7,'Intervenants et coûts-j'!$C$17:$AF$47,19,FALSE),IF(D7=2023,VLOOKUP(F7,'Intervenants et coûts-j'!$C$17:$AF$47,20,FALSE),IF(D7=2024,VLOOKUP(F7,'Intervenants et coûts-j'!$C$17:$AF$47,21,FALSE),IF(D7=2025,VLOOKUP(F7,'Intervenants et coûts-j'!$C$17:$AF$47,22,FALSE),IF(D7=2026,VLOOKUP(F7,'Intervenants et coûts-j'!$C$17:$AF$47,23,FALSE),IF(D7=2027,VLOOKUP(F7,'Intervenants et coûts-j'!$C$17:$AF$47,24,FALSE))))))))","v":""},{"$f":"IF(F7=\"\",\"\",IF(D7=2022,VLOOKUP(F7,'Intervenants et coûts-j'!$C$17:$AF$47,25,FALSE),IF(D7=2023,VLOOKUP(F7,'Intervenants et coûts-j'!$C$17:$AF$47,26,FALSE),IF(D7=2024,VLOOKUP(F7,'Intervenants et coûts-j'!$C$17:$AF$47,27,FALSE),IF(D7=2025,VLOOKUP(F7,'Intervenants et coûts-j'!$C$17:$AF$47,28,FALSE),IF(D7=2026,VLOOKUP(F7,'Intervenants et coûts-j'!$C$17:$AF$47,29,FALSE),IF(D7=2027,VLOOKUP(F7,'Intervenants et coûts-j'!$C$17:$AF$47,30,FALSE))))))))","v":""},"",{"$f":"IF(AB7=\"\",\"\",VLOOKUP(Z7,'Coûts-indirects'!$A$4:$T$33,20,FALSE)*AB7)","v":""},{"$f":"IF(AA7=\"\",\"\",IF(AD7=\"\",0,VLOOKUP(AA7,'Frais-mission'!$B$3:$F$32,5,FALSE)*AD7))","v":""},{"$f":"IF(AA7=\"\",\"\",IF(AE7=\"\",0,VLOOKUP(AA7,'Frais-mission'!$B$3:$G$32,6,FALSE)*AE7))","v":""},"","","","",null,null,null,null,null,{"$f":"\"ListeIntervenants\"&VLOOKUP(E7,'Intervenants et coûts-j'!$B$5:$C$14,2,FALSE)","v":{"$error":"#N/A"}},"",""]
[null,null,null,null,null,null,null,null,null,null,{"$f":"IF(F8=\"\",\"\",IF(D8=2022,VLOOKUP(F8,'Intervenants et coûts-j'!$C$17:$P$47,3,FALSE),IF(D8=2023,VLOOKUP(F8,'Intervenants et coûts-j'!$C$17:$P$47,4,FALSE),IF(D8=2024,VLOOKUP(F8,'Intervenants et coûts-j'!$C$17:$P$47,5,FALSE),IF(D8=2025,VLOOKUP(F8,'Intervenants et coûts-j'!$C$17:$P$47,6,FALSE),IF(D8=2026,VLOOKUP(F8,'Intervenants et coûts-j'!$C$17:$P$47,7,FALSE),IF(D8=2027,VLOOKUP(F8,'Intervenants et coûts-j'!$C$17:$P$47,8,FALSE))))))))","v":""},{"$f":"IF(F8=\"\",\"\",IF(D8=2022,VLOOKUP(F8,'Intervenants et coûts-j'!$C$17:$P$47,9,FALSE),IF(D8=2023,VLOOKUP(F8,'Intervenants et coûts-j'!$C$17:$P$47,10,FALSE),IF(D8=2024,VLOOKUP(F8,'Intervenants et coûts-j'!$C$17:$P$47,11,FALSE),IF(D8=2025,VLOOKUP(F8,'Intervenants et coûts-j'!$C$17:$P$47,12,FALSE),IF(D8=2026,VLOOKUP(F8,'Intervenants et coûts-j'!$C$17:$P$47,13,FALSE),IF(D8=2027,VLOOKUP(F8,'Intervenants et coûts-j'!$C$17:$P$47,14,FALSE))))))))","v":""},"",{"$f":"IF(G8=\"\",\"\",VLOOKUP(E8,'Coûts-indirects'!$A$4:$K$33,11,FALSE)*G8)","v":""},{"$f":"IF(F8=\"\",\"\",VLOOKUP(F8,'Frais-mission'!$B$3:$E$32,3,FALSE)*I8)","v":""},{"$f":"IF(F8=\"\",\"\",VLOOKUP(F8,'Frais-mission'!$B$3:$E$32,4,FALSE)*J8)","v":""},"","","","",null,null,null,null,"","","","","","","",{"$f":"IF(F8=\"\",\"\",IF(D8=2022,VLOOKUP(F8,'Intervenants et coûts-j'!$C$17:$AF$47,19,FALSE),IF(D8=2023,VLOOKUP(F8,'Intervenants et coûts-j'!$C$17:$AF$47,20,FALSE),IF(D8=2024,VLOOKUP(F8,'Intervenants et coûts-j'!$C$17:$AF$47,21,FALSE),IF(D8=2025,VLOOKUP(F8,'Intervenants et coûts-j'!$C$17:$AF$47,22,FALSE),IF(D8=2026,VLOOKUP(F8,'Intervenants et coûts-j'!$C$17:$AF$47,23,FALSE),IF(D8=2027,VLOOKUP(F8,'Intervenants et coûts-j'!$C$17:$AF$47,24,FALSE))))))))","v":""},{"$f":"IF(F8=\"\",\"\",IF(D8=2022,VLOOKUP(F8,'Intervenants et coûts-j'!$C$17:$AF$47,25,FALSE),IF(D8=2023,VLOOKUP(F8,'Intervenants et coûts-j'!$C$17:$AF$47,26,FALSE),IF(D8=2024,VLOOKUP(F8,'Intervenants et coûts-j'!$C$17:$AF$47,27,FALSE),IF(D8=2025,VLOOKUP(F8,'Intervenants et coûts-j'!$C$17:$AF$47,28,FALSE),IF(D8=2026,VLOOKUP(F8,'Intervenants et coûts-j'!$C$17:$AF$47,29,FALSE),IF(D8=2027,VLOOKUP(F8,'Intervenants et coûts-j'!$C$17:$AF$47,30,FALSE))))))))","v":""},"",{"$f":"IF(AB8=\"\",\"\",VLOOKUP(Z8,'Coûts-indirects'!$A$4:$T$33,20,FALSE)*AB8)","v":""},{"$f":"IF(AA8=\"\",\"\",IF(AD8=\"\",0,VLOOKUP(AA8,'Frais-mission'!$B$3:$F$32,5,FALSE)*AD8))","v":""},{"$f":"IF(AA8=\"\",\"\",IF(AE8=\"\",0,VLOOKUP(AA8,'Frais-mission'!$B$3:$G$32,6,FALSE)*AE8))","v":""},"","","","",null,null,null,null,null,{"$f":"\"ListeIntervenants\"&VLOOKUP(E8,'Intervenants et coûts-j'!$B$5:$C$14,2,FALSE)","v":{"$error":"#N/A"}},"",""]
[null,null,null,null,null,null,null,null,null,null,{"$f":"IF(F9=\"\",\"\",IF(D9=2022,VLOOKUP(F9,'Intervenants et coûts-j'!$C$17:$P$47,3,FALSE),IF(D9=2023,VLOOKUP(F9,'Intervenants et coûts-j'!$C$17:$P$47,4,FALSE),IF(D9=2024,VLOOKUP(F9,'Intervenants et coûts-j'!$C$17:$P$47,5,FALSE),IF(D9=2025,VLOOKUP(F9,'Intervenants et coûts-j'!$C$17:$P$47,6,FALSE),IF(D9=2026,VLOOKUP(F9,'Intervenants et coûts-j'!$C$17:$P$47,7,FALSE),IF(D9=2027,VLOOKUP(F9,'Intervenants et coûts-j'!$C$17:$P$47,8,FALSE))))))))","v":""},{"$f":"IF(F9=\"\",\"\",IF(D9=2022,VLOOKUP(F9,'Intervenants et coûts-j'!$C$17:$P$47,9,FALSE),IF(D9=2023,VLOOKUP(F9,'Intervenants et coûts-j'!$C$17:$P$47,10,FALSE),IF(D9=2024,VLOOKUP(F9,'Intervenants et coûts-j'!$C$17:$P$47,11,FALSE),IF(D9=2025,VLOOKUP(F9,'Intervenants et coûts-j'!$C$17:$P$47,12,FALSE),IF(D9=2026,VLOOKUP(F9,'Intervenants et coûts-j'!$C$17:$P$47,13,FALSE),IF(D9=2027,VLOOKUP(F9,'Intervenants et coûts-j'!$C$17:$P$47,14,FALSE))))))))","v":""},"",{"$f":"IF(G9=\"\",\"\",VLOOKUP(E9,'Coûts-indirects'!$A$4:$K$33,11,FALSE)*G9)","v":""},{"$f":"IF(F9=\"\",\"\",VLOOKUP(F9,'Frais-mission'!$B$3:$E$32,3,FALSE)*I9)","v":""},{"$f":"IF(F9=\"\",\"\",VLOOKUP(F9,'Frais-mission'!$B$3:$E$32,4,FALSE)*J9)","v":""},"","","","",null,null,null,null,"","","","","","","",{"$f":"IF(F9=\"\",\"\",IF(D9=2022,VLOOKUP(F9,'Intervenants et coûts-j'!$C$17:$AF$47,19,FALSE),IF(D9=2023,VLOOKUP(F9,'Intervenants et coûts-j'!$C$17:$AF$47,20,FALSE),IF(D9=2024,VLOOKUP(F9,'Intervenants et coûts-j'!$C$17:$AF$47,21,FALSE),IF(D9=2025,VLOOKUP(F9,'Intervenants et coûts-j'!$C$17:$AF$47,22,FALSE),IF(D9=2026,VLOOKUP(F9,'Intervenants et coûts-j'!$C$17:$AF$47,23,FALSE),IF(D9=2027,VLOOKUP(F9,'Intervenants et coûts-j'!$C$17:$AF$47,24,FALSE))))))))","v":""},{"$f":"IF(F9=\"\",\"\",IF(D9=2022,VLOOKUP(F9,'Intervenants et coûts-j'!$C$17:$AF$47,25,FALSE),IF(D9=2023,VLOOKUP(F9,'Intervenants et coûts-j'!$C$17:$AF$47,26,FALSE),IF(D9=2024,VLOOKUP(F9,'Intervenants et coûts-j'!$C$17:$AF$47,27,FALSE),IF(D9=2025,VLOOKUP(F9,'Intervenants et coûts-j'!$C$17:$AF$47,28,FALSE),IF(D9=2026,VLOOKUP(F9,'Intervenants et coûts-j'!$C$17:$AF$47,29,FALSE),IF(D9=2027,VLOOKUP(F9,'Intervenants et coûts-j'!$C$17:$AF$47,30,FALSE))))))))","v":""},"",{"$f":"IF(AB9=\"\",\"\",VLOOKUP(Z9,'Coûts-indirects'!$A$4:$T$33,20,FALSE)*AB9)","v":""},{"$f":"IF(AA9=\"\",\"\",IF(AD9=\"\",0,VLOOKUP(AA9,'Frais-mission'!$B$3:$F$32,5,FALSE)*AD9))","v":""},{"$f":"IF(AA9=\"\",\"\",IF(AE9=\"\",0,VLOOKUP(AA9,'Frais-mission'!$B$3:$G$32,6,FALSE)*AE9))","v":""},"","","","",null,null,null,null,null,{"$f":"\"ListeIntervenants\"&VLOOKUP(E9,'Intervenants et coûts-j'!$B$5:$C$14,2,FALSE)","v":{"$error":"#N/A"}},"",""]
[null,null,null,null,null,null,null,null,null,null,{"$f":"IF(F10=\"\",\"\",IF(D10=2022,VLOOKUP(F10,'Intervenants et coûts-j'!$C$17:$P$47,3,FALSE),IF(D10=2023,VLOOKUP(F10,'Intervenants et coûts-j'!$C$17:$P$47,4,FALSE),IF(D10=2024,VLOOKUP(F10,'Intervenants et coûts-j'!$C$17:$P$47,5,FALSE),IF(D10=2025,VLOOKUP(F10,'Intervenants et coûts-j'!$C$17:$P$47,6,FALSE),IF(D10=2026,VLOOKUP(F10,'Intervenants et coûts-j'!$C$17:$P$47,7,FALSE),IF(D10=2027,VLOOKUP(F10,'Intervenants et coûts-j'!$C$17:$P$47,8,FALSE))))))))","v":""},{"$f":"IF(F10=\"\",\"\",IF(D10=2022,VLOOKUP(F10,'Intervenants et coûts-j'!$C$17:$P$47,9,FALSE),IF(D10=2023,VLOOKUP(F10,'Intervenants et coûts-j'!$C$17:$P$47,10,FALSE),IF(D10=2024,VLOOKUP(F10,'Intervenants et coûts-j'!$C$17:$P$47,11,FALSE),IF(D10=2025,VLOOKUP(F10,'Intervenants et coûts-j'!$C$17:$P$47,12,FALSE),IF(D10=2026,VLOOKUP(F10,'Intervenants et coûts-j'!$C$17:$P$47,13,FALSE),IF(D10=2027,VLOOKUP(F10,'Intervenants et coûts-j'!$C$17:$P$47,14,FALSE))))))))","v":""},{"$f":"IF(G10=\"\",\"\",L10*G10)","v":""},{"$f":"IF(G10=\"\",\"\",VLOOKUP(E10,'Coûts-indirects'!$A$4:$K$33,11,FALSE)*G10)","v":""},{"$f":"IF(F10=\"\",\"\",VLOOKUP(F10,'Frais-mission'!$B$3:$E$32,3,FALSE)*I10)","v":""},{"$f":"IF(F10=\"\",\"\",VLOOKUP(F10,'Frais-mission'!$B$3:$E$32,4,FALSE)*J10)","v":""},{"$f":"IF(M10=\"\",\"\",M10*0.15)","v":""},{"$f":"IF(H10=\"\",\"\",L10*H10*0.1)","v":""},{"$f":"IF(P10=\"\",\"\",M10+N10+O10+P10)","v":""},{"$f":"IF(S10=\"\",\"\",MIN(S10,M10+MIN(N10,Q10)+MIN(O10+P10,R10)))","v":""},null,null,null,null,null,{"$f":"IF(E10=\"\",\"\",E10)","v":""},{"$f":"IF(F10=\"\",\"\",F10)","v":""},{"$f":"IF(G10=\"\",\"\",G10)","v":""},{"$f":"IF(H10=\"\",\"\",H10)","v":""},{"$f":"IF(I10=\"\",\"\",I10)","v":""},{"$f":"IF(J10=\"\",\"\",J10)","v":""},{"$f":"IF(F10=\"\",\"\",IF(D10=2022,VLOOKUP(F10,'Intervenants et coûts-j'!$C$17:$AF$47,19,FALSE),IF(D10=2023,VLOOKUP(F10,'Intervenants et coûts-j'!$C$17:$AF$47,20,FALSE),IF(D10=2024,VLOOKUP(F10,'Intervenants et coûts-j'!$C$17:$AF$47,21,FALSE),IF(D10=2025,VLOOKUP(F10,'Intervenants et coûts-j'!$C$17:$AF$47,22,FALSE),IF(D10=2026,VLOOKUP(F10,'Intervenants et coûts-j'!$C$17:$AF$47,23,FALSE),IF(D10=2027,VLOOKUP(F10,'Intervenants et coûts-j'!$C$17:$AF$47,24,FALSE))))))))","v":""},{"$f":"IF(F10=\"\",\"\",IF(D10=2022,VLOOKUP(F10,'Intervenants et coûts-j'!$C$17:$AF$47,25,FALSE),IF(D10=2023,VLOOKUP(F10,'Intervenants et coûts-j'!$C$17:$AF$47,26,FALSE),IF(D10=2024,VLOOKUP(F10,'Intervenants et coûts-j'!$C$17:$AF$47,27,FALSE),IF(D10=2025,VLOOKUP(F10,'Intervenants et coûts-j'!$C$17:$AF$47,28,FALSE),IF(D10=2026,VLOOKUP(F10,'Intervenants et coûts-j'!$C$17:$AF$47,29,FALSE),IF(D10=2027,VLOOKUP(F10,'Intervenants et coûts-j'!$C$17:$AF$47,30,FALSE))))))))","v":""},{"$f":"IF(AB10=\"\",\"\",AG10*AB10)","v":""},{"$f":"IF(AB10=\"\",\"\",VLOOKUP(Z10,'Coûts-indirects'!$A$4:$T$33,20,FALSE)*AB10)","v":""},{"$f":"IF(AA10=\"\",\"\",IF(AD10=\"\",0,VLOOKUP(AA10,'Frais-mission'!$B$3:$F$32,5,FALSE)*AD10))","v":""},{"$f":"IF(AA10=\"\",\"\",IF(AE10=\"\",0,VLOOKUP(AA10,'Frais-mission'!$B$3:$G$32,6,FALSE)*AE10))","v":""},{"$f":"IF(AH10=\"\",\"\",AH10*0.15)","v":""},{"$f":"IF(AC10=\"\",\"\",AG10*AC10*0.1)","v":""},{"$f":"IF(AK10=\"\",\"\",AH10+AI10+AJ10+AK10)","v":""},{"$f":"IF(AN10=\"\",\"\",MIN(AN10,AH10+MIN(AI10,AL10)+MIN(AJ10+AK10,AM10)))","v":""},null,null,null,null,null,{"$f":"\"ListeIntervenants\"&VLOOKUP(E10,'Intervenants et coûts-j'!$B$5:$C$14,2,FALSE)","v":{"$error":"#N/A"}},{"$f":"T10","v":""},{"$f":"AO10","v":""}]
[null,null,null,null,null,null,null,null,null,null,{"$f":"IF(F11=\"\",\"\",IF(D11=2022,VLOOKUP(F11,'Intervenants et coûts-j'!$C$17:$P$47,3,FALSE),IF(D11=2023,VLOOKUP(F11,'Intervenants et coûts-j'!$C$17:$P$47,4,FALSE),IF(D11=2024,VLOOKUP(F11,'Intervenants et coûts-j'!$C$17:$P$47,5,FALSE),IF(D11=2025,VLOOKUP(F11,'Intervenants et coûts-j'!$C$17:$P$47,6,FALSE),IF(D11=2026,VLOOKUP(F11,'Intervenants et coûts-j'!$C$17:$P$47,7,FALSE),IF(D11=2027,VLOOKUP(F11,'Intervenants et coûts-j'!$C$17:$P$47,8,FALSE))))))))","v":""},{"$f":"IF(F11=\"\",\"\",IF(D11=2022,VLOOKUP(F11,'Intervenants et coûts-j'!$C$17:$P$47,9,FALSE),IF(D11=2023,VLOOKUP(F11,'Intervenants et coûts-j'!$C$17:$P$47,10,FALSE),IF(D11=2024,VLOOKUP(F11,'Intervenants et coûts-j'!$C$17:$P$47,11,FALSE),IF(D11=2025,VLOOKUP(F11,'Intervenants et coûts-j'!$C$17:$P$47,12,FALSE),IF(D11=2026,VLOOKUP(F11,'Intervenants et coûts-j'!$C$17:$P$47,13,FALSE),IF(D11=2027,VLOOKUP(F11,'Intervenants et coûts-j'!$C$17:$P$47,14,FALSE))))))))","v":""},"",{"$f":"IF(G11=\"\",\"\",VLOOKUP(E11,'Coûts-indirects'!$A$4:$K$33,11,FALSE)*G11)","v":""},{"$f":"IF(F11=\"\",\"\",VLOOKUP(F11,'Frais-mission'!$B$3:$E$32,3,FALSE)*I11)","v":""},{"$f":"IF(F11=\"\",\"\",VLOOKUP(F11,'Frais-mission'!$B$3:$E$32,4,FALSE)*J11)","v":""},"","","","",null,null,null,null,"","","","","","","",{"$f":"IF(F11=\"\",\"\",IF(D11=2022,VLOOKUP(F11,'Intervenants et coûts-j'!$C$17:$AF$47,19,FALSE),IF(D11=2023,VLOOKUP(F11,'Intervenants et coûts-j'!$C$17:$AF$47,20,FALSE),IF(D11=2024,VLOOKUP(F11,'Intervenants et coûts-j'!$C$17:$AF$47,21,FALSE),IF(D11=2025,VLOOKUP(F11,'Intervenants et coûts-j'!$C$17:$AF$47,22,FALSE),IF(D11=2026,VLOOKUP(F11,'Intervenants et coûts-j'!$C$17:$AF$47,23,FALSE),IF(D11=2027,VLOOKUP(F11,'Intervenants et coûts-j'!$C$17:$AF$47,24,FALSE))))))))","v":""},{"$f":"IF(F11=\"\",\"\",IF(D11=2022,VLOOKUP(F11,'Intervenants et coûts-j'!$C$17:$AF$47,25,FALSE),IF(D11=2023,VLOOKUP(F11,'Intervenants et coûts-j'!$C$17:$AF$47,26,FALSE),IF(D11=2024,VLOOKUP(F11,'Intervenants et coûts-j'!$C$17:$AF$47,27,FALSE),IF(D11=2025,VLOOKUP(F11,'Intervenants et coûts-j'!$C$17:$AF$47,28,FALSE),IF(D11=2026,VLOOKUP(F11,'Intervenants et coûts-j'!$C$17:$AF$47,29,FALSE),IF(D11=2027,VLOOKUP(F11,'Intervenants et coûts-j'!$C$17:$AF$47,30,FALSE))))))))","v":""},"",{"$f":"IF(AB11=\"\",\"\",VLOOKUP(Z11,'Coûts-indirects'!$A$4:$T$33,20,FALSE)*AB11)","v":""},{"$f":"IF(AA11=\"\",\"\",IF(AD11=\"\",0,VLOOKUP(AA11,'Frais-mission'!$B$3:$F$32,5,FALSE)*AD11))","v":""},{"$f":"IF(AA11=\"\",\"\",IF(AE11=\"\",0,VLOOKUP(AA11,'Frais-mission'!$B$3:$G$32,6,FALSE)*AE11))","v":""},"","","","",null,null,null,null,null,{"$f":"\"ListeIntervenants\"&VLOOKUP(E11,'Intervenants et coûts-j'!$B$5:$C$14,2,FALSE)","v":{"$error":"#N/A"}},"",""]
["Formations non finançables par VIVEA\n(plafonnement à 80€/bénéficiaire formé)",null,"Réalisation par l'opérateur et/ou ses partenaires",null,null,null,null,null,null,null,{"$f":"IF(F12=\"\",\"\",IF(D12=2022,VLOOKUP(F12,'Intervenants et coûts-j'!$C$17:$P$47,3,FALSE),IF(D12=2023,VLOOKUP(F12,'Intervenants et coûts-j'!$C$17:$P$47,4,FALSE),IF(D12=2024,VLOOKUP(F12,'Intervenants et coûts-j'!$C$17:$P$47,5,FALSE),IF(D12=2025,VLOOKUP(F12,'Intervenants et coûts-j'!$C$17:$P$47,6,FALSE),IF(D12=2026,VLOOKUP(F12,'Intervenants et coûts-j'!$C$17:$P$47,7,FALSE),IF(D12=2027,VLOOKUP(F12,'Intervenants et coûts-j'!$C$17:$P$47,8,FALSE))))))))","v":""},{"$f":"IF(F12=\"\",\"\",IF(D12=2022,VLOOKUP(F12,'Intervenants et coûts-j'!$C$17:$P$47,9,FALSE),IF(D12=2023,VLOOKUP(F12,'Intervenants et coûts-j'!$C$17:$P$47,10,FALSE),IF(D12=2024,VLOOKUP(F12,'Intervenants et coûts-j'!$C$17:$P$47,11,FALSE),IF(D12=2025,VLOOKUP(F12,'Intervenants et coûts-j'!$C$17:$P$47,12,FALSE),IF(D12=2026,VLOOKUP(F12,'Intervenants et coûts-j'!$C$17:$P$47,13,FALSE),IF(D12=2027,VLOOKUP(F12,'Intervenants et coûts-j'!$C$17:$P$47,14,FALSE))))))))","v":""},"",{"$f":"IF(G12=\"\",\"\",VLOOKUP(E12,'Coûts-indirects'!$A$4:$K$33,11,FALSE)*G12)","v":""},{"$f":"IF(F12=\"\",\"\",VLOOKUP(F12,'Frais-mission'!$B$3:$E$32,3,FALSE)*I12)","v":""},{"$f":"IF(F12=\"\",\"\",VLOOKUP(F12,'Frais-mission'!$B$3:$E$32,4,FALSE)*J12)","v":""},"","","","",{"$f":"B12*80","v":0},{"$f":"MIN(SUM(T12:T28),U12)","v":0},{"$f":"IF(B12=\"\",\"\",B12)","v":""},"Réalisation par l'opérateur et/ou ses partenaires","","","","","","","",{"$f":"IF(F12=\"\",\"\",IF(D12=2022,VLOOKUP(F12,'Intervenants et coûts-j'!$C$17:$AF$47,19,FALSE),IF(D12=2023,VLOOKUP(F12,'Intervenants et coûts-j'!$C$17:$AF$47,20,FALSE),IF(D12=2024,VLOOKUP(F12,'Intervenants et coûts-j'!$C$17:$AF$47,21,FALSE),IF(D12=2025,VLOOKUP(F12,'Intervenants et coûts-j'!$C$17:$AF$47,22,FALSE),IF(D12=2026,VLOOKUP(F12,'Intervenants et coûts-j'!$C$17:$AF$47,23,FALSE),IF(D12=2027,VLOOKUP(F12,'Intervenants et coûts-j'!$C$17:$AF$47,24,FALSE))))))))","v":""},{"$f":"IF(F12=\"\",\"\",IF(D12=2022,VLOOKUP(F12,'Intervenants et coûts-j'!$C$17:$AF$47,25,FALSE),IF(D12=2023,VLOOKUP(F12,'Intervenants et coûts-j'!$C$17:$AF$47,26,FALSE),IF(D12=2024,VLOOKUP(F12,'Intervenants et coûts-j'!$C$17:$AF$47,27,FALSE),IF(D12=2025,VLOOKUP(F12,'Intervenants et coûts-j'!$C$17:$AF$47,28,FALSE),IF(D12=2026,VLOOKUP(F12,'Intervenants et coûts-j'!$C$17:$AF$47,29,FALSE),IF(D12=2027,VLOOKUP(F12,'Intervenants et coûts-j'!$C$17:$AF$47,30,FALSE))))))))","v":""},"",{"$f":"IF(AB12=\"\",\"\",VLOOKUP(Z12,'Coûts-indirects'!$A$4:$T$33,20,FALSE)*AB12)","v":""},{"$f":"IF(AA12=\"\",\"\",IF(AD12=\"\",0,VLOOKUP(AA12,'Frais-mission'!$B$3:$F$32,5,FALSE)*AD12))","v":""},{"$f":"IF(AA12=\"\",\"\",IF(AE12=\"\",0,VLOOKUP(AA12,'Frais-mission'!$B$3:$G$32,6,FALSE)*AE12))","v":""},"","","","",{"$f":"W12*80","v":{"$error":"#VALUE!"}},{"$f":"MIN(SUM(AO12:AO28),AP12)","v":{"$error":"#VALUE!"}},null,null,null,{"$f":"\"ListeIntervenants\"&VLOOKUP(E12,'Intervenants et coûts-j'!$B$5:$C$14,2,FALSE)","v":{"$error":"#N/A"}},{"$f":"IF(SUM($T$12:$T$28)=0,0,(T12*$V$12/SUM($T$12:$T$28)))","v":0},{"$f":"IF(SUM($AO$12:$AO$28)=0,0,(AO12*$AQ$12/SUM($AO$12:$AO$28)))","v":0}]
[null,null,null,null,null,null,null,null,null,null,{"$f":"IF(F13=\"\",\"\",IF(D13=2022,VLOOKUP(F13,'Intervenants et coûts-j'!$C$17:$P$47,3,FALSE),IF(D13=2023,VLOOKUP(F13,'Intervenants et coûts-j'!$C$17:$P$47,4,FALSE),IF(D13=2024,VLOOKUP(F13,'Intervenants et coûts-j'!$C$17:$P$47,5,FALSE),IF(D13=2025,VLOOKUP(F13,'Intervenants et coûts-j'!$C$17:$P$47,6,FALSE),IF(D13=2026,VLOOKUP(F13,'Intervenants et coûts-j'!$C$17:$P$47,7,FALSE),IF(D13=2027,VLOOKUP(F13,'Intervenants et coûts-j'!$C$17:$P$47,8,FALSE))))))))","v":""},{"$f":"IF(F13=\"\",\"\",IF(D13=2022,VLOOKUP(F13,'Intervenants et coûts-j'!$C$17:$P$47,9,FALSE),IF(D13=2023,VLOOKUP(F13,'Intervenants et coûts-j'!$C$17:$P$47,10,FALSE),IF(D13=2024,VLOOKUP(F13,'Intervenants et coûts-j'!$C$17:$P$47,11,FALSE),IF(D13=2025,VLOOKUP(F13,'Intervenants et coûts-j'!$C$17:$P$47,12,FALSE),IF(D13=2026,VLOOKUP(F13,'Intervenants et coûts-j'!$C$17:$P$47,13,FALSE),IF(D13=2027,VLOOKUP(F13,'Intervenants et coûts-j'!$C$17:$P$47,14,FALSE))))))))","v":""},"",{"$f":"IF(G13=\"\",\"\",VLOOKUP(E13,'Coûts-indirects'!$A$4:$K$33,11,FALSE)*G13)","v":""},{"$f":"IF(F13=\"\",\"\",VLOOKUP(F13,'Frais-mission'!$B$3:$E$32,3,FALSE)*I13)","v":""},{"$f":"IF(F13=\"\",\"\",VLOOKUP(F13,'Frais-mission'!$B$3:$E$32,4,FALSE)*J13)","v":""},"","","","",null,null,"",null,"","","","","","","",{"$f":"IF(F13=\"\",\"\",IF(D13=2022,VLOOKUP(F13,'Intervenants et coûts-j'!$C$17:$AF$47,19,FALSE),IF(D13=2023,VLOOKUP(F13,'Intervenants et coûts-j'!$C$17:$AF$47,20,FALSE),IF(D13=2024,VLOOKUP(F13,'Intervenants et coûts-j'!$C$17:$AF$47,21,FALSE),IF(D13=2025,VLOOKUP(F13,'Intervenants et coûts-j'!$C$17:$AF$47,22,FALSE),IF(D13=2026,VLOOKUP(F13,'Intervenants et coûts-j'!$C$17:$AF$47,23,FALSE),IF(D13=2027,VLOOKUP(F13,'Intervenants et coûts-j'!$C$17:$AF$47,24,FALSE))))))))","v":""},{"$f":"IF(F13=\"\",\"\",IF(D13=2022,VLOOKUP(F13,'Intervenants et coûts-j'!$C$17:$AF$47,25,FALSE),IF(D13=2023,VLOOKUP(F13,'Intervenants et coûts-j'!$C$17:$AF$47,26,FALSE),IF(D13=2024,VLOOKUP(F13,'Intervenants et coûts-j'!$C$17:$AF$47,27,FALSE),IF(D13=2025,VLOOKUP(F13,'Intervenants et coûts-j'!$C$17:$AF$47,28,FALSE),IF(D13=2026,VLOOKUP(F13,'Intervenants et coûts-j'!$C$17:$AF$47,29,FALSE),IF(D13=2027,VLOOKUP(F13,'Intervenants et coûts-j'!$C$17:$AF$47,30,FALSE))))))))","v":""},"",{"$f":"IF(AB13=\"\",\"\",VLOOKUP(Z13,'Coûts-indirects'!$A$4:$T$33,20,FALSE)*AB13)","v":""},{"$f":"IF(AA13=\"\",\"\",IF(AD13=\"\",0,VLOOKUP(AA13,'Frais-mission'!$B$3:$F$32,5,FALSE)*AD13))","v":""},{"$f":"IF(AA13=\"\",\"\",IF(AE13=\"\",0,VLOOKUP(AA13,'Frais-mission'!$B$3:$G$32,6,FALSE)*AE13))","v":""},"","","","",null,null,null,null,null,{"$f":"\"ListeIntervenants\"&VLOOKUP(E13,'Intervenants et coûts-j'!$B$5:$C$14,2,FALSE)","v":{"$error":"#N/A"}},0,0]
[null,null,null,null,null,null,null,null,null,null,{"$f":"IF(F14=\"\",\"\",IF(D14=2022,VLOOKUP(F14,'Intervenants et coûts-j'!$C$17:$P$47,3,FALSE),IF(D14=2023,VLOOKUP(F14,'Intervenants et coûts-j'!$C$17:$P$47,4,FALSE),IF(D14=2024,VLOOKUP(F14,'Intervenants et coûts-j'!$C$17:$P$47,5,FALSE),IF(D14=2025,VLOOKUP(F14,'Intervenants et coûts-j'!$C$17:$P$47,6,FALSE),IF(D14=2026,VLOOKUP(F14,'Intervenants et coûts-j'!$C$17:$P$47,7,FALSE),IF(D14=2027,VLOOKUP(F14,'Intervenants et coûts-j'!$C$17:$P$47,8,FALSE))))))))","v":""},{"$f":"IF(F14=\"\",\"\",IF(D14=2022,VLOOKUP(F14,'Intervenants et coûts-j'!$C$17:$P$47,9,FALSE),IF(D14=2023,VLOOKUP(F14,'Intervenants et coûts-j'!$C$17:$P$47,10,FALSE),IF(D14=2024,VLOOKUP(F14,'Intervenants et coûts-j'!$C$17:$P$47,11,FALSE),IF(D14=2025,VLOOKUP(F14,'Intervenants et coûts-j'!$C$17:$P$47,12,FALSE),IF(D14=2026,VLOOKUP(F14,'Intervenants et coûts-j'!$C$17:$P$47,13,FALSE),IF(D14=2027,VLOOKUP(F14,'Intervenants et coûts-j'!$C$17:$P$47,14,FALSE))))))))","v":""},"",{"$f":"IF(G14=\"\",\"\",VLOOKUP(E14,'Coûts-indirects'!$A$4:$K$33,11,FALSE)*G14)","v":""},{"$f":"IF(F14=\"\",\"\",VLOOKUP(F14,'Frais-mission'!$B$3:$E$32,3,FALSE)*I14)","v":""},{"$f":"IF(F14=\"\",\"\",VLOOKUP(F14,'Frais-mission'!$B$3:$E$32,4,FALSE)*J14)","v":""},"","","","",null,null,"",null,"","","","","","","",{"$f":"IF(F14=\"\",\"\",IF(D14=2022,VLOOKUP(F14,'Intervenants et coûts-j'!$C$17:$AF$47,19,FALSE),IF(D14=2023,VLOOKUP(F14,'Intervenants et coûts-j'!$C$17:$AF$47,20,FALSE),IF(D14=2024,VLOOKUP(F14,'Intervenants et coûts-j'!$C$17:$AF$47,21,FALSE),IF(D14=2025,VLOOKUP(F14,'Intervenants et coûts-j'!$C$17:$AF$47,22,FALSE),IF(D14=2026,VLOOKUP(F14,'Intervenants et coûts-j'!$C$17:$AF$47,23,FALSE),IF(D14=2027,VLOOKUP(F14,'Intervenants et coûts-j'!$C$17:$AF$47,24,FALSE))))))))","v":""},{"$f":"IF(F14=\"\",\"\",IF(D14=2022,VLOOKUP(F14,'Intervenants et coûts-j'!$C$17:$AF$47,25,FALSE),IF(D14=2023,VLOOKUP(F14,'Intervenants et coûts-j'!$C$17:$AF$47,26,FALSE),IF(D14=2024,VLOOKUP(F14,'Intervenants et coûts-j'!$C$17:$AF$47,27,FALSE),IF(D14=2025,VLOOKUP(F14,'Intervenants et coûts-j'!$C$17:$AF$47,28,FALSE),IF(D14=2026,VLOOKUP(F14,'Intervenants et coûts-j'!$C$17:$AF$47,29,FALSE),IF(D14=2027,VLOOKUP(F14,'Intervenants et coûts-j'!$C$17:$AF$47,30,FALSE))))))))","v":""},"",{"$f":"IF(AB14=\"\",\"\",VLOOKUP(Z14,'Coûts-indirects'!$A$4:$T$33,20,FALSE)*AB14)","v":""},{"$f":"IF(AA14=\"\",\"\",IF(AD14=\"\",0,VLOOKUP(AA14,'Frais-mission'!$B$3:$F$32,5,FALSE)*AD14))","v":""},{"$f":"IF(AA14=\"\",\"\",IF(AE14=\"\",0,VLOOKUP(AA14,'Frais-mission'!$B$3:$G$32,6,FALSE)*AE14))","v":""},"","","","",null,null,null,null,null,{"$f":"\"ListeIntervenants\"&VLOOKUP(E14,'Intervenants et coûts-j'!$B$5:$C$14,2,FALSE)","v":{"$error":"#N/A"}},0,0]
[null,null,null,null,null,null,null,null,null,null,{"$f":"IF(F15=\"\",\"\",IF(D15=2022,VLOOKUP(F15,'Intervenants et coûts-j'!$C$17:$P$47,3,FALSE),IF(D15=2023,VLOOKUP(F15,'Intervenants et coûts-j'!$C$17:$P$47,4,FALSE),IF(D15=2024,VLOOKUP(F15,'Intervenants et coûts-j'!$C$17:$P$47,5,FALSE),IF(D15=2025,VLOOKUP(F15,'Intervenants et coûts-j'!$C$17:$P$47,6,FALSE),IF(D15=2026,VLOOKUP(F15,'Intervenants et coûts-j'!$C$17:$P$47,7,FALSE),IF(D15=2027,VLOOKUP(F15,'Intervenants et coûts-j'!$C$17:$P$47,8,FALSE))))))))","v":""},{"$f":"IF(F15=\"\",\"\",IF(D15=2022,VLOOKUP(F15,'Intervenants et coûts-j'!$C$17:$P$47,9,FALSE),IF(D15=2023,VLOOKUP(F15,'Intervenants et coûts-j'!$C$17:$P$47,10,FALSE),IF(D15=2024,VLOOKUP(F15,'Intervenants et coûts-j'!$C$17:$P$47,11,FALSE),IF(D15=2025,VLOOKUP(F15,'Intervenants et coûts-j'!$C$17:$P$47,12,FALSE),IF(D15=2026,VLOOKUP(F15,'Intervenants et coûts-j'!$C$17:$P$47,13,FALSE),IF(D15=2027,VLOOKUP(F15,'Intervenants et coûts-j'!$C$17:$P$47,14,FALSE))))))))","v":""},"",{"$f":"IF(G15=\"\",\"\",VLOOKUP(E15,'Coûts-indirects'!$A$4:$K$33,11,FALSE)*G15)","v":""},{"$f":"IF(F15=\"\",\"\",VLOOKUP(F15,'Frais-mission'!$B$3:$E$32,3,FALSE)*I15)","v":""},{"$f":"IF(F15=\"\",\"\",VLOOKUP(F15,'Frais-mission'!$B$3:$E$32,4,FALSE)*J15)","v":""},"","","","",null,null,"",null,"","","","","","","",{"$f":"IF(F15=\"\",\"\",IF(D15=2022,VLOOKUP(F15,'Intervenants et coûts-j'!$C$17:$AF$47,19,FALSE),IF(D15=2023,VLOOKUP(F15,'Intervenants et coûts-j'!$C$17:$AF$47,20,FALSE),IF(D15=2024,VLOOKUP(F15,'Intervenants et coûts-j'!$C$17:$AF$47,21,FALSE),IF(D15=2025,VLOOKUP(F15,'Intervenants et coûts-j'!$C$17:$AF$47,22,FALSE),IF(D15=2026,VLOOKUP(F15,'Intervenants et coûts-j'!$C$17:$AF$47,23,FALSE),IF(D15=2027,VLOOKUP(F15,'Intervenants et coûts-j'!$C$17:$AF$47,24,FALSE))))))))","v":""},{"$f":"IF(F15=\"\",\"\",IF(D15=2022,VLOOKUP(F15,'Intervenants et coûts-j'!$C$17:$AF$47,25,FALSE),IF(D15=2023,VLOOKUP(F15,'Intervenants et coûts-j'!$C$17:$AF$47,26,FALSE),IF(D15=2024,VLOOKUP(F15,'Intervenants et coûts-j'!$C$17:$AF$47,27,FALSE),IF(D15=2025,VLOOKUP(F15,'Intervenants et coûts-j'!$C$17:$AF$47,28,FALSE),IF(D15=2026,VLOOKUP(F15,'Intervenants et coûts-j'!$C$17:$AF$47,29,FALSE),IF(D15=2027,VLOOKUP(F15,'Intervenants et coûts-j'!$C$17:$AF$47,30,FALSE))))))))","v":""},"",{"$f":"IF(AB15=\"\",\"\",VLOOKUP(Z15,'Coûts-indirects'!$A$4:$T$33,20,FALSE)*AB15)","v":""},{"$f":"IF(AA15=\"\",\"\",IF(AD15=\"\",0,VLOOKUP(AA15,'Frais-mission'!$B$3:$F$32,5,FALSE)*AD15))","v":""},{"$f":"IF(AA15=\"\",\"\",IF(AE15=\"\",0,VLOOKUP(AA15,'Frais-mission'!$B$3:$G$32,6,FALSE)*AE15))","v":""},"","","","",null,null,null,null,null,{"$f":"\"ListeIntervenants\"&VLOOKUP(E15,'Intervenants et coûts-j'!$B$5:$C$14,2,FALSE)","v":{"$error":"#N/A"}},0,0]
[null,null,null,null,null,null,null,null,null,null,{"$f":"IF(F16=\"\",\"\",IF(D16=2022,VLOOKUP(F16,'Intervenants et coûts-j'!$C$17:$P$47,3,FALSE),IF(D16=2023,VLOOKUP(F16,'Intervenants et coûts-j'!$C$17:$P$47,4,FALSE),IF(D16=2024,VLOOKUP(F16,'Intervenants et coûts-j'!$C$17:$P$47,5,FALSE),IF(D16=2025,VLOOKUP(F16,'Intervenants et coûts-j'!$C$17:$P$47,6,FALSE),IF(D16=2026,VLOOKUP(F16,'Intervenants et coûts-j'!$C$17:$P$47,7,FALSE),IF(D16=2027,VLOOKUP(F16,'Intervenants et coûts-j'!$C$17:$P$47,8,FALSE))))))))","v":""},{"$f":"IF(F16=\"\",\"\",IF(D16=2022,VLOOKUP(F16,'Intervenants et coûts-j'!$C$17:$P$47,9,FALSE),IF(D16=2023,VLOOKUP(F16,'Intervenants et coûts-j'!$C$17:$P$47,10,FALSE),IF(D16=2024,VLOOKUP(F16,'Intervenants et coûts-j'!$C$17:$P$47,11,FALSE),IF(D16=2025,VLOOKUP(F16,'Intervenants et coûts-j'!$C$17:$P$47,12,FALSE),IF(D16=2026,VLOOKUP(F16,'Intervenants et coûts-j'!$C$17:$P$47,13,FALSE),IF(D16=2027,VLOOKUP(F16,'Intervenants et coûts-j'!$C$17:$P$47,14,FALSE))))))))","v":""},"",{"$f":"IF(G16=\"\",\"\",VLOOKUP(E16,'Coûts-indirects'!$A$4:$K$33,11,FALSE)*G16)","v":""},{"$f":"IF(F16=\"\",\"\",VLOOKUP(F16,'Frais-mission'!$B$3:$E$32,3,FALSE)*I16)","v":""},{"$f":"IF(F16=\"\",\"\",VLOOKUP(F16,'Frais-mission'!$B$3:$E$32,4,FALSE)*J16)","v":""},"","","","",null,null,"",null,"","","","","","","",{"$f":"IF(F16=\"\",\"\",IF(D16=2022,VLOOKUP(F16,'Intervenants et coûts-j'!$C$17:$AF$47,19,FALSE),IF(D16=2023,VLOOKUP(F16,'Intervenants et coûts-j'!$C$17:$AF$47,20,FALSE),IF(D16=2024,VLOOKUP(F16,'Intervenants et coûts-j'!$C$17:$AF$47,21,FALSE),IF(D16=2025,VLOOKUP(F16,'Intervenants et coûts-j'!$C$17:$AF$47,22,FALSE),IF(D16=2026,VLOOKUP(F16,'Intervenants et coûts-j'!$C$17:$AF$47,23,FALSE),IF(D16=2027,VLOOKUP(F16,'Intervenants et coûts-j'!$C$17:$AF$47,24,FALSE))))))))","v":""},{"$f":"IF(F16=\"\",\"\",IF(D16=2022,VLOOKUP(F16,'Intervenants et coûts-j'!$C$17:$AF$47,25,FALSE),IF(D16=2023,VLOOKUP(F16,'Intervenants et coûts-j'!$C$17:$AF$47,26,FALSE),IF(D16=2024,VLOOKUP(F16,'Intervenants et coûts-j'!$C$17:$AF$47,27,FALSE),IF(D16=2025,VLOOKUP(F16,'Intervenants et coûts-j'!$C$17:$AF$47,28,FALSE),IF(D16=2026,VLOOKUP(F16,'Intervenants et coûts-j'!$C$17:$AF$47,29,FALSE),IF(D16=2027,VLOOKUP(F16,'Intervenants et coûts-j'!$C$17:$AF$47,30,FALSE))))))))","v":""},"",{"$f":"IF(AB16=\"\",\"\",VLOOKUP(Z16,'Coûts-indirects'!$A$4:$T$33,20,FALSE)*AB16)","v":""},{"$f":"IF(AA16=\"\",\"\",IF(AD16=\"\",0,VLOOKUP(AA16,'Frais-mission'!$B$3:$F$32,5,FALSE)*AD16))","v":""},{"$f":"IF(AA16=\"\",\"\",IF(AE16=\"\",0,VLOOKUP(AA16,'Frais-mission'!$B$3:$G$32,6,FALSE)*AE16))","v":""},"","","","",null,null,null,null,null,{"$f":"\"ListeIntervenants\"&VLOOKUP(E16,'Intervenants et coûts-j'!$B$5:$C$14,2,FALSE)","v":{"$error":"#N/A"}},0,0]
[null,null,null,null,null,null,null,null,null,null,{"$f":"IF(F17=\"\",\"\",IF(D17=2022,VLOOKUP(F17,'Intervenants et coûts-j'!$C$17:$P$47,3,FALSE),IF(D17=2023,VLOOKUP(F17,'Intervenants et coûts-j'!$C$17:$P$47,4,FALSE),IF(D17=2024,VLOOKUP(F17,'Intervenants et coûts-j'!$C$17:$P$47,5,FALSE),IF(D17=2025,VLOOKUP(F17,'Intervenants et coûts-j'!$C$17:$P$47,6,FALSE),IF(D17=2026,VLOOKUP(F17,'Intervenants et coûts-j'!$C$17:$P$47,7,FALSE),IF(D17=2027,VLOOKUP(F17,'Intervenants et coûts-j'!$C$17:$P$47,8,FALSE))))))))","v":""},{"$f":"IF(F17=\"\",\"\",IF(D17=2022,VLOOKUP(F17,'Intervenants et coûts-j'!$C$17:$P$47,9,FALSE),IF(D17=2023,VLOOKUP(F17,'Intervenants et coûts-j'!$C$17:$P$47,10,FALSE),IF(D17=2024,VLOOKUP(F17,'Intervenants et coûts-j'!$C$17:$P$47,11,FALSE),IF(D17=2025,VLOOKUP(F17,'Intervenants et coûts-j'!$C$17:$P$47,12,FALSE),IF(D17=2026,VLOOKUP(F17,'Intervenants et coûts-j'!$C$17:$P$47,13,FALSE),IF(D17=2027,VLOOKUP(F17,'Intervenants et coûts-j'!$C$17:$P$47,14,FALSE))))))))","v":""},{"$f":"IF(G17=\"\",\"\",L17*G17)","v":""},{"$f":"IF(G17=\"\",\"\",VLOOKUP(E17,'Coûts-indirects'!$A$4:$K$33,11,FALSE)*G17)","v":""},{"$f":"IF(F17=\"\",\"\",VLOOKUP(F17,'Frais-mission'!$B$3:$E$32,3,FALSE)*I17)","v":""},{"$f":"IF(F17=\"\",\"\",VLOOKUP(F17,'Frais-mission'!$B$3:$E$32,4,FALSE)*J17)","v":""},{"$f":"IF(M17=\"\",\"\",M17*0.15)","v":""},{"$f":"IF(H17=\"\",\"\",L17*H17*0.1)","v":""},{"$f":"IF(P17=\"\",\"\",M17+N17+O17+P17)","v":""},{"$f":"IF(S17=\"\",\"\",MIN(S17,M17+MIN(N17,Q17)+MIN(O17+P17,R17)))","v":""},null,null,null,null,null,{"$f":"IF(E17=\"\",\"\",E17)","v":""},{"$f":"IF(F17=\"\",\"\",F17)","v":""},{"$f":"IF(G17=\"\",\"\",G17)","v":""},{"$f":"IF(H17=\"\",\"\",H17)","v":""},{"$f":"IF(I17=\"\",\"\",I17)","v":""},{"$f":"IF(J17=\"\",\"\",J17)","v":""},{"$f":"IF(F17=\"\",\"\",IF(D17=2022,VLOOKUP(F17,'Intervenants et coûts-j'!$C$17:$AF$47,19,FALSE),IF(D17=2023,VLOOKUP(F17,'Intervenants et coûts-j'!$C$17:$AF$47,20,FALSE),IF(D17=2024,VLOOKUP(F17,'Intervenants et coûts-j'!$C$17:$AF$47,21,FALSE),IF(D17=2025,VLOOKUP(F17,'Intervenants et coûts-j'!$C$17:$AF$47,22,FALSE),IF(D17=2026,VLOOKUP(F17,'Intervenants et coûts-j'!$C$17:$AF$47,23,FALSE),IF(D17=2027,VLOOKUP(F17,'Intervenants et coûts-j'!$C$17:$AF$47,24,FALSE))))))))","v":""},{"$f":"IF(F17=\"\",\"\",IF(D17=2022,VLOOKUP(F17,'Intervenants et coûts-j'!$C$17:$AF$47,25,FALSE),IF(D17=2023,VLOOKUP(F17,'Intervenants et coûts-j'!$C$17:$AF$47,26,FALSE),IF(D17=2024,VLOOKUP(F17,'Intervenants et coûts-j'!$C$17:$AF$47,27,FALSE),IF(D17=2025,VLOOKUP(F17,'Intervenants et coûts-j'!$C$17:$AF$47,28,FALSE),IF(D17=2026,VLOOKUP(F17,'Intervenants et coûts-j'!$C$17:$AF$47,29,FALSE),IF(D17=2027,VLOOKUP(F17,'Intervenants et coûts-j'!$C$17:$AF$47,30,FALSE))))))))","v":""},{"$f":"IF(AB17=\"\",\"\",AG17*AB17)","v":""},{"$f":"IF(AB17=\"\",\"\",VLOOKUP(Z17,'Coûts-indirects'!$A$4:$T$33,20,FALSE)*AB17)","v":""},{"$f":"IF(AA17=\"\",\"\",IF(AD17=\"\",0,VLOOKUP(AA17,'Frais-mission'!$B$3:$F$32,5,FALSE)*AD17))","v":""},{"$f":"IF(AA17=\"\",\"\",IF(AE17=\"\",0,VLOOKUP(AA17,'Frais-mission'!$B$3:$G$32,6,FALSE)*AE17))","v":""},{"$f":"IF(AH17=\"\",\"\",AH17*0.15)","v":""},{"$f":"IF(AC17=\"\",\"\",AG17*AC17*0.1)","v":""},{"$f":"IF(AK17=\"\",\"\",AH17+AI17+AJ17+AK17)","v":""},{"$f":"IF(AN17=\"\",\"\",MIN(AN17,AH17+MIN(AI17,AL17)+MIN(AJ17+AK17,AM17)))","v":""},null,null,null,null,null,{"$f":"\"ListeIntervenants\"&VLOOKUP(E17,'Intervenants et coûts-j'!$B$5:$C$14,2,FALSE)","v":{"$error":"#N/A"}},0,0]
[null,null,null,null,null,null,null,null,null,null,{"$f":"IF(F18=\"\",\"\",IF(D18=2022,VLOOKUP(F18,'Intervenants et coûts-j'!$C$17:$P$47,3,FALSE),IF(D18=2023,VLOOKUP(F18,'Intervenants et coûts-j'!$C$17:$P$47,4,FALSE),IF(D18=2024,VLOOKUP(F18,'Intervenants et coûts-j'!$C$17:$P$47,5,FALSE),IF(D18=2025,VLOOKUP(F18,'Intervenants et coûts-j'!$C$17:$P$47,6,FALSE),IF(D18=2026,VLOOKUP(F18,'Intervenants et coûts-j'!$C$17:$P$47,7,FALSE),IF(D18=2027,VLOOKUP(F18,'Intervenants et coûts-j'!$C$17:$P$47,8,FALSE))))))))","v":""},{"$f":"IF(F18=\"\",\"\",IF(D18=2022,VLOOKUP(F18,'Intervenants et coûts-j'!$C$17:$P$47,9,FALSE),IF(D18=2023,VLOOKUP(F18,'Intervenants et coûts-j'!$C$17:$P$47,10,FALSE),IF(D18=2024,VLOOKUP(F18,'Intervenants et coûts-j'!$C$17:$P$47,11,FALSE),IF(D18=2025,VLOOKUP(F18,'Intervenants et coûts-j'!$C$17:$P$47,12,FALSE),IF(D18=2026,VLOOKUP(F18,'Intervenants et coûts-j'!$C$17:$P$47,13,FALSE),IF(D18=2027,VLOOKUP(F18,'Intervenants et coûts-j'!$C$17:$P$47,14,FALSE))))))))","v":""},"",{"$f":"IF(G18=\"\",\"\",VLOOKUP(E18,'Coûts-indirects'!$A$4:$K$33,11,FALSE)*G18)","v":""},{"$f":"IF(F18=\"\",\"\",VLOOKUP(F18,'Frais-mission'!$B$3:$E$32,3,FALSE)*I18)","v":""},{"$f":"IF(F18=\"\",\"\",VLOOKUP(F18,'Frais-mission'!$B$3:$E$32,4,FALSE)*J18)","v":""},"","","","",null,null,null,null,null,"","","","","","",{"$f":"IF(F18=\"\",\"\",IF(D18=2022,VLOOKUP(F18,'Intervenants et coûts-j'!$C$17:$AF$47,19,FALSE),IF(D18=2023,VLOOKUP(F18,'Intervenants et coûts-j'!$C$17:$AF$47,20,FALSE),IF(D18=2024,VLOOKUP(F18,'Intervenants et coûts-j'!$C$17:$AF$47,21,FALSE),IF(D18=2025,VLOOKUP(F18,'Intervenants et coûts-j'!$C$17:$AF$47,22,FALSE),IF(D18=2026,VLOOKUP(F18,'Intervenants et coûts-j'!$C$17:$AF$47,23,FALSE),IF(D18=2027,VLOOKUP(F18,'Intervenants et coûts-j'!$C$17:$AF$47,24,FALSE))))))))","v":""},{"$f":"IF(F18=\"\",\"\",IF(D18=2022,VLOOKUP(F18,'Intervenants et coûts-j'!$C$17:$AF$47,25,FALSE),IF(D18=2023,VLOOKUP(F18,'Intervenants et coûts-j'!$C$17:$AF$47,26,FALSE),IF(D18=2024,VLOOKUP(F18,'Intervenants et coûts-j'!$C$17:$AF$47,27,FALSE),IF(D18=2025,VLOOKUP(F18,'Intervenants et coûts-j'!$C$17:$AF$47,28,FALSE),IF(D18=2026,VLOOKUP(F18,'Intervenants et coûts-j'!$C$17:$AF$47,29,FALSE),IF(D18=2027,VLOOKUP(F18,'Intervenants et coûts-j'!$C$17:$AF$47,30,FALSE))))))))","v":""},"",{"$f":"IF(AB18=\"\",\"\",VLOOKUP(Z18,'Coûts-indirects'!$A$4:$T$33,20,FALSE)*AB18)","v":""},{"$f":"IF(AA18=\"\",\"\",IF(AD18=\"\",0,VLOOKUP(AA18,'Frais-mission'!$B$3:$F$32,5,FALSE)*AD18))","v":""},{"$f":"IF(AA18=\"\",\"\",IF(AE18=\"\",0,VLOOKUP(AA18,'Frais-mission'!$B$3:$G$32,6,FALSE)*AE18))","v":""},"","","","",null,null,null,null,null,{"$f":"\"ListeIntervenants\"&VLOOKUP(E18,'Intervenants et coûts-j'!$B$5:$C$14,2,FALSE)","v":{"$error":"#N/A"}},0,0]
[null,null,null,null,null,null,null,null,null,null,{"$f":"IF(F19=\"\",\"\",IF(D19=2022,VLOOKUP(F19,'Intervenants et coûts-j'!$C$17:$P$47,3,FALSE),IF(D19=2023,VLOOKUP(F19,'Intervenants et coûts-j'!$C$17:$P$47,4,FALSE),IF(D19=2024,VLOOKUP(F19,'Intervenants et coûts-j'!$C$17:$P$47,5,FALSE),IF(D19=2025,VLOOKUP(F19,'Intervenants et coûts-j'!$C$17:$P$47,6,FALSE),IF(D19=2026,VLOOKUP(F19,'Intervenants et coûts-j'!$C$17:$P$47,7,FALSE),IF(D19=2027,VLOOKUP(F19,'Intervenants et coûts-j'!$C$17:$P$47,8,FALSE))))))))","v":""},{"$f":"IF(F19=\"\",\"\",IF(D19=2022,VLOOKUP(F19,'Intervenants et coûts-j'!$C$17:$P$47,9,FALSE),IF(D19=2023,VLOOKUP(F19,'Intervenants et coûts-j'!$C$17:$P$47,10,FALSE),IF(D19=2024,VLOOKUP(F19,'Intervenants et coûts-j'!$C$17:$P$47,11,FALSE),IF(D19=2025,VLOOKUP(F19,'Intervenants et coûts-j'!$C$17:$P$47,12,FALSE),IF(D19=2026,VLOOKUP(F19,'Intervenants et coûts-j'!$C$17:$P$47,13,FALSE),IF(D19=2027,VLOOKUP(F19,'Intervenants et coûts-j'!$C$17:$P$47,14,FALSE))))))))","v":""},"",{"$f":"IF(G19=\"\",\"\",VLOOKUP(E19,'Coûts-indirects'!$A$4:$K$33,11,FALSE)*G19)","v":""},{"$f":"IF(F19=\"\",\"\",VLOOKUP(F19,'Frais-mission'!$B$3:$E$32,3,FALSE)*I19)","v":""},{"$f":"IF(F19=\"\",\"\",VLOOKUP(F19,'Frais-mission'!$B$3:$E$32,4,FALSE)*J19)","v":""},"","","","",null,null,null,null,null,"","","","","","",{"$f":"IF(F19=\"\",\"\",IF(D19=2022,VLOOKUP(F19,'Intervenants et coûts-j'!$C$17:$AF$47,19,FALSE),IF(D19=2023,VLOOKUP(F19,'Intervenants et coûts-j'!$C$17:$AF$47,20,FALSE),IF(D19=2024,VLOOKUP(F19,'Intervenants et coûts-j'!$C$17:$AF$47,21,FALSE),IF(D19=2025,VLOOKUP(F19,'Intervenants et coûts-j'!$C$17:$AF$47,22,FALSE),IF(D19=2026,VLOOKUP(F19,'Intervenants et coûts-j'!$C$17:$AF$47,23,FALSE),IF(D19=2027,VLOOKUP(F19,'Intervenants et coûts-j'!$C$17:$AF$47,24,FALSE))))))))","v":""},{"$f":"IF(F19=\"\",\"\",IF(D19=2022,VLOOKUP(F19,'Intervenants et coûts-j'!$C$17:$AF$47,25,FALSE),IF(D19=2023,VLOOKUP(F19,'Intervenants et coûts-j'!$C$17:$AF$47,26,FALSE),IF(D19=2024,VLOOKUP(F19,'Intervenants et coûts-j'!$C$17:$AF$47,27,FALSE),IF(D19=2025,VLOOKUP(F19,'Intervenants et coûts-j'!$C$17:$AF$47,28,FALSE),IF(D19=2026,VLOOKUP(F19,'Intervenants et coûts-j'!$C$17:$AF$47,29,FALSE),IF(D19=2027,VLOOKUP(F19,'Intervenants et coûts-j'!$C$17:$AF$47,30,FALSE))))))))","v":""},"",{"$f":"IF(AB19=\"\",\"\",VLOOKUP(Z19,'Coûts-indirects'!$A$4:$T$33,20,FALSE)*AB19)","v":""},{"$f":"IF(AA19=\"\",\"\",IF(AD19=\"\",0,VLOOKUP(AA19,'Frais-mission'!$B$3:$F$32,5,FALSE)*AD19))","v":""},{"$f":"IF(AA19=\"\",\"\",IF(AE19=\"\",0,VLOOKUP(AA19,'Frais-mission'!$B$3:$G$32,6,FALSE)*AE19))","v":""},"","","","",null,null,null,null,null,{"$f":"\"ListeIntervenants\"&VLOOKUP(E19,'Intervenants et coûts-j'!$B$5:$C$14,2,FALSE)","v":{"$error":"#N/A"}},0,0]
[null,null,null,null,null,null,null,null,null,null,{"$f":"IF(F20=\"\",\"\",IF(D20=2022,VLOOKUP(F20,'Intervenants et coûts-j'!$C$17:$P$47,3,FALSE),IF(D20=2023,VLOOKUP(F20,'Intervenants et coûts-j'!$C$17:$P$47,4,FALSE),IF(D20=2024,VLOOKUP(F20,'Intervenants et coûts-j'!$C$17:$P$47,5,FALSE),IF(D20=2025,VLOOKUP(F20,'Intervenants et coûts-j'!$C$17:$P$47,6,FALSE),IF(D20=2026,VLOOKUP(F20,'Intervenants et coûts-j'!$C$17:$P$47,7,FALSE),IF(D20=2027,VLOOKUP(F20,'Intervenants et coûts-j'!$C$17:$P$47,8,FALSE))))))))","v":""},{"$f":"IF(F20=\"\",\"\",IF(D20=2022,VLOOKUP(F20,'Intervenants et coûts-j'!$C$17:$P$47,9,FALSE),IF(D20=2023,VLOOKUP(F20,'Intervenants et coûts-j'!$C$17:$P$47,10,FALSE),IF(D20=2024,VLOOKUP(F20,'Intervenants et coûts-j'!$C$17:$P$47,11,FALSE),IF(D20=2025,VLOOKUP(F20,'Intervenants et coûts-j'!$C$17:$P$47,12,FALSE),IF(D20=2026,VLOOKUP(F20,'Intervenants et coûts-j'!$C$17:$P$47,13,FALSE),IF(D20=2027,VLOOKUP(F20,'Intervenants et coûts-j'!$C$17:$P$47,14,FALSE))))))))","v":""},"",{"$f":"IF(G20=\"\",\"\",VLOOKUP(E20,'Coûts-indirects'!$A$4:$K$33,11,FALSE)*G20)","v":""},{"$f":"IF(F20=\"\",\"\",VLOOKUP(F20,'Frais-mission'!$B$3:$E$32,3,FALSE)*I20)","v":""},{"$f":"IF(F20=\"\",\"\",VLOOKUP(F20,'Frais-mission'!$B$3:$E$32,4,FALSE)*J20)","v":""},"","","","",null,null,null,null,null,"","","","","","",{"$f":"IF(F20=\"\",\"\",IF(D20=2022,VLOOKUP(F20,'Intervenants et coûts-j'!$C$17:$AF$47,19,FALSE),IF(D20=2023,VLOOKUP(F20,'Intervenants et coûts-j'!$C$17:$AF$47,20,FALSE),IF(D20=2024,VLOOKUP(F20,'Intervenants et coûts-j'!$C$17:$AF$47,21,FALSE),IF(D20=2025,VLOOKUP(F20,'Intervenants et coûts-j'!$C$17:$AF$47,22,FALSE),IF(D20=2026,VLOOKUP(F20,'Intervenants et coûts-j'!$C$17:$AF$47,23,FALSE),IF(D20=2027,VLOOKUP(F20,'Intervenants et coûts-j'!$C$17:$AF$47,24,FALSE))))))))","v":""},{"$f":"IF(F20=\"\",\"\",IF(D20=2022,VLOOKUP(F20,'Intervenants et coûts-j'!$C$17:$AF$47,25,FALSE),IF(D20=2023,VLOOKUP(F20,'Intervenants et coûts-j'!$C$17:$AF$47,26,FALSE),IF(D20=2024,VLOOKUP(F20,'Intervenants et coûts-j'!$C$17:$AF$47,27,FALSE),IF(D20=2025,VLOOKUP(F20,'Intervenants et coûts-j'!$C$17:$AF$47,28,FALSE),IF(D20=2026,VLOOKUP(F20,'Intervenants et coûts-j'!$C$17:$AF$47,29,FALSE),IF(D20=2027,VLOOKUP(F20,'Intervenants et coûts-j'!$C$17:$AF$47,30,FALSE))))))))","v":""},"",{"$f":"IF(AB20=\"\",\"\",VLOOKUP(Z20,'Coûts-indirects'!$A$4:$T$33,20,FALSE)*AB20)","v":""},{"$f":"IF(AA20=\"\",\"\",IF(AD20=\"\",0,VLOOKUP(AA20,'Frais-mission'!$B$3:$F$32,5,FALSE)*AD20))","v":""},{"$f":"IF(AA20=\"\",\"\",IF(AE20=\"\",0,VLOOKUP(AA20,'Frais-mission'!$B$3:$G$32,6,FALSE)*AE20))","v":""},"","","","",null,null,null,null,null,{"$f":"\"ListeIntervenants\"&VLOOKUP(E20,'Intervenants et coûts-j'!$B$5:$C$14,2,FALSE)","v":{"$error":"#N/A"}},0,0]
[null,null,null,null,null,null,null,null,null,null,{"$f":"IF(F21=\"\",\"\",IF(D21=2022,VLOOKUP(F21,'Intervenants et coûts-j'!$C$17:$P$47,3,FALSE),IF(D21=2023,VLOOKUP(F21,'Intervenants et coûts-j'!$C$17:$P$47,4,FALSE),IF(D21=2024,VLOOKUP(F21,'Intervenants et coûts-j'!$C$17:$P$47,5,FALSE),IF(D21=2025,VLOOKUP(F21,'Intervenants et coûts-j'!$C$17:$P$47,6,FALSE),IF(D21=2026,VLOOKUP(F21,'Intervenants et coûts-j'!$C$17:$P$47,7,FALSE),IF(D21=2027,VLOOKUP(F21,'Intervenants et coûts-j'!$C$17:$P$47,8,FALSE))))))))","v":""},{"$f":"IF(F21=\"\",\"\",IF(D21=2022,VLOOKUP(F21,'Intervenants et coûts-j'!$C$17:$P$47,9,FALSE),IF(D21=2023,VLOOKUP(F21,'Intervenants et coûts-j'!$C$17:$P$47,10,FALSE),IF(D21=2024,VLOOKUP(F21,'Intervenants et coûts-j'!$C$17:$P$47,11,FALSE),IF(D21=2025,VLOOKUP(F21,'Intervenants et coûts-j'!$C$17:$P$47,12,FALSE),IF(D21=2026,VLOOKUP(F21,'Intervenants et coûts-j'!$C$17:$P$47,13,FALSE),IF(D21=2027,VLOOKUP(F21,'Intervenants et coûts-j'!$C$17:$P$47,14,FALSE))))))))","v":""},"",{"$f":"IF(G21=\"\",\"\",VLOOKUP(E21,'Coûts-indirects'!$A$4:$K$33,11,FALSE)*G21)","v":""},{"$f":"IF(F21=\"\",\"\",VLOOKUP(F21,'Frais-mission'!$B$3:$E$32,3,FALSE)*I21)","v":""},{"$f":"IF(F21=\"\",\"\",VLOOKUP(F21,'Frais-mission'!$B$3:$E$32,4,FALSE)*J21)","v":""},"","","","",null,null,null,null,null,"","","","","","",{"$f":"IF(F21=\"\",\"\",IF(D21=2022,VLOOKUP(F21,'Intervenants et coûts-j'!$C$17:$AF$47,19,FALSE),IF(D21=2023,VLOOKUP(F21,'Intervenants et coûts-j'!$C$17:$AF$47,20,FALSE),IF(D21=2024,VLOOKUP(F21,'Intervenants et coûts-j'!$C$17:$AF$47,21,FALSE),IF(D21=2025,VLOOKUP(F21,'Intervenants et coûts-j'!$C$17:$AF$47,22,FALSE),IF(D21=2026,VLOOKUP(F21,'Intervenants et coûts-j'!$C$17:$AF$47,23,FALSE),IF(D21=2027,VLOOKUP(F21,'Intervenants et coûts-j'!$C$17:$AF$47,24,FALSE))))))))","v":""},{"$f":"IF(F21=\"\",\"\",IF(D21=2022,VLOOKUP(F21,'Intervenants et coûts-j'!$C$17:$AF$47,25,FALSE),IF(D21=2023,VLOOKUP(F21,'Intervenants et coûts-j'!$C$17:$AF$47,26,FALSE),IF(D21=2024,VLOOKUP(F21,'Intervenants et coûts-j'!$C$17:$AF$47,27,FALSE),IF(D21=2025,VLOOKUP(F21,'Intervenants et coûts-j'!$C$17:$AF$47,28,FALSE),IF(D21=2026,VLOOKUP(F21,'Intervenants et coûts-j'!$C$17:$AF$47,29,FALSE),IF(D21=2027,VLOOKUP(F21,'Intervenants et coûts-j'!$C$17:$AF$47,30,FALSE))))))))","v":""},"",{"$f":"IF(AB21=\"\",\"\",VLOOKUP(Z21,'Coûts-indirects'!$A$4:$T$33,20,FALSE)*AB21)","v":""},{"$f":"IF(AA21=\"\",\"\",IF(AD21=\"\",0,VLOOKUP(AA21,'Frais-mission'!$B$3:$F$32,5,FALSE)*AD21))","v":""},{"$f":"IF(AA21=\"\",\"\",IF(AE21=\"\",0,VLOOKUP(AA21,'Frais-mission'!$B$3:$G$32,6,FALSE)*AE21))","v":""},"","","","",null,null,null,null,null,{"$f":"\"ListeIntervenants\"&VLOOKUP(E21,'Intervenants et coûts-j'!$B$5:$C$14,2,FALSE)","v":{"$error":"#N/A"}},0,0]
[null,null,null,null,null,null,null,null,null,null,{"$f":"IF(F22=\"\",\"\",IF(D22=2022,VLOOKUP(F22,'Intervenants et coûts-j'!$C$17:$P$47,3,FALSE),IF(D22=2023,VLOOKUP(F22,'Intervenants et coûts-j'!$C$17:$P$47,4,FALSE),IF(D22=2024,VLOOKUP(F22,'Intervenants et coûts-j'!$C$17:$P$47,5,FALSE),IF(D22=2025,VLOOKUP(F22,'Intervenants et coûts-j'!$C$17:$P$47,6,FALSE),IF(D22=2026,VLOOKUP(F22,'Intervenants et coûts-j'!$C$17:$P$47,7,FALSE),IF(D22=2027,VLOOKUP(F22,'Intervenants et coûts-j'!$C$17:$P$47,8,FALSE))))))))","v":""},{"$f":"IF(F22=\"\",\"\",IF(D22=2022,VLOOKUP(F22,'Intervenants et coûts-j'!$C$17:$P$47,9,FALSE),IF(D22=2023,VLOOKUP(F22,'Intervenants et coûts-j'!$C$17:$P$47,10,FALSE),IF(D22=2024,VLOOKUP(F22,'Intervenants et coûts-j'!$C$17:$P$47,11,FALSE),IF(D22=2025,VLOOKUP(F22,'Intervenants et coûts-j'!$C$17:$P$47,12,FALSE),IF(D22=2026,VLOOKUP(F22,'Intervenants et coûts-j'!$C$17:$P$47,13,FALSE),IF(D22=2027,VLOOKUP(F22,'Intervenants et coûts-j'!$C$17:$P$47,14,FALSE))))))))","v":""},"",{"$f":"IF(G22=\"\",\"\",VLOOKUP(E22,'Coûts-indirects'!$A$4:$K$33,11,FALSE)*G22)","v":""},{"$f":"IF(F22=\"\",\"\",VLOOKUP(F22,'Frais-mission'!$B$3:$E$32,3,FALSE)*I22)","v":""},{"$f":"IF(F22=\"\",\"\",VLOOKUP(F22,'Frais-mission'!$B$3:$E$32,4,FALSE)*J22)","v":""},"","","","",null,null,null,null,null,"","","","","","",{"$f":"IF(F22=\"\",\"\",IF(D22=2022,VLOOKUP(F22,'Intervenants et coûts-j'!$C$17:$AF$47,19,FALSE),IF(D22=2023,VLOOKUP(F22,'Intervenants et coûts-j'!$C$17:$AF$47,20,FALSE),IF(D22=2024,VLOOKUP(F22,'Intervenants et coûts-j'!$C$17:$AF$47,21,FALSE),IF(D22=2025,VLOOKUP(F22,'Intervenants et coûts-j'!$C$17:$AF$47,22,FALSE),IF(D22=2026,VLOOKUP(F22,'Intervenants et coûts-j'!$C$17:$AF$47,23,FALSE),IF(D22=2027,VLOOKUP(F22,'Intervenants et coûts-j'!$C$17:$AF$47,24,FALSE))))))))","v":""},{"$f":"IF(F22=\"\",\"\",IF(D22=2022,VLOOKUP(F22,'Intervenants et coûts-j'!$C$17:$AF$47,25,FALSE),IF(D22=2023,VLOOKUP(F22,'Intervenants et coûts-j'!$C$17:$AF$47,26,FALSE),IF(D22=2024,VLOOKUP(F22,'Intervenants et coûts-j'!$C$17:$AF$47,27,FALSE),IF(D22=2025,VLOOKUP(F22,'Intervenants et coûts-j'!$C$17:$AF$47,28,FALSE),IF(D22=2026,VLOOKUP(F22,'Intervenants et coûts-j'!$C$17:$AF$47,29,FALSE),IF(D22=2027,VLOOKUP(F22,'Intervenants et coûts-j'!$C$17:$AF$47,30,FALSE))))))))","v":""},"",{"$f":"IF(AB22=\"\",\"\",VLOOKUP(Z22,'Coûts-indirects'!$A$4:$T$33,20,FALSE)*AB22)","v":""},{"$f":"IF(AA22=\"\",\"\",IF(AD22=\"\",0,VLOOKUP(AA22,'Frais-mission'!$B$3:$F$32,5,FALSE)*AD22))","v":""},{"$f":"IF(AA22=\"\",\"\",IF(AE22=\"\",0,VLOOKUP(AA22,'Frais-mission'!$B$3:$G$32,6,FALSE)*AE22))","v":""},"","","","",null,null,null,null,null,{"$f":"\"ListeIntervenants\"&VLOOKUP(E22,'Intervenants et coûts-j'!$B$5:$C$14,2,FALSE)","v":{"$error":"#N/A"}},0,0]
[null,null,null,null,null,null,null,null,null,null,{"$f":"IF(F23=\"\",\"\",IF(D23=2022,VLOOKUP(F23,'Intervenants et coûts-j'!$C$17:$P$47,3,FALSE),IF(D23=2023,VLOOKUP(F23,'Intervenants et coûts-j'!$C$17:$P$47,4,FALSE),IF(D23=2024,VLOOKUP(F23,'Intervenants et coûts-j'!$C$17:$P$47,5,FALSE),IF(D23=2025,VLOOKUP(F23,'Intervenants et coûts-j'!$C$17:$P$47,6,FALSE),IF(D23=2026,VLOOKUP(F23,'Intervenants et coûts-j'!$C$17:$P$47,7,FALSE),IF(D23=2027,VLOOKUP(F23,'Intervenants et coûts-j'!$C$17:$P$47,8,FALSE))))))))","v":""},{"$f":"IF(F23=\"\",\"\",IF(D23=2022,VLOOKUP(F23,'Intervenants et coûts-j'!$C$17:$P$47,9,FALSE),IF(D23=2023,VLOOKUP(F23,'Intervenants et coûts-j'!$C$17:$P$47,10,FALSE),IF(D23=2024,VLOOKUP(F23,'Intervenants et coûts-j'!$C$17:$P$47,11,FALSE),IF(D23=2025,VLOOKUP(F23,'Intervenants et coûts-j'!$C$17:$P$47,12,FALSE),IF(D23=2026,VLOOKUP(F23,'Intervenants et coûts-j'!$C$17:$P$47,13,FALSE),IF(D23=2027,VLOOKUP(F23,'Intervenants et coûts-j'!$C$17:$P$47,14,FALSE))))))))","v":""},"",{"$f":"IF(G23=\"\",\"\",VLOOKUP(E23,'Coûts-indirects'!$A$4:$K$33,11,FALSE)*G23)","v":""},{"$f":"IF(F23=\"\",\"\",VLOOKUP(F23,'Frais-mission'!$B$3:$E$32,3,FALSE)*I23)","v":""},{"$f":"IF(F23=\"\",\"\",VLOOKUP(F23,'Frais-mission'!$B$3:$E$32,4,FALSE)*J23)","v":""},"","","","",null,null,"",null,"","","","","","","",{"$f":"IF(F23=\"\",\"\",IF(D23=2022,VLOOKUP(F23,'Intervenants et coûts-j'!$C$17:$AF$47,19,FALSE),IF(D23=2023,VLOOKUP(F23,'Intervenants et coûts-j'!$C$17:$AF$47,20,FALSE),IF(D23=2024,VLOOKUP(F23,'Intervenants et coûts-j'!$C$17:$AF$47,21,FALSE),IF(D23=2025,VLOOKUP(F23,'Intervenants et coûts-j'!$C$17:$AF$47,22,FALSE),IF(D23=2026,VLOOKUP(F23,'Intervenants et coûts-j'!$C$17:$AF$47,23,FALSE),IF(D23=2027,VLOOKUP(F23,'Intervenants et coûts-j'!$C$17:$AF$47,24,FALSE))))))))","v":""},{"$f":"IF(F23=\"\",\"\",IF(D23=2022,VLOOKUP(F23,'Intervenants et coûts-j'!$C$17:$AF$47,25,FALSE),IF(D23=2023,VLOOKUP(F23,'Intervenants et coûts-j'!$C$17:$AF$47,26,FALSE),IF(D23=2024,VLOOKUP(F23,'Intervenants et coûts-j'!$C$17:$AF$47,27,FALSE),IF(D23=2025,VLOOKUP(F23,'Intervenants et coûts-j'!$C$17:$AF$47,28,FALSE),IF(D23=2026,VLOOKUP(F23,'Intervenants et coûts-j'!$C$17:$AF$47,29,FALSE),IF(D23=2027,VLOOKUP(F23,'Intervenants et coûts-j'!$C$17:$AF$47,30,FALSE))))))))","v":""},"",{"$f":"IF(AB23=\"\",\"\",VLOOKUP(Z23,'Coûts-indirects'!$A$4:$T$33,20,FALSE)*AB23)","v":""},{"$f":"IF(AA23=\"\",\"\",IF(AD23=\"\",0,VLOOKUP(AA23,'Frais-mission'!$B$3:$F$32,5,FALSE)*AD23))","v":""},{"$f":"IF(AA23=\"\",\"\",IF(AE23=\"\",0,VLOOKUP(AA23,'Frais-mission'!$B$3:$G$32,6,FALSE)*AE23))","v":""},"","","","",null,null,null,null,null,{"$f":"\"ListeIntervenants\"&VLOOKUP(E23,'Intervenants et coûts-j'!$B$5:$C$14,2,FALSE)","v":{"$error":"#N/A"}},0,0]
[null,null,null,null,null,null,null,null,null,null,{"$f":"IF(F24=\"\",\"\",IF(D24=2022,VLOOKUP(F24,'Intervenants et coûts-j'!$C$17:$P$47,3,FALSE),IF(D24=2023,VLOOKUP(F24,'Intervenants et coûts-j'!$C$17:$P$47,4,FALSE),IF(D24=2024,VLOOKUP(F24,'Intervenants et coûts-j'!$C$17:$P$47,5,FALSE),IF(D24=2025,VLOOKUP(F24,'Intervenants et coûts-j'!$C$17:$P$47,6,FALSE),IF(D24=2026,VLOOKUP(F24,'Intervenants et coûts-j'!$C$17:$P$47,7,FALSE),IF(D24=2027,VLOOKUP(F24,'Intervenants et coûts-j'!$C$17:$P$47,8,FALSE))))))))","v":""},{"$f":"IF(F24=\"\",\"\",IF(D24=2022,VLOOKUP(F24,'Intervenants et coûts-j'!$C$17:$P$47,9,FALSE),IF(D24=2023,VLOOKUP(F24,'Intervenants et coûts-j'!$C$17:$P$47,10,FALSE),IF(D24=2024,VLOOKUP(F24,'Intervenants et coûts-j'!$C$17:$P$47,11,FALSE),IF(D24=2025,VLOOKUP(F24,'Intervenants et coûts-j'!$C$17:$P$47,12,FALSE),IF(D24=2026,VLOOKUP(F24,'Intervenants et coûts-j'!$C$17:$P$47,13,FALSE),IF(D24=2027,VLOOKUP(F24,'Intervenants et coûts-j'!$C$17:$P$47,14,FALSE))))))))","v":""},"",{"$f":"IF(G24=\"\",\"\",VLOOKUP(E24,'Coûts-indirects'!$A$4:$K$33,11,FALSE)*G24)","v":""},{"$f":"IF(F24=\"\",\"\",VLOOKUP(F24,'Frais-mission'!$B$3:$E$32,3,FALSE)*I24)","v":""},{"$f":"IF(F24=\"\",\"\",VLOOKUP(F24,'Frais-mission'!$B$3:$E$32,4,FALSE)*J24)","v":""},"","","","",null,null,"",null,"","","","","","","",{"$f":"IF(F24=\"\",\"\",IF(D24=2022,VLOOKUP(F24,'Intervenants et coûts-j'!$C$17:$AF$47,19,FALSE),IF(D24=2023,VLOOKUP(F24,'Intervenants et coûts-j'!$C$17:$AF$47,20,FALSE),IF(D24=2024,VLOOKUP(F24,'Intervenants et coûts-j'!$C$17:$AF$47,21,FALSE),IF(D24=2025,VLOOKUP(F24,'Intervenants et coûts-j'!$C$17:$AF$47,22,FALSE),IF(D24=2026,VLOOKUP(F24,'Intervenants et coûts-j'!$C$17:$AF$47,23,FALSE),IF(D24=2027,VLOOKUP(F24,'Intervenants et coûts-j'!$C$17:$AF$47,24,FALSE))))))))","v":""},{"$f":"IF(F24=\"\",\"\",IF(D24=2022,VLOOKUP(F24,'Intervenants et coûts-j'!$C$17:$AF$47,25,FALSE),IF(D24=2023,VLOOKUP(F24,'Intervenants et coûts-j'!$C$17:$AF$47,26,FALSE),IF(D24=2024,VLOOKUP(F24,'Intervenants et coûts-j'!$C$17:$AF$47,27,FALSE),IF(D24=2025,VLOOKUP(F24,'Intervenants et coûts-j'!$C$17:$AF$47,28,FALSE),IF(D24=2026,VLOOKUP(F24,'Intervenants et coûts-j'!$C$17:$AF$47,29,FALSE),IF(D24=2027,VLOOKUP(F24,'Intervenants et coûts-j'!$C$17:$AF$47,30,FALSE))))))))","v":""},"",{"$f":"IF(AB24=\"\",\"\",VLOOKUP(Z24,'Coûts-indirects'!$A$4:$T$33,20,FALSE)*AB24)","v":""},{"$f":"IF(AA24=\"\",\"\",IF(AD24=\"\",0,VLOOKUP(AA24,'Frais-mission'!$B$3:$F$32,5,FALSE)*AD24))","v":""},{"$f":"IF(AA24=\"\",\"\",IF(AE24=\"\",0,VLOOKUP(AA24,'Frais-mission'!$B$3:$G$32,6,FALSE)*AE24))","v":""},"","","","",null,null,null,null,null,{"$f":"\"ListeIntervenants\"&VLOOKUP(E24,'Intervenants et coûts-j'!$B$5:$C$14,2,FALSE)","v":{"$error":"#N/A"}},0,0]
[null,null,"Réalisation par un prestataire",null,null,null,null,null,null,null,null,null,null,null,null,null,null,null,0,{"$f":"S25","v":0},null,null,"","Réalisation par un prestataire",null,"","","",null,null,null,null,null,null,null,null,null,null,null,{"$f":"IF(S25=\"\",0,S25)","v":0},{"$f":"AN25","v":0},null,null,null,null,null,{"$f":"\"ListeIntervenants\"&VLOOKUP(E25,'Intervenants et coûts-j'!$B$5:$C$14,2,FALSE)","v":{"$error":"#N/A"}},0,0]
[null,null,null,null,null,null,null,null,null,null,null,null,null,null,null,null,null,null,0,{"$f":"S26","v":0},null,null,null,null,null,"",null,"",null,null,null,null,null,null,null,null,null,null,null,{"$f":"IF(S26=\"\",0,S26)","v":0},{"$f":"AN26","v":0},null,null,null,null,null,{"$f":"\"ListeIntervenants\"&VLOOKUP(E26,'Intervenants et coûts-j'!$B$5:$C$14,2,FALSE)","v":{"$error":"#N/A"}},0,0]
[null,null,null,null,null,null,null,null,null,null,null,null,null,null,null,null,null,null,0,{"$f":"S27","v":0},null,null,"",null,null,"","","",null,null,null,null,null,null,null,null,null,null,null,0,{"$f":"AN27","v":0},null,null,null,null,null,{"$f":"\"ListeIntervenants\"&VLOOKUP(E27,'Intervenants et coûts-j'!$B$5:$C$14,2,FALSE)","v":{"$error":"#N/A"}},0,0]
[null,null,null,null,null,null,null,null,null,null,null,null,null,null,null,null,null,null,0,{"$f":"S28","v":0},null,null,"",null,null,"","","",null,null,null,null,null,null,null,null,null,null,null,0,{"$f":"AN28","v":0},null,null,null,null,null,{"$f":"\"ListeIntervenants\"&VLOOKUP(E28,'Intervenants et coûts-j'!$B$5:$C$14,2,FALSE)","v":{"$error":"#N/A"}},0,0]
["Sous-total volet 3",{"$f":"SUM(B12:B28)","v":0},null,null,{"$f":"SUM(E12:E28)","v":0},"-",null,null,null,null,null,null,null,null,null,null,null,null,{"$f":"SUM(S5:S28)","v":0},{"$f":"SUM(T5:T28)","v":0},{"$f":"SUM(U5:U28)","v":0},{"$f":"SUM(V5:V28)","v":0},{"$f":"SUM(W12:W28)","v":0},null,null,{"$f":"SUM(Z12:Z28)","v":0},"-",null,null,null,null,null,null,null,null,null,null,null,null,{"$f":"SUM(AN5:AN28)","v":0},{"$f":"SUM(AO5:AO28)","v":0},{"$f":"SUM(AP5:AP28)","v":{"$error":"#VALUE!"}},{"$f":"SUM(AQ5:AQ28)","v":{"$error":"#VALUE!"}}]
[]
[]
[null,null,null,null,null,null,"Montants présentés par structure",null,null,null,null,null,null,null,null,null,null,null,null,null,null,null,null,null,null,null,null,"Montants retenus par structure"]
[null,null,null,null,"Postes de dépenses",null,{"$f":"'Dép. volet 3-Diag.'!G64","v":0},{"$f":"'Dép. volet 3-Diag.'!H64","v":"-"},{"$f":"'Dép. volet 3-Diag.'!I64","v":"-"},{"$f":"'Dép. volet 3-Diag.'!J64","v":"-"},{"$f":"'Dép. volet 3-Diag.'!K64","v":"-"},{"$f":"'Dép. volet 3-Diag.'!L64","v":"-"},{"$f":"'Dép. volet 3-Diag.'!M64","v":"-"},{"$f":"'Dép. volet 3-Diag.'!N64","v":"-"},{"$f":"'Dép. volet 3-Diag.'!O64","v":"-"},{"$f":"'Dép. volet 3-Diag.'!P64","v":"-"},"TOTAL",null,null,null,null,null,null,null,null,"Postes de dépenses",null,{"$f":"G33","v":0},"-","-","-","-","-","-","-","-","-","TOTAL"]
[null,null,null,null,"Frais de personnel",null,{"$f":"SUMIF($E$5:$E$28,G33,$M$5:$M$28)","v":0},0,0,0,0,0,0,0,0,0,{"$f":"SUM(G34:P34)","v":0},null,null,null,null,null,null,null,null,"Frais de personnel",null,{"$f":"SUMIF($Z$5:$Z$28,AB33,$AH$5:$AH$28)","v":0},0,0,0,0,0,0,0,0,0,{"$f":"SUM(AB34:AK34)","v":0}]
[null,null,null,null,"Coûts indirects",null,{"$f":"SUMIF($E$5:$E$28,G33,$N$5:$N$28)","v":0},0,0,0,0,0,0,0,0,0,{"$f":"SUM(G35:P35)","v":0},null,null,null,null,null,null,null,null,"Coûts indirects",null,{"$f":"SUMIF($Z$5:$Z$28,AB33,$AI$5:$AI$28)","v":0},0,0,0,0,0,0,0,0,0,{"$f":"SUM(AB35:AK35)","v":0}]
[null,null,null,null,"Frais de déplacement de restauration et d'hébergement",null,{"$f":"SUMIF($E$5:$E$28,G33,$O$5:$O$28)+SUMIF($E$5:$E$28,G33,$P$5:$P$28)","v":0},0,0,0,0,0,0,0,0,0,0,null,null,null,null,null,null,null,null,"Frais de déplacement de restauration et d'hébergement",null,{"$f":"SUMIF($Z$5:$Z$28,AB33,$AJ$5:$AJ$28)+SUMIF($Z$5:$Z$28,AB33,$AK$5:$AK$28)","v":0},0,0,0,0,0,0,0,0,0,0]
[null,null,null,null,"Autres frais",null,{"$f":"SUM(T25:T28)","v":0},0,0,0,0,0,0,0,0,0,0,null,null,null,null,null,null,null,null,"Autres frais",null,{"$f":"SUM(AO25:AO28)","v":0},0,0,0,0,0,0,0,0,0,0]
[null,null,null,null,"Total volet 3",null,{"$f":"SUM(G34:G37)","v":0},{"$f":"SUM(H34:H37)","v":0},0,0,0,0,0,0,0,0,{"$f":"SUM(G38:P38)","v":0},null,null,null,null,null,null,null,null,"Total volet 3",null,{"$f":"SUM(AB34:AB37)","v":0},{"$f":"SUM(AC34:AC37)","v":0},{"$f":"SUM(AD34:AD37)","v":0},{"$f":"SUM(AE34:AE37)","v":0},{"$f":"SUM(AF34:AF37)","v":0},{"$f":"SUM(AG34:AG37)","v":0},{"$f":"SUM(AH34:AH37)","v":0},{"$f":"SUM(AI34:AI37)","v":0},{"$f":"SUM(AJ34:AJ37)","v":0},{"$f":"SUM(AK34:AK37)","v":0},{"$f":"SUM(AB38:AK38)","v":0}]
[null,null,null,null,"Total volet 3 (plafonné le cas échéant)",null,{"$f":"SUMIF($E$5:$E$24,G33,$AV$5:$AV$24)+SUM(AV25:AV28)","v":0},{"$f":"SUMIF($E$5:$E$24,H33,$AV$5:$AV$24)","v":0},0,0,0,0,0,0,0,0,0,null,null,null,null,null,null,null,null,"Total volet 3 (plafonné le cas échéant)",null,{"$f":"SUMIF($Z$5:$Z$24,AB33,$AW$5:$AW$24)+SUM(AW25:AW28)","v":0},{"$f":"SUMIF($Z$5:$Z$24,AC33,$AW$5:$AW$24)","v":0},0,0,0,0,0,0,0,0,{"$f":"SUM(AB39:AK39)","v":0}]
[]
[]
[]
["Certifié exact et sincère, le (date) :","………………………………………………………………………………………………………………………….."]
["Nom, prénom du représentant de la structure :","………………………………………………………………………………………………………………………….."]
["Qualité :","………………………………………………………………………………………………………………………….."]
["Cachet et signature :"]
[]
[]
[]
[]
[]
["Demandeur :",{"$f":"Identification!E23","v":0}]
["SIRET :",{"$f":"Identification!E25","v":0}]

{"sheet":"Synthèse montants présentés","index":10,"n_rows":38,"n_cols":23,"rows_kept":38,"cut":false,"hidden":false,"merged":[[2,1,2,11],[2,12,2,22],[0,0,0,11],[36,1,36,4],[37,1,37,4]]}
["Synthèse des montants réalisés"]
[]
[null,"Montants réalisés présentés",null,null,null,null,null,null,null,null,null,null,"Montants réalisés retenus"]
["Postes de dépenses ",{"$f":"'Dép.volet 1-Elab.'!E77","v":0},{"$f":"'Dép.volet 1-Elab.'!F77","v":"-"},{"$f":"'Dép.volet 1-Elab.'!G77","v":"-"},{"$f":"'Dép.volet 1-Elab.'!H77","v":"-"},{"$f":"'Dép.volet 1-Elab.'!I77","v":"-"},{"$f":"'Dép.volet 1-Elab.'!J77","v":"-"},{"$f":"'Dép.volet 1-Elab.'!K77","v":"-"},{"$f":"'Dép.volet 1-Elab.'!L77","v":"-"},{"$f":"'Dép.volet 1-Elab.'!M77","v":"-"},{"$f":"'Dép.volet 1-Elab.'!N77","v":"-"},"TOTAL",{"$f":"B4","v":0},{"$f":"C4","v":"-"},"-","-","-","-","-","-","-","-","TOTAL"]
["Volet 1 - Elaboration"]
["Frais de personnel",{"$f":"+'Dép.volet 1-Elab.'!E78","v":0},{"$f":"+'Dép.volet 1-Elab.'!F78","v":0},{"$f":"+'Dép.volet 1-Elab.'!G78","v":0},{"$f":"+'Dép.volet 1-Elab.'!H78","v":0},{"$f":"+'Dép.volet 1-Elab.'!I78","v":0},{"$f":"+'Dép.volet 1-Elab.'!J78","v":0},{"$f":"+'Dép.volet 1-Elab.'!K78","v":0},{"$f":"+'Dép.volet 1-Elab.'!L78","v":0},{"$f":"+'Dép.volet 1-Elab.'!M78","v":0},{"$f":"+'Dép.volet 1-Elab.'!N78","v":0},{"$f":"SUM(B6:K6)","v":0},{"$f":"'Dép.volet 1-Elab.'!T78","v":0},{"$f":"'Dép.volet 1-Elab.'!U78","v":0},{"$f":"'Dép.volet 1-Elab.'!V78","v":0},{"$f":"'Dép.volet 1-Elab.'!W78","v":0},{"$f":"'Dép.volet 1-Elab.'!X78","v":0},{"$f":"'Dép.volet 1-Elab.'!Y78","v":0},{"$f":"'Dép.volet 1-Elab.'!Z78","v":0},{"$f":"'Dép.volet 1-Elab.'!AA78","v":0},{"$f":"'Dép.volet 1-Elab.'!AB78","v":0},{"$f":"'Dép.volet 1-Elab.'!AC78","v":0},{"$f":"SUM(M6:V6)","v":0}]
["Coûts indirects",{"$f":"+'Dép.volet 1-Elab.'!E79","v":0},{"$f":"+'Dép.volet 1-Elab.'!F79","v":0},{"$f":"+'Dép.volet 1-Elab.'!G79","v":0},{"$f":"+'Dép.volet 1-Elab.'!H79","v":0},{"$f":"+'Dép.volet 1-Elab.'!I79","v":0},{"$f":"+'Dép.volet 1-Elab.'!J79","v":0},{"$f":"+'Dép.volet 1-Elab.'!K79","v":0},{"$f":"+'Dép.volet 1-Elab.'!L79","v":0},{"$f":"+'Dép.volet 1-Elab.'!M79","v":0},{"$f":"+'Dép.volet 1-Elab.'!N79","v":0},{"$f":"SUM(B7:K7)","v":0},{"$f":"'Dép.volet 1-Elab.'!T79","v":0},{"$f":"'Dép.volet 1-Elab.'!U79","v":0},{"$f":"'Dép.volet 1-Elab.'!V79","v":0},{"$f":"'Dép.volet 1-Elab.'!W79","v":0},{"$f":"'Dép.volet 1-Elab.'!X79","v":0},{"$f":"'Dép.volet 1-Elab.'!Y79","v":0},{"$f":"'Dép.volet 1-Elab.'!Z79","v":0},{"$f":"'Dép.volet 1-Elab.'!AA79","v":0},{"$f":"'Dép.volet 1-Elab.'!AB79","v":0},{"$f":"'Dép.volet 1-Elab.'!AC79","v":0},{"$f":"SUM(M7:V7)","v":0}]
["Frais de déplacement de restauration et d'hébergement",{"$f":"+'Dép.volet 1-Elab.'!E80","v":0},{"$f":"+'Dép.volet 1-Elab.'!F80","v":0},{"$f":"+'Dép.volet 1-Elab.'!G80","v":0},{"$f":"+'Dép.volet 1-Elab.'!H80","v":0},{"$f":"+'Dép.volet 1-Elab.'!I80","v":0},{"$f":"+'Dép.volet 1-Elab.'!J80","v":0},{"$f":"+'Dép.volet 1-Elab.'!K80","v":0},{"$f":"+'Dép.volet 1-Elab.'!L80","v":0},{"$f":"+'Dép.volet 1-Elab.'!M80","v":0},{"$f":"+'Dép.volet 1-Elab.'!N80","v":0},0,{"$f":"'Dép.volet 1-Elab.'!T80","v":0},{"$f":"'Dép.volet 1-Elab.'!U80","v":0},{"$f":"'Dép.volet 1-Elab.'!V80","v":0},{"$f":"'Dép.volet 1-Elab.'!W80","v":0},{"$f":"'Dép.volet 1-Elab.'!X80","v":0},{"$f":"'Dép.volet 1-Elab.'!Y80","v":0},{"$f":"'Dép.volet 1-Elab.'!Z80","v":0},{"$f":"'Dép.volet 1-Elab.'!AA80","v":0},{"$f":"'Dép.volet 1-Elab.'!AB80","v":0},{"$f":"'Dép.volet 1-Elab.'!AC80","v":0},0]
["Autres frais",{"$f":"+'Dép.volet 1-Elab.'!E81","v":0},{"$f":"+'Dép.volet 1-Elab.'!F81","v":0},{"$f":"+'Dép.volet 1-Elab.'!G81","v":0},{"$f":"+'Dép.volet 1-Elab.'!H81","v":0},{"$f":"+'Dép.volet 1-Elab.'!I81","v":0},{"$f":"+'Dép.volet 1-Elab.'!J81","v":0},{"$f":"+'Dép.volet 1-Elab.'!K81","v":0},{"$f":"+'Dép.volet 1-Elab.'!L81","v":0},{"$f":"+'Dép.volet 1-Elab.'!M81","v":0},{"$f":"+'Dép.volet 1-Elab.'!N81","v":0},0,{"$f":"'Dép.volet 1-Elab.'!T81","v":0},{"$f":"'Dép.volet 1-Elab.'!U81","v":0},{"$f":"'Dép.volet 1-Elab.'!V81","v":0},{"$f":"'Dép.volet 1-Elab.'!W81","v":0},{"$f":"'Dép.volet 1-Elab.'!X81","v":0},{"$f":"'Dép.volet 1-Elab.'!Y81","v":0},{"$f":"'Dép.volet 1-Elab.'!Z81","v":0},{"$f":"'Dép.volet 1-Elab.'!AA81","v":0},{"$f":"'Dép.volet 1-Elab.'!AB81","v":0},{"$f":"'Dép.volet 1-Elab.'!AC81","v":0},0]
["Total volet 2",{"$f":"+'Dép.volet 1-Elab.'!E82","v":0},{"$f":"+'Dép.volet 1-Elab.'!F82","v":0},{"$f":"+'Dép.volet 1-Elab.'!G82","v":0},{"$f":"+'Dép.volet 1-Elab.'!H82","v":0},{"$f":"+'Dép.volet 1-Elab.'!I82","v":0},{"$f":"+'Dép.volet 1-Elab.'!J82","v":0},{"$f":"+'Dép.volet 1-Elab.'!K82","v":0},{"$f":"+'Dép.volet 1-Elab.'!L82","v":0},{"$f":"+'Dép.volet 1-Elab.'!M82","v":0},{"$f":"+'Dép.volet 1-Elab.'!N82","v":0},0,{"$f":"'Dép.volet 1-Elab.'!T82","v":0},{"$f":"'Dép.volet 1-Elab.'!U82","v":0},{"$f":"'Dép.volet 1-Elab.'!V82","v":0},{"$f":"'Dép.volet 1-Elab.'!W82","v":0},{"$f":"'Dép.volet 1-Elab.'!X82","v":0},{"$f":"'Dép.volet 1-Elab.'!Y82","v":0},{"$f":"'Dép.volet 1-Elab.'!Z82","v":0},{"$f":"'Dép.volet 1-Elab.'!AA82","v":0},{"$f":"'Dép.volet 1-Elab.'!AB82","v":0},{"$f":"'Dép.volet 1-Elab.'!AC82","v":0},0]
["Total volet 2 plafonné le cas échéant",{"$f":"+'Dép.volet 1-Elab.'!E83","v":0},{"$f":"+'Dép.volet 1-Elab.'!F83","v":0},{"$f":"+'Dép.volet 1-Elab.'!G83","v":0},{"$f":"+'Dép.volet 1-Elab.'!H83","v":0},{"$f":"+'Dép.volet 1-Elab.'!I83","v":0},{"$f":"+'Dép.volet 1-Elab.'!J83","v":0},{"$f":"+'Dép.volet 1-Elab.'!K83","v":0},{"$f":"+'Dép.volet 1-Elab.'!L83","v":0},{"$f":"+'Dép.volet 1-Elab.'!M83","v":0},{"$f":"+'Dép.volet 1-Elab.'!N83","v":0},0,{"$f":"'Dép.volet 1-Elab.'!T83","v":0},{"$f":"'Dép.volet 1-Elab.'!U83","v":0},{"$f":"'Dép.volet 1-Elab.'!V83","v":0},{"$f":"'Dép.volet 1-Elab.'!W83","v":0},{"$f":"'Dép.volet 1-Elab.'!X83","v":0},{"$f":"'Dép.volet 1-Elab.'!Y83","v":0},{"$f":"'Dép.volet 1-Elab.'!Z83","v":0},{"$f":"'Dép.volet 1-Elab.'!AA83","v":0},{"$f":"'Dép.volet 1-Elab.'!AB83","v":0},{"$f":"'Dép.volet 1-Elab.'!AC83","v":0},0]
["Volet 2 - Animation"]
["Frais de personnel",{"$f":"'Dép.volet 2-Anim.'!E78","v":0},{"$f":"'Dép.volet 2-Anim.'!F78","v":0},{"$f":"'Dép.volet 2-Anim.'!G78","v":0},{"$f":"'Dép.volet 2-Anim.'!H78","v":0},{"$f":"'Dép.volet 2-Anim.'!I78","v":0},{"$f":"'Dép.volet 2-Anim.'!J78","v":0},{"$f":"'Dép.volet 2-Anim.'!K78","v":0},{"$f":"'Dép.volet 2-Anim.'!L78","v":0},{"$f":"'Dép.volet 2-Anim.'!M78","v":0},{"$f":"'Dép.volet 2-Anim.'!N78","v":0},{"$f":"SUM(B13:K13)","v":0},{"$f":"'Dép.volet 2-Anim.'!T78","v":0},{"$f":"'Dép.volet 2-Anim.'!U78","v":0},{"$f":"'Dép.volet 2-Anim.'!V78","v":0},{"$f":"'Dép.volet 2-Anim.'!W78","v":0},{"$f":"'Dép.volet 2-Anim.'!X78","v":0},{"$f":"'Dép.volet 2-Anim.'!Y78","v":0},{"$f":"'Dép.volet 2-Anim.'!Z78","v":0},{"$f":"'Dép.volet 2-Anim.'!AA78","v":0},{"$f":"'Dép.volet 2-Anim.'!AB78","v":0},{"$f":"'Dép.volet 2-Anim.'!AC78","v":0},{"$f":"SUM(M13:V13)","v":0}]
["Coûts indirects",{"$f":"'Dép.volet 2-Anim.'!E79","v":0},{"$f":"'Dép.volet 2-Anim.'!F79","v":0},{"$f":"'Dép.volet 2-Anim.'!G79","v":0},{"$f":"'Dép.volet 2-Anim.'!H79","v":0},{"$f":"'Dép.volet 2-Anim.'!I79","v":0},{"$f":"'Dép.volet 2-Anim.'!J79","v":0},{"$f":"'Dép.volet 2-Anim.'!K79","v":0},{"$f":"'Dép.volet 2-Anim.'!L79","v":0},{"$f":"'Dép.volet 2-Anim.'!M79","v":0},{"$f":"'Dép.volet 2-Anim.'!N79","v":0},0,{"$f":"'Dép.volet 2-Anim.'!T79","v":0},{"$f":"'Dép.volet 2-Anim.'!U79","v":0},{"$f":"'Dép.volet 2-Anim.'!V79","v":0},{"$f":"'Dép.volet 2-Anim.'!W79","v":0},{"$f":"'Dép.volet 2-Anim.'!X79","v":0},{"$f":"'Dép.volet 2-Anim.'!Y79","v":0},{"$f":"'Dép.volet 2-Anim.'!Z79","v":0},{"$f":"'Dép.volet 2-Anim.'!AA79","v":0},{"$f":"'Dép.volet 2-Anim.'!AB79","v":0},{"$f":"'Dép.volet 2-Anim.'!AC79","v":0},0]
["Frais de déplacement de restauration et d'hébergement",{"$f":"'Dép.volet 2-Anim.'!E80","v":0},{"$f":"'Dép.volet 2-Anim.'!F80","v":0},{"$f":"'Dép.volet 2-Anim.'!G80","v":0},{"$f":"'Dép.volet 2-Anim.'!H80","v":0},{"$f":"'Dép.volet 2-Anim.'!I80","v":0},{"$f":"'Dép.volet 2-Anim.'!J80","v":0},{"$f":"'Dép.volet 2-Anim.'!K80","v":0},{"$f":"'Dép.volet 2-Anim.'!L80","v":0},{"$f":"'Dép.volet 2-Anim.'!M80","v":0},{"$f":"'Dép.volet 2-Anim.'!N80","v":0},0,{"$f":"'Dép.volet 2-Anim.'!T80","v":0},{"$f":"'Dép.volet 2-Anim.'!U80","v":0},{"$f":"'Dép.volet 2-Anim.'!V80","v":0},{"$f":"'Dép.volet 2-Anim.'!W80","v":0},{"$f":"'Dép.volet 2-Anim.'!X80","v":0},{"$f":"'Dép.volet 2-Anim.'!Y80","v":0},{"$f":"'Dép.volet 2-Anim.'!Z80","v":0},{"$f":"'Dép.volet 2-Anim.'!AA80","v":0},{"$f":"'Dép.volet 2-Anim.'!AB80","v":0},{"$f":"'Dép.volet 2-Anim.'!AC80","v":0},0]
["Autres frais",{"$f":"'Dép.volet 2-Anim.'!E81","v":0},{"$f":"'Dép.volet 2-Anim.'!F81","v":0},{"$f":"'Dép.volet 2-Anim.'!G81","v":0},{"$f":"'Dép.volet 2-Anim.'!H81","v":0},{"$f":"'Dép.volet 2-Anim.'!I81","v":0},{"$f":"'Dép.volet 2-Anim.'!J81","v":0},{"$f":"'Dép.volet 2-Anim.'!K81","v":0},{"$f":"'Dép.volet 2-Anim.'!L81","v":0},{"$f":"'Dép.volet 2-Anim.'!M81","v":0},{"$f":"'Dép.volet 2-Anim.'!N81","v":0},0,{"$f":"'Dép.volet 2-Anim.'!T81","v":0},{"$f":"'Dép.volet 2-Anim.'!U81","v":0},{"$f":"'Dép.volet 2-Anim.'!V81","v":0},{"$f":"'Dép.volet 2-Anim.'!W81","v":0},{"$f":"'Dép.volet 2-Anim.'!X81","v":0},{"$f":"'Dép.volet 2-Anim.'!Y81","v":0},{"$f":"'Dép.volet 2-Anim.'!Z81","v":0},{"$f":"'Dép.volet 2-Anim.'!AA81","v":0},{"$f":"'Dép.volet 2-Anim.'!AB81","v":0},{"$f":"'Dép.volet 2-Anim.'!AC81","v":0},0]
["Total volet 2",{"$f":"'Dép.volet 2-Anim.'!E82","v":0},{"$f":"'Dép.volet 2-Anim.'!F82","v":0},{"$f":"'Dép.volet 2-Anim.'!G82","v":0},{"$f":"'Dép.volet 2-Anim.'!H82","v":0},{"$f":"'Dép.volet 2-Anim.'!I82","v":0},{"$f":"'Dép.volet 2-Anim.'!J82","v":0},{"$f":"'Dép.volet 2-Anim.'!K82","v":0},{"$f":"'Dép.volet 2-Anim.'!L82","v":0},{"$f":"'Dép.volet 2-Anim.'!M82","v":0},{"$f":"'Dép.volet 2-Anim.'!N82","v":0},0,{"$f":"'Dép.volet 2-Anim.'!T82","v":0},{"$f":"'Dép.volet 2-Anim.'!U82","v":0},{"$f":"'Dép.volet 2-Anim.'!V82","v":0},{"$f":"'Dép.volet 2-Anim.'!W82","v":0},{"$f":"'Dép.volet 2-Anim.'!X82","v":0},{"$f":"'Dép.volet 2-Anim.'!Y82","v":0},{"$f":"'Dép.volet 2-Anim.'!Z82","v":0},{"$f":"'Dép.volet 2-Anim.'!AA82","v":0},{"$f":"'Dép.volet 2-Anim.'!AB82","v":0},{"$f":"'Dép.volet 2-Anim.'!AC82","v":0},0]
["Total volet 2 plafonné le cas échéant",{"$f":"'Dép.volet 2-Anim.'!E83","v":0},{"$f":"'Dép.volet 2-Anim.'!F83","v":0},{"$f":"'Dép.volet 2-Anim.'!G83","v":0},{"$f":"'Dép.volet 2-Anim.'!H83","v":0},{"$f":"'Dép.volet 2-Anim.'!I83","v":0},{"$f":"'Dép.volet 2-Anim.'!J83","v":0},{"$f":"'Dép.volet 2-Anim.'!K83","v":0},{"$f":"'Dép.volet 2-Anim.'!L83","v":0},{"$f":"'Dép.volet 2-Anim.'!M83","v":0},{"$f":"'Dép.volet 2-Anim.'!N83","v":0},0,{"$f":"'Dép.volet 2-Anim.'!T83","v":0},{"$f":"'Dép.volet 2-Anim.'!U83","v":0},{"$f":"'Dép.volet 2-Anim.'!V83","v":0},{"$f":"'Dép.volet 2-Anim.'!W83","v":0},{"$f":"'Dép.volet 2-Anim.'!X83","v":0},{"$f":"'Dép.volet 2-Anim.'!Y83","v":0},{"$f":"'Dép.volet 2-Anim.'!Z83","v":0},{"$f":"'Dép.volet 2-Anim.'!AA83","v":0},{"$f":"'Dép.volet 2-Anim.'!AB83","v":0},{"$f":"'Dép.volet 2-Anim.'!AC83","v":0},0]
["Volet 3 - Diagnostics",null,null,null,null,null,null,null,null,null,null,null,null,null,null,null,null,null,null,null,null,null,0]
["Frais de personnel",{"$f":"'Dép. volet 3-Diag.'!G65","v":0},{"$f":"'Dép. volet 3-Diag.'!H65","v":0},{"$f":"'Dép. volet 3-Diag.'!I65","v":0},{"$f":"'Dép. volet 3-Diag.'!J65","v":0},{"$f":"'Dép. volet 3-Diag.'!K65","v":0},{"$f":"'Dép. volet 3-Diag.'!L65","v":0},{"$f":"'Dép. volet 3-Diag.'!M65","v":0},{"$f":"'Dép. volet 3-Diag.'!N65","v":0},{"$f":"'Dép. volet 3-Diag.'!O65","v":0},{"$f":"'Dép. volet 3-Diag.'!P65","v":0},{"$f":"SUM(B20:K20)","v":0},{"$f":"'Dép. volet 3-Diag.'!AB65","v":0},{"$f":"'Dép. volet 3-Diag.'!AC65","v":0},{"$f":"'Dép. volet 3-Diag.'!AD65","v":0},{"$f":"'Dép. volet 3-Diag.'!AE65","v":0},{"$f":"'Dép. volet 3-Diag.'!AF65","v":0},{"$f":"'Dép. volet 3-Diag.'!AG65","v":0},{"$f":"'Dép. volet 3-Diag.'!AH65","v":0},{"$f":"'Dép. volet 3-Diag.'!AI65","v":0},{"$f":"'Dép. volet 3-Diag.'!AJ65","v":0},{"$f":"'Dép. volet 3-Diag.'!AK65","v":0},0]
["Coûts indirects",{"$f":"'Dép. volet 3-Diag.'!G66","v":0},{"$f":"'Dép. volet 3-Diag.'!H66","v":0},{"$f":"'Dép. volet 3-Diag.'!I66","v":0},{"$f":"'Dép. volet 3-Diag.'!J66","v":0},{"$f":"'Dép. volet 3-Diag.'!K66","v":0},{"$f":"'Dép. volet 3-Diag.'!L66","v":0},{"$f":"'Dép. volet 3-Diag.'!M66","v":0},{"$f":"'Dép. volet 3-Diag.'!N66","v":0},{"$f":"'Dép. volet 3-Diag.'!O66","v":0},{"$f":"'Dép. volet 3-Diag.'!P66","v":0},0,{"$f":"'Dép. volet 3-Diag.'!AB66","v":0},{"$f":"'Dép. volet 3-Diag.'!AC66","v":0},{"$f":"'Dép. volet 3-Diag.'!AD66","v":0},{"$f":"'Dép. volet 3-Diag.'!AE66","v":0},{"$f":"'Dép. volet 3-Diag.'!AF66","v":0},{"$f":"'Dép. volet 3-Diag.'!AG66","v":0},{"$f":"'Dép. volet 3-Diag.'!AH66","v":0},{"$f":"'Dép. volet 3-Diag.'!AI66","v":0},{"$f":"'Dép. volet 3-Diag.'!AJ66","v":0},{"$f":"'Dép. volet 3-Diag.'!AK66","v":0},0]
["Frais de déplacement de restauration et d'hébergement",{"$f":"'Dép. volet 3-Diag.'!G67","v":0},{"$f":"'Dép. volet 3-Diag.'!H67","v":0},{"$f":"'Dép. volet 3-Diag.'!I67","v":0},{"$f":"'Dép. volet 3-Diag.'!J67","v":0},{"$f":"'Dép. volet 3-Diag.'!K67","v":0},{"$f":"'Dép. volet 3-Diag.'!L67","v":0},{"$f":"'Dép. volet 3-Diag.'!M67","v":0},{"$f":"'Dép. volet 3-Diag.'!N67","v":0},{"$f":"'Dép. volet 3-Diag.'!O67","v":0},{"$f":"'Dép. volet 3-Diag.'!P67","v":0},0,{"$f":"'Dép. volet 3-Diag.'!AB67","v":0},{"$f":"'Dép. volet 3-Diag.'!AC67","v":0},{"$f":"'Dép. volet 3-Diag.'!AD67","v":0},{"$f":"'Dép. volet 3-Diag.'!AE67","v":0},{"$f":"'Dép. volet 3-Diag.'!AF67","v":0},{"$f":"'Dép. volet 3-Diag.'!AG67","v":0},{"$f":"'Dép. volet 3-Diag.'!AH67","v":0},{"$f":"'Dép. volet 3-Diag.'!AI67","v":0},{"$f":"'Dép. volet 3-Diag.'!AJ67","v":0},{"$f":"'Dép. volet 3-Diag.'!AK67","v":0},0]
["Autres frais (DIAGNOSTICS REALISES EN SOUS-TRAITANCE)",{"$f":"'Dép. volet 3-Diag.'!G68","v":0},{"$f":"'Dép. volet 3-Diag.'!H68","v":0},{"$f":"'Dép. volet 3-Diag.'!I68","v":0},{"$f":"'Dép. volet 3-Diag.'!J68","v":0},{"$f":"'Dép. volet 3-Diag.'!K68","v":0},{"$f":"'Dép. volet 3-Diag.'!L68","v":0},{"$f":"'Dép. volet 3-Diag.'!M68","v":0},{"$f":"'Dép. volet 3-Diag.'!N68","v":0},{"$f":"'Dép. volet 3-Diag.'!O68","v":0},{"$f":"'Dép. volet 3-Diag.'!P68","v":0},0,{"$f":"'Dép. volet 3-Diag.'!AB68","v":0},{"$f":"'Dép. volet 3-Diag.'!AC68","v":0},{"$f":"'Dép. volet 3-Diag.'!AD68","v":0},{"$f":"'Dép. volet 3-Diag.'!AE68","v":0},{"$f":"'Dép. volet 3-Diag.'!AF68","v":0},{"$f":"'Dép. volet 3-Diag.'!AG68","v":0},{"$f":"'Dép. volet 3-Diag.'!AH68","v":0},{"$f":"'Dép. volet 3-Diag.'!AI68","v":0},{"$f":"'Dép. volet 3-Diag.'!AJ68","v":0},{"$f":"'Dép. volet 3-Diag.'!AK68","v":0},0]
["Total volet 3",{"$f":"'Dép. volet 3-Diag.'!G69","v":0},{"$f":"'Dép. volet 3-Diag.'!H69","v":0},{"$f":"'Dép. volet 3-Diag.'!I69","v":0},{"$f":"'Dép. volet 3-Diag.'!J69","v":0},{"$f":"'Dép. volet 3-Diag.'!K69","v":0},{"$f":"'Dép. volet 3-Diag.'!L69","v":0},{"$f":"'Dép. volet 3-Diag.'!M69","v":0},{"$f":"'Dép. volet 3-Diag.'!N69","v":0},{"$f":"'Dép. volet 3-Diag.'!O69","v":0},{"$f":"'Dép. volet 3-Diag.'!P69","v":0},0,{"$f":"'Dép. volet 3-Diag.'!AB69","v":0},{"$f":"'Dép. volet 3-Diag.'!AC69","v":0},{"$f":"'Dép. volet 3-Diag.'!AD69","v":0},{"$f":"'Dép. volet 3-Diag.'!AE69","v":0},{"$f":"'Dép. volet 3-Diag.'!AF69","v":0},{"$f":"'Dép. volet 3-Diag.'!AG69","v":0},{"$f":"'Dép. volet 3-Diag.'!AH69","v":0},{"$f":"'Dép. volet 3-Diag.'!AI69","v":0},{"$f":"'Dép. volet 3-Diag.'!AJ69","v":0},{"$f":"'Dép. volet 3-Diag.'!AK69","v":0},0]
["Total volet 3 plafonné le cas échéant",{"$f":"'Dép. volet 3-Diag.'!G70","v":0},{"$f":"'Dép. volet 3-Diag.'!H70","v":0},{"$f":"'Dép. volet 3-Diag.'!I70","v":0},{"$f":"'Dép. volet 3-Diag.'!J70","v":0},{"$f":"'Dép. volet 3-Diag.'!K70","v":0},{"$f":"'Dép. volet 3-Diag.'!L70","v":0},{"$f":"'Dép. volet 3-Diag.'!M70","v":0},{"$f":"'Dép. volet 3-Diag.'!N70","v":0},{"$f":"'Dép. volet 3-Diag.'!O70","v":0},{"$f":"'Dép. volet 3-Diag.'!P70","v":0},0,{"$f":"'Dép. volet 3-Diag.'!AB70","v":0},{"$f":"'Dép. volet 3-Diag.'!AC70","v":0},{"$f":"'Dép. volet 3-Diag.'!AD70","v":0},{"$f":"'Dép. volet 3-Diag.'!AE70","v":0},{"$f":"'Dép. volet 3-Diag.'!AF70","v":0},{"$f":"'Dép. volet 3-Diag.'!AG70","v":0},{"$f":"'Dép. volet 3-Diag.'!AH70","v":0},{"$f":"'Dép. volet 3-Diag.'!AI70","v":0},{"$f":"'Dép. volet 3-Diag.'!AJ70","v":0},{"$f":"'Dép. volet 3-Diag.'!AK70","v":0},0]
["Volet 4 - Formations",null,null,null,null,null,null,null,null,null,null,null,null,null,null,null,null,null,null,null,null,null,0]
["Frais de personnel",{"$f":"+'Dép. volet 4-Form.'!G34","v":0},{"$f":"+'Dép. volet 4-Form.'!H34","v":0},{"$f":"+'Dép. volet 4-Form.'!I34","v":0},{"$f":"+'Dép. volet 4-Form.'!J34","v":0},{"$f":"+'Dép. volet 4-Form.'!K34","v":0},{"$f":"+'Dép. volet 4-Form.'!L34","v":0},{"$f":"+'Dép. volet 4-Form.'!M34","v":0},{"$f":"+'Dép. volet 4-Form.'!N34","v":0},{"$f":"+'Dép. volet 4-Form.'!O34","v":0},{"$f":"+'Dép. volet 4-Form.'!P34","v":0},{"$f":"SUM(B27:K27)","v":0},{"$f":"'Dép. volet 4-Form.'!AB34","v":0},{"$f":"'Dép. volet 4-Form.'!AC34","v":0},{"$f":"'Dép. volet 4-Form.'!AD34","v":0},{"$f":"'Dép. volet 4-Form.'!AE34","v":0},{"$f":"'Dép. volet 4-Form.'!AF34","v":0},{"$f":"'Dép. volet 4-Form.'!AG34","v":0},{"$f":"'Dép. volet 4-Form.'!AH34","v":0},{"$f":"'Dép. volet 4-Form.'!AI34","v":0},{"$f":"'Dép. volet 4-Form.'!AJ34","v":0},{"$f":"'Dép. volet 4-Form.'!AK34","v":0},0]
["Coûts indirects",{"$f":"+'Dép. volet 4-Form.'!G35","v":0},{"$f":"+'Dép. volet 4-Form.'!H35","v":0},{"$f":"+'Dép. volet 4-Form.'!I35","v":0},{"$f":"+'Dép. volet 4-Form.'!J35","v":0},{"$f":"+'Dép. volet 4-Form.'!K35","v":0},{"$f":"+'Dép. volet 4-Form.'!L35","v":0},{"$f":"+'Dép. volet 4-Form.'!M35","v":0},{"$f":"+'Dép. volet 4-Form.'!N35","v":0},{"$f":"+'Dép. volet 4-Form.'!O35","v":0},{"$f":"+'Dép. volet 4-Form.'!P35","v":0},0,{"$f":"'Dép. volet 4-Form.'!AB35","v":0},{"$f":"'Dép. volet 4-Form.'!AC35","v":0},{"$f":"'Dép. volet 4-Form.'!AD35","v":0},{"$f":"'Dép. volet 4-Form.'!AE35","v":0},{"$f":"'Dép. volet 4-Form.'!AF35","v":0},{"$f":"'Dép. volet 4-Form.'!AG35","v":0},{"$f":"'Dép. volet 4-Form.'!AH35","v":0},{"$f":"'Dép. volet 4-Form.'!AI35","v":0},{"$f":"'Dép. volet 4-Form.'!AJ35","v":0},{"$f":"'Dép. volet 4-Form.'!AK35","v":0},0]
["Frais de déplacement de restauration et d'hébergement",{"$f":"+'Dép. volet 4-Form.'!G36","v":0},{"$f":"+'Dép. volet 4-Form.'!H36","v":0},{"$f":"+'Dép. volet 4-Form.'!I36","v":0},{"$f":"+'Dép. volet 4-Form.'!J36","v":0},{"$f":"+'Dép. volet 4-Form.'!K36","v":0},{"$f":"+'Dép. volet 4-Form.'!L36","v":0},{"$f":"+'Dép. volet 4-Form.'!M36","v":0},{"$f":"+'Dép. volet 4-Form.'!N36","v":0},{"$f":"+'Dép. volet 4-Form.'!O36","v":0},{"$f":"+'Dép. volet 4-Form.'!P36","v":0},0,{"$f":"'Dép. volet 4-Form.'!AB36","v":0},{"$f":"'Dép. volet 4-Form.'!AC36","v":0},{"$f":"'Dép. volet 4-Form.'!AD36","v":0},{"$f":"'Dép. volet 4-Form.'!AE36","v":0},{"$f":"'Dép. volet 4-Form.'!AF36","v":0},{"$f":"'Dép. volet 4-Form.'!AG36","v":0},{"$f":"'Dép. volet 4-Form.'!AH36","v":0},{"$f":"'Dép. volet 4-Form.'!AI36","v":0},{"$f":"'Dép. volet 4-Form.'!AJ36","v":0},{"$f":"'Dép. volet 4-Form.'!AK36","v":0},0]
["Autres frais (DIAGNOSTICS REALISES EN SOUS-TRAITANCE)",{"$f":"+'Dép. volet 4-Form.'!G37","v":0},{"$f":"+'Dép. volet 4-Form.'!H37","v":0},{"$f":"+'Dép. volet 4-Form.'!I37","v":0},{"$f":"+'Dép. volet 4-Form.'!J37","v":0},{"$f":"+'Dép. volet 4-Form.'!K37","v":0},{"$f":"+'Dép. volet 4-Form.'!L37","v":0},{"$f":"+'Dép. volet 4-Form.'!M37","v":0},{"$f":"+'Dép. volet 4-Form.'!N37","v":0},{"$f":"+'Dép. volet 4-Form.'!O37","v":0},{"$f":"+'Dép. volet 4-Form.'!P37","v":0},0,{"$f":"'Dép. volet 4-Form.'!AB37","v":0},{"$f":"'Dép. volet 4-Form.'!AC37","v":0},{"$f":"'Dép. volet 4-Form.'!AD37","v":0},{"$f":"'Dép. volet 4-Form.'!AE37","v":0},{"$f":"'Dép. volet 4-Form.'!AF37","v":0},{"$f":"'Dép. volet 4-Form.'!AG37","v":0},{"$f":"'Dép. volet 4-Form.'!AH37","v":0},{"$f":"'Dép. volet 4-Form.'!AI37","v":0},{"$f":"'Dép. volet 4-Form.'!AJ37","v":0},{"$f":"'Dép. volet 4-Form.'!AK37","v":0},0]
["Total volet 4",{"$f":"+'Dép. volet 4-Form.'!G38","v":0},{"$f":"+'Dép. volet 4-Form.'!H38","v":0},{"$f":"+'Dép. volet 4-Form.'!I38","v":0},{"$f":"+'Dép. volet 4-Form.'!J38","v":0},{"$f":"+'Dép. volet 4-Form.'!K38","v":0},{"$f":"+'Dép. volet 4-Form.'!L38","v":0},{"$f":"+'Dép. volet 4-Form.'!M38","v":0},{"$f":"+'Dép. volet 4-Form.'!N38","v":0},{"$f":"+'Dép. volet 4-Form.'!O38","v":0},{"$f":"+'Dép. volet 4-Form.'!P38","v":0},0,{"$f":"'Dép. volet 4-Form.'!AB38","v":0},{"$f":"'Dép. volet 4-Form.'!AC38","v":0},{"$f":"'Dép. volet 4-Form.'!AD38","v":0},{"$f":"'Dép. volet 4-Form.'!AE38","v":0},{"$f":"'Dép. volet 4-Form.'!AF38","v":0},{"$f":"'Dép. volet 4-Form.'!AG38","v":0},{"$f":"'Dép. volet 4-Form.'!AH38","v":0},{"$f":"'Dép. volet 4-Form.'!AI38","v":0},{"$f":"'Dép. volet 4-Form.'!AJ38","v":0},{"$f":"'Dép. volet 4-Form.'!AK38","v":0},0]
["Total volet 4 plafonné le cas échéant",{"$f":"+'Dép. volet 4-Form.'!G39","v":0},{"$f":"+'Dép. volet 4-Form.'!H39","v":0},{"$f":"+'Dép. volet 4-Form.'!I39","v":0},{"$f":"+'Dép. volet 4-Form.'!J39","v":0},{"$f":"+'Dép. volet 4-Form.'!K39","v":0},{"$f":"+'Dép. volet 4-Form.'!L39","v":0},{"$f":"+'Dép. volet 4-Form.'!M39","v":0},{"$f":"+'Dép. volet 4-Form.'!N39","v":0},{"$f":"+'Dép. volet 4-Form.'!O39","v":0},{"$f":"+'Dép. volet 4-Form.'!P39","v":0},0,{"$f":"'Dép. volet 4-Form.'!AB39","v":0},{"$f":"'Dép. volet 4-Form.'!AC39","v":0},{"$f":"'Dép. volet 4-Form.'!AD39","v":0},{"$f":"'Dép. volet 4-Form.'!AE39","v":0},{"$f":"'Dép. volet 4-Form.'!AF39","v":0},{"$f":"'Dép. volet 4-Form.'!AG39","v":0},{"$f":"'Dép. volet 4-Form.'!AH39","v":0},{"$f":"'Dép. volet 4-Form.'!AI39","v":0},{"$f":"'Dép. volet 4-Form.'!AJ39","v":0},{"$f":"'Dép. volet 4-Form.'!AK39","v":0},0]
["Total général",{"$f":"+B11+B18+B25+B32","v":0},{"$f":"+C11+C18+C25+C32","v":0},0,0,0,0,0,0,0,0,0,{"$f":"+M11+M18+M25+M32","v":0},{"$f":"+N11+N18+N25+N32","v":0},{"$f":"+O11+O18+O25+O32","v":0},{"$f":"+P11+P18+P25+P32","v":0},{"$f":"+Q11+Q18+Q25+Q32","v":0},{"$f":"+R11+R18+R25+R32","v":0},{"$f":"+S11+S18+S25+S32","v":0},{"$f":"+T11+T18+T25+T32","v":0},{"$f":"+U11+U18+U25+U32","v":0},{"$f":"+V11+V18+V25+V32","v":0},{"$f":"+W11+W18+W25+W32","v":0}]
[]
[]
[]
["Demandeur :",{"$f":"'Dép. volet 4-Form.'!B52","v":0}]
["SIRET :",{"$f":"'Dép. volet 4-Form.'!B53","v":0}]

{"sheet":"Demande de paiement","index":11,"n_rows":61,"n_cols":24,"rows_kept":61,"cut":false,"hidden":false,"merged":[[26,17,26,20],[26,21,26,23],[53,1,53,4],[0,0,0,15],[2,0,2,15],[52,1,52,4],[18,0,22,0],[28,0,32,0],[44,0,45,0],[23,0,27,0],[31,17,31,20],[31,21,31,23],[33,0,37,0],[33,16,36,16],[38,0,42,0]]}
["Demande de paiement"]
[]
["Je, soussigné,XXXXXXXXXXX, agissant en qualité de représentant légal du/de XXXXXXXXXXXXXXXXXXXXXXXX demande le versement des aides qui ont été accordées par la convention attributive n°R76/XXXXXXX du XX/XX/XXXX."]
[]
["Je demande le versement  :"]
["       D'un 1er acompte",{"$f":"IF(Identification!E20=\"1er acompte\",TRUE,FALSE)","v":false}]
["       D'un 2ème acompte",{"$f":"IF(Identification!E20=\"2nd acompte\",TRUE,FALSE)","v":false}]
["       Du solde",{"$f":"IF(Identification!E20=\"Solde\",TRUE,FALSE)","v":true}]
[]
[{"$f":"\"Montant total des dépenses réalisées présentées : \"&ROUND('Synthèse montants présentés'!L33,2)&\" €\"","v":"Montant total des dépenses réalisées présentées : 0 €"}]
[]
["J’atteste (nous attestons) sur l’honneur :"]
["       Que je n’ai (nous n’avons) pas sollicité pour le même projet, une aide autre que celles indiquées sur le présent formulaire de demande de paiement, "]
["       L’exactitude des renseignements fournis dans le présent formulaire et les pièces jointes"]
[]
[]
[]
[null,"Postes de dépenses ",{"$f":"'Synthèse montants présentés'!B4","v":0},{"$f":"'Synthèse montants présentés'!C4","v":"-"},{"$f":"'Synthèse montants présentés'!D4","v":"-"},{"$f":"'Synthèse montants présentés'!E4","v":"-"},{"$f":"'Synthèse montants présentés'!F4","v":"-"},{"$f":"'Synthèse montants présentés'!G4","v":"-"},{"$f":"'Synthèse montants présentés'!H4","v":"-"},{"$f":"'Synthèse montants présentés'!I4","v":"-"},{"$f":"'Synthèse montants présentés'!J4","v":"-"},{"$f":"'Synthèse montants présentés'!K4","v":"-"},"TOTAL","TOTAL plafonné DJ","Transfert de poste / fongibilité","TOTAL plafonné DJ après fongibilité"]
["1 - Montants des dépenses éligibles retenues dans la décision juridique attributive et ses avenant(s) éventuels \n\n(cf annexe financière : total plafonné / volet)","Volet 1 - Elaboration",null,null,null,null,null,null,null,null,null,null,{"$f":"SUM(C19:L19)","v":0}]
[null,"Volet 2 - Animation",null,null,null,null,null,null,null,null,null,null,{"$f":"SUM(C20:L20)","v":0}]
[null,"Volet 3 - Diagnostics",null,null,null,null,null,null,null,null,null,null,0]
[null,"Volet 4 - Formations",null,null,null,null,null,null,null,null,null,null,0]
[null,"Total",{"$f":"SUM(C19:C22)","v":0},{"$f":"SUM(D19:D22)","v":0},0,0,0,0,0,null,null,0,{"$f":"SUM(C23:L23)","v":0},null,null,0]
["2 - Dépenses réalisées payées précedemment au titre d'un 1er acompte","Volet 1 - Elaboration",{"$f":"IF(OR(Identification!$E$20=\"2nd acompte\",Identification!$E$20=\"Solde\"),'Instruction demande de paiement'!C65,0)","v":0},{"$f":"IF(OR(Identification!$E$20=\"2nd acompte\",Identification!$E$20=\"Solde\"),'Instruction demande de paiement'!D65,0)","v":0},{"$f":"IF(OR(Identification!$E$20=\"2nd acompte\",Identification!$E$20=\"Solde\"),'Instruction demande de paiement'!E65,0)","v":0},{"$f":"IF(OR(Identification!$E$20=\"2nd acompte\",Identification!$E$20=\"Solde\"),'Instruction demande de paiement'!F65,0)","v":0},{"$f":"IF(OR(Identification!$E$20=\"2nd acompte\",Identification!$E$20=\"Solde\"),'Instruction demande de paiement'!G65,0)","v":0},{"$f":"IF(OR(Identification!$E$20=\"2nd acompte\",Identification!$E$20=\"Solde\"),'Instruction demande de paiement'!H65,0)","v":0},{"$f":"IF(OR(Identification!$E$20=\"2nd acompte\",Identification!$E$20=\"Solde\"),'Instruction demande de paiement'!I65,0)","v":0},{"$f":"IF(OR(Identification!$E$20=\"2nd acompte\",Identification!$E$20=\"Solde\"),'Instruction demande de paiement'!J65,0)","v":0},{"$f":"IF(OR(Identification!$E$20=\"2nd acompte\",Identification!$E$20=\"Solde\"),'Instruction demande de paiement'!K65,0)","v":0},{"$f":"IF(OR(Identification!$E$20=\"2nd acompte\",Identification!$E$20=\"Solde\"),'Instruction demande de paiement'!L65,0)","v":0},{"$f":"SUM(C24:L24)","v":0}]
[null,"Volet 2 - Animation",{"$f":"IF(OR(Identification!$E$20=\"2nd acompte\",Identification!$E$20=\"Solde\"),'Instruction demande de paiement'!C66,0)","v":0},{"$f":"IF(OR(Identification!$E$20=\"2nd acompte\",Identification!$E$20=\"Solde\"),'Instruction demande de paiement'!D66,0)","v":0},{"$f":"IF(OR(Identification!$E$20=\"2nd acompte\",Identification!$E$20=\"Solde\"),'Instruction demande de paiement'!E66,0)","v":0},{"$f":"IF(OR(Identification!$E$20=\"2nd acompte\",Identification!$E$20=\"Solde\"),'Instruction demande de paiement'!F66,0)","v":0},{"$f":"IF(OR(Identification!$E$20=\"2nd acompte\",Identification!$E$20=\"Solde\"),'Instruction demande de paiement'!G66,0)","v":0},{"$f":"IF(OR(Identification!$E$20=\"2nd acompte\",Identification!$E$20=\"Solde\"),'Instruction demande de paiement'!H66,0)","v":0},{"$f":"IF(OR(Identification!$E$20=\"2nd acompte\",Identification!$E$20=\"Solde\"),'Instruction demande de paiement'!I66,0)","v":0},{"$f":"IF(OR(Identification!$E$20=\"2nd acompte\",Identification!$E$20=\"Solde\"),'Instruction demande de paiement'!J66,0)","v":0},{"$f":"IF(OR(Identification!$E$20=\"2nd acompte\",Identification!$E$20=\"Solde\"),'Instruction demande de paiement'!K66,0)","v":0},{"$f":"IF(OR(Identification!$E$20=\"2nd acompte\",Identification!$E$20=\"Solde\"),'Instruction demande de paiement'!L66,0)","v":0},0]
[null,"Volet 3 - Diagnostics",{"$f":"IF(OR(Identification!$E$20=\"2nd acompte\",Identification!$E$20=\"Solde\"),'Instruction demande de paiement'!C67,0)","v":0},{"$f":"IF(OR(Identification!$E$20=\"2nd acompte\",Identification!$E$20=\"Solde\"),'Instruction demande de paiement'!D67,0)","v":0},{"$f":"IF(OR(Identification!$E$20=\"2nd acompte\",Identification!$E$20=\"Solde\"),'Instruction demande de paiement'!E67,0)","v":0},{"$f":"IF(OR(Identification!$E$20=\"2nd acompte\",Identification!$E$20=\"Solde\"),'Instruction demande de paiement'!F67,0)","v":0},{"$f":"IF(OR(Identification!$E$20=\"2nd acompte\",Identification!$E$20=\"Solde\"),'Instruction demande de paiement'!G67,0)","v":0},{"$f":"IF(OR(Identification!$E$20=\"2nd acompte\",Identification!$E$20=\"Solde\"),'Instruction demande de paiement'!H67,0)","v":0},{"$f":"IF(OR(Identification!$E$20=\"2nd acompte\",Identification!$E$20=\"Solde\"),'Instruction demande de paiement'!I67,0)","v":0},{"$f":"IF(OR(Identification!$E$20=\"2nd acompte\",Identification!$E$20=\"Solde\"),'Instruction demande de paiement'!J67,0)","v":0},{"$f":"IF(OR(Identification!$E$20=\"2nd acompte\",Identification!$E$20=\"Solde\"),'Instruction demande de paiement'!K67,0)","v":0},{"$f":"IF(OR(Identification!$E$20=\"2nd acompte\",Identification!$E$20=\"Solde\"),'Instruction demande de paiement'!L67,0)","v":0},0]
[null,"Volet 4 - Formations",{"$f":"IF(OR(Identification!$E$20=\"2nd acompte\",Identification!$E$20=\"Solde\"),'Instruction demande de paiement'!C68,0)","v":0},{"$f":"IF(OR(Identification!$E$20=\"2nd acompte\",Identification!$E$20=\"Solde\"),'Instruction demande de paiement'!D68,0)","v":0},{"$f":"IF(OR(Identification!$E$20=\"2nd acompte\",Identification!$E$20=\"Solde\"),'Instruction demande de paiement'!E68,0)","v":0},{"$f":"IF(OR(Identification!$E$20=\"2nd acompte\",Identification!$E$20=\"Solde\"),'Instruction demande de paiement'!F68,0)","v":0},{"$f":"IF(OR(Identification!$E$20=\"2nd acompte\",Identification!$E$20=\"Solde\"),'Instruction demande de paiement'!G68,0)","v":0},{"$f":"IF(OR(Identification!$E$20=\"2nd acompte\",Identification!$E$20=\"Solde\"),'Instruction demande de paiement'!H68,0)","v":0},{"$f":"IF(OR(Identification!$E$20=\"2nd acompte\",Identification!$E$20=\"Solde\"),'Instruction demande de paiement'!I68,0)","v":0},{"$f":"IF(OR(Identification!$E$20=\"2nd acompte\",Identification!$E$20=\"Solde\"),'Instruction demande de paiement'!J68,0)","v":0},{"$f":"IF(OR(Identification!$E$20=\"2nd acompte\",Identification!$E$20=\"Solde\"),'Instruction demande de paiement'!K68,0)","v":0},{"$f":"IF(OR(Identification!$E$20=\"2nd acompte\",Identification!$E$20=\"Solde\"),'Instruction demande de paiement'!L68,0)","v":0},0,null,null,null,null,"FONGIBILITE SI SOLDE",null,null,null,"FONGIBILITE SI ACOMPTE"]
[null,"Total",{"$f":"SUM(C24:C27)","v":0},0,0,0,0,0,0,null,null,{"$f":"SUM(L24:L27)","v":0},{"$f":"SUM(M24:M27)","v":0},null,null,{"$f":"SUM(P24:P27)","v":0},null,"Sous-réalisé","Fongibilité entrante","Fongibilité sortante","Dispo pour volet suivant","Fongibilité entrante","Fongibilité sortante","Dispo pour volet suivant"]
["3 - Dépenses réalisées payées précedemment au titre d'un 2e acompte","Volet 1 - Elaboration",{"$f":"IF(Identification!$E$20=\"Solde\",'Instruction demande de paiement'!C70,0)","v":0},{"$f":"IF(Identification!$E$20=\"Solde\",'Instruction demande de paiement'!D70,0)","v":0},{"$f":"IF(Identification!$E$20=\"Solde\",'Instruction demande de paiement'!E70,0)","v":0},{"$f":"IF(Identification!$E$20=\"Solde\",'Instruction demande de paiement'!F70,0)","v":0},{"$f":"IF(Identification!$E$20=\"Solde\",'Instruction demande de paiement'!G70,0)","v":0},{"$f":"IF(Identification!$E$20=\"Solde\",'Instruction demande de paiement'!H70,0)","v":0},{"$f":"IF(Identification!$E$20=\"Solde\",'Instruction demande de paiement'!I70,0)","v":0},{"$f":"IF(Identification!$E$20=\"Solde\",'Instruction demande de paiement'!J70,0)","v":0},{"$f":"IF(Identification!$E$20=\"Solde\",'Instruction demande de paiement'!K70,0)","v":0},{"$f":"IF(Identification!$E$20=\"Solde\",'Instruction demande de paiement'!L70,0)","v":0},0]
[null,"Volet 2 - Animation",{"$f":"IF(Identification!$E$20=\"Solde\",'Instruction demande de paiement'!C71,0)","v":0},{"$f":"IF(Identification!$E$20=\"Solde\",'Instruction demande de paiement'!D71,0)","v":0},{"$f":"IF(Identification!$E$20=\"Solde\",'Instruction demande de paiement'!E71,0)","v":0},{"$f":"IF(Identification!$E$20=\"Solde\",'Instruction demande de paiement'!F71,0)","v":0},{"$f":"IF(Identification!$E$20=\"Solde\",'Instruction demande de paiement'!G71,0)","v":0},{"$f":"IF(Identification!$E$20=\"Solde\",'Instruction demande de paiement'!H71,0)","v":0},{"$f":"IF(Identification!$E$20=\"Solde\",'Instruction demande de paiement'!I71,0)","v":0},{"$f":"IF(Identification!$E$20=\"Solde\",'Instruction demande de paiement'!J71,0)","v":0},{"$f":"IF(Identification!$E$20=\"Solde\",'Instruction demande de paiement'!K71,0)","v":0},{"$f":"IF(Identification!$E$20=\"Solde\",'Instruction demande de paiement'!L71,0)","v":0},0]
[null,"Volet 3 - Diagnostics",{"$f":"IF(Identification!$E$20=\"Solde\",'Instruction demande de paiement'!C72,0)","v":0},{"$f":"IF(Identification!$E$20=\"Solde\",'Instruction demande de paiement'!D72,0)","v":0},{"$f":"IF(Identification!$E$20=\"Solde\",'Instruction demande de paiement'!E72,0)","v":0},{"$f":"IF(Identification!$E$20=\"Solde\",'Instruction demande de paiement'!F72,0)","v":0},{"$f":"IF(Identification!$E$20=\"Solde\",'Instruction demande de paiement'!G72,0)","v":0},{"$f":"IF(Identification!$E$20=\"Solde\",'Instruction demande de paiement'!H72,0)","v":0},{"$f":"IF(Identification!$E$20=\"Solde\",'Instruction demande de paiement'!I72,0)","v":0},{"$f":"IF(Identification!$E$20=\"Solde\",'Instruction demande de paiement'!J72,0)","v":0},{"$f":"IF(Identification!$E$20=\"Solde\",'Instruction demande de paiement'!K72,0)","v":0},{"$f":"IF(Identification!$E$20=\"Solde\",'Instruction demande de paiement'!L72,0)","v":0},0]
[null,"Volet 4 - Formations",{"$f":"IF(Identification!$E$20=\"Solde\",'Instruction demande de paiement'!C73,0)","v":0},{"$f":"IF(Identification!$E$20=\"Solde\",'Instruction demande de paiement'!D73,0)","v":0},{"$f":"IF(Identification!$E$20=\"Solde\",'Instruction demande de paiement'!E73,0)","v":0},{"$f":"IF(Identification!$E$20=\"Solde\",'Instruction demande de paiement'!F73,0)","v":0},{"$f":"IF(Identification!$E$20=\"Solde\",'Instruction demande de paiement'!G73,0)","v":0},{"$f":"IF(Identification!$E$20=\"Solde\",'Instruction demande de paiement'!H73,0)","v":0},{"$f":"IF(Identification!$E$20=\"Solde\",'Instruction demande de paiement'!I73,0)","v":0},{"$f":"IF(Identification!$E$20=\"Solde\",'Instruction demande de paiement'!J73,0)","v":0},{"$f":"IF(Identification!$E$20=\"Solde\",'Instruction demande de paiement'!K73,0)","v":0},{"$f":"IF(Identification!$E$20=\"Solde\",'Instruction demande de paiement'!L73,0)","v":0},0,null,null,null,null,"FONGIBILITE SI SOLDE",null,null,null,"FONGIBILITE SI ACOMPTE"]
[null,"Total",{"$f":"SUM(C29:C32)","v":0},0,0,0,0,0,0,null,null,0,{"$f":"SUM(M29:M32)","v":0},null,null,0,null,"Sous-réalisé","Fongibilité entrante","Fongibilité sortante","Dispo pour volet suivant","Fongibilité entrante","Fongibilité sortante","Dispo pour volet suivant"]
["3 - Dépenses totales réalisées présentées dans la présente demande de paiement","Volet 1 - Elaboration",{"$f":"'Synthèse montants présentés'!B11","v":0},{"$f":"'Synthèse montants présentés'!C11","v":0},{"$f":"'Synthèse montants présentés'!D11","v":0},{"$f":"'Synthèse montants présentés'!E11","v":0},{"$f":"'Synthèse montants présentés'!F11","v":0},{"$f":"'Synthèse montants présentés'!G11","v":0},{"$f":"'Synthèse montants présentés'!H11","v":0},{"$f":"'Synthèse montants présentés'!I11","v":0},{"$f":"'Synthèse montants présentés'!J11","v":0},{"$f":"'Synthèse montants présentés'!K11","v":0},{"$f":"SUM(C34:L34)","v":0},{"$f":"MIN(M19,M34)","v":0},{"$f":"IF(Identification!$E$20=\"Solde\",S34,V34)","v":0},{"$f":"MAX(0,MIN(M34,N34+O34))","v":0},"FONGIBILITE  :\n- VOLET 1 -> 2-3-4 dès le 1er AC\n- VOLETS 2->3->4 AU SOLDE UNIQUEMENT",{"$f":"M19-M34","v":0},0,{"$f":"IF(R34>0,R34,0)","v":0},{"$f":"T34","v":0},0,{"$f":"T34","v":0},{"$f":"U34","v":0}]
[null,"Volet 2 - Animation",{"$f":"'Synthèse montants présentés'!B18","v":0},{"$f":"'Synthèse montants présentés'!C18","v":0},{"$f":"'Synthèse montants présentés'!D18","v":0},{"$f":"'Synthèse montants présentés'!E18","v":0},{"$f":"'Synthèse montants présentés'!F18","v":0},{"$f":"'Synthèse montants présentés'!G18","v":0},{"$f":"'Synthèse montants présentés'!H18","v":0},{"$f":"'Synthèse montants présentés'!I18","v":0},{"$f":"'Synthèse montants présentés'!J18","v":0},{"$f":"'Synthèse montants présentés'!K18","v":0},{"$f":"SUM(C35:L35)","v":0},{"$f":"MIN(M20,M35)","v":0},{"$f":"IF(Identification!$E$20=\"Solde\",S35,V35)","v":0},{"$f":"MAX(0,MIN(M35,N35+O35))","v":0},null,{"$f":"M20-M35","v":0},{"$f":"IF(R35<0,MIN(ABS(R35),U34),0)","v":0},{"$f":"IF(R35>0,R35,0)","v":0},{"$f":"U34-S35+T35","v":0},{"$f":"S35","v":0},0,{"$f":"X34-V35+W35","v":0}]
[null,"Volet 3 - Diagnostics",{"$f":"'Synthèse montants présentés'!B25","v":0},{"$f":"'Synthèse montants présentés'!C25","v":0},{"$f":"'Synthèse montants présentés'!D25","v":0},{"$f":"'Synthèse montants présentés'!E25","v":0},{"$f":"'Synthèse montants présentés'!F25","v":0},{"$f":"'Synthèse montants présentés'!G25","v":0},{"$f":"'Synthèse montants présentés'!H25","v":0},{"$f":"'Synthèse montants présentés'!I25","v":0},{"$f":"'Synthèse montants présentés'!J25","v":0},{"$f":"'Synthèse montants présentés'!K25","v":0},0,{"$f":"MIN(M21,M36)","v":0},{"$f":"IF(Identification!$E$20=\"Solde\",S36,V36)","v":0},0,null,{"$f":"M21-M36","v":0},{"$f":"IF(R36<0,MIN(ABS(R36),U35),0)","v":0},{"$f":"IF(R36>0,R36,0)","v":0},{"$f":"U35-S36+T36","v":0},{"$f":"IF(R36<0,MIN(ABS(R36),X35),0)","v":0},0,{"$f":"X35-V36+W36","v":0}]
[null,"Volet 4 - Formations",{"$f":"'Synthèse montants présentés'!B32","v":0},{"$f":"'Synthèse montants présentés'!C32","v":0},{"$f":"'Synthèse montants présentés'!D32","v":0},{"$f":"'Synthèse montants présentés'!E32","v":0},{"$f":"'Synthèse montants présentés'!F32","v":0},{"$f":"'Synthèse montants présentés'!G32","v":0},{"$f":"'Synthèse montants présentés'!H32","v":0},{"$f":"'Synthèse montants présentés'!I32","v":0},{"$f":"'Synthèse montants présentés'!J32","v":0},{"$f":"'Synthèse montants présentés'!K32","v":0},0,{"$f":"MIN(M22,M37)","v":0},{"$f":"IF(Identification!$E$20=\"Solde\",S37,V37)","v":0},{"$f":"MAX(0,MIN(M37,N37+O37))","v":0},null,{"$f":"M22-M37","v":0},0,0,0,{"$f":"IF(R37<0,MIN(ABS(R37),X36),0)","v":0},0,0]
[null,"Total",{"$f":"SUM(C34:C37)","v":0},0,0,0,0,0,0,null,null,0,{"$f":"SUM(M34:M37)","v":0},{"$f":"SUM(N34:N37)","v":0},{"$f":"SUM(O34:O37)","v":0},0]
["4 - Dépenses payables au titre de la présente demande de paiement après : \n- fongibilité inter-postes\n- fongibilite inter-volets\n- déduction des dépenses déjà payées au titre des acomptes ","Volet 1 - Elaboration",{"$f":"IF($M$34=0,0,C34*$P$34/$M$34-C29-C24)","v":0},{"$f":"IF($M$34=0,0,D34*$P$34/$M$34-D29-D24)","v":0},0,0,0,0,0,0,0,0,0]
[null,"Volet 2 - Animation",{"$f":"IF($M$35=0,0,C35*$P$35/$M$35-C30-C25)","v":0},{"$f":"IF($M$35=0,0,D35*$P$35/$M$35-D30-D25)","v":0},0,0,0,0,0,0,0,0,0]
[null,"Volet 3 - Diagnostics",{"$f":"IF($M$36=0,0,C36*$P$36/$M$36-C31-C26)","v":0},{"$f":"IF($M$36=0,0,D36*$P$36/$M$36-D31-D26)","v":0},0,0,0,0,0,0,0,0,0]
[null,"Volet 4 - Formations",{"$f":"IF($M$37=0,0,C37*$P$37/$M$37-C32-C27)","v":0},{"$f":"IF($M$37=0,0,D37*$P$37/$M$37-D32-D27)","v":0},0,0,0,0,0,0,0,0,0]
[null,"Total",{"$f":"SUM(C39:C42)","v":0},0,0,0,0,0,0,0,0,0,0,null,null,{"$f":"SUM(P39:P42)","v":0}]
[]
["Demande de paiement","Taux de subvention",1,1,1,1,1,1,1,1,1,1,"TOTAL"]
[null,"Demande de paiement",{"$f":"C43*C45","v":0},{"$f":"D43*D45","v":0},0,0,0,0,0,0,0,0,{"$f":"SUM(C46:L46)","v":0}]
[]
[]
[]
[]
[]
[]
["Demandeur :",{"$f":"'Dép. volet 4-Form.'!B52","v":0}]
["SIRET :",{"$f":"'Dép. volet 4-Form.'!B53","v":0}]
[]
[]
[]
["Certifié exact et sincère, le (date) :","………………………………………………………………………………………………………………………….."]
["Nom, prénom du représentant de la structure :","………………………………………………………………………………………………………………………….."]
["Qualité :","………………………………………………………………………………………………………………………….."]
["Cachet et signature :"]

{"sheet":"Instruction demande de paiement","index":12,"n_rows":74,"n_cols":24,"rows_kept":74,"cut":false,"hidden":true,"merged":[[42,8,42,10],[61,0,61,12],[64,0,68,0],[69,0,73,0],[19,21,19,23],[42,1,42,3],[42,4,42,7],[19,17,19,20],[40,0,40,12],[0,0,0,15],[21,16,24,16],[32,0,33,0],[6,0,10,0],[16,0,20,0],[26,0,30,0],[21,0,25,0],[11,0,15,0]]}
["Instruction demande de paiement"]
[]
["Objet de la demande de paiement :",{"$f":"Identification!E20","v":"Solde"}]
[]
[]
["Etapes","Postes de dépenses ",{"$f":"'Dép.volet 1-Elab.'!E77","v":0},{"$f":"'Dép.volet 1-Elab.'!F77","v":"-"},{"$f":"'Dép.volet 1-Elab.'!G77","v":"-"},{"$f":"'Dép.volet 1-Elab.'!H77","v":"-"},{"$f":"'Dép.volet 1-Elab.'!I77","v":"-"},{"$f":"'Dép.volet 1-Elab.'!J77","v":"-"},{"$f":"'Dép.volet 1-Elab.'!K77","v":"-"},{"$f":"'Dép.volet 1-Elab.'!L77","v":"-"},{"$f":"'Dép.volet 1-Elab.'!M77","v":"-"},{"$f":"'Dép.volet 1-Elab.'!N77","v":"-"},"TOTAL","TOTAL plafonné DJ","Transfert de poste / fongibilité","TOTAL plafonné DJ après fongibilité"]
["1 - Montants dépenses éligibles retenues DJ + avenants (cf annexe financière : total plafonné / volet)","Volet 1 - Elaboration",null,null,null,null,null,null,null,null,null,null,{"$f":"SUM(C7:L7)","v":0}]
[null,"Volet 2 - Animation",null,null,null,null,null,null,null,null,null,null,{"$f":"SUM(C8:L8)","v":0}]
[null,"Volet 3 - Diagnostics",null,null,null,null,null,null,null,null,null,null,0]
[null,"Volet 4 - Formations",null,null,null,null,null,null,null,null,null,null,0]
[null,"Total",{"$f":"SUM(C7:C10)","v":0},{"$f":"SUM(D7:D10)","v":0},0,0,0,0,0,null,null,0,{"$f":"SUM(C11:L11)","v":0},null,null,0]
["2 - Dépenses réalisées payées précedemment au titre du 1e acompte","Volet 1 - Elaboration",{"$f":"IF(OR(Identification!$E$20=\"2nd acompte\",Identification!$E$20=\"Solde\"),'Instruction demande de paiement'!C65,0)","v":0},{"$f":"IF(OR(Identification!$E$20=\"2nd acompte\",Identification!$E$20=\"Solde\"),'Instruction demande de paiement'!D65,0)","v":0},{"$f":"IF(OR(Identification!$E$20=\"2nd acompte\",Identification!$E$20=\"Solde\"),'Instruction demande de paiement'!E65,0)","v":0},{"$f":"IF(OR(Identification!$E$20=\"2nd acompte\",Identification!$E$20=\"Solde\"),'Instruction demande de paiement'!F65,0)","v":0},{"$f":"IF(OR(Identification!$E$20=\"2nd acompte\",Identification!$E$20=\"Solde\"),'Instruction demande de paiement'!G65,0)","v":0},{"$f":"IF(OR(Identification!$E$20=\"2nd acompte\",Identification!$E$20=\"Solde\"),'Instruction demande de paiement'!H65,0)","v":0},{"$f":"IF(OR(Identification!$E$20=\"2nd acompte\",Identification!$E$20=\"Solde\"),'Instruction demande de paiement'!I65,0)","v":0},{"$f":"IF(OR(Identification!$E$20=\"2nd acompte\",Identification!$E$20=\"Solde\"),'Instruction demande de paiement'!J65,0)","v":0},{"$f":"IF(OR(Identification!$E$20=\"2nd acompte\",Identification!$E$20=\"Solde\"),'Instruction demande de paiement'!K65,0)","v":0},{"$f":"IF(OR(Identification!$E$20=\"2nd acompte\",Identification!$E$20=\"Solde\"),'Instruction demande de paiement'!L65,0)","v":0},{"$f":"SUM(C12:L12)","v":0}]
[null,"Volet 2 - Animation",{"$f":"IF(OR(Identification!$E$20=\"2nd acompte\",Identification!$E$20=\"Solde\"),'Instruction demande de paiement'!C66,0)","v":0},{"$f":"IF(OR(Identification!$E$20=\"2nd acompte\",Identification!$E$20=\"Solde\"),'Instruction demande de paiement'!D66,0)","v":0},{"$f":"IF(OR(Identification!$E$20=\"2nd acompte\",Identification!$E$20=\"Solde\"),'Instruction demande de paiement'!E66,0)","v":0},{"$f":"IF(OR(Identification!$E$20=\"2nd acompte\",Identification!$E$20=\"Solde\"),'Instruction demande de paiement'!F66,0)","v":0},{"$f":"IF(OR(Identification!$E$20=\"2nd acompte\",Identification!$E$20=\"Solde\"),'Instruction demande de paiement'!G66,0)","v":0},{"$f":"IF(OR(Identification!$E$20=\"2nd acompte\",Identification!$E$20=\"Solde\"),'Instruction demande de paiement'!H66,0)","v":0},{"$f":"IF(OR(Identification!$E$20=\"2nd acompte\",Identification!$E$20=\"Solde\"),'Instruction demande de paiement'!I66,0)","v":0},{"$f":"IF(OR(Identification!$E$20=\"2nd acompte\",Identification!$E$20=\"Solde\"),'Instruction demande de paiement'!J66,0)","v":0},{"$f":"IF(OR(Identification!$E$20=\"2nd acompte\",Identification!$E$20=\"Solde\"),'Instruction demande de paiement'!K66,0)","v":0},{"$f":"IF(OR(Identification!$E$20=\"2nd acompte\",Identification!$E$20=\"Solde\"),'Instruction demande de paiement'!L66,0)","v":0},{"$f":"SUM(C13:L13)","v":0}]
[null,"Volet 3 - Diagnostics",{"$f":"IF(OR(Identification!$E$20=\"2nd acompte\",Identification!$E$20=\"Solde\"),'Instruction demande de paiement'!C67,0)","v":0},{"$f":"IF(OR(Identification!$E$20=\"2nd acompte\",Identification!$E$20=\"Solde\"),'Instruction demande de paiement'!D67,0)","v":0},{"$f":"IF(OR(Identification!$E$20=\"2nd acompte\",Identification!$E$20=\"Solde\"),'Instruction demande de paiement'!E67,0)","v":0},{"$f":"IF(OR(Identification!$E$20=\"2nd acompte\",Identification!$E$20=\"Solde\"),'Instruction demande de paiement'!F67,0)","v":0},{"$f":"IF(OR(Identification!$E$20=\"2nd acompte\",Identification!$E$20=\"Solde\"),'Instruction demande de paiement'!G67,0)","v":0},{"$f":"IF(OR(Identification!$E$20=\"2nd acompte\",Identification!$E$20=\"Solde\"),'Instruction demande de paiement'!H67,0)","v":0},{"$f":"IF(OR(Identification!$E$20=\"2nd acompte\",Identification!$E$20=\"Solde\"),'Instruction demande de paiement'!I67,0)","v":0},{"$f":"IF(OR(Identification!$E$20=\"2nd acompte\",Identification!$E$20=\"Solde\"),'Instruction demande de paiement'!J67,0)","v":0},{"$f":"IF(OR(Identification!$E$20=\"2nd acompte\",Identification!$E$20=\"Solde\"),'Instruction demande de paiement'!K67,0)","v":0},{"$f":"IF(OR(Identification!$E$20=\"2nd acompte\",Identification!$E$20=\"Solde\"),'Instruction demande de paiement'!L67,0)","v":0},0]
[null,"Volet 4 - Formations",{"$f":"IF(OR(Identification!$E$20=\"2nd acompte\",Identification!$E$20=\"Solde\"),'Instruction demande de paiement'!C68,0)","v":0},{"$f":"IF(OR(Identification!$E$20=\"2nd acompte\",Identification!$E$20=\"Solde\"),'Instruction demande de paiement'!D68,0)","v":0},{"$f":"IF(OR(Identification!$E$20=\"2nd acompte\",Identification!$E$20=\"Solde\"),'Instruction demande de paiement'!E68,0)","v":0},{"$f":"IF(OR(Identification!$E$20=\"2nd acompte\",Identification!$E$20=\"Solde\"),'Instruction demande de paiement'!F68,0)","v":0},{"$f":"IF(OR(Identification!$E$20=\"2nd acompte\",Identification!$E$20=\"Solde\"),'Instruction demande de paiement'!G68,0)","v":0},{"$f":"IF(OR(Identification!$E$20=\"2nd acompte\",Identification!$E$20=\"Solde\"),'Instruction demande de paiement'!H68,0)","v":0},{"$f":"IF(OR(Identification!$E$20=\"2nd acompte\",Identification!$E$20=\"Solde\"),'Instruction demande de paiement'!I68,0)","v":0},{"$f":"IF(OR(Identification!$E$20=\"2nd acompte\",Identification!$E$20=\"Solde\"),'Instruction demande de paiement'!J68,0)","v":0},{"$f":"IF(OR(Identification!$E$20=\"2nd acompte\",Identification!$E$20=\"Solde\"),'Instruction demande de paiement'!K68,0)","v":0},{"$f":"IF(OR(Identification!$E$20=\"2nd acompte\",Identification!$E$20=\"Solde\"),'Instruction demande de paiement'!L68,0)","v":0},0]
[null,"Total",{"$f":"SUM(C12:C15)","v":0},0,0,0,0,0,0,null,null,{"$f":"SUM(L12:L15)","v":0},{"$f":"SUM(M12:M15)","v":0},null,null,{"$f":"SUM(P12:P15)","v":0}]
["2 - Dépenses réalisées payées précedemment au titre du 2e  acompte\n","Volet 1 - Elaboration",{"$f":"IF(Identification!$E$20=\"Solde\",'Instruction demande de paiement'!C70,0)","v":0},{"$f":"IF(Identification!$E$20=\"Solde\",'Instruction demande de paiement'!D70,0)","v":0},{"$f":"IF(Identification!$E$20=\"Solde\",'Instruction demande de paiement'!E70,0)","v":0},{"$f":"IF(Identification!$E$20=\"Solde\",'Instruction demande de paiement'!F70,0)","v":0},{"$f":"IF(Identification!$E$20=\"Solde\",'Instruction demande de paiement'!G70,0)","v":0},{"$f":"IF(Identification!$E$20=\"Solde\",'Instruction demande de paiement'!H70,0)","v":0},{"$f":"IF(Identification!$E$20=\"Solde\",'Instruction demande de paiement'!I70,0)","v":0},{"$f":"IF(Identification!$E$20=\"Solde\",'Instruction demande de paiement'!J70,0)","v":0},{"$f":"IF(Identification!$E$20=\"Solde\",'Instruction demande de paiement'!K70,0)","v":0},{"$f":"IF(Identification!$E$20=\"Solde\",'Instruction demande de paiement'!L70,0)","v":0},{"$f":"SUM(C17:L17)","v":0}]
[null,"Volet 2 - Animation",{"$f":"IF(Identification!$E$20=\"Solde\",'Instruction demande de paiement'!C71,0)","v":0},{"$f":"IF(Identification!$E$20=\"Solde\",'Instruction demande de paiement'!D71,0)","v":0},{"$f":"IF(Identification!$E$20=\"Solde\",'Instruction demande de paiement'!E71,0)","v":0},{"$f":"IF(Identification!$E$20=\"Solde\",'Instruction demande de paiement'!F71,0)","v":0},{"$f":"IF(Identification!$E$20=\"Solde\",'Instruction demande de paiement'!G71,0)","v":0},{"$f":"IF(Identification!$E$20=\"Solde\",'Instruction demande de paiement'!H71,0)","v":0},{"$f":"IF(Identification!$E$20=\"Solde\",'Instruction demande de paiement'!I71,0)","v":0},{"$f":"IF(Identification!$E$20=\"Solde\",'Instruction demande de paiement'!J71,0)","v":0},{"$f":"IF(Identification!$E$20=\"Solde\",'Instruction demande de paiement'!K71,0)","v":0},{"$f":"IF(Identification!$E$20=\"Solde\",'Instruction demande de paiement'!L71,0)","v":0},0]
[null,"Volet 3 - Diagnostics",{"$f":"IF(Identification!$E$20=\"Solde\",'Instruction demande de paiement'!C72,0)","v":0},{"$f":"IF(Identification!$E$20=\"Solde\",'Instruction demande de paiement'!D72,0)","v":0},{"$f":"IF(Identification!$E$20=\"Solde\",'Instruction demande de paiement'!E72,0)","v":0},{"$f":"IF(Identification!$E$20=\"Solde\",'Instruction demande de paiement'!F72,0)","v":0},{"$f":"IF(Identification!$E$20=\"Solde\",'Instruction demande de paiement'!G72,0)","v":0},{"$f":"IF(Identification!$E$20=\"Solde\",'Instruction demande de paiement'!H72,0)","v":0},{"$f":"IF(Identification!$E$20=\"Solde\",'Instruction demande de paiement'!I72,0)","v":0},{"$f":"IF(Identification!$E$20=\"Solde\",'Instruction demande de paiement'!J72,0)","v":0},{"$f":"IF(Identification!$E$20=\"Solde\",'Instruction demande de paiement'!K72,0)","v":0},{"$f":"IF(Identification!$E$20=\"Solde\",'Instruction demande de paiement'!L72,0)","v":0},0]
[null,"Volet 4 - Formations",{"$f":"IF(Identification!$E$20=\"Solde\",'Instruction demande de paiement'!C73,0)","v":0},{"$f":"IF(Identification!$E$20=\"Solde\",'Instruction demande de paiement'!D73,0)","v":0},{"$f":"IF(Identification!$E$20=\"Solde\",'Instruction demande de paiement'!E73,0)","v":0},{"$f":"IF(Identification!$E$20=\"Solde\",'Instruction demande de paiement'!F73,0)","v":0},{"$f":"IF(Identification!$E$20=\"Solde\",'Instruction demande de paiement'!G73,0)","v":0},{"$f":"IF(Identification!$E$20=\"Solde\",'Instruction demande de paiement'!H73,0)","v":0},{"$f":"IF(Identification!$E$20=\"Solde\",'Instruction demande de paiement'!I73,0)","v":0},{"$f":"IF(Identification!$E$20=\"Solde\",'Instruction demande de paiement'!J73,0)","v":0},{"$f":"IF(Identification!$E$20=\"Solde\",'Instruction demande de paiement'!K73,0)","v":0},{"$f":"IF(Identification!$E$20=\"Solde\",'Instruction demande de paiement'!L73,0)","v":0},0,null,null,null,null,"FONGIBILITE SI SOLDE",null,null,null,"FONGIBILITE SI ACOMPTE"]
[null,"Total",{"$f":"SUM(C17:C20)","v":0},0,0,0,0,0,0,null,null,0,{"$f":"SUM(M17:M20)","v":0},null,null,0,null,"Sous-réalisé","Fongibilité entrante","Fongibilité sortante","Dispo pour volet suivant","Fongibilité entrante","Fongibilité sortante","Dispo pour volet suivant"]
["3 - Dépenses réalisées payables au titre de la présente demande de paiement","Volet 1 - Elaboration",{"$f":"'Synthèse montants présentés'!M11","v":0},{"$f":"'Synthèse montants présentés'!N11","v":0},{"$f":"'Synthèse montants présentés'!O11","v":0},{"$f":"'Synthèse montants présentés'!P11","v":0},{"$f":"'Synthèse montants présentés'!Q11","v":0},{"$f":"'Synthèse montants présentés'!R11","v":0},{"$f":"'Synthèse montants présentés'!S11","v":0},{"$f":"'Synthèse montants présentés'!T11","v":0},{"$f":"'Synthèse montants présentés'!U11","v":0},{"$f":"'Synthèse montants présentés'!V11","v":0},{"$f":"'Synthèse montants présentés'!W11","v":0},{"$f":"MIN(M7,M22)","v":0},{"$f":"IF($B$3=\"Solde\",S22,V22)","v":0},{"$f":"MAX(0,MIN(M22,N22+O22))","v":0},"FONGIBILITE  :\n- VOLET 1 -> 2-3-4 dès le 1er AC\n- VOLETS 2->3->4 AU SOLDE UNIQUEMENT",{"$f":"M7-M22","v":0},0,{"$f":"IF(R22>0,R22,0)","v":0},{"$f":"T22","v":0},0,{"$f":"T22","v":0},{"$f":"U22","v":0}]
[null,"Volet 2 - Animation",{"$f":"'Synthèse montants présentés'!M18","v":0},{"$f":"'Synthèse montants présentés'!N18","v":0},{"$f":"'Synthèse montants présentés'!O18","v":0},{"$f":"'Synthèse montants présentés'!P18","v":0},{"$f":"'Synthèse montants présentés'!Q18","v":0},{"$f":"'Synthèse montants présentés'!R18","v":0},{"$f":"'Synthèse montants présentés'!S18","v":0},{"$f":"'Synthèse montants présentés'!T18","v":0},{"$f":"'Synthèse montants présentés'!U18","v":0},{"$f":"'Synthèse montants présentés'!V18","v":0},{"$f":"'Synthèse montants présentés'!W18","v":0},{"$f":"MIN(M8,M23)","v":0},{"$f":"IF($B$3=\"Solde\",S23,V23)","v":0},{"$f":"MAX(0,MIN(M23,N23+O23))","v":0},null,{"$f":"M8-M23","v":0},{"$f":"IF(R23<0,MIN(ABS(R23),U22),0)","v":0},{"$f":"IF(R23>0,R23,0)","v":0},{"$f":"U22-S23+T23","v":0},{"$f":"S23","v":0},0,{"$f":"X22-V23+W23","v":0}]
[null,"Volet 3 - Diagnostics",{"$f":"'Synthèse montants présentés'!M25","v":0},{"$f":"'Synthèse montants présentés'!N25","v":0},{"$f":"'Synthèse montants présentés'!O25","v":0},{"$f":"'Synthèse montants présentés'!P25","v":0},{"$f":"'Synthèse montants présentés'!Q25","v":0},{"$f":"'Synthèse montants présentés'!R25","v":0},{"$f":"'Synthèse montants présentés'!S25","v":0},{"$f":"'Synthèse montants présentés'!T25","v":0},{"$f":"'Synthèse montants présentés'!U25","v":0},{"$f":"'Synthèse montants présentés'!V25","v":0},{"$f":"'Synthèse montants présentés'!W25","v":0},{"$f":"MIN(M9,M24)","v":0},0,0,null,{"$f":"M9-M24","v":0},{"$f":"IF(R24<0,MIN(ABS(R24),U23),0)","v":0},{"$f":"IF(R24>0,R24,0)","v":0},{"$f":"U23-S24+T24","v":0},{"$f":"IF(R24<0,MIN(ABS(R24),X23),0)","v":0},0,{"$f":"X23-V24+W24","v":0}]
[null,"Volet 4 - Formations",{"$f":"'Synthèse montants présentés'!M32","v":0},{"$f":"'Synthèse montants présentés'!N32","v":0},{"$f":"'Synthèse montants présentés'!O32","v":0},{"$f":"'Synthèse montants présentés'!P32","v":0},{"$f":"'Synthèse montants présentés'!Q32","v":0},{"$f":"'Synthèse montants présentés'!R32","v":0},{"$f":"'Synthèse montants présentés'!S32","v":0},{"$f":"'Synthèse montants présentés'!T32","v":0},{"$f":"'Synthèse montants présentés'!U32","v":0},{"$f":"'Synthèse montants présentés'!V32","v":0},{"$f":"'Synthèse montants présentés'!W32","v":0},{"$f":"MIN(M10,M25)","v":0},0,0,null,{"$f":"M10-M25","v":0},0,0,0,{"$f":"IF(R25<0,MIN(ABS(R25),X24),0)","v":0},0,0]
[null,"Total",{"$f":"SUM(C22:C25)","v":0},0,0,0,0,0,0,null,null,0,{"$f":"SUM(M22:M25)","v":0},{"$f":"SUM(N22:N25)","v":0},{"$f":"SUM(O22:O25)","v":0},0]
["4 - Dépenses payables au titre de la présente demande de paiement après : \n- fongibilité inter-postes\n- fongibilite inter-volets\n- déduction des dépenses déjà payées","Volet 1 - Elaboration",{"$f":"IF($M$22=0,0,C22*$P$22/$M$22-C17-C12)","v":0},{"$f":"IF($M$22=0,0,D22*$P$22/$M$22-D17-D12)","v":0},0,0,0,0,0,0,0,0,0]
[null,"Volet 2 - Animation",{"$f":"IF($M$23=0,0,C23*$P$23/$M$23-C18-C13)","v":0},{"$f":"IF($M$23=0,0,D23*$P$23/$M$23-D18-D13)","v":0},0,0,0,0,0,0,0,0,0]
[null,"Volet 3 - Diagnostics",{"$f":"IF($M$24=0,0,C24*$P$24/$M$24-C19-C14)","v":0},{"$f":"IF($M$24=0,0,D24*$P$24/$M$24-D19-D14)","v":0},0,0,0,0,0,0,0,0,0]
[null,"Volet 4 - Formations",{"$f":"IF($M$25=0,0,C25*$P$25/$M$25-C20-C15)","v":0},{"$f":"IF($M$25=0,0,D25*$P$25/$M$25-D20-D15)","v":0},0,0,0,0,0,0,0,0,0]
[null,"Total",{"$f":"SUM(C27:C30)","v":0},0,0,0,0,0,0,0,0,0,0,null,null,{"$f":"SUM(P27:P30)","v":0}]
[]
["Montant à payer instruit au titre de la présente demande de paiement","Taux d'aide",1,1,1,1,1,1,1,1,1,1,"TOTAL"]
[null,"Montant à payer",{"$f":"C31*C33","v":0},{"$f":"D31*D33","v":0},0,0,0,0,0,0,0,0,{"$f":"SUM(C34:L34)","v":0}]
[]
["100% aide DJ",null,{"$f":"C11*C33","v":0},0,0,0,0,0,0,0,0,0,{"$f":"SUM(C36:L36)","v":0}]
["80% aide DJ",null,null,null,null,null,null,null,null,null,null,null,{"$f":"M36*0.8","v":0}]
["Total aide déjà payée",null,{"$f":"C21*C33","v":0},{"$f":"D21*D33","v":0},0,0,0,0,0,0,0,0,{"$f":"SUM(C38:L38)","v":0}]
["Total payable (plafonné 80% aide DJ si acompte ou 100% si solde)",null,null,null,null,null,null,null,null,null,null,null,{"$f":"IF(B3<>\"Solde\",MIN(M37,M34+M38),MIN(M36,M34+M38))","v":0}]
[]
["Plan de financement"]
[]
[null,"Décision juridique",null,null,"Réalisé",null,null,null,"Paiement"]
["Objet du paiement","Montant subventionnable ","Taux de subvention","Montant subvention ","Montant des dépenses présentées éligibles ","Montant subventionnable ","Taux de subvention","Montant à payer ","Montant mis en paiement ","Montant total payé","Montant à désengager"]
["1er acompte"]
["2e acompte"]
["Solde",null,null,null,null,null,null,null,null,null,{"$f":"IF(B3=\"Solde\",D47-SUM(I45:I47),0)","v":0}]
[]
[]
[]
[]
["Fait à Montpellier, le XXXXXXXX"]
[]
[null,"La Cheffe de l’Unité aides directes et agro-environnementales"]
[]
[]
[null,null,null,"        "]
[]
[null,"    Nathalie COLIN"]
[]
[]
["Historique des dépenses payées au titre des acomptes"]
[]
["Etapes","Postes de dépenses ",{"$f":"C6","v":0},{"$f":"D6","v":"-"},"-","-","-","-","-","-","-","-","TOTAL"]
["1 -  Dépenses réalisées payées  au titre du 1e acompte","Volet 1 - Elaboration",null,null,null,null,null,null,null,null,null,null,{"$f":"SUM(C65:L65)","v":0}]
[null,"Volet 2 - Animation",null,null,null,null,null,null,null,null,null,null,{"$f":"SUM(C66:L66)","v":0}]
[null,"Volet 3 - Diagnostics",null,null,null,null,null,null,null,null,null,null,0]
[null,"Volet 4 - Formations",null,null,null,null,null,null,null,null,null,null,0]
[null,"Total",{"$f":"SUM(C65:C68)","v":0},0,0,0,0,0,0,null,null,{"$f":"SUM(L65:L68)","v":0},{"$f":"SUM(M65:M68)","v":0}]
["2 -  Dépenses réalisées payées  au titre du 2e acompte","Volet 1 - Elaboration",null,null,null,null,null,null,null,null,null,null,{"$f":"SUM(C70:L70)","v":0}]
[null,"Volet 2 - Animation",null,null,null,null,null,null,null,null,null,null,0]
[null,"Volet 3 - Diagnostics",null,null,null,null,null,null,null,null,null,null,0]
[null,"Volet 4 - Formations",null,null,null,null,null,null,null,null,null,null,0]
[null,"Total",{"$f":"SUM(C70:C73)","v":0},0,0,0,0,0,0,null,null,{"$f":"SUM(L70:L73)","v":0},{"$f":"SUM(M70:M73)","v":0}]

{"sheet":"Référentiel","index":13,"n_rows":96,"n_cols":17,"rows_kept":96,"cut":false,"hidden":true,"merged":[]}
[]
[null,"Ref_categories_personnel","Plafond",null,"Ref_categories_diag","Plafond",null,null,"Liste intervenants structures 1","N°",null,null,"RefStructures","N°",null,"RefPresta","N°"]
[null,"Ingénieur ou fonction de direction",500,null,"Enjeu PNA, DFCI ou Pasto collectif",800,null,null,{"$f":"IF(ISNA(VLOOKUP('Intervenants et coûts-j'!$B$5&Référentiel!J3,'Intervenants et coûts-j'!$A$18:$C$46,3,FALSE)),\"\",VLOOKUP('Intervenants et coûts-j'!$B$5&Référentiel!J3,'Intervenants et coûts-j'!$A$18:$C$46,3,FALSE))","v":0},1,null,null,{"$f":"IF(ISNA(VLOOKUP(\"Structure1\",'Intervenants et coûts-j'!$A$5:$B$14,2,FALSE)),\"-\",VLOOKUP(\"Structure1\",'Intervenants et coûts-j'!$A$5:$B$14,2,FALSE))","v":0},1,null,{"$f":"IF(ISNA(VLOOKUP(\"Presta1\",'Intervenants et coûts-j'!$A$5:$B$14,2,FALSE)),\"\",VLOOKUP(\"Presta1\",'Intervenants et coûts-j'!$A$5:$B$14,2,FALSE))","v":""},1]
[null,"Technicien",350,null,"Multi-enjeux",800,null,null,{"$f":"IF(ISNA(VLOOKUP('Intervenants et coûts-j'!$B$5&Référentiel!J4,'Intervenants et coûts-j'!$A$18:$C$46,3,FALSE)),\"\",VLOOKUP('Intervenants et coûts-j'!$B$5&Référentiel!J4,'Intervenants et coûts-j'!$A$18:$C$46,3,FALSE))","v":""},2,null,null,{"$f":"IF(ISNA(VLOOKUP(\"Structure2\",'Intervenants et coûts-j'!$A$5:$B$14,2,FALSE)),\"-\",VLOOKUP(\"Structure2\",'Intervenants et coûts-j'!$A$5:$B$14,2,FALSE))","v":"-"},2,null,{"$f":"IF(ISNA(VLOOKUP(\"Presta2\",'Intervenants et coûts-j'!$A$5:$B$14,2,FALSE)),\"\",VLOOKUP(\"Presta2\",'Intervenants et coûts-j'!$A$5:$B$14,2,FALSE))","v":""},2]
[null,"Administratif",350,null,"Diagnostic simple",500,null,null,{"$f":"IF(ISNA(VLOOKUP('Intervenants et coûts-j'!$B$5&Référentiel!J5,'Intervenants et coûts-j'!$A$18:$C$46,3,FALSE)),\"\",VLOOKUP('Intervenants et coûts-j'!$B$5&Référentiel!J5,'Intervenants et coûts-j'!$A$18:$C$46,3,FALSE))","v":""},3,null,null,{"$f":"IF(ISNA(VLOOKUP(\"Structure3\",'Intervenants et coûts-j'!$A$5:$B$14,2,FALSE)),\"-\",VLOOKUP(\"Structure3\",'Intervenants et coûts-j'!$A$5:$B$14,2,FALSE))","v":"-"},3,null,{"$f":"IF(ISNA(VLOOKUP(\"Presta3\",'Intervenants et coûts-j'!$A$5:$B$14,2,FALSE)),\"\",VLOOKUP(\"Presta3\",'Intervenants et coûts-j'!$A$5:$B$14,2,FALSE))","v":""},3]
[null,null,null,null,null,null,null,null,{"$f":"IF(ISNA(VLOOKUP('Intervenants et coûts-j'!$B$5&Référentiel!J6,'Intervenants et coûts-j'!$A$18:$C$46,3,FALSE)),\"\",VLOOKUP('Intervenants et coûts-j'!$B$5&Référentiel!J6,'Intervenants et coûts-j'!$A$18:$C$46,3,FALSE))","v":""},4,null,null,{"$f":"IF(ISNA(VLOOKUP(\"Structure4\",'Intervenants et coûts-j'!$A$5:$B$14,2,FALSE)),\"-\",VLOOKUP(\"Structure4\",'Intervenants et coûts-j'!$A$5:$B$14,2,FALSE))","v":"-"},4,null,{"$f":"IF(ISNA(VLOOKUP(\"Presta4\",'Intervenants et coûts-j'!$A$5:$B$14,2,FALSE)),\"\",VLOOKUP(\"Presta4\",'Intervenants et coûts-j'!$A$5:$B$14,2,FALSE))","v":""},4]
[null,null,null,null,null,null,null,null,{"$f":"IF(ISNA(VLOOKUP('Intervenants et coûts-j'!$B$5&Référentiel!J7,'Intervenants et coûts-j'!$A$18:$C$46,3,FALSE)),\"\",VLOOKUP('Intervenants et coûts-j'!$B$5&Référentiel!J7,'Intervenants et coûts-j'!$A$18:$C$46,3,FALSE))","v":""},5,null,null,{"$f":"IF(ISNA(VLOOKUP(\"Structure5\",'Intervenants et coûts-j'!$A$5:$B$14,2,FALSE)),\"-\",VLOOKUP(\"Structure5\",'Intervenants et coûts-j'!$A$5:$B$14,2,FALSE))","v":"-"},5,null,{"$f":"IF(ISNA(VLOOKUP(\"Presta5\",'Intervenants et coûts-j'!$A$5:$B$14,2,FALSE)),\"\",VLOOKUP(\"Presta5\",'Intervenants et coûts-j'!$A$5:$B$14,2,FALSE))","v":""},5]
[null,null,null,null,null,null,null,null,{"$f":"IF(ISNA(VLOOKUP('Intervenants et coûts-j'!$B$5&Référentiel!J8,'Intervenants et coûts-j'!$A$18:$C$46,3,FALSE)),\"\",VLOOKUP('Intervenants et coûts-j'!$B$5&Référentiel!J8,'Intervenants et coûts-j'!$A$18:$C$46,3,FALSE))","v":""},6,null,null,{"$f":"IF(ISNA(VLOOKUP(\"Structure6\",'Intervenants et coûts-j'!$A$5:$B$14,2,FALSE)),\"-\",VLOOKUP(\"Structure6\",'Intervenants et coûts-j'!$A$5:$B$14,2,FALSE))","v":"-"},6,null,{"$f":"IF(ISNA(VLOOKUP(\"Presta6\",'Intervenants et coûts-j'!$A$5:$B$14,2,FALSE)),\"\",VLOOKUP(\"Presta6\",'Intervenants et coûts-j'!$A$5:$B$14,2,FALSE))","v":""},6]
[null,null,null,null,null,null,null,null,{"$f":"IF(ISNA(VLOOKUP('Intervenants et coûts-j'!$B$5&Référentiel!J9,'Intervenants et coûts-j'!$A$18:$C$46,3,FALSE)),\"\",VLOOKUP('Intervenants et coûts-j'!$B$5&Référentiel!J9,'Intervenants et coûts-j'!$A$18:$C$46,3,FALSE))","v":""},7,null,null,{"$f":"IF(ISNA(VLOOKUP(\"Structure7\",'Intervenants et coûts-j'!$A$5:$B$14,2,FALSE)),\"-\",VLOOKUP(\"Structure7\",'Intervenants et coûts-j'!$A$5:$B$14,2,FALSE))","v":"-"},7,null,{"$f":"IF(ISNA(VLOOKUP(\"Presta7\",'Intervenants et coûts-j'!$A$5:$B$14,2,FALSE)),\"\",VLOOKUP(\"Presta7\",'Intervenants et coûts-j'!$A$5:$B$14,2,FALSE))","v":""},7]
[null,null,null,null,null,null,null,null,{"$f":"IF(ISNA(VLOOKUP('Intervenants et coûts-j'!$B$5&Référentiel!J10,'Intervenants et coûts-j'!$A$18:$C$46,3,FALSE)),\"\",VLOOKUP('Intervenants et coûts-j'!$B$5&Référentiel!J10,'Intervenants et coûts-j'!$A$18:$C$46,3,FALSE))","v":""},8,null,null,{"$f":"IF(ISNA(VLOOKUP(\"Structure8\",'Intervenants et coûts-j'!$A$5:$B$14,2,FALSE)),\"-\",VLOOKUP(\"Structure8\",'Intervenants et coûts-j'!$A$5:$B$14,2,FALSE))","v":"-"},8,null,{"$f":"IF(ISNA(VLOOKUP(\"Presta8\",'Intervenants et coûts-j'!$A$5:$B$14,2,FALSE)),\"\",VLOOKUP(\"Presta8\",'Intervenants et coûts-j'!$A$5:$B$14,2,FALSE))","v":""},8]
[null,null,null,null,null,null,null,null,{"$f":"IF(ISNA(VLOOKUP('Intervenants et coûts-j'!$B$5&Référentiel!J11,'Intervenants et coûts-j'!$A$18:$C$46,3,FALSE)),\"\",VLOOKUP('Intervenants et coûts-j'!$B$5&Référentiel!J11,'Intervenants et coûts-j'!$A$18:$C$46,3,FALSE))","v":""},9,null,null,{"$f":"IF(ISNA(VLOOKUP(\"Structure9\",'Intervenants et coûts-j'!$A$5:$B$14,2,FALSE)),\"-\",VLOOKUP(\"Structure9\",'Intervenants et coûts-j'!$A$5:$B$14,2,FALSE))","v":"-"},9]
[null,null,null,null,null,null,null,null,{"$f":"IF(ISNA(VLOOKUP('Intervenants et coûts-j'!$B$5&Référentiel!J12,'Intervenants et coûts-j'!$A$18:$C$46,3,FALSE)),\"\",VLOOKUP('Intervenants et coûts-j'!$B$5&Référentiel!J12,'Intervenants et coûts-j'!$A$18:$C$46,3,FALSE))","v":""},10,null,null,{"$f":"IF(ISNA(VLOOKUP(\"Structure10\",'Intervenants et coûts-j'!$A$5:$B$14,2,FALSE)),\"-\",VLOOKUP(\"Structure10\",'Intervenants et coûts-j'!$A$5:$B$14,2,FALSE))","v":"-"},10]
[null,"Ref_actions_elaboration",null,null,null,null,null,null,{"$f":"IF(ISNA(VLOOKUP('Intervenants et coûts-j'!$B$5&Référentiel!J13,'Intervenants et coûts-j'!$A$18:$C$46,3,FALSE)),\"\",VLOOKUP('Intervenants et coûts-j'!$B$5&Référentiel!J13,'Intervenants et coûts-j'!$A$18:$C$46,3,FALSE))","v":""},11]
[null,"Concertation et gouvernance",null,null,null,null,null,null,{"$f":"IF(ISNA(VLOOKUP('Intervenants et coûts-j'!$B$5&Référentiel!J14,'Intervenants et coûts-j'!$A$18:$C$46,3,FALSE)),\"\",VLOOKUP('Intervenants et coûts-j'!$B$5&Référentiel!J14,'Intervenants et coûts-j'!$A$18:$C$46,3,FALSE))","v":""},12]
[null,"Diagnostic agroenvironnemental du territoire (comprenant, le cas échéant, le bilan des actions précédentes)",null,null,null,null,null,null,{"$f":"IF(ISNA(VLOOKUP('Intervenants et coûts-j'!$B$5&Référentiel!J15,'Intervenants et coûts-j'!$A$18:$C$46,3,FALSE)),\"\",VLOOKUP('Intervenants et coûts-j'!$B$5&Référentiel!J15,'Intervenants et coûts-j'!$A$18:$C$46,3,FALSE))","v":""},13]
[null,"Rédaction du PAEC",null,null,null,null,null,null,{"$f":"IF(ISNA(VLOOKUP('Intervenants et coûts-j'!$B$5&Référentiel!J16,'Intervenants et coûts-j'!$A$18:$C$46,3,FALSE)),\"\",VLOOKUP('Intervenants et coûts-j'!$B$5&Référentiel!J16,'Intervenants et coûts-j'!$A$18:$C$46,3,FALSE))","v":""},14]
[null,"Cartographie du périmètre des territoires ",null,null,null,null,null,null,{"$f":"IF(ISNA(VLOOKUP('Intervenants et coûts-j'!$B$5&Référentiel!J17,'Intervenants et coûts-j'!$A$18:$C$46,3,FALSE)),\"\",VLOOKUP('Intervenants et coûts-j'!$B$5&Référentiel!J17,'Intervenants et coûts-j'!$A$18:$C$46,3,FALSE))","v":""},15]
[null,null,null,null,null,null,null,null,{"$f":"IF(ISNA(VLOOKUP('Intervenants et coûts-j'!$B$5&Référentiel!J18,'Intervenants et coûts-j'!$A$18:$C$46,3,FALSE)),\"\",VLOOKUP('Intervenants et coûts-j'!$B$5&Référentiel!J18,'Intervenants et coûts-j'!$A$18:$C$46,3,FALSE))","v":""},16]
[null,null,null,null,null,null,null,null,{"$f":"IF(ISNA(VLOOKUP('Intervenants et coûts-j'!$B$5&Référentiel!J19,'Intervenants et coûts-j'!$A$18:$C$46,3,FALSE)),\"\",VLOOKUP('Intervenants et coûts-j'!$B$5&Référentiel!J19,'Intervenants et coûts-j'!$A$18:$C$46,3,FALSE))","v":""},17]
[null,"Ref_actions_animation",null,null,null,null,null,null,{"$f":"IF(ISNA(VLOOKUP('Intervenants et coûts-j'!$B$5&Référentiel!J20,'Intervenants et coûts-j'!$A$18:$C$46,3,FALSE)),\"\",VLOOKUP('Intervenants et coûts-j'!$B$5&Référentiel!J20,'Intervenants et coûts-j'!$A$18:$C$46,3,FALSE))","v":""},18]
[null,"Communication auprès des agriculteurs (presse, internet…)",null,null,null,null,null,null,{"$f":"IF(ISNA(VLOOKUP('Intervenants et coûts-j'!$B$5&Référentiel!J21,'Intervenants et coûts-j'!$A$18:$C$46,3,FALSE)),\"\",VLOOKUP('Intervenants et coûts-j'!$B$5&Référentiel!J21,'Intervenants et coûts-j'!$A$18:$C$46,3,FALSE))","v":""},19]
[null,"Réunion individuelle avec agriculteur",null,null,null,null,null,null,{"$f":"IF(ISNA(VLOOKUP('Intervenants et coûts-j'!$B$5&Référentiel!J22,'Intervenants et coûts-j'!$A$18:$C$46,3,FALSE)),\"\",VLOOKUP('Intervenants et coûts-j'!$B$5&Référentiel!J22,'Intervenants et coûts-j'!$A$18:$C$46,3,FALSE))","v":""},20]
[null,"Réunion du comité de pilotage du PAEC"]
[null,"Rédaction des notices de territoire et de mesures"]
[null,"Bilans et suivi",null,null,null,null,null,null,"Liste intervenants structures 2","N°"]
[null,"Réunion collective des agriculteurs 2023 - N°1",null,null,null,null,null,null,{"$f":"IF(ISNA(VLOOKUP('Intervenants et coûts-j'!$B$6&Référentiel!J3,'Intervenants et coûts-j'!$A$18:$C$46,3,FALSE)),\"\",VLOOKUP('Intervenants et coûts-j'!$B$6&Référentiel!J3,'Intervenants et coûts-j'!$A$18:$C$46,3,FALSE))","v":0},1]
[null,"Réunion collective des agriculteurs 2023 - N°2",null,null,null,null,null,null,{"$f":"IF(ISNA(VLOOKUP('Intervenants et coûts-j'!$B$6&Référentiel!J4,'Intervenants et coûts-j'!$A$18:$C$46,3,FALSE)),\"\",VLOOKUP('Intervenants et coûts-j'!$B$6&Référentiel!J4,'Intervenants et coûts-j'!$A$18:$C$46,3,FALSE))","v":""},2]
[null,"Réunion collective des agriculteurs 2023 - N°3",null,null,null,null,null,null,{"$f":"IF(ISNA(VLOOKUP('Intervenants et coûts-j'!$B$6&Référentiel!J5,'Intervenants et coûts-j'!$A$18:$C$46,3,FALSE)),\"\",VLOOKUP('Intervenants et coûts-j'!$B$6&Référentiel!J5,'Intervenants et coûts-j'!$A$18:$C$46,3,FALSE))","v":""},3]
[null,"Réunion collective des agriculteurs 2023 - N°4",null,null,null,null,null,null,{"$f":"IF(ISNA(VLOOKUP('Intervenants et coûts-j'!$B$6&Référentiel!J6,'Intervenants et coûts-j'!$A$18:$C$46,3,FALSE)),\"\",VLOOKUP('Intervenants et coûts-j'!$B$6&Référentiel!J6,'Intervenants et coûts-j'!$A$18:$C$46,3,FALSE))","v":""},4]
[null,"Réunion collective des agriculteurs 2023 - N°5",null,null,null,null,null,null,{"$f":"IF(ISNA(VLOOKUP('Intervenants et coûts-j'!$B$6&Référentiel!J7,'Intervenants et coûts-j'!$A$18:$C$46,3,FALSE)),\"\",VLOOKUP('Intervenants et coûts-j'!$B$6&Référentiel!J7,'Intervenants et coûts-j'!$A$18:$C$46,3,FALSE))","v":""},5]
[null,"Réunion collective des agriculteurs 2023 - N°6",null,null,null,null,null,null,{"$f":"IF(ISNA(VLOOKUP('Intervenants et coûts-j'!$B$6&Référentiel!J8,'Intervenants et coûts-j'!$A$18:$C$46,3,FALSE)),\"\",VLOOKUP('Intervenants et coûts-j'!$B$6&Référentiel!J8,'Intervenants et coûts-j'!$A$18:$C$46,3,FALSE))","v":""},6]
[null,"Réunion collective des agriculteurs 2024 - N°1",null,null,null,null,null,null,{"$f":"IF(ISNA(VLOOKUP('Intervenants et coûts-j'!$B$6&Référentiel!J9,'Intervenants et coûts-j'!$A$18:$C$46,3,FALSE)),\"\",VLOOKUP('Intervenants et coûts-j'!$B$6&Référentiel!J9,'Intervenants et coûts-j'!$A$18:$C$46,3,FALSE))","v":""},7]
[null,"Réunion collective des agriculteurs 2024 - N°2",null,null,null,null,null,null,{"$f":"IF(ISNA(VLOOKUP('Intervenants et coûts-j'!$B$6&Référentiel!J10,'Intervenants et coûts-j'!$A$18:$C$46,3,FALSE)),\"\",VLOOKUP('Intervenants et coûts-j'!$B$6&Référentiel!J10,'Intervenants et coûts-j'!$A$18:$C$46,3,FALSE))","v":""},8]
[null,"Réunion collective des agriculteurs 2024 - N°3",null,null,null,null,null,null,{"$f":"IF(ISNA(VLOOKUP('Intervenants et coûts-j'!$B$6&Référentiel!J11,'Intervenants et coûts-j'!$A$18:$C$46,3,FALSE)),\"\",VLOOKUP('Intervenants et coûts-j'!$B$6&Référentiel!J11,'Intervenants et coûts-j'!$A$18:$C$46,3,FALSE))","v":""},9]
[null,"Réunion collective des agriculteurs 2024 - N°4",null,null,null,null,null,null,{"$f":"IF(ISNA(VLOOKUP('Intervenants et coûts-j'!$B$6&Référentiel!J12,'Intervenants et coûts-j'!$A$18:$C$46,3,FALSE)),\"\",VLOOKUP('Intervenants et coûts-j'!$B$6&Référentiel!J12,'Intervenants et coûts-j'!$A$18:$C$46,3,FALSE))","v":""},10]
[null,"Réunion collective des agriculteurs 2024 - N°5"]
[null,"Réunion collective des agriculteurs 2024 - N°6",null,null,null,null,null,null,"Liste intervenants structures 3","N°"]
[null,"Réunion collective des agriculteurs 2025 - N°1",null,null,null,null,null,null,{"$f":"IF(ISNA(VLOOKUP('Intervenants et coûts-j'!$B$7&Référentiel!J3,'Intervenants et coûts-j'!$A$18:$C$46,3,FALSE)),\"\",VLOOKUP('Intervenants et coûts-j'!$B$7&Référentiel!J3,'Intervenants et coûts-j'!$A$18:$C$46,3,FALSE))","v":0},1]
[null,"Réunion collective des agriculteurs 2025 - N°2",null,null,null,null,null,null,{"$f":"IF(ISNA(VLOOKUP('Intervenants et coûts-j'!$B$7&Référentiel!J4,'Intervenants et coûts-j'!$A$18:$C$46,3,FALSE)),\"\",VLOOKUP('Intervenants et coûts-j'!$B$7&Référentiel!J4,'Intervenants et coûts-j'!$A$18:$C$46,3,FALSE))","v":""},2]
[null,"Réunion collective des agriculteurs 2025 - N°3",null,null,null,null,null,null,{"$f":"IF(ISNA(VLOOKUP('Intervenants et coûts-j'!$B$7&Référentiel!J5,'Intervenants et coûts-j'!$A$18:$C$46,3,FALSE)),\"\",VLOOKUP('Intervenants et coûts-j'!$B$7&Référentiel!J5,'Intervenants et coûts-j'!$A$18:$C$46,3,FALSE))","v":""},3]
[null,"Réunion collective des agriculteurs 2025 - N°4",null,null,null,null,null,null,{"$f":"IF(ISNA(VLOOKUP('Intervenants et coûts-j'!$B$7&Référentiel!J6,'Intervenants et coûts-j'!$A$18:$C$46,3,FALSE)),\"\",VLOOKUP('Intervenants et coûts-j'!$B$7&Référentiel!J6,'Intervenants et coûts-j'!$A$18:$C$46,3,FALSE))","v":""},4]
[null,"Réunion collective des agriculteurs 2025 - N°5",null,null,null,null,null,null,{"$f":"IF(ISNA(VLOOKUP('Intervenants et coûts-j'!$B$7&Référentiel!J7,'Intervenants et coûts-j'!$A$18:$C$46,3,FALSE)),\"\",VLOOKUP('Intervenants et coûts-j'!$B$7&Référentiel!J7,'Intervenants et coûts-j'!$A$18:$C$46,3,FALSE))","v":""},5]
[null,"Réunion collective des agriculteurs 2025 - N°6",null,null,null,null,null,null,{"$f":"IF(ISNA(VLOOKUP('Intervenants et coûts-j'!$B$7&Référentiel!J8,'Intervenants et coûts-j'!$A$18:$C$46,3,FALSE)),\"\",VLOOKUP('Intervenants et coûts-j'!$B$7&Référentiel!J8,'Intervenants et coûts-j'!$A$18:$C$46,3,FALSE))","v":""},6]
[null,null,null,null,null,null,null,null,{"$f":"IF(ISNA(VLOOKUP('Intervenants et coûts-j'!$B$7&Référentiel!J9,'Intervenants et coûts-j'!$A$18:$C$46,3,FALSE)),\"\",VLOOKUP('Intervenants et coûts-j'!$B$7&Référentiel!J9,'Intervenants et coûts-j'!$A$18:$C$46,3,FALSE))","v":""},7]
[null,"Ref_actions_diag",null,null,null,null,null,null,{"$f":"IF(ISNA(VLOOKUP('Intervenants et coûts-j'!$B$7&Référentiel!J10,'Intervenants et coûts-j'!$A$18:$C$46,3,FALSE)),\"\",VLOOKUP('Intervenants et coûts-j'!$B$7&Référentiel!J10,'Intervenants et coûts-j'!$A$18:$C$46,3,FALSE))","v":""},8]
[null,"Diagnostics d'exploitation 2023 (jusqu'au 15/09/2023)",null,null,null,null,null,null,{"$f":"IF(ISNA(VLOOKUP('Intervenants et coûts-j'!$B$7&Référentiel!J11,'Intervenants et coûts-j'!$A$18:$C$46,3,FALSE)),\"\",VLOOKUP('Intervenants et coûts-j'!$B$7&Référentiel!J11,'Intervenants et coûts-j'!$A$18:$C$46,3,FALSE))","v":""},9]
[null,"Diagnostics d'exploitation 2024 (jusqu'au 15/09/2024)",null,null,null,null,null,null,{"$f":"IF(ISNA(VLOOKUP('Intervenants et coûts-j'!$B$7&Référentiel!J12,'Intervenants et coûts-j'!$A$18:$C$46,3,FALSE)),\"\",VLOOKUP('Intervenants et coûts-j'!$B$7&Référentiel!J12,'Intervenants et coûts-j'!$A$18:$C$46,3,FALSE))","v":""},10]
[null,"Diagnostics d'exploitation 2024 (jusqu'au 15/09/2025)"]
[null,null,null,null,null,null,null,null,"Liste intervenants structures 4","N°"]
[null,null,null,null,null,null,null,null,{"$f":"IF(ISNA(VLOOKUP('Intervenants et coûts-j'!$B$8&Référentiel!J3,'Intervenants et coûts-j'!$A$18:$C$46,3,FALSE)),\"\",VLOOKUP('Intervenants et coûts-j'!$B$8&Référentiel!J3,'Intervenants et coûts-j'!$A$18:$C$46,3,FALSE))","v":0},1]
[null,null,null,null,null,null,null,null,{"$f":"IF(ISNA(VLOOKUP('Intervenants et coûts-j'!$B$8&Référentiel!J4,'Intervenants et coûts-j'!$A$18:$C$46,3,FALSE)),\"\",VLOOKUP('Intervenants et coûts-j'!$B$8&Référentiel!J4,'Intervenants et coûts-j'!$A$18:$C$46,3,FALSE))","v":""},2]
[null,null,null,null,null,null,null,null,{"$f":"IF(ISNA(VLOOKUP('Intervenants et coûts-j'!$B$8&Référentiel!J5,'Intervenants et coûts-j'!$A$18:$C$46,3,FALSE)),\"\",VLOOKUP('Intervenants et coûts-j'!$B$8&Référentiel!J5,'Intervenants et coûts-j'!$A$18:$C$46,3,FALSE))","v":""},3]
[null,null,null,null,null,null,null,null,{"$f":"IF(ISNA(VLOOKUP('Intervenants et coûts-j'!$B$8&Référentiel!J6,'Intervenants et coûts-j'!$A$18:$C$46,3,FALSE)),\"\",VLOOKUP('Intervenants et coûts-j'!$B$8&Référentiel!J6,'Intervenants et coûts-j'!$A$18:$C$46,3,FALSE))","v":""},4]
[null,null,null,null,null,null,null,null,{"$f":"IF(ISNA(VLOOKUP('Intervenants et coûts-j'!$B$8&Référentiel!J7,'Intervenants et coûts-j'!$A$18:$C$46,3,FALSE)),\"\",VLOOKUP('Intervenants et coûts-j'!$B$8&Référentiel!J7,'Intervenants et coûts-j'!$A$18:$C$46,3,FALSE))","v":""},5]
[]
[null,null,null,null,null,null,null,null,"Liste intervenants structures 5","N°"]
[null,null,null,null,null,null,null,null,{"$f":"IF(ISNA(VLOOKUP('Intervenants et coûts-j'!$B$9&Référentiel!J3,'Intervenants et coûts-j'!$A$18:$C$46,3,FALSE)),\"\",VLOOKUP('Intervenants et coûts-j'!$B$9&Référentiel!J3,'Intervenants et coûts-j'!$A$18:$C$46,3,FALSE))","v":0},1]
[null,null,null,null,null,null,null,null,{"$f":"IF(ISNA(VLOOKUP('Intervenants et coûts-j'!$B$9&Référentiel!J4,'Intervenants et coûts-j'!$A$18:$C$46,3,FALSE)),\"\",VLOOKUP('Intervenants et coûts-j'!$B$9&Référentiel!J4,'Intervenants et coûts-j'!$A$18:$C$46,3,FALSE))","v":""},2]
[null,null,null,null,null,null,null,null,{"$f":"IF(ISNA(VLOOKUP('Intervenants et coûts-j'!$B$9&Référentiel!J5,'Intervenants et coûts-j'!$A$18:$C$46,3,FALSE)),\"\",VLOOKUP('Intervenants et coûts-j'!$B$9&Référentiel!J5,'Intervenants et coûts-j'!$A$18:$C$46,3,FALSE))","v":""},3]
[null,null,null,null,null,null,null,null,{"$f":"IF(ISNA(VLOOKUP('Intervenants et coûts-j'!$B$9&Référentiel!J6,'Intervenants et coûts-j'!$A$18:$C$46,3,FALSE)),\"\",VLOOKUP('Intervenants et coûts-j'!$B$9&Référentiel!J6,'Intervenants et coûts-j'!$A$18:$C$46,3,FALSE))","v":""},4]
[null,null,null,null,null,null,null,null,{"$f":"IF(ISNA(VLOOKUP('Intervenants et coûts-j'!$B$9&Référentiel!J7,'Intervenants et coûts-j'!$A$18:$C$46,3,FALSE)),\"\",VLOOKUP('Intervenants et coûts-j'!$B$9&Référentiel!J7,'Intervenants et coûts-j'!$A$18:$C$46,3,FALSE))","v":""},5]
[]
[null,null,null,null,null,null,null,null,"Liste intervenants structures 6","N°"]
[null,null,null,null,null,null,null,null,{"$f":"IF(ISNA(VLOOKUP('Intervenants et coûts-j'!$B$10&Référentiel!J3,'Intervenants et coûts-j'!$A$18:$C$46,3,FALSE)),\"\",VLOOKUP('Intervenants et coûts-j'!$B$10&Référentiel!J3,'Intervenants et coûts-j'!$A$18:$C$46,3,FALSE))","v":0},1]
[null,null,null,null,null,null,null,null,{"$f":"IF(ISNA(VLOOKUP('Intervenants et coûts-j'!$B$10&Référentiel!J4,'Intervenants et coûts-j'!$A$18:$C$46,3,FALSE)),\"\",VLOOKUP('Intervenants et coûts-j'!$B$10&Référentiel!J4,'Intervenants et coûts-j'!$A$18:$C$46,3,FALSE))","v":""},2]
[null,null,null,null,null,null,null,null,{"$f":"IF(ISNA(VLOOKUP('Intervenants et coûts-j'!$B$10&Référentiel!J5,'Intervenants et coûts-j'!$A$18:$C$46,3,FALSE)),\"\",VLOOKUP('Intervenants et coûts-j'!$B$10&Référentiel!J5,'Intervenants et coûts-j'!$A$18:$C$46,3,FALSE))","v":""},3]
[null,null,null,null,null,null,null,null,{"$f":"IF(ISNA(VLOOKUP('Intervenants et coûts-j'!$B$10&Référentiel!J6,'Intervenants et coûts-j'!$A$18:$C$46,3,FALSE)),\"\",VLOOKUP('Intervenants et coûts-j'!$B$10&Référentiel!J6,'Intervenants et coûts-j'!$A$18:$C$46,3,FALSE))","v":""},4]
[null,null,null,null,null,null,null,null,{"$f":"IF(ISNA(VLOOKUP('Intervenants et coûts-j'!$B$10&Référentiel!J7,'Intervenants et coûts-j'!$A$18:$C$46,3,FALSE)),\"\",VLOOKUP('Intervenants et coûts-j'!$B$10&Référentiel!J7,'Intervenants et coûts-j'!$A$18:$C$46,3,FALSE))","v":""},5]
[]
[null,null,null,null,null,null,null,null,"Liste intervenants structures 7","N°"]
[null,null,null,null,null,null,null,null,{"$f":"IF(ISNA(VLOOKUP('Intervenants et coûts-j'!$B$11&Référentiel!J3,'Intervenants et coûts-j'!$A$18:$C$46,3,FALSE)),\"\",VLOOKUP('Intervenants et coûts-j'!$B$11&Référentiel!J3,'Intervenants et coûts-j'!$A$18:$C$46,3,FALSE))","v":0},1]
[null,null,null,null,null,null,null,null,{"$f":"IF(ISNA(VLOOKUP('Intervenants et coûts-j'!$B$11&Référentiel!J4,'Intervenants et coûts-j'!$A$18:$C$46,3,FALSE)),\"\",VLOOKUP('Intervenants et coûts-j'!$B$11&Référentiel!J4,'Intervenants et coûts-j'!$A$18:$C$46,3,FALSE))","v":""},2]
[null,null,null,null,null,null,null,null,{"$f":"IF(ISNA(VLOOKUP('Intervenants et coûts-j'!$B$11&Référentiel!J5,'Intervenants et coûts-j'!$A$18:$C$46,3,FALSE)),\"\",VLOOKUP('Intervenants et coûts-j'!$B$11&Référentiel!J5,'Intervenants et coûts-j'!$A$18:$C$46,3,FALSE))","v":""},3]
[null,null,null,null,null,null,null,null,{"$f":"IF(ISNA(VLOOKUP('Intervenants et coûts-j'!$B$11&Référentiel!J6,'Intervenants et coûts-j'!$A$18:$C$46,3,FALSE)),\"\",VLOOKUP('Intervenants et coûts-j'!$B$11&Référentiel!J6,'Intervenants et coûts-j'!$A$18:$C$46,3,FALSE))","v":""},4]
[null,null,null,null,null,null,null,null,{"$f":"IF(ISNA(VLOOKUP('Intervenants et coûts-j'!$B$11&Référentiel!J7,'Intervenants et coûts-j'!$A$18:$C$46,3,FALSE)),\"\",VLOOKUP('Intervenants et coûts-j'!$B$11&Référentiel!J7,'Intervenants et coûts-j'!$A$18:$C$46,3,FALSE))","v":""},5]
[]
[null,null,null,null,null,null,null,null,"Liste intervenants structures 8","N°"]
[null,null,null,null,null,null,null,null,{"$f":"IF(ISNA(VLOOKUP('Intervenants et coûts-j'!$B$12&Référentiel!J3,'Intervenants et coûts-j'!$A$18:$C$46,3,FALSE)),\"\",VLOOKUP('Intervenants et coûts-j'!$B$12&Référentiel!J3,'Intervenants et coûts-j'!$A$18:$C$46,3,FALSE))","v":0},1]
[null,null,null,null,null,null,null,null,{"$f":"IF(ISNA(VLOOKUP('Intervenants et coûts-j'!$B$12&Référentiel!J4,'Intervenants et coûts-j'!$A$18:$C$46,3,FALSE)),\"\",VLOOKUP('Intervenants et coûts-j'!$B$12&Référentiel!J4,'Intervenants et coûts-j'!$A$18:$C$46,3,FALSE))","v":""},2]
[null,null,null,null,null,null,null,null,{"$f":"IF(ISNA(VLOOKUP('Intervenants et coûts-j'!$B$12&Référentiel!J5,'Intervenants et coûts-j'!$A$18:$C$46,3,FALSE)),\"\",VLOOKUP('Intervenants et coûts-j'!$B$12&Référentiel!J5,'Intervenants et coûts-j'!$A$18:$C$46,3,FALSE))","v":""},3]
[null,null,null,null,null,null,null,null,{"$f":"IF(ISNA(VLOOKUP('Intervenants et coûts-j'!$B$12&Référentiel!J6,'Intervenants et coûts-j'!$A$18:$C$46,3,FALSE)),\"\",VLOOKUP('Intervenants et coûts-j'!$B$12&Référentiel!J6,'Intervenants et coûts-j'!$A$18:$C$46,3,FALSE))","v":""},4]
[null,null,null,null,null,null,null,null,{"$f":"IF(ISNA(VLOOKUP('Intervenants et coûts-j'!$B$12&Référentiel!J7,'Intervenants et coûts-j'!$A$18:$C$46,3,FALSE)),\"\",VLOOKUP('Intervenants et coûts-j'!$B$12&Référentiel!J7,'Intervenants et coûts-j'!$A$18:$C$46,3,FALSE))","v":""},5]
[]
[null,null,null,null,null,null,null,null,"Liste intervenants structures 9","N°"]
[null,null,null,null,null,null,null,null,{"$f":"IF(ISNA(VLOOKUP('Intervenants et coûts-j'!$B$13&Référentiel!J3,'Intervenants et coûts-j'!$A$18:$C$46,3,FALSE)),\"\",VLOOKUP('Intervenants et coûts-j'!$B$13&Référentiel!J3,'Intervenants et coûts-j'!$A$18:$C$46,3,FALSE))","v":0},1]
[null,null,null,null,null,null,null,null,{"$f":"IF(ISNA(VLOOKUP('Intervenants et coûts-j'!$B$13&Référentiel!J4,'Intervenants et coûts-j'!$A$18:$C$46,3,FALSE)),\"\",VLOOKUP('Intervenants et coûts-j'!$B$13&Référentiel!J4,'Intervenants et coûts-j'!$A$18:$C$46,3,FALSE))","v":""},2]
[null,null,null,null,null,null,null,null,{"$f":"IF(ISNA(VLOOKUP('Intervenants et coûts-j'!$B$13&Référentiel!J5,'Intervenants et coûts-j'!$A$18:$C$46,3,FALSE)),\"\",VLOOKUP('Intervenants et coûts-j'!$B$13&Référentiel!J5,'Intervenants et coûts-j'!$A$18:$C$46,3,FALSE))","v":""},3]
[null,null,null,null,null,null,null,null,{"$f":"IF(ISNA(VLOOKUP('Intervenants et coûts-j'!$B$13&Référentiel!J6,'Intervenants et coûts-j'!$A$18:$C$46,3,FALSE)),\"\",VLOOKUP('Intervenants et coûts-j'!$B$13&Référentiel!J6,'Intervenants et coûts-j'!$A$18:$C$46,3,FALSE))","v":""},4]
[null,null,null,null,null,null,null,null,{"$f":"IF(ISNA(VLOOKUP('Intervenants et coûts-j'!$B$13&Référentiel!J7,'Intervenants et coûts-j'!$A$18:$C$46,3,FALSE)),\"\",VLOOKUP('Intervenants et coûts-j'!$B$13&Référentiel!J7,'Intervenants et coûts-j'!$A$18:$C$46,3,FALSE))","v":""},5]
[]
[null,null,null,null,null,null,null,null,"Liste intervenants structures 10","N°"]
[null,null,null,null,null,null,null,null,{"$f":"IF(ISNA(VLOOKUP('Intervenants et coûts-j'!$B$14&Référentiel!J3,'Intervenants et coûts-j'!$A$18:$C$46,3,FALSE)),\"\",VLOOKUP('Intervenants et coûts-j'!$B$14&Référentiel!J3,'Intervenants et coûts-j'!$A$18:$C$46,3,FALSE))","v":0},1]
[null,null,null,null,null,null,null,null,{"$f":"IF(ISNA(VLOOKUP('Intervenants et coûts-j'!$B$14&Référentiel!J4,'Intervenants et coûts-j'!$A$18:$C$46,3,FALSE)),\"\",VLOOKUP('Intervenants et coûts-j'!$B$14&Référentiel!J4,'Intervenants et coûts-j'!$A$18:$C$46,3,FALSE))","v":""},2]
[null,null,null,null,null,null,null,null,{"$f":"IF(ISNA(VLOOKUP('Intervenants et coûts-j'!$B$14&Référentiel!J5,'Intervenants et coûts-j'!$A$18:$C$46,3,FALSE)),\"\",VLOOKUP('Intervenants et coûts-j'!$B$14&Référentiel!J5,'Intervenants et coûts-j'!$A$18:$C$46,3,FALSE))","v":""},3]
[null,null,null,null,null,null,null,null,{"$f":"IF(ISNA(VLOOKUP('Intervenants et coûts-j'!$B$14&Référentiel!J6,'Intervenants et coûts-j'!$A$18:$C$46,3,FALSE)),\"\",VLOOKUP('Intervenants et coûts-j'!$B$14&Référentiel!J6,'Intervenants et coûts-j'!$A$18:$C$46,3,FALSE))","v":""},4]
[null,null,null,null,null,null,null,null,{"$f":"IF(ISNA(VLOOKUP('Intervenants et coûts-j'!$B$14&Référentiel!J7,'Intervenants et coûts-j'!$A$18:$C$46,3,FALSE)),\"\",VLOOKUP('Intervenants et coûts-j'!$B$14&Référentiel!J7,'Intervenants et coûts-j'!$A$18:$C$46,3,FALSE))","v":""},5]